{"text_format":"1","workbook":"xlsx","n_sheets":11,"sheets":["Auslegung","Berechnung","Einstellungen","Ausdruck","Druckauswahl","Translation","Schnellauswahl","Klimadaten","Leistungsdaten","LeistungsdatenWW","DatenSchnellauswahl"],"not_rendered":{"charts":10,"images":63,"macros":1,"external_links":0,"defined_names":8,"comments":4,"pivot_tables":0},"unopened":[],"bounds":{"document_bytes":16777216,"sheet_cells":100000,"rows_first":2000,"rows_last":500,"rows_between":2000,"halvings":0,"cell_chars":16384,"cell_head_chars":4096},"cells_cut":0,"cells_raw":0,"read":"whole","date_system":"1900"}

{"sheet":"Auslegung","index":0,"n_rows":43,"n_cols":32,"rows_kept":43,"cut":false,"hidden":false,"merged":[[42,24,42,28],[35,8,35,13],[16,2,16,7],[8,2,8,7],[32,2,32,7],[31,2,31,7],[36,2,36,7],[33,2,33,7],[34,2,34,7],[30,2,30,7],[38,2,38,7],[40,2,40,7],[0,1,0,31],[6,2,6,7],[4,1,4,14],[18,1,18,14],[28,1,28,14],[26,8,26,13],[24,2,24,7],[12,2,12,7],[14,2,14,7],[10,2,10,7],[20,2,20,7],[22,2,22,7],[26,2,26,7]]}
[null,{"$f":"UPPER(Translation!A4)","v":"LAYOUT HEAT PUMP"}]
[]
[]
[]
[null,{"$f":"Translation!A22","v":"Heating"}]
[]
[null,null,{"$f":"Translation!$A$36","v":"Heat source"}]
[]
[null,null,{"$f":"Translation!$A$40&\" | \"&Translation!$A$41","v":"Quantity | Type"},null,null,null,null,null,{"$f":"Berechnung!$C$72&\" x\"","v":"1 x"}]
[]
[null,null,{"$f":"Translation!$A$42","v":"Operating mode"}]
[]
[null,null,{"$f":"Translation!$A$55&\" [KW]\"","v":"2nd heat source [KW]"}]
[]
[null,null,{"$f":"Translation!$A$56","v":"Forward flow temperature"}]
[]
[null,null,{"$f":"Translation!$A$57","v":"Switch off time"}]
[]
[null,{"$f":"Translation!A61","v":"Building"}]
[]
[null,null,{"$f":"Translation!$A$63","v":"Country selection"}]
[]
[null,null,{"$f":"Translation!$A$85&\" | \"&Translation!$A$104","v":"City | Design temperature"},null,null,null,null,null,null,null,null,null,null,{"$f":"Berechnung!$M$5","v":"-12 °C"}]
[]
[null,null,{"$f":"Translation!$A$87&\" | \"&Translation!$A$88","v":"Heating treshold | Building type"}]
[]
[null,null,{"$f":"Translation!$A$93&\" \"&FIXED(Berechnung!$C$71,1)&\" KW\"","v":"Heating capacity 12,4 KW"}]
[null,null,null,null,null,null,null,null,"0 KW",null,null,null,null,{"$f":"IF(ISERROR(Berechnung!C100),\"---\",FIXED(Berechnung!$C$100,1)&\" KW\")","v":"17,1 KW"}]
[null,{"$f":"Translation!A23","v":"Warm water"}]
[]
[null,null,{"$f":"Translation!$A$144","v":"Hot water generation"}]
[]
[null,null,{"$f":"IF(Berechnung!$AA$5=Berechnung!$AA$12,Translation!$A$216,IF(Berechnung!$AA$5=Berechnung!$AA$7,\"\",IF(Berechnung!$AA$5=Berechnung!$AA$13,Translation!$A$173,IF(OR(Berechnung!$AA$5=Berechnung!$AA$8,Berechnung!$AA$5=Berechnung!$AA$9),Translation!$A$145,Translation!$A$146))))","v":"Number of Persons"}]
[]
[null,null,{"$f":"IF(OR(Berechnung!$AA$5=Berechnung!$AA$7,Berechnung!$AA$5=Berechnung!$AA$13),\"\",IF(Berechnung!$AA$5=Berechnung!$AA$12,Translation!$A$217,IF(OR(Berechnung!$AA$5=Berechnung!$AA$8,Berechnung!$AA$5=Berechnung!$AA$9),Translation!$A$147,Translation!$A$148)))","v":"Water consumption per day"}]
[]
[null,null,{"$f":"IF(Berechnung!$AA$5=Berechnung!$AA$7,\"\",Translation!$A$233)","v":"Heat source DHW"}]
[]
[null,null,{"$f":"IF(Berechnung!C152=TRUE,\"\",IF(Berechnung!$AA$5=Berechnung!$AA$7,\"\",IF(OR(Berechnung!AA5=Berechnung!AA12,Berechnung!AA5=Berechnung!AA13),Translation!A204,Translation!$A$234)))","v":"Cylinder temperature"}]
[]
[null,null,{"$f":"IF(Berechnung!C152=TRUE,\"\",IF(Berechnung!$AA$5=Berechnung!$AA$7,\"\",Translation!$A$106))","v":"Covering ratio heat pump"}]
[]
[null,null,null,null,null,null,null,null,null,null,null,null,null,null,null,null,{"$f":"IF(Berechnung!C81=TRUE,Translation!A232,\"\")","v":""},null,null,null,null,null,null,null,{"$f":"IF(Berechnung!C81=TRUE,HYPERLINK(\"https://www.stiebel-eltron.de/de/home/service/tools-apps/alle-tools.html\",\"stiebel-eltron.de/tools\"),\"\")","v":""},null,null,null,null,null,null,"IMT v2.52"]

{"sheet":"Berechnung","index":1,"n_rows":215,"n_cols":55,"rows_kept":215,"cut":false,"hidden":true,"merged":[[2,0,3,1],[2,2,3,2],[86,0,86,1],[103,0,103,1],[2,4,3,4],[2,3,3,3],[73,0,73,1],[61,0,61,1],[72,0,72,1],[74,0,74,1],[60,0,60,1],[67,0,67,1],[68,0,68,1],[69,0,69,1],[70,0,70,1],[71,0,71,1],[62,0,62,1],[63,0,63,1],[64,0,64,1],[65,0,65,1],[66,0,66,1],[75,0,75,1],[76,0,76,1],[77,0,77,1],[78,0,78,1],[79,0,79,1],[97,0,97,1],[101,0,101,1],[95,0,95,1],[98,0,98,1],[109,0,109,1],[87,0,87,1],[88,0,88,1],[89,0,89,1],[90,0,90,1],[107,0,107,1],[108,0,108,1],[92,0,92,1],[93,0,93,1],[94,0,94,1],[104,0,104,1],[105,0,105,1],[106,0,106,1],[99,0,99,1],[100,0,100,1],[80,0,80,1],[127,0,127,1],[128,0,128,1],[129,0,129,1],[130,0,130,1],[131,0,131,1],[134,0,134,1],[133,0,133,1],[132,0,132,1],[111,0,111,1],[112,0,112,1],[114,0,114,1],[123,0,123,1],[124,0,124,1],[125,0,125,1],[115,0,115,1],[116,0,116,1],[126,0,126,1],[120,0,120,1],[121,0,121,1],[117,0,117,1],[119,0,119,1],[118,0,118,1],[122,0,122,1],[113,0,113,1],[60,43,60,46],[2,27,3,27],[2,28,3,28],[2,38,3,39],[114,24,114,25],[114,11,115,11],[2,32,3,32],[2,29,3,29],[2,30,3,30],[2,31,3,31],[2,35,3,35],[2,36,3,37],[2,18,3,18],[114,16,114,17],[114,18,114,19],[126,11,126,15],[2,8,3,9],[2,11,3,11],[2,12,3,12],[2,13,3,13],[2,14,3,14],[2,15,3,15],[30,10,30,13],[114,12,114,15],[110,0,110,1],[96,0,96,1],[102,0,102,1],[91,0,91,1],[82,0,82,1],[83,0,83,1],[84,0,84,1],[85,0,85,1],[81,0,81,1],[198,0,198,1],[60,51,60,54],[2,5,3,5],[2,6,3,6],[2,7,3,7],[2,10,3,10],[1,17,1,24],[59,28,59,29],[2,16,3,16],[2,21,3,21],[2,22,3,22],[2,23,3,23],[2,24,3,24],[2,19,3,19],[2,20,3,20],[2,17,3,17],[2,25,3,25],[2,26,3,26],[2,33,3,33],[2,34,3,34],[191,0,191,1],[192,0,192,1],[193,0,193,1],[60,47,60,50],[167,0,167,1],[194,0,194,1],[195,0,195,1],[196,0,196,1],[197,0,197,1],[147,0,147,1],[148,0,148,1],[149,0,149,1],[150,0,150,1],[151,0,151,1],[163,0,163,1],[165,0,165,1],[162,0,162,1],[154,0,154,1],[159,0,159,1],[157,0,157,1],[158,0,158,1],[155,0,155,1],[182,0,182,1],[189,0,189,1],[168,0,168,1],[171,0,171,1],[169,0,169,1],[170,0,170,1],[190,0,190,1],[177,0,177,1],[178,0,178,1],[179,0,179,1],[180,0,180,1],[181,0,181,1],[183,0,183,1],[172,0,172,1],[173,0,173,1],[174,0,174,1],[175,0,175,1],[176,0,176,1],[150,19,151,19],[164,0,164,1],[166,0,166,1],[153,0,153,1],[156,0,156,1],[152,0,152,1],[160,0,160,1],[161,0,161,1],[135,0,135,1],[146,0,146,1],[137,0,137,1],[138,0,138,1],[140,0,140,1],[136,0,136,1],[139,0,139,1]]}
["VBA-Zugriff"]
["Comboboxen",null,null,null,null,null,null,null,null,null,null,null,null,null,null,null,null,"Schnellauswahl"]
["Sprache",null,"Wärmequelle","Typ-WP-Heizung","Anzahl WP","Betriebsart","WW-Temp","VL-Temp","Sperrzeiten",null,"Land","Stadt","Norm-Außentemp.","Heizgrenze","Heizlast","Zähler Bivalenzpunkt","Leistung 2. WE","Vorlauftemp","Warmwasser","Solar","Lüftung","Kühlung","Heizlast","Außentemp","Aufstellung","Heizung","Warmwasser-bereitung","Personen","WP-Typ WWB","Verbrauch EFH","Liter/Tag*P","kWh/Tag*P","Wohnungen","Zapfprofil","Tagesbedarf (kWh, Norm)","Spitzenbedarf (kWh, Norm)","Auswahl Deckungsanteil WWB",null,"Schwimmbadart"]
[]
[2,{"$f":"VLOOKUP(A5,A6:B50,2,FALSE)","v":"EN"},"Air","WPL 18 E / cool",1,"Monoenergetisch","50 °C","35 °C","3 h/day",{"$f":"IF(OR(F5=F7,F5=F8,F5=F9),VLOOKUP(I5,I6:J50,2,FALSE),0)","v":0},"Germany","Holzminden",{"$f":"VLOOKUP(K5,K6:M50,3,FALSE)","v":"-12 °C"},"12 °C | New building",124,0,"8,8",1,true,false,false,true,9,2,"Show all",true,"Single family house without circulation","4","with heat pump for heating","Normal demand (25 L)",{"$f":"VLOOKUP(AD5,AD7:AE50,2,FALSE)","v":25},{"$f":"VLOOKUP(AD5,AD7:AF50,3,FALSE)","v":1.4537500000000001},"30","3 persons (shower+bathing)",{"$f":"VLOOKUP(AH5,AH7:AI50,2,FALSE)","v":11.654999999999999},{"$f":"VLOOKUP(AH5,AH7:AJ50,3,FALSE)","v":4.4450000000000003},"automatic calculation (100 %)",{"$f":"VLOOKUP(AK5,AK6:AL50,2,FALSE)","v":1},"Indoor pool with cover",{"$f":"VLOOKUP(AM5,AM6:AN50,2,FALSE)","v":0.5}]
[null,null,null,null,null,null,null,null,null,null,null,"Startzeile"]
[1,"DE",{"$f":"Translation!A37","v":"Air"},{"$f":"\"\"","v":""},null,{"$f":"Translation!A45","v":"Monovalent"},"40 °C","30 °C",{"$f":"Translation!A58","v":"No switch off times"},0,{"$f":"Translation!A64","v":"Germany"},100,"-12 °C",{"$f":"\"12 °C | \"&Translation!A89","v":"12 °C | New building"},null,"Deutschland",null,{"$f":"30+R5*5","v":35},null,null,null,null,null,{"$f":"-1*(10+X5*2)","v":-14},{"$f":"Translation!A30","v":"Show all"},null,{"$f":"Translation!$A$150","v":"Without DHW"},1,null,{"$f":"Translation!A157&\" (\"&AE7&\" L)\"","v":"Very low demand (15 L)"},15,{"$f":"AE7*1.163*(60-Einstellungen!$D$29)/1000","v":0.87224999999999997},1,{"$f":"Translation!A162","v":"Single person (shower)"},2.1,0.94499999999999995,{"$f":"Translation!A237&\" (\"&FIXED(AL7*100,0)&\" %)\"","v":"automatic calculation (100 %)"},{"$f":"IF(X106=0,0,IF(C77=TRUE,0,MIN(SUMPRODUCT(P63:P105,S63:S105)/X106,Berechnung!Y197)))","v":1},{"$f":"Translation!A218","v":"Open air swimming pool with cover"},0.7]
[2,"EN",{"$f":"Translation!A38","v":"Brine"},null,null,{"$f":"Translation!A47","v":"Monoenergetic"},"45 °C","35 °C",{"$f":"1&\" \"&Translation!$A$59","v":"1 h/day"},{"$f":"IF(OR(AA5=AA7,AA5=AA8,AA5=AA9),IF(OR(H5=H7,H5=H8,H5=H9),0,0.699),1)","v":0},{"$f":"Translation!A65","v":"Austria"},150,{"$f":"VLOOKUP($L$5,Klimadaten!N:O,2,FALSE)","v":{"$error":"#N/A"}},{"$f":"\"12 °C | \"&Translation!A90","v":"12 °C | Renovated old building"},null,"Österreich",null,null,null,null,null,null,null,null,{"$f":"Translation!A28","v":"Internal"},null,{"$f":"Translation!$A$151","v":"Single family house without circulation"},2,null,{"$f":"Translation!A158&\" (\"&AE8&\" L)\"","v":"Low demand (20 L)"},20,{"$f":"AE8*1.163*(60-Einstellungen!$D$29)/1000","v":1.163},2,{"$f":"Translation!A163","v":"3 persons (shower)"},5.8449999999999998,2.2400000000000002,"100 %",1,{"$f":"Translation!A219","v":"Open air pool without cover"},1]
[3,"NL",{"$f":"Translation!A39","v":"Water"},null,null,{"$f":"Translation!A51","v":"Bivalent-parallel with electricity"},"50 °C","40 °C",{"$f":"2&\" \"&Translation!$A$60","v":"2 h/day"},{"$f":"IF(OR(AA5=AA7,AA5=AA8,AA5=AA9),IF(OR(H5=H7,H5=H8,H5=H9),0.47,1.142),2)","v":0.47},{"$f":"Translation!A66","v":"Switzerland"},200,{"$f":"VLOOKUP($L$5,Klimadaten!Q:R,2,FALSE)","v":{"$error":"#N/A"}},{"$f":"\"15 °C | \"&Translation!A91","v":"15 °C | Not-renovated building"},null,"Schweiz",null,null,null,null,null,null,null,null,{"$f":"Translation!A29","v":"External"},null,{"$f":"Translation!$A$152","v":"Single family house with circulation"},3,null,{"$f":"Translation!A159&\" (\"&AE9&\" L)\"","v":"Normal demand (25 L)"},25,{"$f":"AE9*1.163*(60-Einstellungen!$D$29)/1000","v":1.4537500000000001},3,{"$f":"Translation!A164","v":"3 persons (shower+bathing)"},11.654999999999999,4.4450000000000003,"95 %",0.95,{"$f":"Translation!A220","v":"Indoor pool with cover"},0.5]
[4,"FR",null,null,null,{"$f":"Translation!A48","v":"Bivalent-parallel with SBP-Gas"},"55 °C","45 °C",{"$f":"3&\" \"&Translation!A60","v":"3 h/day"},{"$f":"IF(OR(AA5=AA7,AA5=AA8,AA5=AA9),IF(OR(H5=H7,H5=H8,H5=H9),0.699,1.57),3)","v":0.69899999999999995},{"$f":"Translation!A67","v":"Great Britain"},250,{"$f":"VLOOKUP($L$5,Klimadaten!T:U,2,FALSE)","v":{"$error":"#N/A"}},{"$f":"\"10 °C | \"&Translation!A92","v":"10 °C | Passive house"},null,"England",null,null,null,null,null,null,null,null,null,null,{"$f":"Translation!$A$153","v":"Multi-family house without circulation"},4,null,{"$f":"Translation!A160&\" (\"&AE10&\" L)\"","v":"High demand (40 L)"},40,{"$f":"AE10*1.163*(60-Einstellungen!$D$29)/1000","v":2.3260000000000001},4,{"$f":"Translation!A165","v":"4 persons (shower+bathing)"},19.07,{"$f":"ROUND(AI10*0.375,3)","v":7.1509999999999998},"90 %",0.9,{"$f":"Translation!A221","v":"Indoor pool without cover"},1]
[5,"FI",null,null,null,{"$f":"Translation!A49","v":"Bivalent-alternativ with SBP-Gas"},"60 °C","50 °C",{"$f":"4&\" \"&Translation!A60","v":"4 h/day"},{"$f":"IF(OR(AA5=AA7,AA5=AA8,AA5=AA9),IF(OR(H5=H7,H5=H8,I5=H9),1.142,2.1818),4)","v":1.1419999999999999},{"$f":"Translation!A68","v":"Netherlands"},400,{"$f":"VLOOKUP($L$5,Klimadaten!W:X,2,FALSE)","v":{"$error":"#N/A"}},"10 °C | KfW-Effizienzhaus 40",null,"Holland",null,null,null,null,null,null,null,null,null,null,{"$f":"Translation!$A$154","v":"Multi-family house with circulation"},5,null,{"$f":"Translation!A161&\" (\"&AE11&\" L)\"","v":"Very high demand (60 L)"},60,{"$f":"AE11*1.163*(60-Einstellungen!$D$29)/1000","v":3.4889999999999999},5,{"$f":"Translation!A166","v":"6 persons (shower+bathing)"},24.53,{"$f":"ROUND(AI11*0.37,3)","v":9.0760000000000005},"85 %",0.85]
[6,"ES",null,null,null,{"$f":"Translation!A50","v":"Bivalent-parallel with oil/gas"},"65 °C","55 °C",{"$f":"5&\" \"&Translation!A60","v":"5 h/day"},{"$f":"IF(OR(AA5=AA7,AA5=AA8,AA5=AA9),IF(OR(H5=H7,H5=H8,I5=H9),1.6619,3.0909),5)","v":1.6618999999999999},{"$f":"Translation!A83","v":"Belgium"},1000,{"$f":"VLOOKUP($L$5,Klimadaten!Z:AA,2,FALSE)","v":{"$error":"#N/A"}},"10 °C | KfW-Effizienzhaus 55",null,"Belgien",null,null,null,null,null,null,null,null,null,null,{"$f":"Translation!$A$215","v":"Swimming pool"},6,null,null,null,null,6,null,null,null,"80 %",0.8]
[7,"SK",null,null,null,{"$f":"Translation!A52","v":"Bivalent-alternativ with oil/gas"},"70 °C","60 °C",{"$f":"6&\" \"&Translation!A60","v":"6 h/day"},{"$f":"IF(OR(AA5=AA7,AA5=AA8,AA5=AA9),IF(OR(H5=H7,H5=H8,H5=H9),2.1818,4),6)","v":2.1818},{"$f":"Translation!A70","v":"Finland"},300,{"$f":"VLOOKUP($L$5,Klimadaten!AC:AD,2,FALSE)","v":{"$error":"#N/A"}},"10 °C | KfW-Effizienzhaus 70",null,"Finnland",null,null,null,null,null,null,null,null,null,null,{"$f":"Translation!$A$214","v":"Manual Input"},7,null,null,null,null,7,null,null,null,"75 %",0.75]
[8,"DA",null,null,null,{"$f":"Translation!A53","v":"Bivalent-part priority mode"},"75 °C","65 °C",null,null,{"$f":"Translation!A80","v":"Denmark"},800,{"$f":"VLOOKUP($L$5,Klimadaten!AF:AG,2,FALSE)","v":{"$error":"#N/A"}},"12 °C | KfW-Effizienzhaus 85",null,"Dänemark",null,null,null,null,null,null,null,null,null,null,null,8,null,null,null,null,8,null,null,null,"70 %",0.7]
[9,"LT",null,null,null,null,null,"70 °C",null,null,{"$f":"Translation!A71","v":"Norway"},1100,{"$f":"VLOOKUP($L$5,Klimadaten!AI:AJ,2,FALSE)","v":{"$error":"#N/A"}},"12 °C | KfW-Effizienzhaus 100",null,"Norwegen",null,null,null,null,null,null,null,null,null,null,null,null,null,null,null,null,9,null,null,null,"65 %",0.65]
[10,"LV",null,null,null,null,null,"75 °C",null,null,{"$f":"Translation!A77","v":"Slovakia"},700,{"$f":"VLOOKUP($L$5,Klimadaten!AL:AM,2,FALSE)","v":{"$error":"#N/A"}},"12 °C | KfW-Effizienzhaus 115",null,"Slowakei",null,null,null,null,null,null,null,null,null,null,null,null,null,null,null,null,10,null,null,null,"60 %",0.6]
[11,"IT",null,null,null,null,null,null,null,null,{"$f":"Translation!A78","v":"Latvia"},750,{"$f":"VLOOKUP($L$5,Klimadaten!AO:AP,2,FALSE)","v":{"$error":"#N/A"}},"12 °C | Minergie Haus",null,"Lettland",null,null,null,null,null,null,null,null,null,null,null,null,null,null,null,null,11,null,null,null,"55 %",0.55000000000000004]
[12,"HU",null,null,null,null,null,null,null,null,{"$f":"Translation!A75","v":"Russia"},600,{"$f":"VLOOKUP($L$5,Klimadaten!AR:AS,2,FALSE)","v":{"$error":"#N/A"}},"10 °C | Minergie-P Haus",null,"Russland",null,null,null,null,null,null,null,null,null,null,null,null,null,null,null,null,12,null,null,null,"50 %",0.5]
[13,"NO",null,null,null,null,null,null,null,null,{"$f":"Translation!A82","v":"Lithuania"},900,{"$f":"VLOOKUP($L$5,Klimadaten!AU:AV,2,FALSE)","v":{"$error":"#N/A"}},null,null,"Litauen",null,null,null,null,null,null,null,null,null,null,null,null,null,null,null,null,13,null,null,null,"45 %",0.45]
[null,null,null,null,null,null,null,null,null,null,{"$f":"Translation!A79","v":"Hungary"},1050,{"$f":"VLOOKUP($L$5,Klimadaten!AX:AY,2,FALSE)","v":{"$error":"#N/A"}},null,null,"Ungarn",null,null,null,null,null,null,null,null,null,null,null,null,null,null,null,null,14,null,null,null,"40 %",0.4]
[null,null,null,null,null,null,null,null,null,null,{"$f":"Translation!A76","v":"Bosnia-Herzegovina"},650,{"$f":"VLOOKUP($L$5,Klimadaten!BA:BB,2,FALSE)","v":{"$error":"#N/A"}},null,null,"Bosnien-Herzegowina",null,null,null,null,null,null,null,null,null,null,null,null,null,null,null,null,15,null,null,null,"35 %",0.35]
[null,null,null,null,null,null,null,null,null,null,{"$f":"Translation!A69","v":"Italy"},950,{"$f":"VLOOKUP($L$5,Klimadaten!BD:BE,2,FALSE)","v":{"$error":"#N/A"}},null,null,"Italien",null,null,null,null,null,null,null,null,null,null,null,null,null,null,null,null,16,null,null,null,"30 %",0.3]
[null,null,null,null,null,null,null,null,null,null,{"$f":"Translation!A72","v":"Spain"},550,{"$f":"VLOOKUP($L$5,Klimadaten!BG:BH,2,FALSE)","v":{"$error":"#N/A"}},null,null,"Spanien",null,null,null,null,null,null,null,null,null,null,null,null,null,null,null,null,17,null,null,null,"25 %",0.25]
[null,null,null,null,null,null,null,null,null,null,{"$f":"Translation!A74","v":"Morocco"},500,{"$f":"VLOOKUP($L$5,Klimadaten!BJ:BK,2,FALSE)","v":{"$error":"#N/A"}},null,null,"Marokko",null,null,null,null,null,null,null,null,null,null,null,null,null,null,null,null,18,null,null,null,"20 %",0.2]
[null,null,null,null,null,null,null,null,null,null,{"$f":"Translation!A81","v":"Namibia"},850,{"$f":"VLOOKUP($L$5,Klimadaten!BM:BN,2,FALSE)","v":{"$error":"#N/A"}},null,null,"Namibia",null,null,null,null,null,null,null,null,null,null,null,null,null,null,null,null,19,null,null,null,"15 %",0.15]
[null,null,null,null,null,null,null,null,null,null,{"$f":"Translation!A84","v":"Europe"},450,{"$f":"VLOOKUP($L$5,Klimadaten!BP:BQ,2,FALSE)","v":{"$error":"#N/A"}},null,null,"Europa",null,null,null,null,null,null,null,null,null,null,null,null,null,null,null,null,20,null,null,null,"10 %",0.1]
[null,null,null,null,null,null,null,null,null,null,{"$f":"Translation!A73","v":"Near East"},350,{"$f":"VLOOKUP($L$5,Klimadaten!BS:BT,2,FALSE)","v":{"$error":"#N/A"}},null,null,"Near East",null,null,null,null,null,null,null,null,null,null,null,null,null,null,null,null,21,null,null,null,"5 %",0.05]
[null,null,null,null,null,null,null,null,null,null,null,null,null,null,null,null,null,null,null,null,null,null,null,null,null,null,null,null,null,null,null,null,22,null,null,null,"0 %",0]
[null,null,null,null,null,null,null,null,null,null,null,null,null,null,null,null,null,null,null,null,null,null,null,null,null,null,null,null,null,null,null,null,23]
[null,null,null,null,null,null,null,null,null,null,null,null,null,null,null,null,null,null,null,null,null,null,null,null,null,null,null,null,null,null,null,null,24]
[null,null,null,null,null,null,null,null,null,null,"Bei Änderungen Comboboxen Klimadaten mit anpassen !!",null,null,null,null,null,null,null,null,null,null,null,null,null,null,null,null,null,null,null,null,null,25]
[null,null,null,null,null,null,null,null,null,null,null,null,null,null,null,null,null,null,null,null,null,null,null,null,null,null,null,null,null,null,null,null,26]
[null,null,null,null,null,null,null,null,null,null,null,null,null,null,null,null,null,null,null,null,null,null,null,null,null,null,null,null,null,null,null,null,27]
[null,null,null,null,null,null,null,null,null,null,null,null,null,null,null,null,null,null,null,null,null,null,null,null,null,null,null,null,null,null,null,null,28]
[null,null,null,null,null,null,null,null,null,null,null,null,null,null,null,null,null,null,null,null,null,null,null,null,null,null,null,null,null,null,null,null,29]
[null,null,null,null,null,null,null,null,null,null,null,null,null,null,null,null,null,null,null,null,null,null,null,null,null,null,null,null,null,null,null,null,30]
[]
[]
[null,null,null,null,null,null,null,"Sperrzeitenfaktor Heizung",null,{"$f":"24/(24-VLOOKUP(I5,H41:I50,2,FALSE))","v":1.1428571428571428}]
[]
[null,null,null,null,null,null,null,{"$f":"I7","v":"No switch off times"},0]
[null,null,null,null,null,null,null,{"$f":"I8","v":"1 h/day"},1]
[null,null,null,null,null,null,null,"2 h/day",2]
[null,null,null,null,null,null,null,"3 h/day",3]
[null,null,null,null,null,null,null,"4 h/day",4]
[null,null,null,null,null,null,null,"5 h/day",5]
[null,null,null,null,null,null,null,"6 h/day",6]
[null,null,null,null,null,null,null,0,0]
[null,null,null,null,null,"Biv- Alternativ ?",null,0,0,null,null,null,null,null,null,null,null,null,null,null,null,null,null,null,"Aufstellung",null,"Ausdruck Gebäude","Ausdruck Personen","Mit Heizungs-WP ?"]
["Datenblatt",null,null,null,null,{"$f":"IF(OR(F5=F11,F5=F13),TRUE,FALSE)","v":false},null,null,null,null,null,null,null,null,null,null,null,null,null,null,null,null,null,null,{"$f":"IF(Y5=Y7,0,IF(Y5=Y8,1,2))","v":0},null,{"$f":"IF(OR(AA5=AA8,AA5=AA9),Translation!A155,IF(OR(AA5=AA10,AA5=AA11),Translation!A156,\"---\"))","v":"Single family house"},{"$f":"IF(OR(AA5=AA8,AA5=AA9),AB5,IF(OR(AA5=AA10,AA5=AA11),AG5,\"---\"))","v":"4"},{"$f":"IF(AC5=LeistungsdatenWW!A3,TRUE,FALSE)","v":true}]
[]
[]
[]
[]
[]
[]
[]
[]
[]
["Rechenwerte",null,null,null,null,"Import WP-Leistung",null,null,null,null,null,"Berechnung Jahresheizarbeit/Heizstunden",null,null,null,null,null,null,null,null,null,null,null,null,null,null,null,null,null,null,null,null,null,null,null,null,null,null,null,null,null,null,"Berechnung Vollbenutzungsstunden"]
["Typ WP",null,{"$f":"D5","v":"WPL 18 E / cool"},null,null,"Außentemp","Leistung WP","Heizlast Min","COP-Hzg","COP-WWB",null,"Zähler","Außentemp","Heizlast","Heizlast mit Zuschlag","Leistung WP","Heizlast minus","Biv.punkt","Stunden bei tau","Heizwärmebedarf","Faktor","Arbeit WP","Arbeit 2. WE","Wärmebedarf WW","Heizarbeit WW","Heizarbeit WW","Heizarbeit WW","COP-Heizung","COP-WWB","Endenergie","Endenergie","Endenergie","Endenergie","Schwimmbad","Endenergie","WRG","Betriebspunkt","Betriebspunkt","Zuschlag",null,"Summe Jahresstunden",null,"Standort","Heizgradtage",null,null,null,"Vollbenutzungsstunden nach Heizgrenze",null,null,null,"Heiztage pro Jahr"]
["Datenblatt",null,{"$f":"IF(A5=1,VLOOKUP(C61,Leistungsdaten!A:L,11,FALSE),VLOOKUP(C61,Leistungsdaten!A:L,12,FALSE))","v":5968},{"$f":"IF(A5=1,\"http://www.stiebel-eltron.de/services/productproxy.html?productnr=\"&TEXT(C62,\"000000\"),\"http://apps.stiebel-eltron.de/pdf/apps/product/\"&C62&\"/\"&Translation!A3)","v":"http://apps.stiebel-eltron.de/pdf/apps/product/5968/en_DE"},null,{"$f":"IF(AND(C5<>C7,C67<F63),-40,-20)","v":-20},{"$f":"G63","v":6.9},null,null,null,null,null,"°C","KW","KW","KW","WP-Leistung",null,{"$f":"L5","v":"Holzminden"},"kWh/a","bivalenter Betrieb","kWh/a","kWh/a","kWh/a","Wärmepumpe","2. WE","Schwimmbad",null,null,"WP-Heizung","WP-WWB","2. WE-Heizung","2. WE-WWB","Tage","Lüftung","Lüftung","Heizung","Warmwasser","Sperrzeiten",null,"h/a",null,null,"20° / 10°","20° / 12°","20° / 15°","Gewählt","10 °C","12 °C","15 °C","Gewählt","10 °C","12 °C","15 °C","gewählt"]
["Kaskadierbar ?",null,{"$f":"VLOOKUP($C$61,Leistungsdaten!$A:$F,3,FALSE)","v":true},null,null,-20,6.9,-1,2.3928571428571432,1.7272727272727271,null,3,"< -20",{"$f":"C71","v":12.4},{"$f":"C73","v":12.4},{"$f":"IF(C5=C7,0,P64-(P65-P64))","v":0},{"$f":"O63-P63","v":12.4},-20,{"$f":"HLOOKUP($C$94,INDIRECT(\"Klimadaten!M\"&$C$95&\":BM\"&$C$95+44),L63,FALSE)","v":0},{"$f":"IF($C$200=FALSE,N63*S63,($C$205*N63+$C$208*(1-$C$206)*$C$204*N63)*S63)","v":0},{"$f":"U64","v":1},{"$f":"MAX(0,U63*(T63-W63))","v":0},{"$f":"IF(AND(P63>N63,U63=1),0,MIN((N63-U63*P63)*S63*AM63,T63))","v":0},{"$f":"S63/8760*$AA$197","v":0},{"$f":"IF(P63=0,0,IF($L$185=TRUE,AA63,IF($AK$5=$AK$7,MIN(P63*S63,X63)*$Z$197,X63*$Z$197)))","v":0},{"$f":"IF($L$185=TRUE,0,X63-Y63)","v":0},{"$f":"AH63*$X$185","v":0},{"$f":"AB64-(AB65-AB64)","v":2.3130619380619386},{"$f":"AC64-(AC65-AC64)","v":1.6659090909090906},{"$f":"V63/AB63","v":0},{"$f":"Y63/AC63","v":0},{"$f":"W63/$C$164","v":0},{"$f":"Z63/$C$165","v":0},{"$f":"IF(OR($AM$5=$AM$7,$AM$5=$AM$8),0,S63/24)","v":0},{"$f":"S63*$L$208/8760","v":0},{"$f":"N63*S63-T63","v":0},{"$f":"IF($C$5=$C$7,\"A-20/W\",IF($C$5=$C$8,$D$137,\"W7/W\"))&$C$74","v":"A-20/W35"},{"$f":"IF($C$5=$C$7,\"A-20/W\",IF($C$5=$C$8,$D$137,\"W7/W\"))&$C$69","v":"A-20/W55"},{"$f":"J39","v":1.1428571428571428},null,{"$f":"S63","v":0},null,{"$f":"Klimadaten!N$100","v":"Aachen"},964.7,1353.2,2074.9,{"$f":"IF($C$68=10,AR63,IF($C$68=12,AS63,AT63))","v":1353.2},{"$f":"(AR63/(10-$C$67))*24","v":1052.4000000000001},{"$f":"(AS63/(12-$C$67))*24","v":1353.2},{"$f":"(AT63/(15-$C$67))*24","v":1844.3555555555558},{"$f":"IF($C$68=10,AV63,IF($C$68=12,AW63,AX63))","v":1353.2},176,211,268,{"$f":"IF($C$68=10,AZ63,IF($C$68=12,BA63,BB63))","v":211}]
["Monoenergetisch möglich ?",null,{"$f":"VLOOKUP($C$61,Leistungsdaten!$A:$F,4,FALSE)","v":true},null,null,-17.5,7.3,-1,2.5524475524475525,1.85,null,4,-20,{"$f":"MAX(0,MIN($C$71,$C$71*(M64-$C$68)/($C$67-$C$68)))","v":12.4},{"$f":"MAX(0,MIN($C$73,$C$73*(M64-$C$68)/($C$67-$C$68)))","v":12.4},{"$f":"G63","v":6.9},{"$f":"O64-P64","v":5.5},{"$f":"IF(SIGN(Q64)-SIGN(Q65)<>0,M64,-20)","v":-20},{"$f":"HLOOKUP($C$94,INDIRECT(\"Klimadaten!M\"&$C$95&\":BM\"&$C$95+44),L64,FALSE)","v":0},{"$f":"IF($C$200=FALSE,N64*S64,($C$205*N64+$C$208*(1-$C$206)*$C$204*N64)*S64)","v":0},{"$f":"IF(M64<$C$90,0,1)","v":1},{"$f":"IF(M64<=$C$68,MAX(0,U64*(T64-W64)),0)","v":0},0,{"$f":"S64/8760*$AA$197","v":0},{"$f":"IF($L$185=TRUE,AA64,IF($AK$5=$AK$7,MIN(P64*S64,X64)*$Z$197,X64*$Z$197))","v":0},{"$f":"IF($L$185=TRUE,0,X64-Y64)","v":0},{"$f":"AH64*$X$185","v":0},{"$f":"I63","v":2.3928571428571432},{"$f":"J63","v":1.7272727272727271},0,{"$f":"Y64/AC64","v":0},0,{"$f":"Z64/$C$165","v":0},0,0,0,{"$f":"IF($C$5=$C$7,\"A\"&M64&\"/W\",IF($C$5=$C$8,$D$137,\"W7/W\"))&$C$74","v":"A-20/W35"},{"$f":"IF($C$5=$C$7,\"A\"&M64&\"/W\",IF($C$5=$C$8,$D$137,\"W7/W\"))&$C$69","v":"A-20/W55"},{"$f":"IF(M64<$R$106,$J$39,1)","v":1.1428571428571428},null,{"$f":"SUM($S$63:$S64)","v":0},null,{"$f":"Klimadaten!O$100","v":"Augsburg"},964.7,1353.2,2074.9,{"$f":"IF($C$68=10,AR64,IF($C$68=12,AS64,AT64))","v":1353.2},{"$f":"(AR64/(10-$C$67))*24","v":1052.4000000000001},{"$f":"(AS64/(12-$C$67))*24","v":1353.2},{"$f":"(AT64/(15-$C$67))*24","v":1844.3555555555558},{"$f":"IF($C$68=10,AV64,IF($C$68=12,AW64,AX64))","v":1353.2},200,230,278,{"$f":"IF($C$68=10,AZ64,IF($C$68=12,BA64,BB64))","v":230}]
["Bivalent möglich ?",null,{"$f":"VLOOKUP($C$61,Leistungsdaten!$A:$F,5,FALSE)","v":true},null,null,-15,7.8,-1,2.6551724137931036,1.9318181818181817,null,5,-19,{"$f":"MAX(0,MIN($C$71,$C$71*(M65-$C$68)/($C$67-$C$68)))","v":12.4},{"$f":"MAX(0,MIN($C$73,$C$73*(M65-$C$68)/($C$67-$C$68)))","v":12.4},{"$f":"AVERAGE(P64,P66)","v":7.1},5.3000000000000007,{"$f":"IF(SIGN(Q65)-SIGN(Q66)<>0,M65,-20)","v":-20},{"$f":"HLOOKUP($C$94,INDIRECT(\"Klimadaten!M\"&$C$95&\":BM\"&$C$95+44),L65,FALSE)","v":0},0,{"$f":"IF(M65<$C$90,0,1)","v":1},{"$f":"IF(M65<=$C$68,MAX(0,U65*(T65-W65)),0)","v":0},0,0,{"$f":"IF($L$185=TRUE,AA65,IF($AK$5=$AK$7,MIN(P65*S65,X65)*$Z$197,X65*$Z$197))","v":0},0,0,{"$f":"AVERAGE(AB64,AB66)","v":2.4726523476523479},{"$f":"AVERAGE(AC64,AC66)","v":1.7886363636363636},0,0,0,{"$f":"Z65/$C$165","v":0},0,0,0,"A-19/W35","A-19/W55",1.1428571428571428,null,{"$f":"SUM($S$63:$S65)","v":0},null,{"$f":"Klimadaten!P$100","v":"Bamberg"},1361,1778.9,2522.5,1778.9,1484.7272727272727,1778.9,2242.2222222222222,1778.9,194,223,271,223]
["Max VorlaufTemp ?",null,{"$f":"VLOOKUP($C$61,Leistungsdaten!$A:$F,6,FALSE)","v":55},{"$f":"VLOOKUP($C$61,Leistungsdaten!$A:$H,8,FALSE)","v":55},null,-12.5,8.3000000000000007,-1,2.8658038147138964,2.0495757034390354,null,6,-18,{"$f":"MAX(0,MIN($C$71,$C$71*(M66-$C$68)/($C$67-$C$68)))","v":12.4},{"$f":"MAX(0,MIN($C$73,$C$73*(M66-$C$68)/($C$67-$C$68)))","v":12.4},{"$f":"G64","v":7.3},{"$f":"O66-P66","v":5.1000000000000005},{"$f":"IF(SIGN(Q66)-SIGN(Q67)<>0,M66,-20)","v":-20},{"$f":"HLOOKUP($C$94,INDIRECT(\"Klimadaten!M\"&$C$95&\":BM\"&$C$95+44),L66,FALSE)","v":0},0,{"$f":"IF(M66<$C$90,0,1)","v":1},{"$f":"IF(M66<=$C$68,MAX(0,U66*(T66-W66)),0)","v":0},0,0,0,0,0,{"$f":"I64","v":2.5524475524475525},{"$f":"J64","v":1.85},0,0,0,{"$f":"Z66/$C$165","v":0},0,0,0,"A-18/W35","A-18/W55",1.1428571428571428,null,{"$f":"SUM($S$63:$S66)","v":0},null,{"$f":"Klimadaten!Q$100","v":"Berlin"},1229.3,1623.9,2328.3000000000002,1623.9,1341.0545454545454,1623.9,2069.6,1623.9,182,211,257,211]
["Norm-Außentemperatur",null,{"$f":"LEFT(M5,FIND(\" \",M5)-1)*1","v":-12},null,null,-10,8.9,-1,3.0033783783783785,2.1258278145695364,null,7,-17,12.4,{"$f":"MAX(0,MIN($C$73,$C$73*(M67-$C$68)/($C$67-$C$68)))","v":12.4},{"$f":"G64","v":7.3},5.1000000000000005,-20,0,0,{"$f":"IF(M67<$C$90,0,1)","v":1},{"$f":"IF(M67<=$C$68,MAX(0,U67*(T67-W67)),0)","v":0},0,0,0,0,0,{"$f":"I64","v":2.5524475524475525},{"$f":"J64","v":1.85},0,0,0,0,0,0,0,"A-17/W35","A-17/W55",1.1428571428571428,null,{"$f":"SUM($S$63:$S67)","v":0},null,{"$f":"Klimadaten!R$100","v":"Bremen"},1152,1566.2,2323.1,1566.2,1256.7272727272727,1566.2000000000003,2064.9777777777776,1566.2000000000003,190,223,281,223]
["Heizgrenz-Temperatur",null,{"$f":"LEFT(N5,FIND(\" \",N5)-1)*1","v":12},null,null,-7.5,9.4499999999999993,-1,3.1999999999999997,2.2391304347826089,null,8,-16,12.4,12.4,{"$f":"AVERAGE(P67,P69)","v":7.55},4.8500000000000005,-20,0,{"$f":"IF($C$200=FALSE,N68*S68,($C$205*N68+$C$208*(1-$C$206)*$C$204*N68)*S68)","v":0},{"$f":"IF(M68<$C$90,0,1)","v":1},0,0,0,0,0,{"$f":"AH68*$X$185","v":0},{"$f":"AVERAGE(AB67,AB69)","v":2.6038099831203283},{"$f":"AVERAGE(AC67,AC69)","v":1.8909090909090909},0,{"$f":"Y68/AC68","v":0},0,0,0,0,0,"A-16/W35","A-16/W55",1.1428571428571428,null,{"$f":"SUM($S$63:$S68)","v":0},null,{"$f":"Klimadaten!S$100","v":"Dortmund"},911.8,1285.0999999999999,1976.3,1285.0999999999999,994.69090909090914,1285.0999999999999,1756.7111111111112,1285.0999999999999,170,202,258,202]
["Vorlauftemp-WP Warmwasser für COP",null,{"$f":"MIN(C155+C153,C83)","v":55},null,null,-5,10,-1,3.3259259259259264,2.3115942028985517,null,9,-15,12.4,12.4,{"$f":"G65","v":7.8},4.6000000000000005,-20,0,0,1,{"$f":"IF(M69<=$C$68,MAX(0,U69*(T69-W69)),0)","v":0},0,0,0,0,0,{"$f":"I65","v":2.6551724137931036},{"$f":"J65","v":1.9318181818181817},0,0,0,0,0,0,0,"A-15/W35","A-15/W55",1.1428571428571428,null,{"$f":"SUM($S$63:$S69)","v":0},null,{"$f":"Klimadaten!T$100","v":"Dresden"},1326.2,1734.4,2464.5,1734.4,1446.7636363636364,1734.4,2190.6666666666665,1734.4,189,219,266,219]
["Σ Sperrzeit in h",null,{"$f":"J5*1","v":0},null,null,-2.5,10.5,-1,3.5148148148148146,2.4202898550724639,null,10,-14,12.4,12.4,{"$f":"AVERAGE(P69,P71)","v":8.0500000000000007},4.3499999999999996,-20,0,0,1,0,0,0,0,0,0,{"$f":"AVERAGE(AB69,AB71)","v":2.7604881142535},{"$f":"AVERAGE(AC69,AC71)","v":1.9906969426286085},0,0,0,0,0,0,0,"A-14/W35","A-14/W55",1.1428571428571428,null,{"$f":"SUM($S$63:$S70)","v":0},null,{"$f":"Klimadaten!U$100","v":"Düsseldorf"},911.8,1285.0999999999999,1976.3,1285.0999999999999,994.69090909090914,1285.0999999999999,1756.7111111111112,1285.0999999999999,170,202,258,202]
["Norm-Gebäudeheizlast",null,{"$f":"ROUND(O5/10,1)","v":12.4},null,null,0,11,-1,3.9340840840840854,2.4927536231884071,null,11,-13,12.4,12.4,{"$f":"G66","v":8.3000000000000007},4.0999999999999996,-20,{"$f":"HLOOKUP($C$94,INDIRECT(\"Klimadaten!M\"&$C$95&\":BM\"&$C$95+44),L71,FALSE)","v":0},0,1,0,0,0,0,0,0,{"$f":"I66","v":2.8658038147138964},{"$f":"J66","v":2.0495757034390354},0,0,0,0,0,0,0,"A-13/W35","A-13/W55",1.1428571428571428,null,{"$f":"SUM($S$63:$S71)","v":0},null,{"$f":"Klimadaten!V$100","v":"Emden"},955.8,1352.8,2087.6,1352.8,1042.6909090909091,1352.8,1855.6444444444444,1352.8,181,215,276,215]
["Anzahl WP",null,{"$f":"E5*1","v":1},null,null,2.5,11.45,-1,4.2102493857043317,2.5929203539823011,null,12,-12,12.4,12.4,{"$f":"G66","v":8.3000000000000007},4.0999999999999996,-20,0,0,1,{"$f":"IF(M72<=$C$68,MAX(0,U72*(T72-W72)),0)","v":0},0,0,0,0,0,{"$f":"I66","v":2.8658038147138964},{"$f":"J66","v":2.0495757034390354},0,0,0,0,0,0,0,"A-12/W35","A-12/W55",1.1428571428571428,null,{"$f":"SUM($S$63:$S72)","v":0},null,{"$f":"Klimadaten!W$100","v":"Erfurt"},1452.6,1888.4,2667.9,1888.4,1584.6545454545453,1888.4,2371.4666666666667,1888.4,202,233,284,233]
["Heizlast mit Zuschlägen",null,{"$f":"IF(OR(AA5=AA8,AA5=AA9,AC50=FALSE),($C$71*24)/(24-$C$70),($C$71*24+$Z$197*$X$197)/(24-$C$70))","v":12.4},null,null,5,11.95,-1,4.5825418994413409,2.6513761467889907,null,13,-11,11.883333333333333,11.883333333333333,{"$f":"AVERAGE(P72,P74)","v":8.6000000000000014},3.2833333333333314,-20,6,{"$f":"IF($C$200=FALSE,N73*S73,($C$205*N73+$C$208*(1-$C$206)*$C$204*N73)*S73)","v":71.3},1,48.785714285714292,22.514285714285702,1.4218869863013699,1.4218869863013699,0,0,{"$f":"AVERAGE(AB72,AB74)","v":2.9345910965461375},{"$f":"AVERAGE(AC72,AC74)","v":2.0877017590042861},16.624365262721803,0.68107763964309176,25.015873015873002,0,0.25,0,0,"A-11/W35","A-11/W55",1.1428571428571428,null,{"$f":"SUM($S$63:$S73)","v":6},null,{"$f":"Klimadaten!X$100","v":"Frankfurt am Main"},1082.2,1464,2152.1999999999998,1464,1180.5818181818183,1464,1913.0666666666666,1464,176,205,252,205]
["Vorlauftemp Auslegung",null,{"$f":"LEFT(H5,FIND(\" \",H5)-1)*1","v":35},null,null,7.5,12.6,-1,4.801149425287357,2.785714285714286,null,14,-10,11.366666666666667,11.366666666666667,{"$f":"G67","v":8.9},2.4666666666666668,-20,32,363.73333333333335,1,{"$f":"IF(M74<=$C$68,MAX(0,U74*(T74-W74)),0)","v":273.52380952380952},90.209523809523816,7.5833972602739719,7.5833972602739719,0,0,{"$f":"I67","v":3.0033783783783785},{"$f":"J67","v":2.1258278145695364},91.072044565857837,3.5672678700977252,100.23280423280424,0,1.3333333333333333,0,0,"A-10/W35","A-10/W55",1.1428571428571428,null,{"$f":"SUM($S$63:$S74)","v":38},null,{"$f":"Klimadaten!Y$100","v":"Fritzlar"},1155.5999999999999,1555.5,2277,1555.5,1260.6545454545453,1555.5,2024,1555.5,183,216,265,216]
["Vorlauftemp Heizgrenze",null,{"$f":"IF(C87=TRUE,30,C74)","v":35},null,null,10,13.4,-1,5.050738916256158,2.9285714285714288,null,15,-9,10.850000000000001,10.850000000000001,{"$f":"AVERAGE(P74,P76)","v":9.1750000000000007},1.6750000000000007,-20,14,151.90000000000003,1,125.10000000000002,26.800000000000011,3.3177363013698629,3.3177363013698629,0,0,{"$f":"AVERAGE(AB74,AB76)","v":3.1016891891891891},{"$f":"AVERAGE(AC74,AC76)","v":2.1824791246760729},40.332861344080172,1.5201686301866859,29.777777777777789,0,0.58333333333333337,0,0,"A-9/W35","A-9/W55",1.1428571428571428,null,{"$f":"SUM($S$63:$S75)","v":52},null,{"$f":"Klimadaten!Z$100","v":"Görlitz"},1447.4,1873.1,2628.2,1873.1,1578.9818181818182,1873.1,2336.1777777777775,1873.1,197,227,275,227]
["Vorlauftemp. Mittelwert",null,{"$f":"IF(C87=TRUE,ROUNDUP(AVERAGE(C74:C75)*2,-1)/2,C74)","v":35},null,null,12.5,14.3,-1,5.3765563316125107,3.1126760563380289,null,16,-8,10.333333333333334,10.333333333333334,{"$f":"G68","v":9.4499999999999993},0.88333333333333464,-20,23,{"$f":"IF($C$200=FALSE,N76*S76,($C$205*N76+$C$208*(1-$C$206)*$C$204*N76)*S76)","v":237.66666666666669},1,214.44761904761904,23.219047619047654,5.4505667808219185,5.4505667808219185,0,0,{"$f":"I68","v":3.1999999999999997},{"$f":"J68","v":2.2391304347826089},67.014880952380963,2.4342337079398857,25.798941798941836,0,0.95833333333333337,0,0,"A-8/W35","A-8/W55",1.1428571428571428,null,{"$f":"SUM($S$63:$S76)","v":75},null,{"$f":"Klimadaten!AA$100","v":"Greifswald"},1337.8,1762.8,2528.6999999999998,1762.8,1459.4181818181817,1762.8000000000002,2247.7333333333331,1762.8000000000002,197,227,283,227]
["SBP-Gas gewählt ?",null,{"$f":"IF(OR(F5=F10,F5=F11),TRUE,FALSE)","v":false},null,null,15,15.2,-1,5.5861111111111104,3.2325581395348841,null,17,-7,9.8166666666666664,9.8166666666666664,{"$f":"G68","v":9.4499999999999993},0.36666666666666714,-7,44,431.93333333333334,1,415.79999999999995,16.133333333333354,10.427171232876711,10.427171232876711,0,0,{"$f":"I68","v":3.1999999999999997},{"$f":"J68","v":2.2391304347826089},129.9375,4.6567949195371714,17.925925925925949,0,1.8333333333333333,0,0,"A-7/W35","A-7/W55",1,null,{"$f":"SUM($S$63:$S77)","v":119},null,{"$f":"Klimadaten!AB$100","v":"Hamburg"},1198.0999999999999,1616,2376.3000000000002,1616,1307.0181818181818,1616,2112.2666666666669,1616,192,225,282,225]
["Leistung SBP-Gas (KW)",null,30,null,null,17.5,15.8,-1,5.7727777777777778,3.3720930232558142,null,18,-6,9.3000000000000007,9.3000000000000007,{"$f":"AVERAGE(P77,P79)","v":9.7249999999999996},-0.42499999999999893,-20,49,455.70000000000005,1,455.70000000000005,0,11.61207705479452,11.61207705479452,0,0,{"$f":"AVERAGE(AB77,AB79)","v":3.2629629629629631},{"$f":"AVERAGE(AC77,AC79)","v":2.27536231884058},139.6583427922815,5.1033969221708393,0,0,2.0416666666666665,0,0,"A-6/W35","A-6/W55",1,null,{"$f":"SUM($S$63:$S78)","v":168},null,{"$f":"Klimadaten!AC$100","v":"Hannover"},1176,1585.2,2331.3000000000002,1585.2,1282.909090909091,1585.1999999999998,2072.2666666666669,1585.1999999999998,187,220,275,220]
["SBP-Gas einsetzbar?",null,{"$f":"IF(VLOOKUP(D5,Leistungsdaten!A:I,9,FALSE)=FALSE,FALSE,IF(E5*1>VLOOKUP(D5,Leistungsdaten!A:I,9,FALSE),FALSE,TRUE))","v":true},null,null,20,16.100000000000001,-1,5.897222222222223,3.4651162790697678,null,19,-5,8.7833333333333332,8.7833333333333332,{"$f":"G69","v":10},-1.2166666666666668,-20,41,360.11666666666667,{"$f":"IF(M79<$C$90,0,1)","v":1},360.11666666666667,0,9.7162277397260262,9.7162277397260262,0,0,{"$f":"I69","v":3.3259259259259264},{"$f":"J69","v":2.3115942028985517},108.27561247216035,4.2032583952419786,0,0,1.7083333333333333,0,0,"A-5/W35","A-5/W55",1,null,{"$f":"SUM($S$63:$S79)","v":209},null,{"$f":"Klimadaten!AD$100","v":"Hof"},1794.6,2279.5,3124.9,2279.5,1957.7454545454543,2279.5,2777.6888888888889,2279.5,226,258,303,258]
["Aktuelle Programmversion",null,{"$f":"\"AuslegungWP-\"&RIGHT(SUBSTITUTE(Auslegung!AF43,\".\",\"\"),3)&\".txt\"","v":"AuslegungWP-252.txt"},{"$f":"RIGHT(Auslegung!AF43,4)","v":"2.52"},null,22.5,16.5,-1,null,null,null,20,-4,8.2666666666666675,8.2666666666666675,{"$f":"AVERAGE(P79,P81)","v":10.25},-1.9833333333333325,-20,89,735.73333333333346,1,735.73333333333346,0,21.091323630136987,21.091323630136987,0,0,{"$f":"AVERAGE(AB79,AB81)","v":3.4203703703703705},{"$f":"AVERAGE(AC79,AC81)","v":2.3659420289855078},215.10341093665406,8.9145563888480961,0,0,3.7083333333333335,0,0,"A-4/W35","A-4/W55",1,null,{"$f":"SUM($S$63:$S80)","v":298},null,{"$f":"Klimadaten!AE$100","v":"Hohenpeißenberg"},1759.7,2248.6999999999998,3100,2248.6999999999998,1919.6727272727271,2248.6999999999998,2755.5555555555557,2248.6999999999998,227,260,306,260]
["Update verfügbar ?",null,false,null,null,25,16.899999999999999,-1,null,null,null,21,-3,7.75,7.75,{"$f":"G70","v":10.5},-2.75,-20,161,1247.75,1,1247.75,0,38.153967465753425,38.153967465753425,0,0,{"$f":"I70","v":3.5148148148148146},{"$f":"J70","v":2.4202898550724639},354.99736564805062,15.764214102616684,0,0,6.708333333333333,0,0,"A-3/W35","A-3/W55",1,null,{"$f":"SUM($S$63:$S81)","v":459},null,{"$f":"Klimadaten!AF$100","v":"Karlsruhe"},1006.3,1375.3,2041.6,1375.3,1097.7818181818182,1375.3,1814.7555555555555,1375.3,169,197,245,197]
["Warmwasser bei WP integriert ?",null,{"$f":"VLOOKUP($C$61,Leistungsdaten!$A:$M,13,FALSE)","v":false},null,null,27.5,17.3,-1,null,null,null,22,-2,7.2333333333333334,7.2333333333333334,{"$f":"G70","v":10.5},-3.2666666666666666,-20,207,1497.3,1,1497.3,0,49.055101027397257,49.055101027397257,0,0,{"$f":"I70","v":3.5148148148148146},{"$f":"J70","v":2.4202898550724639},425.99683877766068,20.268275274792877,0,0,8.625,0,0,"A-2/W35","A-2/W55",1,null,{"$f":"SUM($S$63:$S82)","v":666},null,{"$f":"Klimadaten!AG$100","v":"Kempten"},1676.8,2145.5,2967.3,2145.5,1829.2363636363636,2145.5,2637.6000000000004,2145.5,217,249,296,249]
["VorlauftempMax-WP bei WWB",null,{"$f":"VLOOKUP(AC5,LeistungsdatenWW!A:M,2,FALSE)","v":55},null,null,30,17.8,-1,null,null,null,23,-1,6.7166666666666677,6.7166666666666677,{"$f":"AVERAGE(P82,P84)","v":10.75},-4.0333333333333323,-20,248,1665.7333333333336,1,1665.7333333333336,0,58.771328767123286,58.771328767123286,0,0,{"$f":"AVERAGE(AB82,AB84)","v":3.72444944944945},{"$f":"AVERAGE(AC82,AC84)","v":2.4565217391304355},447.24283573765865,23.924611710510359,0,0,10.333333333333334,0,0,"A-1/W35","A-1/W55",1,null,{"$f":"SUM($S$63:$S83)","v":914},null,{"$f":"Klimadaten!AH$100","v":"Konstanz"},1223,1624.1,2338.6,1624.1,1334.1818181818182,1624.1,2078.7555555555555,1624.1,186,214,261,214]
["Bivalent mit Strom möglich ?",null,{"$f":"VLOOKUP($C$61,Leistungsdaten!$A:$N,14,FALSE)","v":true},null,null,null,null,null,null,null,null,24,0,6.2,6.2,{"$f":"G71","v":11},-4.8,-20,263,1630.6000000000001,1,1630.6000000000001,0,62.326046232876713,62.326046232876713,0,0,{"$f":"I71","v":3.9340840840840854},{"$f":"J71","v":2.4927536231884071},414.48021067898162,25.002890639933089,0,{"$f":"Z84/$C$165","v":0},10.958333333333334,0,0,{"$f":"IF($C$5=$C$7,\"A\"&M84&\"/W\",IF($C$5=$C$8,$D$137,\"W7/W\"))&$C$76","v":"A0/W35"},"A0/W55",1,null,{"$f":"SUM($S$63:$S84)","v":1177},null,{"$f":"Klimadaten!AI$100","v":"Leipzig"},1282.5,1688.8,2417.5,1688.8,1399.090909090909,1688.7999999999997,2148.8888888888887,1688.7999999999997,188,218,267,218]
[null,null,null,null,null,null,null,null,null,null,null,25,1,5.6833333333333336,5.6833333333333336,{"$f":"AVERAGE(P84,P86)","v":11.225},-5.5416666666666661,-20,270,1534.5,{"$f":"IF(M85<$C$90,0,1)","v":1},1534.5,0,63.984914383561637,63.984914383561637,0,0,{"$f":"AVERAGE(AB84,AB86)","v":4.0721667348942088},{"$f":"AVERAGE(AC84,AC86)","v":2.5428369885853543},376.82641696641258,25.162806216358405,0,0,11.25,0,0,"A1/W35","A1/W55",1,null,{"$f":"SUM($S$63:$S85)","v":1447},null,{"$f":"Klimadaten!AJ$100","v":"Lindenberg"},1378.8,1791.9,2527,1791.9,1504.1454545454544,1791.9,2246.2222222222222,1791.9,192,221,268,221]
[null,null,null,null,null,null,null,null,null,null,null,26,2,5.166666666666667,5.166666666666667,{"$f":"G72","v":11.45},-6.2833333333333323,-20,328,1694.6666666666667,1,1694.6666666666667,0,77.729821917808209,77.729821917808209,0,0,{"$f":"I72","v":4.2102493857043317},{"$f":"J72","v":2.5929203539823011},402.50980676365953,29.977712889803165,0,0,13.666666666666666,0,0,"A2/W35","A2/W55",1,null,{"$f":"SUM($S$63:$S86)","v":1775},null,{"$f":"Klimadaten!AK$100","v":"List auf Sylt"},1172.8,1602.8,2390.5,1602.8,1279.4181818181817,1602.8,2124.8888888888887,1602.8,199,231,294,231]
["Regelung außentemperaturgeführt?",null,{"$f":"IF(Einstellungen!D18=Einstellungen!K18,TRUE,FALSE)","v":false},null,null,null,null,null,null,null,null,27,3,4.6500000000000004,4.6500000000000004,{"$f":"G72","v":11.45},-6.7999999999999989,-20,344,{"$f":"IF($C$200=FALSE,N87*S87,($C$205*N87+$C$208*(1-$C$206)*$C$204*N87)*S87)","v":1599.6000000000001},1,1599.6000000000001,0,81.521520547945201,81.521520547945201,0,0,{"$f":"I72","v":4.2102493857043317},{"$f":"J72","v":2.5929203539823011},379.92998833545425,31.440040347842345,0,0,14.333333333333334,0,0,"A3/W35","A3/W55",1,null,{"$f":"SUM($S$63:$S87)","v":2119},null,{"$f":"Klimadaten!AL$100","v":"Magdeburg"},1267.9000000000001,1677.4,2414.4,1677.4,1383.1636363636364,1677.4,2146.1333333333337,1677.4,189,219,271,219]
[null,null,null,null,null,null,null,null,null,null,null,28,4,4.1333333333333337,4.1333333333333337,{"$f":"AVERAGE(P87,P89)","v":11.7},-7.5666666666666655,-20,343,1417.7333333333336,1,1417.7333333333336,0,81.284539383561651,81.284539383561651,0,0,{"$f":"AVERAGE(AB87,AB89)","v":4.3963956425728359},{"$f":"AVERAGE(AC87,AC89)","v":2.6221482503856457},322.4762848012594,30.999215765777901,0,0,14.291666666666666,0,0,"A4/W35","A4/W55",1,null,{"$f":"SUM($S$63:$S88)","v":2462},null,{"$f":"Klimadaten!AM$100","v":"Meiningen"},1616.3,2076.4,2891.4,2076.4,1763.2363636363636,2076.4,2570.1333333333332,2076.4,213,246,294,246]
["Abschaltpunkt - Eingabe",null,2.5,null,null,null,null,null,null,null,null,29,5,3.6166666666666667,3.6166666666666667,{"$f":"G73","v":11.95},-8.3333333333333321,-20,414,1497.3,1,1497.3,0,98.110202054794513,98.110202054794513,0,0,{"$f":"I73","v":4.5825418994413409},{"$f":"J73","v":2.6513761467889907},326.74005668830574,37.003501813053987,0,0,17.25,0,0,"A5/W35","A5/W55",1,null,{"$f":"SUM($S$63:$S89)","v":2876},null,{"$f":"Klimadaten!AN$100","v":"München"},1395.9,1805,2532.8000000000002,1805,1522.8000000000002,1805,2251.3777777777777,1805,190,218,265,218]
["Abschaltpunkt-Berechnung",null,{"$f":"IF(F50=TRUE,C89,-20)","v":-20},null,null,null,null,null,null,null,null,30,6,3.1,3.1,{"$f":"AVERAGE(P89,P91)","v":12.274999999999999},-9.1749999999999989,-20,397,1230.7,1,1230.7,0,94.081522260273971,94.081522260273971,0,0,{"$f":"AVERAGE(AB89,AB91)","v":4.691845662364349},{"$f":"AVERAGE(AC89,AC91)","v":2.7185452162516386},262.30615594883329,34.607304560486455,0,0,16.541666666666668,0,0,"A6/W35","A6/W55",1,null,{"$f":"SUM($S$63:$S90)","v":3273},null,{"$f":"Klimadaten!AO$100","v":"Neuruppin"},1309.8,1725.8,2466,1725.8,1428.8727272727272,1725.8,2192,1725.8,194,221,272,221]
["Bivalenter Berieb ?",null,{"$f":"IF(OR(F5=F7,F5=F8,F5=F9),FALSE,TRUE)","v":true},null,null,null,null,null,null,null,null,31,7,2.5833333333333335,2.5833333333333335,{"$f":"G74","v":12.6},-10.016666666666666,-20,406,1048.8333333333335,1,1048.8333333333335,0,96.214352739726024,96.214352739726024,0,0,{"$f":"I74","v":4.801149425287357},{"$f":"J74","v":2.785714285714286},218.45463251137181,34.538485598876008,0,0,16.916666666666668,0,0,"A7/W35","A7/W55",1,null,{"$f":"SUM($S$63:$S91)","v":3679},null,{"$f":"Klimadaten!AP$100","v":"Nürburg-Barweiler"},1356.9,1803,2607.8000000000002,1803,1480.2545454545455,1803,2318.0444444444447,1803,205,240,295,240]
[null,null,null,null,null,null,null,null,null,null,null,32,8,2.0666666666666669,2.0666666666666669,{"$f":"G74","v":12.6},-10.533333333333333,-20,378,781.2,1,781.2,0,89.578880136986299,89.578880136986299,0,0,{"$f":"I74","v":4.801149425287357},{"$f":"J74","v":2.785714285714286},162.71103662915968,32.156521074815593,0,0,15.75,0,0,"A8/W35","A8/W55",1,null,{"$f":"SUM($S$63:$S92)","v":4057},null,{"$f":"Klimadaten!AQ$100","v":"Nürnberg"},1342,1755.8,2489.4,1755.8,1464,1755.8,2212.8000000000002,1755.8,192,220,267,220]
[null,null,null,"Drucken ?",null,null,null,null,null,null,null,33,9,1.55,1.55,{"$f":"AVERAGE(P92,P94)","v":13},-11.45,-20,409,633.95000000000005,1,633.95000000000005,0,96.925296232876704,96.925296232876704,0,0,{"$f":"AVERAGE(AB92,AB94)","v":4.9259441707717571},{"$f":"AVERAGE(AC92,AC94)","v":2.8571428571428577},128.69613987132905,33.923853681506841,0,0,17.041666666666668,0,0,"A9/W35","A9/W55",1,null,{"$f":"SUM($S$63:$S93)","v":4466},null,{"$f":"Klimadaten!AR$100","v":"Potsdam"},1334.2,1745.7,2481.1,1745.7,1455.4909090909091,1745.6999999999998,2205.4222222222224,1745.6999999999998,190,220,268,220]
["Zugehörige Wetterstation",null,{"$f":"IF(K5=K7,VLOOKUP(L5,Klimadaten!B:D,3,FALSE),L5)","v":"Fritzlar"},{"$f":"IF(ISERROR(C94),FALSE,TRUE)","v":true},null,null,null,null,null,null,null,34,10,1.0333333333333334,1.0333333333333334,{"$f":"G75","v":13.4},-12.366666666666667,-20,375,387.50000000000006,1,387.50000000000006,0,88.867936643835606,88.867936643835606,0,0,{"$f":"I75","v":5.050738916256158},{"$f":"J75","v":2.9285714285714288},76.721447381254279,30.345149097895082,0,0,15.625,0,0,{"$f":"IF($C$5=$C$7,\"A\"&M94&\"/W\",IF($C$5=$C$8,$D$137,\"W7/W\"))&$C$75","v":"A10/W35"},"A10/W55",1,null,{"$f":"SUM($S$63:$S94)","v":4841},null,{"$f":"Klimadaten!AS$100","v":"Rostock"},1231.5,1654.9,2412.9,1654.9,1343.4545454545455,1654.9,2144.8000000000002,1654.9,196,226,281,226]
["Startzeile Klimadaten Land",null,{"$f":"VLOOKUP(K5,K6:L50,2,FALSE)","v":100},null,null,null,null,null,null,null,null,35,11,0.51666666666666672,0.51666666666666672,{"$f":"AVERAGE(P94,P96)","v":13.850000000000001},-13.333333333333334,-20,420,217.00000000000003,{"$f":"IF(M95<$C$90,0,1)","v":1},217.00000000000003,0,99.532089041095887,99.532089041095887,0,0,{"$f":"AVERAGE(AB94,AB96)","v":5.2136476239343343},{"$f":"AVERAGE(AC94,AC96)","v":3.0206237424547289},41.62153172834627,32.950839802447724,0,0,17.5,0,0,"A11/W35","A11/W55",1,null,{"$f":"SUM($S$63:$S95)","v":5261},null,{"$f":"Klimadaten!AT$100","v":"Saarbrücken"},1217.7,1632.8,2382.5,1632.8,1328.4,1632.8,2117.7777777777778,1632.8,191,223,274,223]
[null,null,null,null,null,null,null,null,null,null,null,36,12,0,0,{"$f":"G76","v":14.3},-14.3,-20,378,0,1,0,0,89.578880136986299,89.578880136986299,0,0,{"$f":"I76","v":5.3765563316125107},{"$f":"J76","v":3.1126760563380289},0,28.778735247629076,0,0,15.75,0,0,"A12/W35","A12/W55",1,null,{"$f":"SUM($S$63:$S96)","v":5639},null,{"$f":"Klimadaten!AU$100","v":"Schleswig"},1293.8,1737.2,2547,1737.2,1411.4181818181817,1737.2000000000003,2264,1737.2000000000003,204,239,300,239]
["Leistung 2. WE",null,{"$f":"Q5*1","v":8.8000000000000007},null,null,null,null,null,null,null,null,37,13,0,0,{"$f":"G76","v":14.3},-14.3,-20,349,0,1,0,0,82.70642636986301,82.70642636986301,0,0,{"$f":"I76","v":5.3765563316125107},{"$f":"J76","v":3.1126760563380289},0,26.570842860906211,0,0,14.541666666666666,0,0,"A13/W35","A13/W55",1,null,{"$f":"SUM($S$63:$S97)","v":5988},null,{"$f":"Klimadaten!AV$100","v":"Schwerin"},1307.2,1733,2499.9,1733,1426.0363636363636,1733,2222.1333333333332,1733,197,227,283,227]
["Leistung WP bei Außentemp.",null,{"$f":"IF(OR(F5=F11,F5=F13,F5=F14),0,IF(C67<-20,VLOOKUP(-20,M63:P105,4,FALSE),VLOOKUP(C67,M63:P105,4,FALSE)))","v":8.3000000000000007},null,null,null,null,null,null,null,null,38,14,0,0,{"$f":"AVERAGE(P97,P99)","v":14.75},-14.75,-20,370,0,1,0,0,87.683030821917797,87.683030821917797,0,0,{"$f":"AVERAGE(AB97,AB99)","v":5.4813337213618105},{"$f":"AVERAGE(AC97,AC99)","v":3.1726170979364565},0,27.637445085619966,0,0,15.416666666666666,0,0,"A14/W35","A14/W55",1,null,{"$f":"SUM($S$63:$S98)","v":6358},null,{"$f":"Klimadaten!AW$100","v":"Straubing"},1475.4,1892.8,2630.5,1892.8,1609.5272727272727,1892.7999999999997,2338.2222222222222,1892.7999999999997,194,222,267,222]
["Leistung DHC ?",null,{"$f":"VLOOKUP($C$61,Leistungsdaten!$A:$F,2,FALSE)","v":8.8000000000000007},null,null,null,null,null,null,null,null,39,15,0,0,{"$f":"G77","v":15.2},-15.2,-20,333,0,1,0,0,78.914727739726032,78.914727739726032,0,0,{"$f":"I77","v":5.5861111111111104},{"$f":"J77","v":3.2325581395348841},0,24.41246973243323,0,0,{"$f":"S99/24","v":13.875},0,0,"A15/W35","A15/W55",1,null,{"$f":"SUM($S$63:$S99)","v":6691},null,{"$f":"Klimadaten!AX$100","v":"Stuttgart"},1290.3,1702.9,2440.1,1702.9,1407.6,1702.9,2168.9777777777776,1702.9,190,221,269,221]
["Max Heizleistung WP (Slider)",null,{"$f":"IF(OR(AA5=AA8,AA5=AA9,AC50=FALSE),MAX(0,($C$97+$C$98)*(24-$C$70)/24),MAX(0,($C$97+$C$98)*(24-$C$70)-$Z$197*$X$197)/24)","v":17.100000000000001},null,null,null,null,null,null,null,null,40,16,0,0,{"$f":"AVERAGE(P99,P101)","v":15.5},-15.5,-20,310,0,1,0,0,73.464160958904102,73.464160958904102,0,0,{"$f":"AVERAGE(AB99,AB101)","v":5.6794444444444441},{"$f":"AVERAGE(AC99,AC101)","v":3.3023255813953494},0,22.246189586147015,0,0,12.916666666666666,0,0,"A16/W35","A16/W55",1,null,{"$f":"SUM($S$63:$S100)","v":7001},null,{"$f":"Klimadaten!AY$100","v":"Trier"},1146.7,1552.7,2291.1999999999998,1552.7,1250.9454545454546,1552.7000000000003,2036.6222222222218,1552.7000000000003,186,219,271,219]
[null,null,null,null,null,null,null,null,null,null,null,41,17,0,0,{"$f":"G78","v":15.8},-15.8,-20,322,0,1,0,0,76.30793493150685,76.30793493150685,0,0,{"$f":"I78","v":5.7727777777777778},{"$f":"J78","v":3.3720930232558142},0,22.629249669343409,0,0,13.416666666666666,0,0,"A17/W35","A17/W55",1,null,{"$f":"SUM($S$63:$S101)","v":7323},null,{"$f":"Klimadaten!AZ$100","v":"Westermakelsdorf"},1251.0999999999999,1682.6,2455.5,1682.6,1364.8363636363636,1682.6,2182.6666666666665,1682.6,202,230,285,230]
["Max-Abschaltpunkt (biv-teilpar.)",null,{"$f":"MAX(-20,ROUND(C103,0))","v":-7},{"$f":"C102&\" °C\"","v":"-7 °C"},null,null,null,null,null,null,null,42,18,0,0,{"$f":"G78","v":15.8},-15.8,-20,280,0,1,0,0,66.354726027397248,66.354726027397248,0,0,{"$f":"I78","v":5.7727777777777778},{"$f":"J78","v":3.3720930232558142},0,19.677608408124701,0,0,11.666666666666666,0,0,"A18/W35","A18/W55",1,null,{"$f":"SUM($S$63:$S102)","v":7603},null,{"$f":"Klimadaten!BA$100","v":"Würzburg"},1255.8,1659.5,2381.6999999999998,1659.5,1369.9636363636364,1659.5,2117.0666666666666,1659.5,186,216,265,216]
["Bivalenzpunkt",null,{"$f":"ROUND(L131,0)","v":-7},null,null,null,null,null,null,null,null,43,19,0,0,{"$f":"AVERAGE(P102,P104)","v":15.950000000000001},-15.950000000000001,-20,217,0,1,0,0,51.424912671232875,51.424912671232875,0,0,{"$f":"AVERAGE(AB102,AB104)","v":5.8350000000000009},{"$f":"AVERAGE(AC102,AC104)","v":3.418604651162791},0,15.042661529680363,0,0,9.0416666666666661,0,0,"A19/W35","A19/W55",1,null,{"$f":"SUM($S$63:$S103)","v":7820},null,null,null,null,null,0,0,0,0,0,null,null,null,0]
[null,null,null,null,null,null,null,null,null,null,null,44,20,0,0,{"$f":"G79","v":16.100000000000001},-16.100000000000001,-20,196,0,{"$f":"IF(M104<$C$90,0,1)","v":1},0,0,46.448308219178081,46.448308219178081,0,0,{"$f":"I79","v":5.897222222222223},{"$f":"J79","v":3.4651162790697678},0,13.4045453249977,0,0,8.1666666666666661,0,0,"A20/W35","A20/W55",1,null,{"$f":"SUM($S$63:$S104)","v":8016},null,null,null,null,null,0,0,0,0,0,null,null,null,0]
["Datenblatt Warmwasser",null,{"$f":"IF(A5=1,VLOOKUP(AC5,LeistungsdatenWW!A:L,11,FALSE),VLOOKUP(AC5,LeistungsdatenWW!A:L,12,FALSE))","v":5968},{"$f":"IF(A5=1,\"http://www.stiebel-eltron.de/services/productproxy.html?productnr=\"&TEXT(C105,\"000000\"),\"http://apps.stiebel-eltron.de/pdf/apps/product/\"&C105&\"/\"&Translation!A3)","v":"http://apps.stiebel-eltron.de/pdf/apps/product/5968/en_DE"},null,null,null,null,null,null,null,45,"> 20",0,0,{"$f":"P104+(P104-P103)","v":16.25},-16.25,"> 20",744,0,{"$f":"U104","v":1},0,0,176.31398630136985,176.31398630136985,0,0,{"$f":"AB104+(AB104-AB103)","v":5.9594444444444452},{"$f":"AC104+(AC104-AC103)","v":3.5116279069767447},0,50.208618615621873,0,0,31,0,0,{"$f":"IF($C$5=$C$7,\"A20/W\",IF($C$5=$C$8,$D$137,\"W7/W\"))&$C$75","v":"A20/W35"},{"$f":"IF($C$5=$C$7,\"A20/W\",IF($C$5=$C$8,$D$137,\"W7/W\"))&$C$69","v":"A20/W55"},1,null,{"$f":"SUM($S$63:$S105)","v":8760},null,null,null,null,null,0,0,0,0,0,null,null,null,0]
[null,null,null,null,null,null,null,null,null,null,null,null,null,null,null,null,null,{"$f":"MAX(R63:R105)","v":-7},{"$f":"SUM(S63:S105)","v":8760},{"$f":"SUM(T63:T105)","v":20892.45},1,{"$f":"ROUND(SUM(V63:V105),0)","v":20714},{"$f":"SUM(W63:W105)","v":178.87619047619052},{"$f":"SUM(X63:X105)","v":2075.9549999999999},{"$f":"SUM(Y63:Y105)","v":2075.9549999999999},{"$f":"SUM(Z63:Z105)","v":0},{"$f":"SUM(AA63:AA105)","v":0},{"$f":"AVERAGE(AB63:AB105)","v":4.0433704231437293},{"$f":"AVERAGE(AC63:AC105)","v":2.5484260167417019},{"$f":"MAX(0,SUM(AD63:AD105))","v":5149.7297667938747},{"$f":"SUM(AE63:AE105)","v":719.75454311088549},{"$f":"SUM(AF63:AF105)","v":198.75132275132282},0,{"$f":"SUM(AH63:AH105)","v":365.00000000000006},{"$f":"SUM(AI63:AI105)","v":0},{"$f":"SUM(AJ63:AJ105)","v":0},null,null,null,null,null,null,null,null,null,null,0,0,0,0,0,null,null,null,0]
[null,null,null,null,null,null,null,null,null,null,null,null,null,null,null,null,null,null,null,null,null,null,null,null,null,null,null,null,null,null,null,null,null,null,null,null,null,null,null,null,null,null,null,null,null,null,0,0,0,0,0,null,null,null,0]
[null,null,null,null,null,null,null,null,null,null,null,null,null,null,null,null,null,null,null,null,null,null,null,null,null,null,null,null,null,null,null,null,null,null,null,null,null,null,null,null,null,null,null,null,null,null,0,0,0,0,0,null,null,null,0]
["Klimadaten - Heizgradtage",null,{"$f":"VLOOKUP($C$94,$AQ$63:$BC$128,5,FALSE)","v":1555.5},null,null,null,null,null,null,null,null,null,null,null,null,null,null,null,null,null,null,null,null,null,null,null,null,null,null,null,null,null,null,null,null,null,null,null,null,null,null,null,null,null,null,null,0,0,0,0,0,null,null,null,0]
["Klimadaten - Vollbenutzungsstunden",null,{"$f":"VLOOKUP($C$94,$AQ$63:$BC$128,9,FALSE)","v":1555.5},null,null,null,null,null,null,null,null,null,null,null,null,null,null,null,null,null,null,null,null,null,null,null,null,null,null,null,null,null,null,null,null,null,null,null,null,null,null,null,null,null,null,null,0,0,0,0,0,null,null,null,0]
["Klimadaten - Heiztage",null,{"$f":"VLOOKUP($C$94,$AQ$63:$BC$128,13,FALSE)","v":216},null,null,null,null,null,null,null,null,null,null,null,null,null,null,null,null,null,null,null,null,null,null,null,null,null,null,null,null,null,null,null,null,null,null,null,null,null,null,null,null,null,null,null,0,0,0,0,0,null,null,null,0]
[null,null,null,null,null,null,null,null,null,null,null,null,null,null,null,null,null,null,null,null,null,null,null,null,null,null,null,null,null,null,null,null,null,null,null,null,null,null,null,null,null,null,null,null,null,null,0,0,0,0,0,null,null,null,0]
[null,null,null,null,null,null,null,null,null,null,null,null,null,null,null,null,null,null,null,null,null,null,null,null,null,null,null,null,null,null,null,null,null,null,null,null,null,null,null,null,null,null,null,null,null,null,0,0,0,0,0,null,null,null,0]
[null,null,null,null,null,null,null,null,null,null,null,"Darstellung Diagramm Heizlast",null,null,null,null,null,null,null,null,null,null,null,null,null,null,null,null,null,null,null,null,null,null,null,null,null,null,null,null,null,null,null,null,null,null,0,0,0,0,0,null,null,null,0]
[null,null,null,null,null,null,null,null,null,null,null,null,"Kennlinie Heizlast",null,null,null,"Kennlinie Heizlast+Sperrzeit+Warmwasserzuschlag",null,"Hilfslinie Bivalenzpunkt",null,"Punktdarstellung",null,"Linie Bivalenzpunkt Heizarbeit",null,"Linie Abschaltpunkt WP Heizarbeit",null,null,null,null,null,null,null,null,null,null,null,null,null,null,null,null,null,null,null,null,null,0,0,0,0,0,null,null,null,0]
[null,null,null,null,null,null,null,null,null,null,null,null,"Temp","Leistung","m","n","Temp","Leistung","Temp","Leistung","Temp","Leistung","Temp","kWh","Temp","KWh",null,null,null,null,null,null,null,null,null,null,null,null,null,null,null,null,null,null,null,null,0,0,0,0,0,null,null,null,0]
[null,null,null,null,null,null,null,null,null,null,null,"Heizgrenze",{"$f":"IF(C71=0,-30,C68)","v":12},0,{"$f":"(T118-N117)/(S118-M117)","v":-0.51824324324324311},{"$f":"T118-O117*S118","v":6.2189189189189182},{"$f":"IF(C73=0,-30,C68)","v":12},{"$f":"IF(C72=TRUE,N117/(24/(24-$C$70)),N117*(24/(24-$C$70)))","v":0},{"$f":"S118","v":-6.5},{"$f":"IF(S117<20,-100,0)","v":-100},{"$f":"-20","v":-20},{"$f":"R118","v":12.4},{"$f":"IF(OR(S118<-20,W106=0),0,ROUND(S118,0)+21)","v":14},0,{"$f":"IF(F5=F14,C90+21,0)","v":0},0,null,null,null,null,null,null,null,null,null,null,null,null,null,null,null,null,null,null,null,null,0,0,0,0,0,null,null,null,0]
["Ausgabe Heizlast",null,{"$f":"FIXED(Berechnung!$C$71,1)","v":"12,4"},null,null,null,null,null,null,null,null,"Außentemp",{"$f":"IF(C71=0,-30,C67)","v":-12},{"$f":"C71","v":12.4},null,null,{"$f":"IF(C73=0,-30,C67)","v":-12},{"$f":"C73","v":12.4},{"$f":"IF(F50=TRUE,C89,L131)","v":-6.5},{"$f":"IF(S118<-20,-100,IF(S118<>L131,VLOOKUP(ROUND(S118,0),M63:P105,4,FALSE),N131))","v":9.5874999999999986},{"$f":"S118","v":-6.5},{"$f":"T118","v":9.5874999999999986},{"$f":"W117","v":14},{"$f":"IF(C90>W118-21,0,IF(ISERROR(VLOOKUP(W118-21,M64:V104,9,FALSE)),0,VLOOKUP(W118-21,M64:V104,9,FALSE)))","v":1},{"$f":"Y117","v":0},{"$f":"IF(ISERROR(VLOOKUP(Y118-21,M64:T104,7,FALSE)),0,VLOOKUP(Y118-21,M64:T104,7,FALSE))","v":0},null,null,null,null,null,null,null,null,null,null,null,null,null,null,null,null,null,null,null,null,0,0,0,0,0,null,null,null,0]
[null,null,null,null,null,null,null,null,null,null,null,null,null,null,null,null,null,null,null,null,null,null,null,null,null,null,null,null,null,null,null,null,null,null,null,null,null,null,null,null,null,null,null,null,null,null,0,0,0,0,0,null,null,null,0]
["Ausgabe Sperrzeitenfaktor",null,{"$f":"FIXED(C70,2)","v":"0,00"},null,null,null,null,null,null,null,null,null,null,null,null,null,null,null,null,null,null,null,null,null,null,null,null,null,null,null,null,null,null,null,null,null,null,null,null,null,null,null,null,null,null,null,0,0,0,0,0,null,null,null,0]
[null,null,null,null,null,null,null,null,null,null,null,null,null,null,null,null,null,null,null,null,null,null,null,null,null,null,null,null,null,null,null,null,null,null,null,null,null,null,null,null,null,null,null,null,null,null,0,0,0,0,0,null,null,null,0]
["Ausgabe max. Heizlast",null,{"$f":"IF(ISERROR(R118),\"---\",FIXED(R118,1)&\" KW\")","v":"12,4 KW"},null,null,null,null,null,null,null,null,null,null,null,null,null,null,null,null,null,null,null,null,null,null,null,null,null,null,null,null,null,null,null,null,null,null,null,null,null,null,null,null,null,null,null,0,0,0,0,0,null,null,null,0]
["Ausgabe Bivalenzpunkt",null,{"$f":"IF(ISERROR(S118),\"---\",IF(F50=TRUE,FIXED(S118,1)&\" °C\",IF(ROUND(L131,0)<=C67,Translation!A46,FIXED(S118,1)&\" °C\")))","v":"-6,5 °C"},null,null,null,null,null,null,null,null,null,null,null,null,null,null,null,null,null,null,null,null,null,null,null,null,null,null,null,null,null,null,null,null,null,null,null,null,null,null,null,null,null,null,null,0,0,0,0,0,null,null,null,0]
["Ausgabe Heizarbeit WP",null,{"$f":"IF(ISERROR(V106),\"---\",FIXED(V106+C159,0)&\" \"&Translation!A225)","v":"22.790 kWh/a"},{"$f":"IF(ISERROR(V106),Translation!$A$22&\" ---\",Translation!$A$22&\" \"&FIXED(V106,0)&\" \"&Translation!A225)","v":"Heating 20.714 kWh/a"},null,null,null,null,null,null,null,null,null,null,null,null,null,null,null,null,null,null,null,null,null,null,null,null,null,null,null,null,null,null,null,null,null,null,null,null,null,null,null,null,null,null,0,0,0,0,0,null,null,null,0]
["Ausgabe Heizarbeit 2. WE",null,{"$f":"IF(ISERROR(W106),\"---\",FIXED(W106+C160,0)&\" \"&Translation!A225)","v":"179 kWh/a"},{"$f":"IF(ISERROR(W106),Translation!$A$22&\" ---\",Translation!$A$22&\" \"&FIXED(W106,0)&\" \"&Translation!A225)","v":"Heating 179 kWh/a"},null,null,null,null,null,null,null,null,null,null,null,null,null,null,null,null,null,null,null,null,null,null,null,null,null,null,null,null,null,null,null,null,null,null,null,null,null,null,null,null,null,null,0,0,0,0,0,null,null,null,0]
["Ausgabe Deckungsanteil WP",null,{"$f":"IF(ISERROR(V106),\"---\",FIXED(100*(V106+C159)/(V106+C159+W106+C160),1)&\" %\")","v":"99,2 %"},null,null,null,null,null,null,null,null,null,null,null,null,null,null,null,null,null,null,null,null,null,null,null,null,null,null,null,null,null,null,null,null,null,null,null,null,null,null,null,null,null,null,null,0,0,0,0,0,null,null,null,0]
[null,null,null,null,null,null,null,null,null,null,null,"Berechnung Bivalenzpunkt aus eingegebener Heizlast berechnen",null,null,null,null,null,null,null,null,null,null,null,null,null,null,null,null,null,null,null,null,null,null,null,null,null,null,null,null,null,null,null,null,null,null,0,0,0,0,0,null,null,null,0]
["Ausgabe Vollbenutzungsstunde",null,{"$f":"IF(ISERROR(C110),\"---\",FIXED(C110,0)&\" \"&Translation!A227)","v":"1.556 h/a"},null,null,null,null,null,null,null,null,"Temp","Differenz","Leistung WP","m","n",null,null,null,null,null,null,null,null,null,null,null,null,null,null,null,null,null,null,null,null,null,null,null,null,null,null,null,null,null,null,{"$f":"IF($C$68=10,AR128,IF($C$68=12,AS128,AT128))","v":0},{"$f":"(AR128/(10-$C$67))*24","v":0},{"$f":"(AS128/(12-$C$67))*24","v":0},{"$f":"(AT128/(15-$C$67))*24","v":0},{"$f":"IF($C$68=10,AV128,IF($C$68=12,AW128,AX128))","v":0},null,null,null,{"$f":"IF($C$68=10,AZ128,IF($C$68=12,BA128,BB128))","v":0}]
["Ausgabe Heiztage",null,{"$f":"IF(ISERROR(C111),\"---\",FIXED(C111,0)&\" \"&Translation!A228)","v":"216 days/year"},null,null,null,null,null,null,null,null,{"$f":"R106","v":-7},{"$f":"VLOOKUP(L129,$M$63:$Q$105,5,FALSE)","v":0.36666666666666714},{"$f":"VLOOKUP(L129,$M$63:$Q$105,4,FALSE)","v":9.4499999999999993},{"$f":"(M130-M129)/(L130-L129)","v":-0.79166666666666607},{"$f":"M129-L129*O129","v":-5.1749999999999954},null,null,null,null,null,null,null,null,null,null,null,null,null,null,null,null,null,null,null,null,null,null,null,null,null,null," (aus IWU-Tool, Stand März 2009)"]
["Ausgabe Heizgradtage",null,{"$f":"IF(ISERROR(C109),\"---\",FIXED(C109,0)&\" \"&Translation!A227)","v":"1.556 h/a"},null,null,null,null,null,null,null,null,{"$f":"L129+1","v":-6},{"$f":"VLOOKUP(L130,$M$63:$Q$105,5,FALSE)","v":-0.42499999999999893},{"$f":"VLOOKUP(L130,$M$63:$Q$105,4,FALSE)","v":9.7249999999999996}]
["Ausgabe Jahresstunden <0",null,{"$f":"IF(ISERROR(AO84),\"---\",FIXED(AO84,0))","v":"1.177"},null,null,null,null,null,null,null,null,{"$f":"IF(OR(O129=0,R106<=C67),-30,ROUND(-P129/O129,1))","v":-6.5},0,{"$f":"IF(ROUND(L131/5,1)*5=L129,N129,IF(ROUND(L131/5,1)*5=L130,N130,AVERAGE(N129:N130)))","v":9.5874999999999986}]
["Ausgabe Heizgradtage <-5",null,{"$f":"IF(ISERROR(AO79),\"---\",FIXED(AO79,0))","v":"209"}]
["Ausgabe Heizgradtage <-10",null,{"$f":"IF(ISERROR(AO74),\"---\",FIXED(AO74,0))","v":"38"}]
["Ausgabe Heizgradtage <-15",null,{"$f":"IF(ISERROR(AO69),\"---\",FIXED(AO69,0))","v":"0"}]
["Ausgabe Tempverhältnis",null,{"$f":"IF(C5=C7,\"\",IF(C5=C8,D137&LEFT(H5,FIND(\" \",H5)-1),\"B7/W\"&LEFT(H5,FIND(\" \",H5)-1)))","v":""}]
["Übersetzung - 1",null,{"$f":"Translation!A95","v":"Please insert numerical values only"}]
["Direktverdampfer ?",null,{"$f":"VLOOKUP(D5,Leistungsdaten!A:M,10,FALSE)","v":false},{"$f":"IF(C137=TRUE,\"E-1/W\",\"B0/W\")","v":"B0/W"}]
[]
["Chk Ausdruck Projektdaten",null,true,null,null,null,null,null,null,null,null,"Anzeige Diagrammlegende"]
["Chk Ausdruck Anlagendaten",null,true,null,null,null,null,null,null,null,null,"Legende","Bivalenzpnkt","Wärmebedarf","Strombedarf","Energiekosten","Klimadaten"]
["Chk Ausdruck Bivalenzpunkt",null,true,null,null,null,null,null,null,null,null,"Wert 1",{"$f":"Translation!$A$54&\" \"&Translation!$A$35&\" \"&Berechnung!C135","v":"Heating Capacity Heat pump "},{"$f":"Translation!$A$22&\" \"&Translation!$A$35&\" \"&Berechnung!$C$135","v":"Heating Heat pump "},{"$f":"Translation!$A$22&\" \"&Translation!$A$35&\" \"&Berechnung!$C$135","v":"Heating Heat pump "},{"$f":"Translation!$A$35","v":"Heat pump"},{"$f":"Translation!A117","v":"Yearly hours with temperature"}]
["Chk Ausdruck Wärmebedarf",null,true,null,null,null,null,null,null,null,null,"Wert 2",{"$f":"Translation!A93","v":"Heating capacity"},{"$f":"Translation!$A$22&\" \"&Translation!$A$55","v":"Heating 2nd heat source"},{"$f":"Translation!$A$22&\" \"&Translation!$A$55","v":"Heating 2nd heat source"},{"$f":"Translation!$A$55","v":"2nd heat source"},{"$f":"Translation!A118","v":"Sum of yearly hours with temperatures < outside temperature"}]
["Chk Ausdruck Strombedarf",null,true,null,null,null,null,null,null,null,null,"Wert 3",{"$f":"IF(OR(AA5=AA7,AA5=AA8,AA5=AA9,AC50=FALSE),Translation!$A$98,Translation!$A$97)","v":"Heat demand with switch off time factor "},{"$f":"Translation!$A$23&\" \"&Translation!$A$35","v":"Warm water Heat pump"},{"$f":"Translation!$A$23&\" \"&Translation!$A$35","v":"Warm water Heat pump"},{"$f":"Translation!A22","v":"Heating"}]
["Chk Ausdruck Energiekosten",null,true,null,null,null,null,null,null,null,null,"Wert 4",null,{"$f":"Translation!$A$23&\" \"&Translation!$A$55","v":"Warm water 2nd heat source"},{"$f":"Translation!$A$23&\" \"&Translation!$A$55","v":"Warm water 2nd heat source"},{"$f":"Translation!A23","v":"Warm water"}]
["Chk Ausdruck Klimadaten",null,true,null,null,null,null,null,null,null,null,"Wert 5"]
["Chk Ausdruck Datenblatt",null,false,null,null,null,null,null,null,null,null,"Wert 6"]
["Chk Ausdruck Ergebnistabellen",null,true,null,null,null,null,null,null,null,null,"Wert 7"]
["Platzhalter",null,true,null,null,null,null,null,null,null,null,"Wert 8"]
["Alles gewählt?",null,{"$f":"IF(COUNTIF(C139:C148,TRUE)=10,TRUE,FALSE)","v":false},null,null,null,null,null,null,null,null,"Wert 9"]
[null,null,null,null,null,null,null,null,null,null,null,"Wert 10"]
["WW bivalent möglich ?",null,{"$f":"VLOOKUP(AC5,LeistungsdatenWW!A:M,5,FALSE)","v":true}]
["WW mit Durchlauferhitzer ?",null,{"$f":"VLOOKUP(AC5,LeistungsdatenWW!A:M,4,FALSE)","v":false}]
["Übertemperatur WP<>Speicher WW",null,{"$f":"IF(OR(AA5=AA12,AA5=AA13),0,5)","v":5}]
["Vorlauftemp-WP für COP"]
["Speichertemperatur",null,{"$f":"LEFT(G5,FIND(\" \",G5)-1)*1","v":50}]
["WW-manuell [kWH/Tag]/Schwimmbad m³",null,"5,4"]
["Nutzungsdauer WW [Tage/Jahr]",null,{"$f":"Einstellungen!D31","v":340}]
["Deckungsanteil WP an WWB",null,{"$f":"Einstellungen!D27/100","v":0.8}]
["Heizarbeit WW Wärmepumpe [kWh/a]",null,{"$f":"Y106","v":2075.9549999999999},{"$f":"IF(ISERROR(C159),Translation!$A$23&\" ---\",Translation!$A$23&\" \"&FIXED(C159,0)&\" \"&Translation!A225)","v":"Warm water 2.076 kWh/a"},null,null,null,null,null,null,null,"Anzeige Ergebnisse"]
["Heizarbeit WW 2. WE [kWh/a]",null,{"$f":"Z106","v":0},{"$f":"IF(ISERROR(C160),Translation!$A$23&\" ---\",Translation!$A$23&\" \"&FIXED(C160,0)&\" \"&Translation!A225)","v":"Warm water 0 kWh/a"},null,null,null,null,null,null,null,"Legende","Bivalenzpunkt","Wärmebedarf","Strombedarf","Energiekosten","Klimadaten"]
["Heizenergie Schwimmbad [kWh/Tag]",null,{"$f":"IF(C162=TRUE,C156*1.163*AN5,0)","v":0},null,null,null,null,null,null,null,null,"Wert 1",{"$f":"IF(F50=TRUE,Translation!$A$109&\": \"&$C$123,Translation!$A$108&\": \"&$C$123)","v":"Dual-mode point: -6,5 °C"},{"$f":"Translation!$A$112&\":  \"&$C$124","v":"Heating power heat pump:  22.790 kWh/a"},{"$f":"Translation!$A$175&\":  \"&$D$166","v":"Electricity requirement heat pump:  5.869 kWh/a"},{"$f":"IF(ISERROR(D190),Translation!A185&\":  \"&\"---\",Translation!A185&\":  \"&D190)","v":"Energy costs:  1.187 €/a"}]
["Schwimmbad gewählt ?",null,{"$f":"IF($AA$5=$AA$12,TRUE,FALSE)","v":false},null,null,null,null,null,null,null,null,"Wert 2",null,{"$f":"$D$124&\"   |   \"&$D$159&IF(C201>0,\"   |   \"&D207,\"\")","v":"Heating 20.714 kWh/a   |   Warm water 2.076 kWh/a"},{"$f":"$D$167&\"   |   \"&$D$168&IF(C201>0,\"   |   \"&D202,\"\")","v":"Heating 5.150 kWh/a   |   Warm water 720 kWh/a"},{"$f":"D182&\"   |   \"&D183&IF(C201>0,\"   |   \"&D203,\"\")","v":"Heating 1.043 €/a   |   Warm water 144 €/a"},{"$f":"IF(ISERROR(C111),\"\",Translation!A121&\":  \"&$C$129)","v":"Annual heating days:  216 days/year"}]
["Ohne Warmwasserbereitung ?",null,{"$f":"IF(AA5=AA7,TRUE,FALSE)","v":false},"für Ausdruck",null,null,null,null,null,null,null,"Wert 3",{"$f":"Translation!A100&\": \"&FIXED($C$73,1)&\" KW\"","v":"Calculated heating-load: 12,4 KW"},{"$f":"Translation!$A$113&\":  \"&$C$125","v":"Heating power 2. heat source:  179 kWh/a"},{"$f":"$D$173&\":  \"&$D$169","v":"End energy 2. heat source:  199 kWh/a"},{"$f":"D180&\"   |   \"&D181","v":"Heat pump 1.174 €/a   |   2nd heat source 13 €/a"},{"$f":"IF(C132=\"---\",\"\",C132&\" \"&Translation!$A$123&\" -5 °C\")","v":"209 Yearly hours < -5 °C"}]
["Kesselwirkungsgrad Heizung",null,{"$f":"IF(OR(F5=F7,F5=F8,F5=F9),1,Einstellungen!$D$16/100)","v":0.9},null,null,null,null,null,null,null,null,"Wert 4",{"$f":"Translation!A94&\": \"&FIXED($C$118,1)&\" KW\"","v":"Heating capacity: 12,4 KW"},{"$f":"$D$125&\"   |   \"&$D$160","v":"Heating 179 kWh/a   |   Warm water 0 kWh/a"},{"$f":"$D$170&\"   |   \"&$D$171","v":"Heating 199 kWh/a   |   Warm water 0 kWh/a"},{"$f":"Translation!$A$189&\" \"&FIXED(R215,0)&\" \"&Translation!A226","v":"CO2-Emmision 3.695 kg/a"},{"$f":"IF(C131=\"---\",\"\",C131&\" \"&Translation!$A$123&\" 0 °C\")","v":"1.177 Yearly hours < 0 °C"}]
["Kesselwirkungsgrad WWB",null,{"$f":"IF(OR(F5=F7,F5=F8,F5=F9,C151=FALSE),1,Einstellungen!$D$27/100)","v":0.8},null,null,null,null,null,null,null,null,"Wert 5",{"$f":"(IF(OR(AA5=AA7,AA5=AA8,AA5=AA9,AC50=FALSE),Translation!A102,Translation!A101)&\": \"&FIXED(C73-$C$118,1)&\" KW\")","v":"Extra amount for switch off times: 0,0 KW"},{"$f":"Translation!$A$106&\": \"&C126","v":"Covering ratio heat pump: 99,2 %"},{"$f":"IF(C173=1,\"\",IF($C$77=TRUE,D175,D174&\"   |   \"&D175))","v":"20 Liter oil   |   19 m³ gas"},{"$f":"Translation!A188&\": \"&Berechnung!D191","v":"Ersparnis gegenüber Öl-/Gasheizung: 491 €/a"},{"$f":"IF(C133=\"---\",\"\",C133&\" \"&Translation!$A$123&\" -10 °C\")","v":"38 Yearly hours < -10 °C"}]
["Endenergie WP gesamt",null,{"$f":"L204+L206+L208","v":5869.4843099047603},{"$f":"IF(ISERROR(C166),\" ---\",FIXED(C166,0)&\" \"&Translation!A225)","v":"5.869 kWh/a"},null,null,null,null,null,null,null,"Wert 6",null,null,null,{"$f":"Translation!A212&\": \"&FIXED(Einstellungen!D5,1)&\" \"&Translation!A224&\"   |   \"&Translation!A213&\": \"&FIXED(Einstellungen!D7,1)&\" \"&Translation!A224&\"   |   \"&Translation!A190&\"/\"&Translation!A191&\": \"&FIXED(Einstellungen!D9,1)&\" \"&Translation!A224","v":"HP-electricity: 20,0 Ct/kWh   |   Household electricity: 26,0 Ct/kWh   |   Oil/Gas: 6,5 Ct/kWh"},{"$f":"IF(C134=\"---\",\"\",C134&\" \"&Translation!$A$123&\" -15 °C\")","v":"0 Yearly hours < -15 °C"}]
["Endenergie WP Heizung",null,null,{"$f":"IF(ISERROR(L204),Translation!$A$22&\" ---\",Translation!$A$22&\" \"&FIXED(L204,0)&\" \"&Translation!$A$225)","v":"Heating 5.150 kWh/a"},null,null,null,null,null,null,null,"Wert 7"]
["Endenergie WP WWB",null,null,{"$f":"IF(ISERROR(L206),Translation!$A$23&\" ---\",Translation!$A$23&\" \"&FIXED(L206,0)&\" \"&Translation!A225)","v":"Warm water 720 kWh/a"},null,null,null,null,null,null,null,"Wert 8"]
["Endenergie 2. WE gesamt",null,{"$f":"L205+L207","v":198.75132275132282},{"$f":"IF(ISERROR(C169),\" ---\",FIXED(C169,0)&\" \"&Translation!A225)","v":"199 kWh/a"},null,null,null,null,null,null,null,"Wert 9"]
["Endenergie 2. WE Heizung",null,null,{"$f":"IF(ISERROR(L205),Translation!$A$22&\" ---\",Translation!$A$22&\" \"&FIXED(L205,0)&\" \"&Translation!A225)","v":"Heating 199 kWh/a"},null,null,null,null,null,null,null,"Wert 10",null,null,null,null,{"$f":"IF(ISERROR(C110),\"\",Translation!A120&\":  \"&$C$128)","v":"Seasonal heating hours:  1.556 h/a"}]
["Endenergie 2. WE WWB",null,null,{"$f":"IF(ISERROR(L207),Translation!$A$23&\" ---\",Translation!$A$23&\" \"&FIXED(L207,0)&\" \"&Translation!A225)","v":"Warm water 0 kWh/a"}]
[]
["Typ 2. WE Heizung (1=Strom, 2=bivalent)",null,{"$f":"IF(OR(F5=F7,F5=F8,F5=F9),1,2)","v":2},{"$f":"IF(C173=1,Translation!A178,Translation!A177)","v":"End energy 2. heat source"}]
[null,null,null,{"$f":"IF(ISERROR(O215),\" ---\",FIXED(O215,0)&\" \"&Translation!A179)","v":"20 Liter oil"}]
[null,null,null,{"$f":"IF(ISERROR(P215),\" ---\",FIXED(P215,0)&\" \"&Translation!A180)","v":"19 m³ gas"}]
[]
[]
[null,null,null,null,null,null,null,null,null,null,null,"Berechnung Warmwasser"]
[null,null,null,null,null,null,null,null,null,null,"Art WWB","Gewählt ?","KW-Temp","Speichertemp mit WP","WW-Temp Soll","Einheit(zB Pers.)","spez. Bedarf (kWh)","Tagesbedarf [kWh]","Anteil WP (Temp)","WP-kWh","2.WE kWh","Verlustfaktor","Verteilverluste","kWh-Gesamt-Tag","Deckung WP (berechnet)","Deckung gewählt","WW-kWh Jahr","Volumen Speicher"]
["Kosten Wärmepumpe",null,{"$f":"N204+N206+N208","v":1173.8968619809523},{"$f":"IF(ISERROR(C180),Translation!$A$35&\" ---\",Translation!$A$35&\" \"&FIXED(C180,0)&\" \"&Translation!A223)","v":"Heat pump 1.174 €/a"},null,null,null,null,null,null,{"$f":"Translation!$A$150","v":"Without DHW"},{"$f":"IF($AA$5=K180,TRUE,FALSE)","v":false},{"$f":"Einstellungen!$D$29","v":10},{"$f":"MIN($C$83-5,$C$155)","v":50},{"$f":"$C$155","v":50},0,0,0,0,0,0,1,0,0,0,0]
["Kosten 2. WE",null,{"$f":"N205+N207","v":12.918835978835983},{"$f":"IF(ISERROR(C181),Translation!$A$55&\" ---\",Translation!$A$55&\" \"&FIXED(C181,0)&\" \"&Translation!A223)","v":"2nd heat source 13 €/a"},null,null,null,null,null,null,{"$f":"Translation!$A$151","v":"Single family house without circulation"},{"$f":"IF($AA$5=K181,TRUE,FALSE)","v":true},{"$f":"Einstellungen!$D$29","v":10},{"$f":"MIN($C$83-5,$C$155)","v":50},{"$f":"$C$155","v":50},{"$f":"AB5","v":"4"},{"$f":"AF5","v":1.4537500000000001},{"$f":"P181*Q181","v":5.8150000000000004},{"$f":"MAX(0,(N181-M181)/(O181-M181))","v":1},{"$f":"R181*S181","v":5.8150000000000004},{"$f":"R181-T181","v":0},{"$f":"ROUND(1+Einstellungen!$D$33/100,2)","v":1.05},{"$f":"(Einstellungen!$D$33/100)*R181","v":0.29075000000000001},{"$f":"IF(L181=FALSE,0,T181+U181+W181)","v":6.1057500000000005},{"$f":"IF(L181=FALSE,0,IF(U181=0,1,ROUND(T181/X181,3)))","v":1},{"$f":"IF($C$152=TRUE,0,$AL$5)","v":1},{"$f":"X181*Einstellungen!$D$31","v":2075.9549999999999},{"$f":"ROUND(P181*$AE$5*2*(60-M181)/($C$155-M181),0)","v":250}]
["Kosten Heizung",null,{"$f":"N204+N205","v":1042.864789337611},{"$f":"IF(ISERROR(C182),Translation!$A$22&\" ---\",Translation!$A$22&\" \"&FIXED(C182,0)&\" \"&Translation!A223)","v":"Heating 1.043 €/a"},null,null,null,null,null,null,{"$f":"Translation!$A$152","v":"Single family house with circulation"},false,{"$f":"Einstellungen!$D$29","v":10},50,{"$f":"$C$155","v":50},{"$f":"AB5","v":"4"},{"$f":"AF5","v":1.4537500000000001},{"$f":"P182*Q182","v":5.8150000000000004},{"$f":"MAX(0,(N182-M182)/(O182-M182))","v":1},{"$f":"R182*S182","v":5.8150000000000004},{"$f":"R182-T182","v":0},{"$f":"ROUND(1+Einstellungen!$D$35/100,2)","v":1.5},{"$f":"(Einstellungen!$D$35/100)*R182","v":2.9075000000000002},{"$f":"IF(L182=FALSE,0,T182+U182+W182)","v":0},{"$f":"IF(L182=FALSE,0,IF(U182=0,1,ROUND(T182/X182,3)))","v":0},1,{"$f":"X182*Einstellungen!$D$31","v":0},{"$f":"ROUND(P182*$AE$5*2*(60-M182)/($C$155-M182),0)","v":250}]
["Kosten WWB",null,{"$f":"N206+N207","v":143.95090862217711},{"$f":"IF(ISERROR(C183),Translation!$A$23&\" ---\",Translation!$A$23&\" \"&FIXED(C183,0)&\" \"&Translation!A223)","v":"Warm water 144 €/a"},null,null,null,null,null,null,{"$f":"Translation!$A$153","v":"Multi-family house without circulation"},false,{"$f":"Einstellungen!$D$29","v":10},{"$f":"MIN($C$83-5,$C$155)","v":50},50,{"$f":"AG5","v":"30"},{"$f":"AI5","v":11.654999999999999},349.65,1,{"$f":"R183*S183","v":349.65},0,{"$f":"ROUND(1+Einstellungen!$D$33/100,2)","v":1.05},{"$f":"(Einstellungen!$D$33/100)*R183","v":17.482499999999998},{"$f":"IF(L183=FALSE,0,T183+U183+W183)","v":0},{"$f":"IF(L183=FALSE,0,IF(U183=0,1,ROUND(T183/X183,3)))","v":0},1,{"$f":"X183*Einstellungen!$D$31","v":0},{"$f":"ROUND(1.15*ROUND(P183*$AJ$5/(1.163/1000*(O183-M183)),0),0)","v":3297}]
["WWB mit Haushaltsstrom ?",null,{"$f":"VLOOKUP(AC5,LeistungsdatenWW!A:C,3,FALSE)","v":false},null,null,null,null,null,null,null,{"$f":"Translation!$A$154","v":"Multi-family house with circulation"},false,{"$f":"Einstellungen!$D$29","v":10},50,50,{"$f":"AG5","v":"30"},{"$f":"AI5","v":11.654999999999999},349.65,1,{"$f":"R184*S184","v":349.65},0,{"$f":"ROUND(1+Einstellungen!$D$35/100,2)","v":1.5},{"$f":"(Einstellungen!$D$35/100)*R184","v":174.82499999999999},0,0,1,{"$f":"X184*Einstellungen!$D$31","v":0},{"$f":"ROUND(1.15*ROUND(P184*$AJ$5/(1.163/1000*(O184-M184)),0),0)","v":3297}]
["Kosten Wärmepumpe Heizung",null,{"$f":"N204","v":1029.9459533587751},"Diagrammausgabe",null,null,null,null,null,null,{"$f":"Translation!$A$215","v":"Swimming pool"},false,{"$f":"Einstellungen!$D$29","v":10},{"$f":"MIN($C$83-5,$C$155)","v":50},50,{"$f":"C156","v":"5,4"},{"$f":"AN5*1.163","v":0.58150000000000002},3.1401000000000003,1,{"$f":"R185*S185","v":3.1401000000000003},{"$f":"R185-T185","v":0},{"$f":"ROUND(1+Einstellungen!$D$33/100,2)","v":1.05},{"$f":"(Einstellungen!$D$33/100)*R185","v":0.15700500000000003},{"$f":"IF(L185=FALSE,0,T185+U185+W185)","v":0},0,1,{"$f":"X185*365","v":0},0]
["Kosten Wärmepumpe Warmwasser",null,{"$f":"N206","v":143.95090862217711},"Diagrammausgabe",null,null,null,null,null,null,{"$f":"Translation!$A$214","v":"Manual Input"},false,{"$f":"Einstellungen!$D$29","v":10},50,50,1,{"$f":"C156","v":"5,4"},5.4,1,{"$f":"R186*S186","v":5.4},{"$f":"R186-T186","v":0},{"$f":"ROUND(1+Einstellungen!$D$33/100,2)","v":1.05},{"$f":"(Einstellungen!$D$33/100)*R186","v":0.27},0,0,1,{"$f":"X186*Einstellungen!$D$31","v":0},0]
["Kosten Wärmepumpe Lüftung",null,{"$f":"N208","v":0},"Diagrammausgabe",null,null,null,null,null,null,null,false]
["Kosten 2. WE Heizung",null,{"$f":"N205","v":12.918835978835983},"Diagrammausgabe",null,null,null,null,null,null,null,false]
["Kosten 2. WE Warmwasser",null,{"$f":"N207","v":0},"Diagrammausgabe",null,null,null,null,null,null,null,false]
["Kosten gesamt",null,null,{"$f":"IF(ISERROR(C163),\" ---\",FIXED(N215,0)&\" \"&Translation!$A$223)","v":"1.187 €/a"},null,null,null,null,null,null,null,false]
["Ersparnis ggü. Rein Öl/Gas",null,{"$f":"T215-N215","v":490.75481245687843},{"$f":"IF(ISERROR(C191),\" ---\",FIXED(C191,0)&\" \"&Translation!$A$223)","v":"491 €/a"},null,null,null,null,null,null,null,false]
[null,null,null,null,null,null,null,null,null,null,null,false]
[null,null,null,null,null,null,null,null,null,null,null,false]
[null,null,null,null,null,null,null,null,null,null,null,false]
[null,null,null,null,null,null,null,null,null,null,null,false]
["Text Einstellungen zurücksetzen ?",null,{"$f":"Translation!A192","v":"Restore to standard values ?"},null,null,null,null,null,null,null,"Spalte",2,3,4,5,6,7,8,9,10,11,12,13,14,15,16,17,18,19,20,21,22]
["Text Einstellungen zurücksetzen ?",null,{"$f":"Translation!A193","v":"Default values"},null,null,null,null,null,null,null,"Gewählt",{"$f":"VLOOKUP($AA$5,$K$180:$AF$196,L196,FALSE)","v":true},10,50,50,"4",1.4537500000000001,5.8150000000000004,1,5.8150000000000004,0,1.05,{"$f":"VLOOKUP($AA$5,$K$180:$AF$196,W196,FALSE)","v":0.29075000000000001},{"$f":"VLOOKUP($AA$5,$K$180:$AF$196,X196,FALSE)","v":6.1057500000000005},1,1,2075.9549999999999,250,0,0,0,0]
["Text Fehler Ortsauswahl",null,{"$f":"Translation!A231","v":"No weather data was found. Please choose another location."}]
[]
["WRG mit Berechnen ?",null,{"$f":"IF(OR(C201=0,Einstellungen!D40=0,Einstellungen!D42=0,Einstellungen!D46=0),FALSE,TRUE)","v":false}]
["Ventilatoren gesamt",null,{"$f":"VLOOKUP(D5,Leistungsdaten!A:G,7,FALSE)","v":0}]
["Endenergiebedarf Lüftung [kWh/Jahr]",null,null,{"$f":"IF(ISERROR(L208),Translation!$A$242&\" ---\",Translation!$A$242&\" \"&FIXED(L208,0)&\" \"&Translation!$A$225)","v":"Ventilation 0 kWh/a"},null,null,null,null,null,null,"Berechnung Energiekosten, Öl/Gasverbrauch & CO2"]
["Stromkosten Lüfter [€/Jahr]",null,null,{"$f":"IF(ISERROR(N208),Translation!$A$242&\" ---\",Translation!$A$242&\" \"&FIXED(N208,0)&\" \"&Translation!A223)","v":"Ventilation 0 €/a"},null,null,null,null,null,null,"Wert","kWh-End","E-Preis Ct/kWh","Kosten €/Jahr","Liter Öl","m³ Gas","CO2-Faktor","kg Co2","kWh Öl/Gas","€ für Öl/Gas"]
["Anteil Lüftung an Heizlast",null,{"$f":"Einstellungen!D42/100","v":0.3},null,null,null,null,null,null,null,"Heizung WP",{"$f":"AD106","v":5149.7297667938747},{"$f":"M212","v":20},{"$f":"L204*M204/100","v":1029.9459533587751},0,0,{"$f":"Q212","v":621},{"$f":"L204*Q204/1000","v":3197.9821851789961},{"$f":"T106/(Einstellungen!D16/100)","v":23213.833333333332},{"$f":"S204*M214/100","v":1508.8991666666666}]
["Anteil Transmission an Heizlast",null,{"$f":"1-C204","v":0.7},null,null,null,null,null,null,null,"Heizung 2. WE",{"$f":"AF106","v":198.75132275132282},{"$f":"IF(C173<>1,M214,IF(Einstellungen!D11=Einstellungen!K11,M213,M212))","v":6.5},{"$f":"L205*M205/100","v":12.918835978835983},{"$f":"L205/O214","v":19.717393130091548},{"$f":"L205/P214","v":19.110704110704116},{"$f":"IF(C173=1,Q213,Q214)","v":253},{"$f":"L205*Q205/1000","v":50.284084656084673}]
["WRG Lüftung [%/a]",null,{"$f":"IF(C201=0,0,Einstellungen!D40/100)","v":0},null,null,null,null,null,null,null,"WWB WP",{"$f":"AE106","v":719.75454311088549},{"$f":"IF(C184=TRUE,M213,M212)","v":20},{"$f":"L206*M206/100","v":143.95090862217711},0,0,{"$f":"Q212","v":621},{"$f":"L206*Q206/1000","v":446.96757127185987},{"$f":"AA197/(Einstellungen!D27/100)","v":2594.9437499999999},{"$f":"S206*M214/100","v":168.67134374999998}]
["Wärmerückgewinnung [kWh/a]",null,{"$f":"IF(C200=FALSE,0,AJ106)","v":0},{"$f":"IF(ISERROR(C207),Translation!$A$242&\" ---\",Translation!A248&\" \"&FIXED(C207,0)&\" \"&Translation!$A$225)","v":"Heat recovery  0 kWh/a"},null,null,null,null,null,null,"WWB 2. WE",{"$f":"AG106","v":0},{"$f":"IF(C151=TRUE,M205,M213)","v":6.5},{"$f":"L207*M207/100","v":0},{"$f":"IF(C151=FALSE,0,L207/O214)","v":0},{"$f":"IF(C151=FALSE,0,L207/P214)","v":0},{"$f":"IF(C151=FALSE,Q213,Q205)","v":253},{"$f":"L207*Q207/1000","v":0}]
["Faktor Lüfterlaufzeit [%/a]",null,{"$f":"8760/(Einstellungen!D46*24)","v":1.2166666666666666},null,null,null,null,null,null,null,"Strom Lüftung",{"$f":"IF(C200=FALSE,0,(C201*Einstellungen!D44/1000)*(Einstellungen!D46*24)/0.95)","v":0},{"$f":"M213","v":26},{"$f":"L208*M208/100","v":0},null,null,null,null,{"$f":"L208","v":0},{"$f":"N208","v":0}]
[]
[]
["Umrechnung Cent/Euro",null,{"$f":"IF(B5=B18,100,1)","v":1}]
[null,null,null,null,null,null,null,null,null,null,"Strom WP",null,{"$f":"Einstellungen!D5*$C$211","v":20},null,null,null,{"$f":"Einstellungen!$D$20","v":621},null,{"$f":"Einstellungen!J5*$C$211","v":0}]
[null,null,null,null,null,null,null,null,null,null,"Strom Haushalt",null,{"$f":"Einstellungen!D7*$C$211","v":26},null,null,null,{"$f":"Einstellungen!$D$20","v":621},null,{"$f":"Einstellungen!J7*$C$211","v":0}]
["Info Mindestspeichergröße zeigen ?",null,{"$f":"IF(A5<>1,FALSE,IF(OR(AA5=AA7,AA5=AA12),FALSE,IF(C82=TRUE,FALSE,IF(C215<=0,FALSE,TRUE))))","v":false},null,null,null,null,null,null,null," Öl/Gas",null,{"$f":"Einstellungen!D9*$C$211","v":6.5},null,10.08,10.4,{"$f":"Einstellungen!$D$22","v":253},null,{"$f":"Einstellungen!J9*$C$211","v":0}]
["Text Infobutton Mindestspeichergröße",null,{"$f":"AB197","v":250},{"$f":"\"Nach DIN EN 15450 beträgt die empfohlene Mindestgröße für den Warmwasserspeicher  \"&C215&\" Liter.\"","v":"Nach DIN EN 15450 beträgt die empfohlene Mindestgröße für den Warmwasserspeicher  250 Liter."},null,null,null,null,null,null,"Gesamt",{"$f":"SUM(L204:L211)","v":6068.235632656083},null,{"$f":"SUM(N204:N211)","v":1186.8156979597882},{"$f":"SUM(O204:O211)","v":19.717393130091548},{"$f":"SUM(P204:P211)","v":19.110704110704116},null,{"$f":"SUM(R204:R212)","v":3695.2338411069409},null,{"$f":"SUM(T204:T211)","v":1677.5705104166666}]

{"sheet":"Einstellungen","index":2,"n_rows":46,"n_cols":11,"rows_kept":46,"cut":false,"hidden":true,"merged":[[137,12,138,19]]}
[]
[null,null,{"$f":"Translation!A186","v":"Options"}]
[]
[]
[null,null,{"$f":"Translation!A196","v":"Heat pump rate"},20,{"$f":"Translation!A224","v":"Ct/kWh"}]
[]
[null,null,{"$f":"Translation!A197","v":"Household electricity"},26,{"$f":"Translation!A224","v":"Ct/kWh"}]
[]
[null,null,{"$f":"Translation!A198","v":"Oil-/gas price"},6.5,{"$f":"Translation!A224","v":"Ct/kWh"}]
[null,null,null,null,null,null,null,null,null,null,{"$f":"Translation!A196","v":"Heat pump rate"}]
[null,null,{"$f":"Translation!A222","v":"Rate electricity auxiliary heating"},"Haushaltsstrom",null,null,null,null,null,null,{"$f":"Translation!A197","v":"Household electricity"}]
[]
[]
[]
[]
[null,null,{"$f":"Translation!A199","v":"Boiler efficiency oil/gas"},90,"%"]
[]
[null,null,{"$f":"Translation!A238","v":"Control heat curve"},"Außentemperaturgeführt","-",null,null,null,null,null,{"$f":"Translation!A239","v":"Outside temperature driven"}]
[null,null,null,null,null,null,null,null,null,null,{"$f":"Translation!A240","v":"Fixed value control"}]
[null,null,{"$f":"Translation!A200","v":"CO2-emmision electricity"},621,"g/kWh"]
[]
[null,null,{"$f":"Translation!A201","v":"CO2-emmision oil/gas"},253,"g/kWh"]
[]
[]
[]
[]
[null,null,{"$f":"Translation!$A$199","v":"Boiler efficiency oil/gas"},80,"%"]
[]
[null,null,{"$f":"Translation!$A$202","v":"Cold water temperature"},10,"°C"]
[]
[null,null,{"$f":"Translation!$A$170","v":"Up-time DHW"},340,{"$f":"Translation!A228","v":"days/year"}]
[]
[null,null,{"$f":"Translation!$A$205","v":"Heat loss distribution without circulation"},5,"%"]
[]
[null,null,{"$f":"Translation!$A$206","v":"Heat loss distribution with circulation"},50,"%"]
[]
[]
[]
[]
[null,null,{"$f":"Translation!A243","v":"Heat recovery rate"},95,"%"]
[]
[null,null,{"$f":"Translation!A244","v":"Ventilation heat content on the heat load"},30,"%"]
[]
[null,null,{"$f":"Translation!A245","v":"Power consumption fan"},50,"W"]
[]
[null,null,{"$f":"Translation!A246","v":"Running time ventilation system"},300,{"$f":"Translation!A228","v":"days/year"}]

{"sheet":"Ausdruck","index":3,"n_rows":654,"n_cols":26,"rows_kept":654,"cut":false,"hidden":true,"merged":[[509,1,509,8],[509,9,509,25],[505,9,505,25],[505,1,505,8],[506,1,506,8],[506,9,506,25],[510,1,510,25],[491,19,491,22],[491,23,491,26],[487,12,487,15],[492,16,492,18],[489,12,489,15],[484,8,484,11],[484,12,484,15],[1,25,1,26],[0,21,0,26],[557,1,557,8],[557,9,557,25],[71,1,71,8],[71,9,71,25],[104,1,104,8],[104,9,104,25],[105,1,105,8],[105,9,105,25],[107,1,107,8],[107,9,107,25],[108,1,108,8],[108,9,108,25],[551,1,551,25],[555,9,555,25],[554,1,554,8],[515,5,515,14],[515,16,515,25],[501,1,501,25],[503,1,503,8],[504,1,504,8],[504,9,504,25],[508,1,508,8],[508,9,508,25],[480,16,480,18],[480,19,480,22],[476,19,476,22],[474,19,474,22],[474,23,474,26],[480,23,480,26],[481,16,481,18],[481,19,481,22],[481,23,481,26],[482,16,482,18],[514,5,514,14],[514,16,514,25],[474,1,474,3],[474,4,474,7],[474,8,474,11],[474,12,474,15],[475,1,475,3],[475,4,475,7],[475,8,475,11],[475,12,475,15],[481,1,481,3],[481,4,481,7],[481,8,481,11],[481,12,481,15],[477,4,477,7],[553,1,553,8],[554,9,554,25],[482,19,482,22],[482,23,482,26],[485,23,485,26],[486,16,486,18],[486,19,486,22],[486,23,486,26],[487,16,487,18],[487,19,487,22],[487,23,487,26],[488,16,488,18],[488,19,488,22],[488,23,488,26],[483,16,483,18],[483,19,483,22],[483,23,483,26],[484,16,484,18],[484,19,484,22],[484,23,484,26],[489,19,489,22],[489,23,489,26],[490,16,490,18],[490,19,490,22],[490,23,490,26],[496,1,496,3],[496,4,496,7],[496,8,496,11],[494,1,494,3],[494,4,494,7],[494,8,494,11],[494,12,494,15],[471,19,471,22],[471,23,471,26],[476,23,476,26],[477,16,477,18],[477,19,477,22],[477,23,477,26],[478,16,478,18],[478,19,478,22],[478,23,478,26],[479,16,479,18],[479,19,479,22],[479,23,479,26],[472,19,472,22],[472,23,472,26],[473,16,473,18],[473,19,473,22],[473,23,473,26],[475,19,475,22],[475,23,475,26],[476,16,476,18],[474,16,474,18],[460,16,460,18],[460,19,460,22],[460,23,460,26],[461,16,461,18],[461,19,461,22],[461,23,461,26],[462,16,462,18],[462,19,462,22],[462,23,462,26],[465,23,465,26],[466,16,466,18],[466,19,466,22],[466,23,466,26],[469,19,469,22],[469,23,469,26],[470,16,470,18],[470,19,470,22],[470,23,470,26],[467,16,467,18],[467,19,467,22],[467,23,467,26],[468,16,468,18],[468,19,468,22],[468,23,468,26],[469,16,469,18],[432,8,432,11],[433,8,433,11],[434,8,434,11],[435,8,435,11],[436,8,436,11],[437,8,437,11],[438,8,438,11],[439,8,439,11],[440,8,440,11],[434,23,434,26],[435,23,435,26],[436,23,436,26],[458,16,458,18],[458,19,458,22],[458,23,458,26],[459,16,459,18],[459,19,459,22],[459,23,459,26],[441,8,441,11],[439,23,439,26],[440,23,440,26],[441,23,441,26],[442,23,442,26],[443,23,443,26],[444,23,444,26],[445,23,445,26],[446,23,446,26],[401,8,401,11],[402,8,402,11],[403,8,403,11],[404,8,404,11],[405,8,405,11],[406,8,406,11],[407,8,407,11],[408,8,408,11],[409,8,409,11],[410,8,410,11],[411,8,411,11],[412,8,412,11],[413,8,413,11],[414,8,414,11],[415,8,415,11],[416,8,416,11],[417,8,417,11],[418,8,418,11],[438,23,438,26],[435,16,435,18],[436,16,436,18],[445,8,445,11],[446,8,446,11],[441,16,441,18],[442,16,442,18],[443,16,443,18],[444,16,444,18],[445,16,445,18],[401,23,401,26],[402,23,402,26],[403,23,403,26],[404,23,404,26],[405,23,405,26],[406,23,406,26],[407,23,407,26],[408,23,408,26],[409,23,409,26],[410,23,410,26],[411,23,411,26],[412,23,412,26],[413,23,413,26],[414,23,414,26],[415,23,415,26],[416,23,416,26],[417,23,417,26],[418,23,418,26],[419,23,419,26],[420,23,420,26],[421,23,421,26],[418,16,418,18],[419,16,419,18],[437,23,437,26],[434,16,434,18],[421,16,421,18],[422,16,422,18],[423,16,423,18],[424,16,424,18],[425,16,425,18],[426,16,426,18],[427,16,427,18],[428,16,428,18],[429,16,429,18],[430,16,430,18],[431,16,431,18],[432,16,432,18],[433,16,433,18],[422,23,422,26],[423,23,423,26],[424,23,424,26],[425,23,425,26],[426,23,426,26],[427,23,427,26],[428,23,428,26],[429,23,429,26],[430,23,430,26],[431,23,431,26],[432,23,432,26],[433,23,433,26],[401,16,401,18],[402,16,402,18],[403,16,403,18],[404,16,404,18],[405,16,405,18],[406,16,406,18],[407,16,407,18],[408,16,408,18],[409,16,409,18],[410,16,410,18],[411,16,411,18],[412,16,412,18],[413,16,413,18],[414,16,414,18],[415,16,415,18],[416,16,416,18],[417,16,417,18],[401,12,401,15],[402,12,402,15],[403,12,403,15],[404,12,404,15],[405,12,405,15],[406,12,406,15],[407,12,407,15],[408,12,408,15],[409,12,409,15],[410,12,410,15],[411,12,411,15],[412,12,412,15],[413,12,413,15],[414,12,414,15],[415,12,415,15],[416,12,416,15],[417,12,417,15],[302,16,302,20],[303,16,303,20],[304,16,304,20],[305,16,305,20],[306,16,306,20],[307,16,307,20],[308,16,308,20],[309,16,309,20],[310,16,310,20],[302,21,302,25],[303,21,303,25],[304,21,304,25],[305,21,305,25],[306,21,306,25],[307,21,307,25],[308,21,308,25],[309,21,309,25],[310,21,310,25],[342,1,342,3],[342,4,342,7],[342,12,342,15],[343,1,343,3],[343,4,343,7],[343,12,343,15],[342,8,342,11],[343,8,343,11],[342,21,342,25],[343,21,343,25],[342,16,342,20],[343,16,343,20],[346,1,346,3],[346,4,346,7],[346,12,346,15],[344,1,344,3],[344,4,344,7],[344,12,344,15],[345,1,345,3],[345,4,345,7],[345,12,345,15],[344,8,344,11],[345,8,345,11],[346,8,346,11],[346,16,346,20],[346,21,346,25],[344,21,344,25],[345,21,345,25],[344,16,344,20],[345,16,345,20],[338,1,338,3],[338,4,338,7],[338,12,338,15],[339,1,339,3],[339,4,339,7],[339,12,339,15],[338,8,338,11],[339,8,339,11],[338,21,338,25],[339,21,339,25],[338,16,338,20],[339,16,339,20],[340,1,340,3],[340,4,340,7],[340,12,340,15],[341,1,341,3],[341,4,341,7],[341,12,341,15],[340,8,340,11],[341,8,341,11],[340,21,340,25],[341,21,341,25],[340,16,340,20],[341,16,341,20],[334,1,334,3],[334,4,334,7],[334,12,334,15],[335,1,335,3],[335,4,335,7],[335,12,335,15],[334,8,334,11],[335,8,335,11],[334,21,334,25],[335,21,335,25],[334,16,334,20],[335,16,335,20],[336,1,336,3],[336,4,336,7],[336,12,336,15],[337,1,337,3],[337,4,337,7],[337,12,337,15],[336,8,336,11],[337,8,337,11],[336,21,336,25],[337,21,337,25],[336,16,336,20],[337,16,337,20],[330,1,330,3],[330,4,330,7],[330,12,330,15],[331,1,331,3],[331,4,331,7],[331,12,331,15],[330,8,330,11],[331,8,331,11],[330,21,330,25],[331,21,331,25],[330,16,330,20],[331,16,331,20],[332,1,332,3],[332,4,332,7],[332,12,332,15],[333,1,333,3],[333,4,333,7],[333,12,333,15],[332,8,332,11],[333,8,333,11],[332,21,332,25],[333,21,333,25],[332,16,332,20],[333,16,333,20],[326,1,326,3],[326,4,326,7],[326,12,326,15],[327,1,327,3],[327,4,327,7],[327,12,327,15],[326,8,326,11],[327,8,327,11],[326,21,326,25],[327,21,327,25],[326,16,326,20],[327,16,327,20],[328,1,328,3],[328,4,328,7],[328,12,328,15],[329,1,329,3],[329,4,329,7],[329,12,329,15],[328,8,328,11],[329,8,329,11],[328,21,328,25],[329,21,329,25],[328,16,328,20],[329,16,329,20],[322,1,322,3],[322,4,322,7],[322,12,322,15],[323,1,323,3],[323,4,323,7],[323,12,323,15],[322,8,322,11],[323,8,323,11],[322,21,322,25],[323,21,323,25],[322,16,322,20],[323,16,323,20],[324,1,324,3],[324,4,324,7],[324,12,324,15],[325,1,325,3],[325,4,325,7],[325,12,325,15],[324,8,324,11],[325,8,325,11],[324,21,324,25],[325,21,325,25],[324,16,324,20],[325,16,325,20],[318,1,318,3],[318,4,318,7],[318,12,318,15],[319,1,319,3],[319,4,319,7],[319,12,319,15],[318,8,318,11],[319,8,319,11],[318,21,318,25],[319,21,319,25],[318,16,318,20],[319,16,319,20],[320,1,320,3],[320,4,320,7],[320,12,320,15],[321,1,321,3],[321,4,321,7],[321,12,321,15],[320,8,320,11],[321,8,321,11],[320,21,320,25],[321,21,321,25],[320,16,320,20],[321,16,321,20],[315,8,315,11],[314,21,314,25],[315,21,315,25],[314,16,314,20],[315,16,315,20],[316,1,316,3],[316,4,316,7],[316,12,316,15],[317,1,317,3],[317,4,317,7],[317,12,317,15],[316,8,316,11],[317,8,317,11],[316,21,316,25],[317,21,317,25],[316,16,316,20],[317,16,317,20],[288,10,288,13],[277,10,277,13],[301,1,301,3],[301,4,301,7],[301,12,301,15],[300,1,300,25],[301,21,301,25],[301,16,301,20],[279,10,279,13],[282,10,282,13],[279,22,279,25],[287,14,287,17],[287,18,287,21],[287,22,287,25],[280,1,280,3],[280,4,280,6],[280,7,280,9],[280,10,280,13],[280,14,280,17],[280,18,280,21],[277,1,277,3],[277,4,277,6],[277,7,277,9],[292,14,292,17],[281,22,281,25],[282,1,282,3],[279,1,279,3],[279,4,279,6],[279,7,279,9],[282,22,282,25],[282,14,282,17],[282,18,282,21],[112,9,112,25],[112,1,112,8],[154,1,154,8],[154,9,154,25],[68,1,68,8],[68,9,68,25],[101,1,101,25],[58,1,58,8],[58,9,58,25],[70,1,70,8],[70,9,70,25],[218,5,218,22],[214,5,214,14],[215,5,215,14],[214,16,214,25],[215,16,215,25],[250,1,250,25],[157,1,157,8],[157,9,157,25],[163,5,163,22],[164,5,164,22],[165,5,165,22],[203,1,203,8],[204,1,204,8],[208,9,208,25],[208,1,208,8],[205,1,205,8],[205,9,205,25],[206,1,206,8],[206,9,206,25],[209,1,209,8],[209,9,209,25],[252,1,252,3],[252,18,252,21],[258,22,258,25],[254,1,254,3],[254,4,254,6],[254,7,254,9],[254,10,254,13],[254,14,254,17],[254,18,254,21],[256,1,256,3],[256,4,256,6],[256,7,256,9],[256,10,256,13],[256,14,256,17],[256,18,256,21],[256,22,256,25],[257,1,257,3],[257,4,257,6],[257,7,257,9],[257,10,257,13],[257,14,257,17],[257,18,257,21],[257,22,257,25],[258,10,258,13],[258,14,258,17],[258,18,258,21],[3,1,3,25],[5,1,5,8],[6,1,6,8],[6,9,6,25],[12,9,12,25],[13,1,13,8],[13,9,13,25],[14,1,14,8],[14,9,14,25],[7,1,7,8],[7,9,7,25],[8,1,8,8],[8,9,8,25],[9,1,9,8],[9,9,9,25],[19,1,19,8],[19,9,19,25],[18,1,18,8],[18,9,18,25],[15,1,15,8],[15,9,15,25],[11,1,11,8],[12,1,12,8],[17,1,17,8],[57,9,57,25],[59,1,59,8],[59,9,59,25],[56,1,56,8],[56,9,56,25],[57,1,57,8],[259,1,259,3],[259,4,259,6],[259,7,259,9],[259,10,259,13],[259,14,259,17],[258,1,258,3],[258,4,258,6],[253,1,253,3],[253,4,253,6],[253,7,253,9],[253,10,253,13],[253,14,253,17],[253,18,253,21],[253,22,253,25],[251,1,251,3],[251,4,251,6],[251,7,251,9],[251,22,251,25],[251,18,251,21],[251,14,251,17],[251,10,251,13],[252,7,252,9],[252,22,252,25],[254,22,254,25],[255,1,255,3],[255,4,255,6],[67,9,67,25],[155,1,155,8],[155,9,155,25],[69,1,69,8],[69,9,69,25],[259,22,259,25],[259,18,259,21],[258,7,258,9],[263,1,263,3],[263,4,263,6],[263,7,263,9],[275,1,275,3],[275,4,275,6],[275,7,275,9],[275,10,275,13],[275,14,275,17],[275,18,275,21],[275,22,275,25],[263,10,263,13],[263,14,263,17],[263,18,263,21],[263,22,263,25],[260,1,260,3],[260,4,260,6],[260,7,260,9],[260,10,260,13],[255,7,255,9],[255,10,255,13],[255,14,255,17],[255,18,255,21],[255,22,255,25],[252,4,252,6],[204,9,204,25],[60,1,60,8],[60,9,60,25],[153,1,153,8],[158,1,158,8],[158,9,158,25],[159,1,159,8],[151,1,151,25],[111,1,111,8],[111,9,111,25],[110,1,110,8],[110,9,110,25],[113,1,113,8],[113,9,113,25],[51,1,51,25],[63,1,63,8],[65,9,65,25],[64,1,64,8],[64,9,64,25],[65,1,65,8],[54,1,54,8],[54,9,54,25],[53,1,53,8],[61,1,61,8],[61,9,61,25],[55,1,55,8],[55,9,55,25],[66,1,66,8],[66,9,66,25],[67,1,67,8],[114,1,114,8],[114,9,114,25],[260,14,260,17],[260,18,260,21],[260,22,260,25],[262,1,262,3],[262,4,262,6],[262,7,262,9],[262,10,262,13],[262,14,262,17],[262,22,262,25],[261,1,261,3],[261,22,261,25],[266,1,266,3],[266,4,266,6],[266,7,266,9],[266,10,266,13],[266,14,266,17],[266,18,266,21],[266,22,266,25],[262,18,262,21],[267,1,267,3],[267,4,267,6],[267,7,267,9],[267,10,267,13],[267,14,267,17],[267,18,267,21],[267,22,267,25],[264,1,264,3],[264,4,264,6],[264,7,264,9],[264,10,264,13],[264,14,264,17],[264,18,264,21],[264,22,264,25],[265,1,265,3],[265,4,265,6],[265,7,265,9],[265,10,265,13],[265,14,265,17],[265,18,265,21],[265,22,265,25],[268,1,268,3],[268,4,268,6],[268,7,268,9],[268,10,268,13],[268,14,268,17],[268,18,268,21],[268,22,268,25],[271,22,271,25],[272,1,272,3],[272,4,272,6],[272,7,272,9],[272,10,272,13],[272,14,272,17],[272,18,272,21],[272,22,272,25],[269,1,269,3],[269,4,269,6],[269,7,269,9],[269,10,269,13],[269,14,269,17],[269,18,269,21],[269,22,269,25],[270,1,270,3],[270,4,270,6],[270,22,270,25],[270,10,270,13],[270,14,270,17],[286,1,286,3],[286,4,286,6],[284,22,284,25],[284,1,284,3],[284,10,284,13],[284,14,284,17],[284,18,284,21],[285,18,285,21],[273,1,273,3],[273,4,273,6],[273,7,273,9],[273,10,273,13],[273,14,273,17],[273,18,273,21],[273,22,273,25],[277,22,277,25],[278,1,278,3],[278,4,278,6],[278,7,278,9],[278,10,278,13],[278,14,278,17],[278,18,278,21],[278,22,278,25],[274,1,274,3],[274,4,274,6],[274,22,274,25],[276,22,276,25],[277,14,277,17],[277,18,277,21],[274,7,274,9],[274,10,274,13],[276,7,276,9],[286,22,286,25],[283,1,283,3],[283,4,283,6],[283,7,283,9],[283,10,283,13],[283,14,283,17],[283,18,283,21],[283,22,283,25],[279,14,279,17],[279,18,279,21],[285,14,285,17],[288,1,288,3],[288,4,288,6],[289,7,289,9],[285,4,285,6],[285,7,285,9],[280,22,280,25],[281,4,281,6],[281,7,281,9],[281,10,281,13],[281,14,281,17],[281,1,281,3],[281,18,281,21],[285,10,285,13],[288,22,288,25],[287,1,287,3],[287,4,287,6],[287,7,287,9],[287,10,287,13],[284,4,284,6],[284,7,284,9],[285,22,285,25],[201,1,201,25],[103,1,103,8],[106,1,106,8],[106,9,106,25],[156,1,156,8],[156,9,156,25],[109,1,109,8],[109,9,109,25],[282,4,282,6],[282,7,282,9],[285,1,285,3],[274,14,274,17],[274,18,274,21],[270,7,270,9],[210,1,210,8],[291,14,291,17],[276,10,276,13],[291,22,291,25],[210,9,210,25],[261,4,261,6],[261,7,261,9],[261,10,261,13],[261,14,261,17],[261,18,261,21],[288,14,288,17],[288,18,288,21],[252,10,252,13],[252,14,252,17],[212,1,212,25],[286,7,286,9],[286,10,286,13],[286,14,286,17],[295,7,295,9],[276,1,276,3],[276,4,276,6],[271,1,271,3],[271,4,271,6],[271,7,271,9],[271,10,271,13],[271,14,271,17],[271,18,271,21],[276,14,276,17],[288,7,288,9],[291,7,291,9],[270,18,270,21],[290,1,290,3],[290,4,290,6],[290,7,290,9],[290,10,290,13],[290,14,290,17],[289,1,289,3],[289,4,289,6],[295,1,295,3],[294,4,294,6],[294,7,294,9],[295,10,295,13],[295,14,295,17],[295,18,295,21],[289,14,289,17],[289,18,289,21],[276,18,276,21],[291,10,291,13],[289,10,289,13],[286,18,286,21],[305,1,305,3],[305,4,305,7],[305,12,305,15],[304,8,304,11],[305,8,305,11],[302,1,302,3],[302,4,302,7],[302,12,302,15],[362,16,362,25],[359,1,359,8],[359,9,359,25],[360,1,360,8],[360,9,360,25],[309,4,309,7],[309,12,309,15],[308,8,308,11],[309,8,309,11],[306,1,306,3],[306,4,306,7],[306,12,306,15],[307,1,307,3],[307,4,307,7],[310,8,310,11],[311,8,311,11],[311,21,311,25],[311,16,311,20],[312,1,312,3],[312,4,312,7],[312,12,312,15],[313,1,313,3],[313,4,313,7],[313,12,313,15],[307,12,307,15],[306,8,306,11],[307,8,307,11],[310,1,310,3],[310,4,310,7],[289,22,289,25],[354,1,354,8],[292,1,292,3],[292,4,292,6],[292,7,292,9],[292,10,292,13],[290,18,290,21],[290,22,290,25],[291,1,291,3],[291,4,291,6],[293,1,293,3],[294,14,294,17],[294,18,294,21],[294,22,294,25],[294,10,294,13],[294,1,294,3],[292,18,292,21],[292,22,292,25],[291,18,291,21],[296,1,296,3],[296,7,296,9],[301,8,301,11],[302,8,302,11],[303,8,303,11],[304,1,304,3],[304,4,304,7],[304,12,304,15],[303,1,303,3],[303,4,303,7],[303,12,303,15],[308,1,308,3],[308,4,308,7],[308,12,308,15],[309,1,309,3],[296,18,296,21],[295,4,295,6],[351,1,351,25],[353,1,353,8],[669,5,669,23],[670,5,670,23],[671,5,671,23],[672,5,672,23],[653,1,653,25],[556,1,556,8],[556,9,556,25],[558,1,558,8],[558,9,558,25],[651,1,651,25],[559,1,559,25],[568,5,568,23],[569,5,569,23],[570,5,570,23],[571,5,571,23],[561,4,561,25],[562,4,562,25],[404,1,404,3],[404,4,404,7],[588,5,588,23],[589,5,589,23],[576,5,576,23],[577,5,577,23],[578,5,578,23],[579,5,579,23],[580,5,580,23],[581,5,581,23],[582,5,582,23],[293,4,293,6],[293,7,293,9]],"merged_total":1452,"flags":["merged_cut"]}
[{"$f":"UPPER(Translation!A4)","v":"LAYOUT HEAT PUMP"}]
[null,null,null,null,null,null,null,null,null,null,null,null,null,null,null,null,null,null,null,null,null,null,null,null,null,{"$f":"RIGHT(Auslegung!AF43,FIND(\" \",Auslegung!AF43)+1)","v":"v2.52"}]
[]
[null,{"$f":"Translation!A9","v":"Project data"}]
[]
[null,{"$f":"Translation!A10","v":"Project"}]
[null,{"$f":"Translation!A11","v":"Name"},null,null,null,null,null,null,null,{"$f":"IF(Druckauswahl!$D$6=\"\",\"\",Druckauswahl!$D$6)","v":""}]
[null,{"$f":"Translation!A12","v":"Street"},null,null,null,null,null,null,null,{"$f":"IF(Druckauswahl!$D$8=\"\",\"\",Druckauswahl!$D$8)","v":""}]
[null,{"$f":"Translation!A13","v":"Postcode/Town"},null,null,null,null,null,null,null,{"$f":"IF(Druckauswahl!$D$10=\"\",\"\",Druckauswahl!$D$10)","v":""}]
[null,{"$f":"Translation!A14","v":"Phone"},null,null,null,null,null,null,null,{"$f":"IF(Druckauswahl!$D$12=\"\",\"\",Druckauswahl!$D$12)","v":""}]
[]
[null,{"$f":"Translation!A17","v":"Customer"}]
[null,{"$f":"B7","v":"Name"},null,null,null,null,"Stiebel Eltron GmbH & Co. KG",null,null,{"$f":"IF(Druckauswahl!$H$6=\"\",\"\",Druckauswahl!$H$6)","v":""}]
[null,{"$f":"B8","v":"Street"},null,null,null,null,"Dr.-Stiebel-Straße",null,null,{"$f":"IF(Druckauswahl!$H$8=\"\",\"\",Druckauswahl!$H$8)","v":""}]
[null,{"$f":"B9","v":"Postcode/Town"},null,null,null,null,"37603 Holzminden",null,null,{"$f":"IF(Druckauswahl!$H$10=\"\",\"\",Druckauswahl!$H$10)","v":""}]
[null,{"$f":"B10","v":"Phone"},null,null,null,null,"05531 / 702 110",null,null,{"$f":"IF(Druckauswahl!$H$12=\"\",\"\",Druckauswahl!$H$12)","v":""}]
[]
[null,{"$f":"Translation!A9","v":"Project data"}]
[null,{"$f":"Translation!A15","v":"Project.-Nr."},null,null,null,null,null,null,null,{"$f":"IF(Druckauswahl!$D$17=\"\",\"\",Druckauswahl!$D$17)","v":""}]
[null,{"$f":"Translation!A16","v":"Processed by"},null,null,null,null,null,null,null,{"$f":"IF(Druckauswahl!$D$19=\"\",\"\",Druckauswahl!$D$19)","v":""}]
[]
[null,{"$f":"IF(Druckauswahl!$H$17=\"\",\"\",Druckauswahl!$H$17)","v":""}]
[]
[]
[]
[]
[]
[]
[]
[]
[]
[]
[]
[]
[]
[]
[]
[]
[]
[]
[]
[]
[]
[]
[]
[]
[]
[]
[]
[]
[]
[null,{"$f":"Translation!A241","v":"System data"}]
[]
[null,{"$f":"Translation!A61","v":"Building"}]
[null,{"$f":"Translation!A62","v":"Country"},null,null,null,null,null,null,null,{"$f":"Berechnung!K5","v":"Germany"}]
[null,{"$f":"Translation!A85","v":"City"},null,null,null,null,null,null,null,{"$f":"Berechnung!L5","v":"Holzminden"}]
[null,{"$f":"Translation!A119","v":"Weather station"},null,null,null,null,null,null,null,{"$f":"Berechnung!C94&\"  (\"&Translation!A116&\" Meteonorm 1995-2005)\"","v":"Fritzlar  (Climate data Meteonorm 1995-2005)"}]
[null,{"$f":"Translation!A104","v":"Design temperature"},null,null,null,null,null,null,null,{"$f":"Berechnung!M5","v":"-12 °C"}]
[null,{"$f":"Translation!A88","v":"Building type"},null,null,null,null,null,null,null,{"$f":"Berechnung!AA50","v":"Single family house"}]
[null,{"$f":"IF(OR(Berechnung!AA5=Berechnung!AA10,Berechnung!AA5=Berechnung!AA11),Translation!A146,Translation!A145)","v":"Number of Persons"},null,null,null,null,null,null,null,{"$f":"Berechnung!AB50","v":"4"}]
[null,{"$f":"Translation!A87","v":"Heating treshold"},null,null,null,null,null,null,null,{"$f":"Berechnung!N5","v":"12 °C | New building"}]
[null,{"$f":"Translation!A34","v":"Heat demand building"},null,null,null,null,null,null,null,{"$f":"FIXED(Berechnung!C71,1)&\" kW\"","v":"12,4 kW"}]
[]
[null,{"$f":"Translation!A22","v":"Heating"}]
[null,{"$f":"Translation!A36","v":"Heat source"},null,null,null,null,null,null,null,{"$f":"Berechnung!C5","v":"Air"}]
[null,{"$f":"IF(Berechnung!C72=1,Translation!A41,Translation!A40&\"  |  \"&Translation!A41)","v":"Type"},null,null,null,null,null,null,null,{"$f":"IF(Berechnung!C72=1,Berechnung!D5,Berechnung!C72&\" x \"&Berechnung!D5)","v":"WPL 18 E / cool"}]
[null,{"$f":"Translation!A42","v":"Operating mode"},null,null,null,null,null,null,null,{"$f":"Berechnung!F5","v":"Monoenergetisch"}]
[null,{"$f":"Translation!A56","v":"Forward flow temperature"},null,null,null,null,null,null,null,{"$f":"Berechnung!H5","v":"35 °C"}]
[null,{"$f":"Translation!A54&\" \"&Translation!A35","v":"Heating Capacity Heat pump"},null,null,null,null,null,null,null,{"$f":"FIXED(Berechnung!C98,1)&\" kW\"","v":"8,3 kW"}]
[null,{"$f":"Translation!A54&\" \"&Translation!A55","v":"Heating Capacity 2nd heat source"},null,null,null,null,null,null,null,{"$f":"FIXED(Berechnung!C97,1)&\" kW\"","v":"8,8 kW"}]
[null,{"$f":"Translation!A207","v":"Covering ratio 2. heat source"},null,null,null,null,null,null,null,{"$f":"FIXED(Berechnung!C164*100,0)&\" %\"","v":"90 %"}]
[null,{"$f":"Translation!A238","v":"Control heat curve"},null,null,null,null,null,null,null,{"$f":"Einstellungen!D18","v":"Außentemperaturgeführt"}]
[]
[]
[]
[]
[]
[]
[]
[]
[]
[]
[]
[]
[]
[]
[]
[]
[]
[]
[]
[]
[]
[]
[]
[]
[]
[]
[]
[]
[]
[null,{"$f":"Translation!A241","v":"System data"}]
[]
[null,{"$f":"Translation!A23","v":"Warm water"}]
[null,{"$f":"Translation!A144","v":"Hot water generation"},null,null,null,null,null,null,null,{"$f":"Berechnung!AA5","v":"Single family house without circulation"}]
[null,{"$f":"Auslegung!C33","v":"Number of Persons"},null,null,null,null,null,null,null,{"$f":"IF(OR(Berechnung!AA5=Berechnung!AA12,Berechnung!AA5=Berechnung!AA13),Berechnung!C156,Berechnung!AB50)","v":"4"}]
[null,{"$f":"Auslegung!C35","v":"Water consumption per day"},null,null,null,null,null,null,null,{"$f":"IF(Berechnung!AA5=Berechnung!AA13,\"\",IF(Berechnung!AA5=Berechnung!AA12,Berechnung!AM5,IF(OR(Berechnung!AA5=Berechnung!AA8,Berechnung!AA5=Berechnung!AA9),Berechnung!AD5,Berechnung!AH5)))","v":"Normal demand (25 L)"}]
[null,{"$f":"Auslegung!C37","v":"Heat source DHW"},null,null,null,null,null,null,null,{"$f":"Berechnung!AC5","v":"with heat pump for heating"}]
[null,{"$f":"IF(Berechnung!$AA$5=Berechnung!$AA$7,\"\",IF(OR(Berechnung!AA5=Berechnung!AA12,Berechnung!AA5=Berechnung!AA13),Translation!A204,Translation!$A$234))","v":"Cylinder temperature"},null,null,null,null,null,null,null,{"$f":"IF(Berechnung!C152=TRUE,\"---\",Berechnung!G5)","v":"50 °C"}]
[null,{"$f":"Translation!A167","v":"cold water"},null,null,null,null,null,null,null,{"$f":"IF(Berechnung!AA5=Berechnung!AA12,\"---\",Einstellungen!D29&\" °C\")","v":"10 °C"}]
[null,{"$f":"Translation!A170","v":"Up-time DHW"},null,null,null,null,null,null,null,{"$f":"IF(Berechnung!AA5=Berechnung!AA12,FIXED(Berechnung!AH106,0)&\" \"&Translation!A171,Einstellungen!D31&\" \"&Translation!A171)","v":"340 Days per year"}]
[null,{"$f":"Translation!A169","v":"Loss factor distribution"},null,null,null,null,null,null,null,{"$f":"Berechnung!V197","v":1.05}]
[null,{"$f":"Translation!A106","v":"Covering ratio heat pump"},null,null,null,null,null,null,null,{"$f":"FIXED(Berechnung!Z197*100,1)&\" % \"","v":"100,0 % "}]
[null,{"$f":"Translation!A207","v":"Covering ratio 2. heat source"},null,null,null,null,null,null,null,{"$f":"IF(Berechnung!AA5=Berechnung!AA12,\"---\",FIXED(Berechnung!C165*100,1)&\" %\")","v":"80,0 %"}]
[null,{"$f":"Translation!A172","v":"Energy consumption"},null,null,null,null,null,null,null,{"$f":"FIXED(Berechnung!X197,2)&\" \"&Translation!A208","v":"6,11 kWh per day"}]
[]
[]
[]
[]
[]
[]
[]
[]
[]
[]
[]
[]
[]
[]
[]
[]
[]
[]
[]
[]
[]
[]
[]
[]
[]
[]
[]
[]
[]
[]
[]
[]
[]
[]
[]
[]
[null,{"$f":"IF(Berechnung!F50=TRUE,Translation!A44,Translation!A43)","v":"Dual-mode point"}]
[]
[]
[null,{"$f":"B62","v":"Heat demand building"},null,null,null,null,null,null,null,{"$f":"J62","v":"12,4 kW"}]
[null,{"$f":"Translation!A57","v":"Switch off time"},null,null,null,null,null,null,null,{"$f":"Berechnung!I5","v":"3 h/day"}]
[null,{"$f":"Translation!A172","v":"Energy consumption"},null,null,null,null,null,null,null,{"$f":"FIXED(Berechnung!X197,2)&\" \"&Translation!A208","v":"6,11 kWh per day"}]
[null,{"$f":"Translation!A209","v":"Heating load with surcharges"},null,null,null,null,null,null,null,{"$f":"FIXED(Berechnung!C73,1)&\" KW\"","v":"12,4 KW"}]
[null,{"$f":"IF(Berechnung!F50=TRUE,Translation!A44,Translation!A43)","v":"Dual-mode point"},null,null,null,null,null,null,null,{"$f":"Berechnung!$C$123","v":"-6,5 °C"}]
[]
[]
[]
[]
[null,null,null,null,null,{"$f":"Berechnung!$M$141","v":"Heating Capacity Heat pump "}]
[null,null,null,null,null,{"$f":"Berechnung!$M$142","v":"Heating capacity"}]
[null,null,null,null,null,{"$f":"Berechnung!$M$143","v":"Heat demand with switch off time factor "}]
[]
[]
[]
[]
[]
[]
[]
[]
[]
[]
[]
[]
[]
[]
[]
[]
[]
[]
[]
[]
[]
[]
[]
[]
[]
[]
[]
[]
[]
[]
[]
[]
[]
[]
[]
[null,{"$f":"Translation!A141","v":"Annual heat demand"}]
[]
[]
[null,{"$f":"Translation!A112","v":"Heating power heat pump"},null,null,null,null,null,null,null,{"$f":"Berechnung!C124","v":"22.790 kWh/a"}]
[null,{"$f":"Translation!$A$22","v":"Heating"},null,null,null,null,null,null,null,{"$f":"IF(ISERROR(Berechnung!$V$106),\"---\",FIXED(Berechnung!$V$106,0)&\" \"&Translation!A225)","v":"20.714 kWh/a"}]
[null,{"$f":"Translation!$A$23","v":"Warm water"},null,null,null,null,null,null,null,{"$f":"IF(ISERROR(Berechnung!C159),\"---\",FIXED(Berechnung!C159,0)&\" \"&Translation!A225)","v":"2.076 kWh/a"}]
[null,{"$f":"Translation!A248","v":"Heat recovery "},null,null,null,null,null,null,null,{"$f":"IF(ISERROR(Berechnung!AJ106),\"---\",FIXED(Berechnung!AJ106,0)&\" \"&Translation!A225)","v":"0 kWh/a"}]
[null,{"$f":"Translation!A113","v":"Heating power 2. heat source"},null,null,null,null,null,null,null,{"$f":"Berechnung!C125","v":"179 kWh/a"}]
[null,{"$f":"Translation!A22","v":"Heating"},null,null,null,null,null,null,null,{"$f":"IF(ISERROR(Berechnung!$W$106),\"---\",FIXED(Berechnung!$W$106,0)&\" \"&Translation!A225)","v":"179 kWh/a"}]
[null,{"$f":"Translation!A23","v":"Warm water"},null,null,null,null,null,null,null,{"$f":"IF(ISERROR(Berechnung!C160),\"---\",FIXED(Berechnung!C160,0)&\" \"&Translation!A225)","v":"0 kWh/a"}]
[null,{"$f":"Translation!A106","v":"Covering ratio heat pump"},null,null,null,null,null,null,null,{"$f":"Berechnung!C126","v":"99,2 %"}]
[null,{"$f":"Translation!A114","v":"The determination of the heating power is a calculation of heat demand, heat pump capacity and annual hours for each outside temperature. Internal & solar gains and set-back periods are not considered."}]
[]
[null,null,null,null,null,{"$f":"Berechnung!N141","v":"Heating Heat pump "},null,null,null,null,null,null,null,null,null,null,{"$f":"Berechnung!N143","v":"Warm water Heat pump"}]
[null,null,null,null,null,{"$f":"Berechnung!N142","v":"Heating 2nd heat source"},null,null,null,null,null,null,null,null,null,null,{"$f":"Berechnung!N144","v":"Warm water 2nd heat source"}]
[]
[]
[]
[]
[]
[]
[]
[]
[]
[]
[]
[]
[]
[]
[]
[]
[]
[]
[]
[]
[]
[]
[]
[]
[]
[]
[]
[]
[]
[]
[]
[]
[]
[]
[null,{"$f":"Translation!$A$141&\" \"&Translation!$A$22","v":"Annual heat demand Heating"}]
[null,{"$f":"Translation!$A$140","v":"Temperature"},null,null,{"$f":"Translation!$A$96","v":"Heat demand"},null,null,{"$f":"Translation!$A$54","v":"Heating Capacity"},null,null,{"$f":"Translation!$A$122","v":"Yearly hours"},null,null,null,{"$f":"Translation!$A$141","v":"Annual heat demand"},null,null,null,{"$f":"Translation!$A$142","v":"Heating power HP"},null,null,null,{"$f":"Translation!$A$143","v":"Heating power 2. HS"}]
[null,"[°C]",null,null,"[KW]",null,null,"[KW]",null,null,{"$f":"\"[\"&Translation!A227&\"]\"","v":"[h/a]"},null,null,null,{"$f":"\"[\"&Translation!A225&\"]\"","v":"[kWh/a]"},null,null,null,{"$f":"\"[\"&Translation!A225&\"]\"","v":"[kWh/a]"},null,null,null,{"$f":"\"[\"&Translation!A225&\"]\"","v":"[kWh/a]"}]
[null,{"$f":"Berechnung!M63","v":"< -20"},null,null,{"$f":"FIXED(Berechnung!N63,1)","v":"12,4"},null,null,{"$f":"FIXED(Berechnung!P63,1)","v":"0,0"},null,null,{"$f":"Berechnung!S63","v":0},null,null,null,{"$f":"FIXED(Berechnung!T63,1)","v":"0,0"},null,null,null,{"$f":"FIXED(Berechnung!V63,1)","v":"0,0"},null,null,null,{"$f":"FIXED(Berechnung!W63,1)","v":"0,0"}]
[null,{"$f":"Berechnung!M64","v":-20},null,null,{"$f":"FIXED(Berechnung!N64,1)","v":"12,4"},null,null,{"$f":"FIXED(Berechnung!P64,1)","v":"6,9"},null,null,{"$f":"Berechnung!S64","v":0},null,null,null,{"$f":"FIXED(Berechnung!T64,1)","v":"0,0"},null,null,null,{"$f":"FIXED(Berechnung!V64,1)","v":"0,0"},null,null,null,{"$f":"FIXED(Berechnung!W64,1)","v":"0,0"}]
[null,{"$f":"Berechnung!M65","v":-19},null,null,{"$f":"FIXED(Berechnung!N65,1)","v":"12,4"},null,null,{"$f":"FIXED(Berechnung!P65,1)","v":"7,1"},null,null,{"$f":"Berechnung!S65","v":0},null,null,null,{"$f":"FIXED(Berechnung!T65,1)","v":"0,0"},null,null,null,{"$f":"FIXED(Berechnung!V65,1)","v":"0,0"},null,null,null,{"$f":"FIXED(Berechnung!W65,1)","v":"0,0"}]
[null,{"$f":"Berechnung!M66","v":-18},null,null,{"$f":"FIXED(Berechnung!N66,1)","v":"12,4"},null,null,{"$f":"FIXED(Berechnung!P66,1)","v":"7,3"},null,null,{"$f":"Berechnung!S66","v":0},null,null,null,{"$f":"FIXED(Berechnung!T66,1)","v":"0,0"},null,null,null,{"$f":"FIXED(Berechnung!V66,1)","v":"0,0"},null,null,null,{"$f":"FIXED(Berechnung!W66,1)","v":"0,0"}]
[null,{"$f":"Berechnung!M67","v":-17},null,null,{"$f":"FIXED(Berechnung!N67,1)","v":"12,4"},null,null,{"$f":"FIXED(Berechnung!P67,1)","v":"7,3"},null,null,{"$f":"Berechnung!S67","v":0},null,null,null,{"$f":"FIXED(Berechnung!T67,1)","v":"0,0"},null,null,null,{"$f":"FIXED(Berechnung!V67,1)","v":"0,0"},null,null,null,{"$f":"FIXED(Berechnung!W67,1)","v":"0,0"}]
[null,{"$f":"Berechnung!M68","v":-16},null,null,{"$f":"FIXED(Berechnung!N68,1)","v":"12,4"},null,null,{"$f":"FIXED(Berechnung!P68,1)","v":"7,6"},null,null,{"$f":"Berechnung!S68","v":0},null,null,null,{"$f":"FIXED(Berechnung!T68,1)","v":"0,0"},null,null,null,{"$f":"FIXED(Berechnung!V68,1)","v":"0,0"},null,null,null,{"$f":"FIXED(Berechnung!W68,1)","v":"0,0"}]
[null,{"$f":"Berechnung!M69","v":-15},null,null,{"$f":"FIXED(Berechnung!N69,1)","v":"12,4"},null,null,{"$f":"FIXED(Berechnung!P69,1)","v":"7,8"},null,null,{"$f":"Berechnung!S69","v":0},null,null,null,{"$f":"FIXED(Berechnung!T69,1)","v":"0,0"},null,null,null,{"$f":"FIXED(Berechnung!V69,1)","v":"0,0"},null,null,null,{"$f":"FIXED(Berechnung!W69,1)","v":"0,0"}]
[null,{"$f":"Berechnung!M70","v":-14},null,null,{"$f":"FIXED(Berechnung!N70,1)","v":"12,4"},null,null,{"$f":"FIXED(Berechnung!P70,1)","v":"8,1"},null,null,{"$f":"Berechnung!S70","v":0},null,null,null,{"$f":"FIXED(Berechnung!T70,1)","v":"0,0"},null,null,null,{"$f":"FIXED(Berechnung!V70,1)","v":"0,0"},null,null,null,{"$f":"FIXED(Berechnung!W70,1)","v":"0,0"}]
[null,{"$f":"Berechnung!M71","v":-13},null,null,{"$f":"FIXED(Berechnung!N71,1)","v":"12,4"},null,null,{"$f":"FIXED(Berechnung!P71,1)","v":"8,3"},null,null,{"$f":"Berechnung!S71","v":0},null,null,null,{"$f":"FIXED(Berechnung!T71,1)","v":"0,0"},null,null,null,{"$f":"FIXED(Berechnung!V71,1)","v":"0,0"},null,null,null,{"$f":"FIXED(Berechnung!W71,1)","v":"0,0"}]
[null,{"$f":"Berechnung!M72","v":-12},null,null,{"$f":"FIXED(Berechnung!N72,1)","v":"12,4"},null,null,{"$f":"FIXED(Berechnung!P72,1)","v":"8,3"},null,null,{"$f":"Berechnung!S72","v":0},null,null,null,{"$f":"FIXED(Berechnung!T72,1)","v":"0,0"},null,null,null,{"$f":"FIXED(Berechnung!V72,1)","v":"0,0"},null,null,null,{"$f":"FIXED(Berechnung!W72,1)","v":"0,0"}]
[null,{"$f":"Berechnung!M73","v":-11},null,null,{"$f":"FIXED(Berechnung!N73,1)","v":"11,9"},null,null,{"$f":"FIXED(Berechnung!P73,1)","v":"8,6"},null,null,{"$f":"Berechnung!S73","v":6},null,null,null,{"$f":"FIXED(Berechnung!T73,1)","v":"71,3"},null,null,null,{"$f":"FIXED(Berechnung!V73,1)","v":"48,8"},null,null,null,{"$f":"FIXED(Berechnung!W73,1)","v":"22,5"}]
[null,{"$f":"Berechnung!M74","v":-10},null,null,{"$f":"FIXED(Berechnung!N74,1)","v":"11,4"},null,null,{"$f":"FIXED(Berechnung!P74,1)","v":"8,9"},null,null,{"$f":"Berechnung!S74","v":32},null,null,null,{"$f":"FIXED(Berechnung!T74,1)","v":"363,7"},null,null,null,{"$f":"FIXED(Berechnung!V74,1)","v":"273,5"},null,null,null,{"$f":"FIXED(Berechnung!W74,1)","v":"90,2"}]
[null,{"$f":"Berechnung!M75","v":-9},null,null,{"$f":"FIXED(Berechnung!N75,1)","v":"10,9"},null,null,{"$f":"FIXED(Berechnung!P75,1)","v":"9,2"},null,null,{"$f":"Berechnung!S75","v":14},null,null,null,{"$f":"FIXED(Berechnung!T75,1)","v":"151,9"},null,null,null,{"$f":"FIXED(Berechnung!V75,1)","v":"125,1"},null,null,null,{"$f":"FIXED(Berechnung!W75,1)","v":"26,8"}]
[null,{"$f":"Berechnung!M76","v":-8},null,null,{"$f":"FIXED(Berechnung!N76,1)","v":"10,3"},null,null,{"$f":"FIXED(Berechnung!P76,1)","v":"9,5"},null,null,{"$f":"Berechnung!S76","v":23},null,null,null,{"$f":"FIXED(Berechnung!T76,1)","v":"237,7"},null,null,null,{"$f":"FIXED(Berechnung!V76,1)","v":"214,4"},null,null,null,{"$f":"FIXED(Berechnung!W76,1)","v":"23,2"}]
[null,{"$f":"Berechnung!M77","v":-7},null,null,{"$f":"FIXED(Berechnung!N77,1)","v":"9,8"},null,null,{"$f":"FIXED(Berechnung!P77,1)","v":"9,5"},null,null,{"$f":"Berechnung!S77","v":44},null,null,null,{"$f":"FIXED(Berechnung!T77,1)","v":"431,9"},null,null,null,{"$f":"FIXED(Berechnung!V77,1)","v":"415,8"},null,null,null,{"$f":"FIXED(Berechnung!W77,1)","v":"16,1"}]
[null,{"$f":"Berechnung!M78","v":-6},null,null,{"$f":"FIXED(Berechnung!N78,1)","v":"9,3"},null,null,{"$f":"FIXED(Berechnung!P78,1)","v":"9,7"},null,null,{"$f":"Berechnung!S78","v":49},null,null,null,{"$f":"FIXED(Berechnung!T78,1)","v":"455,7"},null,null,null,{"$f":"FIXED(Berechnung!V78,1)","v":"455,7"},null,null,null,{"$f":"FIXED(Berechnung!W78,1)","v":"0,0"}]
[null,{"$f":"Berechnung!M79","v":-5},null,null,{"$f":"FIXED(Berechnung!N79,1)","v":"8,8"},null,null,{"$f":"FIXED(Berechnung!P79,1)","v":"10,0"},null,null,{"$f":"Berechnung!S79","v":41},null,null,null,{"$f":"FIXED(Berechnung!T79,1)","v":"360,1"},null,null,null,{"$f":"FIXED(Berechnung!V79,1)","v":"360,1"},null,null,null,{"$f":"FIXED(Berechnung!W79,1)","v":"0,0"}]
[null,{"$f":"Berechnung!M80","v":-4},null,null,{"$f":"FIXED(Berechnung!N80,1)","v":"8,3"},null,null,{"$f":"FIXED(Berechnung!P80,1)","v":"10,3"},null,null,{"$f":"Berechnung!S80","v":89},null,null,null,{"$f":"FIXED(Berechnung!T80,1)","v":"735,7"},null,null,null,{"$f":"FIXED(Berechnung!V80,1)","v":"735,7"},null,null,null,{"$f":"FIXED(Berechnung!W80,1)","v":"0,0"}]
[null,{"$f":"Berechnung!M81","v":-3},null,null,{"$f":"FIXED(Berechnung!N81,1)","v":"7,8"},null,null,{"$f":"FIXED(Berechnung!P81,1)","v":"10,5"},null,null,{"$f":"Berechnung!S81","v":161},null,null,null,{"$f":"FIXED(Berechnung!T81,1)","v":"1.247,8"},null,null,null,{"$f":"FIXED(Berechnung!V81,1)","v":"1.247,8"},null,null,null,{"$f":"FIXED(Berechnung!W81,1)","v":"0,0"}]
[null,{"$f":"Berechnung!M82","v":-2},null,null,{"$f":"FIXED(Berechnung!N82,1)","v":"7,2"},null,null,{"$f":"FIXED(Berechnung!P82,1)","v":"10,5"},null,null,{"$f":"Berechnung!S82","v":207},null,null,null,{"$f":"FIXED(Berechnung!T82,1)","v":"1.497,3"},null,null,null,{"$f":"FIXED(Berechnung!V82,1)","v":"1.497,3"},null,null,null,{"$f":"FIXED(Berechnung!W82,1)","v":"0,0"}]
[null,{"$f":"Berechnung!M83","v":-1},null,null,{"$f":"FIXED(Berechnung!N83,1)","v":"6,7"},null,null,{"$f":"FIXED(Berechnung!P83,1)","v":"10,8"},null,null,{"$f":"Berechnung!S83","v":248},null,null,null,{"$f":"FIXED(Berechnung!T83,1)","v":"1.665,7"},null,null,null,{"$f":"FIXED(Berechnung!V83,1)","v":"1.665,7"},null,null,null,{"$f":"FIXED(Berechnung!W83,1)","v":"0,0"}]
[null,{"$f":"Berechnung!M84","v":0},null,null,{"$f":"FIXED(Berechnung!N84,1)","v":"6,2"},null,null,{"$f":"FIXED(Berechnung!P84,1)","v":"11,0"},null,null,{"$f":"Berechnung!S84","v":263},null,null,null,{"$f":"FIXED(Berechnung!T84,1)","v":"1.630,6"},null,null,null,{"$f":"FIXED(Berechnung!V84,1)","v":"1.630,6"},null,null,null,{"$f":"FIXED(Berechnung!W84,1)","v":"0,0"}]
[null,{"$f":"Berechnung!M85","v":1},null,null,{"$f":"FIXED(Berechnung!N85,1)","v":"5,7"},null,null,{"$f":"FIXED(Berechnung!P85,1)","v":"11,2"},null,null,{"$f":"Berechnung!S85","v":270},null,null,null,{"$f":"FIXED(Berechnung!T85,1)","v":"1.534,5"},null,null,null,{"$f":"FIXED(Berechnung!V85,1)","v":"1.534,5"},null,null,null,{"$f":"FIXED(Berechnung!W85,1)","v":"0,0"}]
[null,{"$f":"Berechnung!M86","v":2},null,null,{"$f":"FIXED(Berechnung!N86,1)","v":"5,2"},null,null,{"$f":"FIXED(Berechnung!P86,1)","v":"11,5"},null,null,{"$f":"Berechnung!S86","v":328},null,null,null,{"$f":"FIXED(Berechnung!T86,1)","v":"1.694,7"},null,null,null,{"$f":"FIXED(Berechnung!V86,1)","v":"1.694,7"},null,null,null,{"$f":"FIXED(Berechnung!W86,1)","v":"0,0"}]
[null,{"$f":"Berechnung!M87","v":3},null,null,{"$f":"FIXED(Berechnung!N87,1)","v":"4,7"},null,null,{"$f":"FIXED(Berechnung!P87,1)","v":"11,5"},null,null,{"$f":"Berechnung!S87","v":344},null,null,null,{"$f":"FIXED(Berechnung!T87,1)","v":"1.599,6"},null,null,null,{"$f":"FIXED(Berechnung!V87,1)","v":"1.599,6"},null,null,null,{"$f":"FIXED(Berechnung!W87,1)","v":"0,0"}]
[null,{"$f":"Berechnung!M88","v":4},null,null,{"$f":"FIXED(Berechnung!N88,1)","v":"4,1"},null,null,{"$f":"FIXED(Berechnung!P88,1)","v":"11,7"},null,null,{"$f":"Berechnung!S88","v":343},null,null,null,{"$f":"FIXED(Berechnung!T88,1)","v":"1.417,7"},null,null,null,{"$f":"FIXED(Berechnung!V88,1)","v":"1.417,7"},null,null,null,{"$f":"FIXED(Berechnung!W88,1)","v":"0,0"}]
[null,{"$f":"Berechnung!M89","v":5},null,null,{"$f":"FIXED(Berechnung!N89,1)","v":"3,6"},null,null,{"$f":"FIXED(Berechnung!P89,1)","v":"12,0"},null,null,{"$f":"Berechnung!S89","v":414},null,null,null,{"$f":"FIXED(Berechnung!T89,1)","v":"1.497,3"},null,null,null,{"$f":"FIXED(Berechnung!V89,1)","v":"1.497,3"},null,null,null,{"$f":"FIXED(Berechnung!W89,1)","v":"0,0"}]
[null,{"$f":"Berechnung!M90","v":6},null,null,{"$f":"FIXED(Berechnung!N90,1)","v":"3,1"},null,null,{"$f":"FIXED(Berechnung!P90,1)","v":"12,3"},null,null,{"$f":"Berechnung!S90","v":397},null,null,null,{"$f":"FIXED(Berechnung!T90,1)","v":"1.230,7"},null,null,null,{"$f":"FIXED(Berechnung!V90,1)","v":"1.230,7"},null,null,null,{"$f":"FIXED(Berechnung!W90,1)","v":"0,0"}]
[null,{"$f":"Berechnung!M91","v":7},null,null,{"$f":"FIXED(Berechnung!N91,1)","v":"2,6"},null,null,{"$f":"FIXED(Berechnung!P91,1)","v":"12,6"},null,null,{"$f":"Berechnung!S91","v":406},null,null,null,{"$f":"FIXED(Berechnung!T91,1)","v":"1.048,8"},null,null,null,{"$f":"FIXED(Berechnung!V91,1)","v":"1.048,8"},null,null,null,{"$f":"FIXED(Berechnung!W91,1)","v":"0,0"}]
[null,{"$f":"Berechnung!M92","v":8},null,null,{"$f":"FIXED(Berechnung!N92,1)","v":"2,1"},null,null,{"$f":"FIXED(Berechnung!P92,1)","v":"12,6"},null,null,{"$f":"Berechnung!S92","v":378},null,null,null,{"$f":"FIXED(Berechnung!T92,1)","v":"781,2"},null,null,null,{"$f":"FIXED(Berechnung!V92,1)","v":"781,2"},null,null,null,{"$f":"FIXED(Berechnung!W92,1)","v":"0,0"}]
[null,{"$f":"Berechnung!M93","v":9},null,null,{"$f":"FIXED(Berechnung!N93,1)","v":"1,6"},null,null,{"$f":"FIXED(Berechnung!P93,1)","v":"13,0"},null,null,{"$f":"Berechnung!S93","v":409},null,null,null,{"$f":"FIXED(Berechnung!T93,1)","v":"634,0"},null,null,null,{"$f":"FIXED(Berechnung!V93,1)","v":"634,0"},null,null,null,{"$f":"FIXED(Berechnung!W93,1)","v":"0,0"}]
[null,{"$f":"Berechnung!M94","v":10},null,null,{"$f":"FIXED(Berechnung!N94,1)","v":"1,0"},null,null,{"$f":"FIXED(Berechnung!P94,1)","v":"13,4"},null,null,{"$f":"Berechnung!S94","v":375},null,null,null,{"$f":"FIXED(Berechnung!T94,1)","v":"387,5"},null,null,null,{"$f":"FIXED(Berechnung!V94,1)","v":"387,5"},null,null,null,{"$f":"FIXED(Berechnung!W94,1)","v":"0,0"}]
[null,{"$f":"Berechnung!M95","v":11},null,null,{"$f":"FIXED(Berechnung!N95,1)","v":"0,5"},null,null,{"$f":"FIXED(Berechnung!P95,1)","v":"13,9"},null,null,{"$f":"Berechnung!S95","v":420},null,null,null,{"$f":"FIXED(Berechnung!T95,1)","v":"217,0"},null,null,null,{"$f":"FIXED(Berechnung!V95,1)","v":"217,0"},null,null,null,{"$f":"FIXED(Berechnung!W95,1)","v":"0,0"}]
[null,{"$f":"Berechnung!M96","v":12},null,null,{"$f":"FIXED(Berechnung!N96,1)","v":"0,0"},null,null,{"$f":"FIXED(Berechnung!P96,1)","v":"14,3"},null,null,{"$f":"Berechnung!S96","v":378},null,null,null,{"$f":"FIXED(Berechnung!T96,1)","v":"0,0"},null,null,null,{"$f":"FIXED(Berechnung!V96,1)","v":"0,0"},null,null,null,{"$f":"FIXED(Berechnung!W96,1)","v":"0,0"}]
[null,{"$f":"Berechnung!M97","v":13},null,null,{"$f":"FIXED(Berechnung!N97,1)","v":"0,0"},null,null,{"$f":"FIXED(Berechnung!P97,1)","v":"14,3"},null,null,{"$f":"Berechnung!S97","v":349},null,null,null,{"$f":"FIXED(Berechnung!T97,1)","v":"0,0"},null,null,null,{"$f":"FIXED(Berechnung!V97,1)","v":"0,0"},null,null,null,{"$f":"FIXED(Berechnung!W97,1)","v":"0,0"}]
[null,{"$f":"Berechnung!M98","v":14},null,null,{"$f":"FIXED(Berechnung!N98,1)","v":"0,0"},null,null,{"$f":"FIXED(Berechnung!P98,1)","v":"14,8"},null,null,{"$f":"Berechnung!S98","v":370},null,null,null,{"$f":"FIXED(Berechnung!T98,1)","v":"0,0"},null,null,null,{"$f":"FIXED(Berechnung!V98,1)","v":"0,0"},null,null,null,{"$f":"FIXED(Berechnung!W98,1)","v":"0,0"}]
[null,{"$f":"Berechnung!M99","v":15},null,null,{"$f":"FIXED(Berechnung!N99,1)","v":"0,0"},null,null,{"$f":"FIXED(Berechnung!P99,1)","v":"15,2"},null,null,{"$f":"Berechnung!S99","v":333},null,null,null,{"$f":"FIXED(Berechnung!T99,1)","v":"0,0"},null,null,null,{"$f":"FIXED(Berechnung!V99,1)","v":"0,0"},null,null,null,{"$f":"FIXED(Berechnung!W99,1)","v":"0,0"}]
[null,{"$f":"Berechnung!M100","v":16},null,null,{"$f":"FIXED(Berechnung!N100,1)","v":"0,0"},null,null,{"$f":"FIXED(Berechnung!P100,1)","v":"15,5"},null,null,{"$f":"Berechnung!S100","v":310},null,null,null,{"$f":"FIXED(Berechnung!T100,1)","v":"0,0"},null,null,null,{"$f":"FIXED(Berechnung!V100,1)","v":"0,0"},null,null,null,{"$f":"FIXED(Berechnung!W100,1)","v":"0,0"}]
[null,{"$f":"Berechnung!M101","v":17},null,null,{"$f":"FIXED(Berechnung!N101,1)","v":"0,0"},null,null,{"$f":"FIXED(Berechnung!P101,1)","v":"15,8"},null,null,{"$f":"Berechnung!S101","v":322},null,null,null,{"$f":"FIXED(Berechnung!T101,1)","v":"0,0"},null,null,null,{"$f":"FIXED(Berechnung!V101,1)","v":"0,0"},null,null,null,{"$f":"FIXED(Berechnung!W101,1)","v":"0,0"}]
[null,{"$f":"Berechnung!M102","v":18},null,null,{"$f":"FIXED(Berechnung!N102,1)","v":"0,0"},null,null,{"$f":"FIXED(Berechnung!P102,1)","v":"15,8"},null,null,{"$f":"Berechnung!S102","v":280},null,null,null,{"$f":"FIXED(Berechnung!T102,1)","v":"0,0"},null,null,null,{"$f":"FIXED(Berechnung!V102,1)","v":"0,0"},null,null,null,{"$f":"FIXED(Berechnung!W102,1)","v":"0,0"}]
[null,{"$f":"Berechnung!M103","v":19},null,null,{"$f":"FIXED(Berechnung!N103,1)","v":"0,0"},null,null,{"$f":"FIXED(Berechnung!P103,1)","v":"16,0"},null,null,{"$f":"Berechnung!S103","v":217},null,null,null,{"$f":"FIXED(Berechnung!T103,1)","v":"0,0"},null,null,null,{"$f":"FIXED(Berechnung!V103,1)","v":"0,0"},null,null,null,{"$f":"FIXED(Berechnung!W103,1)","v":"0,0"}]
[null,{"$f":"Berechnung!M104","v":20},null,null,{"$f":"FIXED(Berechnung!N104,1)","v":"0,0"},null,null,{"$f":"FIXED(Berechnung!P104,1)","v":"16,1"},null,null,{"$f":"Berechnung!S104","v":196},null,null,null,{"$f":"FIXED(Berechnung!T104,1)","v":"0,0"},null,null,null,{"$f":"FIXED(Berechnung!V104,1)","v":"0,0"},null,null,null,{"$f":"FIXED(Berechnung!W104,1)","v":"0,0"}]
[null,{"$f":"Berechnung!M105","v":"> 20"},null,null,{"$f":"FIXED(Berechnung!N105,1)","v":"0,0"},null,null,{"$f":"FIXED(Berechnung!P105,1)","v":"16,3"},null,null,{"$f":"Berechnung!S105","v":744},null,null,null,{"$f":"FIXED(Berechnung!T105,1)","v":"0,0"},null,null,null,{"$f":"FIXED(Berechnung!V105,1)","v":"0,0"},null,null,null,{"$f":"FIXED(Berechnung!W105,1)","v":"0,0"}]
[null,null,null,null,null,null,null,null,null,null,{"$f":"Berechnung!S106","v":8760},null,null,null,{"$f":"FIXED(Berechnung!T106,0)","v":"20.892"},null,null,null,{"$f":"FIXED(Berechnung!V106,0)","v":"20.714"},null,null,null,{"$f":"FIXED(Berechnung!W106,0)","v":"179"}]
[]
[]
[]
[null,{"$f":"Translation!$A$141&\" \"&Translation!$A$23","v":"Annual heat demand Warm water"}]
[null,{"$f":"Translation!$A$140","v":"Temperature"},null,null,{"$f":"Translation!$A$122","v":"Yearly hours"},null,null,null,{"$f":"Translation!A210","v":"daily requirements"},null,null,null,{"$f":"Translation!A141","v":"Annual heat demand"},null,null,null,{"$f":"Translation!$A$142","v":"Heating power HP"},null,null,null,null,{"$f":"Translation!$A$143","v":"Heating power 2. HS"}]
[null,"[°C]",null,null,{"$f":"\"[\"&Translation!A227&\"]\"","v":"[h/a]"},null,null,null,{"$f":"Translation!A23","v":"Warm water"},null,null,null,{"$f":"\"[\"&Translation!A225&\"]\"","v":"[kWh/a]"},null,null,null,{"$f":"\"[\"&Translation!A225&\"]\"","v":"[kWh/a]"},null,null,null,null,{"$f":"\"[\"&Translation!A225&\"]\"","v":"[kWh/a]"}]
[null,{"$f":"Berechnung!M63","v":"< -20"},null,null,{"$f":"Berechnung!S63","v":0},null,null,null,{"$f":"IF(Berechnung!$C$162=TRUE,FIXED(Berechnung!AH63,2),FIXED(E304/24*Berechnung!$C$157/365,2))","v":"0,00"},null,null,null,{"$f":"FIXED(Berechnung!X63,1)","v":"0,0"},null,null,null,{"$f":"FIXED(Berechnung!Y63,1)","v":"0,0"},null,null,null,null,{"$f":"FIXED(Berechnung!Z63,1)","v":"0,0"}]
[null,{"$f":"Berechnung!M64","v":-20},null,null,{"$f":"Berechnung!S64","v":0},null,null,null,{"$f":"IF(Berechnung!$C$162=TRUE,FIXED(Berechnung!AH64,2),FIXED(E305/24*Berechnung!$C$157/365,2))","v":"0,00"},null,null,null,{"$f":"FIXED(Berechnung!X64,1)","v":"0,0"},null,null,null,{"$f":"FIXED(Berechnung!Y64,1)","v":"0,0"},null,null,null,null,{"$f":"FIXED(Berechnung!Z64,1)","v":"0,0"}]
[null,{"$f":"Berechnung!M65","v":-19},null,null,{"$f":"Berechnung!S65","v":0},null,null,null,{"$f":"IF(Berechnung!$C$162=TRUE,FIXED(Berechnung!AH65,2),FIXED(E306/24*Berechnung!$C$157/365,2))","v":"0,00"},null,null,null,{"$f":"FIXED(Berechnung!X65,1)","v":"0,0"},null,null,null,{"$f":"FIXED(Berechnung!Y65,1)","v":"0,0"},null,null,null,null,{"$f":"FIXED(Berechnung!Z65,1)","v":"0,0"}]
[null,{"$f":"Berechnung!M66","v":-18},null,null,{"$f":"Berechnung!S66","v":0},null,null,null,{"$f":"IF(Berechnung!$C$162=TRUE,FIXED(Berechnung!AH66,2),FIXED(E307/24*Berechnung!$C$157/365,2))","v":"0,00"},null,null,null,{"$f":"FIXED(Berechnung!X66,1)","v":"0,0"},null,null,null,{"$f":"FIXED(Berechnung!Y66,1)","v":"0,0"},null,null,null,null,{"$f":"FIXED(Berechnung!Z66,1)","v":"0,0"}]
[null,{"$f":"Berechnung!M67","v":-17},null,null,{"$f":"Berechnung!S67","v":0},null,null,null,{"$f":"IF(Berechnung!$C$162=TRUE,FIXED(Berechnung!AH67,2),FIXED(E308/24*Berechnung!$C$157/365,2))","v":"0,00"},null,null,null,{"$f":"FIXED(Berechnung!X67,1)","v":"0,0"},null,null,null,{"$f":"FIXED(Berechnung!Y67,1)","v":"0,0"},null,null,null,null,{"$f":"FIXED(Berechnung!Z67,1)","v":"0,0"}]
[null,{"$f":"Berechnung!M68","v":-16},null,null,{"$f":"Berechnung!S68","v":0},null,null,null,{"$f":"IF(Berechnung!$C$162=TRUE,FIXED(Berechnung!AH68,2),FIXED(E309/24*Berechnung!$C$157/365,2))","v":"0,00"},null,null,null,{"$f":"FIXED(Berechnung!X68,1)","v":"0,0"},null,null,null,{"$f":"FIXED(Berechnung!Y68,1)","v":"0,0"},null,null,null,null,{"$f":"FIXED(Berechnung!Z68,1)","v":"0,0"}]
[null,{"$f":"Berechnung!M69","v":-15},null,null,{"$f":"Berechnung!S69","v":0},null,null,null,{"$f":"IF(Berechnung!$C$162=TRUE,FIXED(Berechnung!AH69,2),FIXED(E310/24*Berechnung!$C$157/365,2))","v":"0,00"},null,null,null,{"$f":"FIXED(Berechnung!X69,1)","v":"0,0"},null,null,null,{"$f":"FIXED(Berechnung!Y69,1)","v":"0,0"},null,null,null,null,{"$f":"FIXED(Berechnung!Z69,1)","v":"0,0"}]
[null,{"$f":"Berechnung!M70","v":-14},null,null,{"$f":"Berechnung!S70","v":0},null,null,null,{"$f":"IF(Berechnung!$C$162=TRUE,FIXED(Berechnung!AH70,2),FIXED(E311/24*Berechnung!$C$157/365,2))","v":"0,00"},null,null,null,{"$f":"FIXED(Berechnung!X70,1)","v":"0,0"},null,null,null,{"$f":"FIXED(Berechnung!Y70,1)","v":"0,0"},null,null,null,null,{"$f":"FIXED(Berechnung!Z70,1)","v":"0,0"}]
[null,{"$f":"Berechnung!M71","v":-13},null,null,{"$f":"Berechnung!S71","v":0},null,null,null,{"$f":"IF(Berechnung!$C$162=TRUE,FIXED(Berechnung!AH71,2),FIXED(E312/24*Berechnung!$C$157/365,2))","v":"0,00"},null,null,null,{"$f":"FIXED(Berechnung!X71,1)","v":"0,0"},null,null,null,{"$f":"FIXED(Berechnung!Y71,1)","v":"0,0"},null,null,null,null,{"$f":"FIXED(Berechnung!Z71,1)","v":"0,0"}]
[null,{"$f":"Berechnung!M72","v":-12},null,null,{"$f":"Berechnung!S72","v":0},null,null,null,{"$f":"IF(Berechnung!$C$162=TRUE,FIXED(Berechnung!AH72,2),FIXED(E313/24*Berechnung!$C$157/365,2))","v":"0,00"},null,null,null,{"$f":"FIXED(Berechnung!X72,1)","v":"0,0"},null,null,null,{"$f":"FIXED(Berechnung!Y72,1)","v":"0,0"},null,null,null,null,{"$f":"FIXED(Berechnung!Z72,1)","v":"0,0"}]
[null,{"$f":"Berechnung!M73","v":-11},null,null,{"$f":"Berechnung!S73","v":6},null,null,null,{"$f":"IF(Berechnung!$C$162=TRUE,FIXED(Berechnung!AH73,2),FIXED(E314/24*Berechnung!$C$157/365,2))","v":"0,23"},null,null,null,{"$f":"FIXED(Berechnung!X73,1)","v":"1,4"},null,null,null,{"$f":"FIXED(Berechnung!Y73,1)","v":"1,4"},null,null,null,null,{"$f":"FIXED(Berechnung!Z73,1)","v":"0,0"}]
[null,{"$f":"Berechnung!M74","v":-10},null,null,{"$f":"Berechnung!S74","v":32},null,null,null,{"$f":"IF(Berechnung!$C$162=TRUE,FIXED(Berechnung!AH74,2),FIXED(E315/24*Berechnung!$C$157/365,2))","v":"1,24"},null,null,null,{"$f":"FIXED(Berechnung!X74,1)","v":"7,6"},null,null,null,{"$f":"FIXED(Berechnung!Y74,1)","v":"7,6"},null,null,null,null,{"$f":"FIXED(Berechnung!Z74,1)","v":"0,0"}]
[null,{"$f":"Berechnung!M75","v":-9},null,null,{"$f":"Berechnung!S75","v":14},null,null,null,{"$f":"IF(Berechnung!$C$162=TRUE,FIXED(Berechnung!AH75,2),FIXED(E316/24*Berechnung!$C$157/365,2))","v":"0,54"},null,null,null,{"$f":"FIXED(Berechnung!X75,1)","v":"3,3"},null,null,null,{"$f":"FIXED(Berechnung!Y75,1)","v":"3,3"},null,null,null,null,{"$f":"FIXED(Berechnung!Z75,1)","v":"0,0"}]
[null,{"$f":"Berechnung!M76","v":-8},null,null,{"$f":"Berechnung!S76","v":23},null,null,null,{"$f":"IF(Berechnung!$C$162=TRUE,FIXED(Berechnung!AH76,2),FIXED(E317/24*Berechnung!$C$157/365,2))","v":"0,89"},null,null,null,{"$f":"FIXED(Berechnung!X76,1)","v":"5,5"},null,null,null,{"$f":"FIXED(Berechnung!Y76,1)","v":"5,5"},null,null,null,null,{"$f":"FIXED(Berechnung!Z76,1)","v":"0,0"}]
[null,{"$f":"Berechnung!M77","v":-7},null,null,{"$f":"Berechnung!S77","v":44},null,null,null,{"$f":"IF(Berechnung!$C$162=TRUE,FIXED(Berechnung!AH77,2),FIXED(E318/24*Berechnung!$C$157/365,2))","v":"1,71"},null,null,null,{"$f":"FIXED(Berechnung!X77,1)","v":"10,4"},null,null,null,{"$f":"FIXED(Berechnung!Y77,1)","v":"10,4"},null,null,null,null,{"$f":"FIXED(Berechnung!Z77,1)","v":"0,0"}]
[null,{"$f":"Berechnung!M78","v":-6},null,null,{"$f":"Berechnung!S78","v":49},null,null,null,{"$f":"IF(Berechnung!$C$162=TRUE,FIXED(Berechnung!AH78,2),FIXED(E319/24*Berechnung!$C$157/365,2))","v":"1,90"},null,null,null,{"$f":"FIXED(Berechnung!X78,1)","v":"11,6"},null,null,null,{"$f":"FIXED(Berechnung!Y78,1)","v":"11,6"},null,null,null,null,{"$f":"FIXED(Berechnung!Z78,1)","v":"0,0"}]
[null,{"$f":"Berechnung!M79","v":-5},null,null,{"$f":"Berechnung!S79","v":41},null,null,null,{"$f":"IF(Berechnung!$C$162=TRUE,FIXED(Berechnung!AH79,2),FIXED(E320/24*Berechnung!$C$157/365,2))","v":"1,59"},null,null,null,{"$f":"FIXED(Berechnung!X79,1)","v":"9,7"},null,null,null,{"$f":"FIXED(Berechnung!Y79,1)","v":"9,7"},null,null,null,null,{"$f":"FIXED(Berechnung!Z79,1)","v":"0,0"}]
[null,{"$f":"Berechnung!M80","v":-4},null,null,{"$f":"Berechnung!S80","v":89},null,null,null,{"$f":"IF(Berechnung!$C$162=TRUE,FIXED(Berechnung!AH80,2),FIXED(E321/24*Berechnung!$C$157/365,2))","v":"3,45"},null,null,null,{"$f":"FIXED(Berechnung!X80,1)","v":"21,1"},null,null,null,{"$f":"FIXED(Berechnung!Y80,1)","v":"21,1"},null,null,null,null,{"$f":"FIXED(Berechnung!Z80,1)","v":"0,0"}]
[null,{"$f":"Berechnung!M81","v":-3},null,null,{"$f":"Berechnung!S81","v":161},null,null,null,{"$f":"IF(Berechnung!$C$162=TRUE,FIXED(Berechnung!AH81,2),FIXED(E322/24*Berechnung!$C$157/365,2))","v":"6,25"},null,null,null,{"$f":"FIXED(Berechnung!X81,1)","v":"38,2"},null,null,null,{"$f":"FIXED(Berechnung!Y81,1)","v":"38,2"},null,null,null,null,{"$f":"FIXED(Berechnung!Z81,1)","v":"0,0"}]
[null,{"$f":"Berechnung!M82","v":-2},null,null,{"$f":"Berechnung!S82","v":207},null,null,null,{"$f":"IF(Berechnung!$C$162=TRUE,FIXED(Berechnung!AH82,2),FIXED(E323/24*Berechnung!$C$157/365,2))","v":"8,03"},null,null,null,{"$f":"FIXED(Berechnung!X82,1)","v":"49,1"},null,null,null,{"$f":"FIXED(Berechnung!Y82,1)","v":"49,1"},null,null,null,null,{"$f":"FIXED(Berechnung!Z82,1)","v":"0,0"}]
[null,{"$f":"Berechnung!M83","v":-1},null,null,{"$f":"Berechnung!S83","v":248},null,null,null,{"$f":"IF(Berechnung!$C$162=TRUE,FIXED(Berechnung!AH83,2),FIXED(E324/24*Berechnung!$C$157/365,2))","v":"9,63"},null,null,null,{"$f":"FIXED(Berechnung!X83,1)","v":"58,8"},null,null,null,{"$f":"FIXED(Berechnung!Y83,1)","v":"58,8"},null,null,null,null,{"$f":"FIXED(Berechnung!Z83,1)","v":"0,0"}]
[null,{"$f":"Berechnung!M84","v":0},null,null,{"$f":"Berechnung!S84","v":263},null,null,null,{"$f":"IF(Berechnung!$C$162=TRUE,FIXED(Berechnung!AH84,2),FIXED(E325/24*Berechnung!$C$157/365,2))","v":"10,21"},null,null,null,{"$f":"FIXED(Berechnung!X84,1)","v":"62,3"},null,null,null,{"$f":"FIXED(Berechnung!Y84,1)","v":"62,3"},null,null,null,null,{"$f":"FIXED(Berechnung!Z84,1)","v":"0,0"}]
[null,{"$f":"Berechnung!M85","v":1},null,null,{"$f":"Berechnung!S85","v":270},null,null,null,{"$f":"IF(Berechnung!$C$162=TRUE,FIXED(Berechnung!AH85,2),FIXED(E326/24*Berechnung!$C$157/365,2))","v":"10,48"},null,null,null,{"$f":"FIXED(Berechnung!X85,1)","v":"64,0"},null,null,null,{"$f":"FIXED(Berechnung!Y85,1)","v":"64,0"},null,null,null,null,{"$f":"FIXED(Berechnung!Z85,1)","v":"0,0"}]
[null,{"$f":"Berechnung!M86","v":2},null,null,{"$f":"Berechnung!S86","v":328},null,null,null,{"$f":"IF(Berechnung!$C$162=TRUE,FIXED(Berechnung!AH86,2),FIXED(E327/24*Berechnung!$C$157/365,2))","v":"12,73"},null,null,null,{"$f":"FIXED(Berechnung!X86,1)","v":"77,7"},null,null,null,{"$f":"FIXED(Berechnung!Y86,1)","v":"77,7"},null,null,null,null,{"$f":"FIXED(Berechnung!Z86,1)","v":"0,0"}]
[null,{"$f":"Berechnung!M87","v":3},null,null,{"$f":"Berechnung!S87","v":344},null,null,null,{"$f":"IF(Berechnung!$C$162=TRUE,FIXED(Berechnung!AH87,2),FIXED(E328/24*Berechnung!$C$157/365,2))","v":"13,35"},null,null,null,{"$f":"FIXED(Berechnung!X87,1)","v":"81,5"},null,null,null,{"$f":"FIXED(Berechnung!Y87,1)","v":"81,5"},null,null,null,null,{"$f":"FIXED(Berechnung!Z87,1)","v":"0,0"}]
[null,{"$f":"Berechnung!M88","v":4},null,null,{"$f":"Berechnung!S88","v":343},null,null,null,{"$f":"IF(Berechnung!$C$162=TRUE,FIXED(Berechnung!AH88,2),FIXED(E329/24*Berechnung!$C$157/365,2))","v":"13,31"},null,null,null,{"$f":"FIXED(Berechnung!X88,1)","v":"81,3"},null,null,null,{"$f":"FIXED(Berechnung!Y88,1)","v":"81,3"},null,null,null,null,{"$f":"FIXED(Berechnung!Z88,1)","v":"0,0"}]
[null,{"$f":"Berechnung!M89","v":5},null,null,{"$f":"Berechnung!S89","v":414},null,null,null,{"$f":"IF(Berechnung!$C$162=TRUE,FIXED(Berechnung!AH89,2),FIXED(E330/24*Berechnung!$C$157/365,2))","v":"16,07"},null,null,null,{"$f":"FIXED(Berechnung!X89,1)","v":"98,1"},null,null,null,{"$f":"FIXED(Berechnung!Y89,1)","v":"98,1"},null,null,null,null,{"$f":"FIXED(Berechnung!Z89,1)","v":"0,0"}]
[null,{"$f":"Berechnung!M90","v":6},null,null,{"$f":"Berechnung!S90","v":397},null,null,null,{"$f":"IF(Berechnung!$C$162=TRUE,FIXED(Berechnung!AH90,2),FIXED(E331/24*Berechnung!$C$157/365,2))","v":"15,41"},null,null,null,{"$f":"FIXED(Berechnung!X90,1)","v":"94,1"},null,null,null,{"$f":"FIXED(Berechnung!Y90,1)","v":"94,1"},null,null,null,null,{"$f":"FIXED(Berechnung!Z90,1)","v":"0,0"}]
[null,{"$f":"Berechnung!M91","v":7},null,null,{"$f":"Berechnung!S91","v":406},null,null,null,{"$f":"IF(Berechnung!$C$162=TRUE,FIXED(Berechnung!AH91,2),FIXED(E332/24*Berechnung!$C$157/365,2))","v":"15,76"},null,null,null,{"$f":"FIXED(Berechnung!X91,1)","v":"96,2"},null,null,null,{"$f":"FIXED(Berechnung!Y91,1)","v":"96,2"},null,null,null,null,{"$f":"FIXED(Berechnung!Z91,1)","v":"0,0"}]
[null,{"$f":"Berechnung!M92","v":8},null,null,{"$f":"Berechnung!S92","v":378},null,null,null,{"$f":"IF(Berechnung!$C$162=TRUE,FIXED(Berechnung!AH92,2),FIXED(E333/24*Berechnung!$C$157/365,2))","v":"14,67"},null,null,null,{"$f":"FIXED(Berechnung!X92,1)","v":"89,6"},null,null,null,{"$f":"FIXED(Berechnung!Y92,1)","v":"89,6"},null,null,null,null,{"$f":"FIXED(Berechnung!Z92,1)","v":"0,0"}]
[null,{"$f":"Berechnung!M93","v":9},null,null,{"$f":"Berechnung!S93","v":409},null,null,null,{"$f":"IF(Berechnung!$C$162=TRUE,FIXED(Berechnung!AH93,2),FIXED(E334/24*Berechnung!$C$157/365,2))","v":"15,87"},null,null,null,{"$f":"FIXED(Berechnung!X93,1)","v":"96,9"},null,null,null,{"$f":"FIXED(Berechnung!Y93,1)","v":"96,9"},null,null,null,null,{"$f":"FIXED(Berechnung!Z93,1)","v":"0,0"}]
[null,{"$f":"Berechnung!M94","v":10},null,null,{"$f":"Berechnung!S94","v":375},null,null,null,{"$f":"IF(Berechnung!$C$162=TRUE,FIXED(Berechnung!AH94,2),FIXED(E335/24*Berechnung!$C$157/365,2))","v":"14,55"},null,null,null,{"$f":"FIXED(Berechnung!X94,1)","v":"88,9"},null,null,null,{"$f":"FIXED(Berechnung!Y94,1)","v":"88,9"},null,null,null,null,{"$f":"FIXED(Berechnung!Z94,1)","v":"0,0"}]
[null,{"$f":"Berechnung!M95","v":11},null,null,{"$f":"Berechnung!S95","v":420},null,null,null,{"$f":"IF(Berechnung!$C$162=TRUE,FIXED(Berechnung!AH95,2),FIXED(E336/24*Berechnung!$C$157/365,2))","v":"16,30"},null,null,null,{"$f":"FIXED(Berechnung!X95,1)","v":"99,5"},null,null,null,{"$f":"FIXED(Berechnung!Y95,1)","v":"99,5"},null,null,null,null,{"$f":"FIXED(Berechnung!Z95,1)","v":"0,0"}]
[null,{"$f":"Berechnung!M96","v":12},null,null,{"$f":"Berechnung!S96","v":378},null,null,null,{"$f":"IF(Berechnung!$C$162=TRUE,FIXED(Berechnung!AH96,2),FIXED(E337/24*Berechnung!$C$157/365,2))","v":"14,67"},null,null,null,{"$f":"FIXED(Berechnung!X96,1)","v":"89,6"},null,null,null,{"$f":"FIXED(Berechnung!Y96,1)","v":"89,6"},null,null,null,null,{"$f":"FIXED(Berechnung!Z96,1)","v":"0,0"}]
[null,{"$f":"Berechnung!M97","v":13},null,null,{"$f":"Berechnung!S97","v":349},null,null,null,{"$f":"IF(Berechnung!$C$162=TRUE,FIXED(Berechnung!AH97,2),FIXED(E338/24*Berechnung!$C$157/365,2))","v":"13,55"},null,null,null,{"$f":"FIXED(Berechnung!X97,1)","v":"82,7"},null,null,null,{"$f":"FIXED(Berechnung!Y97,1)","v":"82,7"},null,null,null,null,{"$f":"FIXED(Berechnung!Z97,1)","v":"0,0"}]
[null,{"$f":"Berechnung!M98","v":14},null,null,{"$f":"Berechnung!S98","v":370},null,null,null,{"$f":"IF(Berechnung!$C$162=TRUE,FIXED(Berechnung!AH98,2),FIXED(E339/24*Berechnung!$C$157/365,2))","v":"14,36"},null,null,null,{"$f":"FIXED(Berechnung!X98,1)","v":"87,7"},null,null,null,{"$f":"FIXED(Berechnung!Y98,1)","v":"87,7"},null,null,null,null,{"$f":"FIXED(Berechnung!Z98,1)","v":"0,0"}]
[null,{"$f":"Berechnung!M99","v":15},null,null,{"$f":"Berechnung!S99","v":333},null,null,null,{"$f":"IF(Berechnung!$C$162=TRUE,FIXED(Berechnung!AH99,2),FIXED(E340/24*Berechnung!$C$157/365,2))","v":"12,92"},null,null,null,{"$f":"FIXED(Berechnung!X99,1)","v":"78,9"},null,null,null,{"$f":"FIXED(Berechnung!Y99,1)","v":"78,9"},null,null,null,null,{"$f":"FIXED(Berechnung!Z99,1)","v":"0,0"}]
[null,{"$f":"Berechnung!M100","v":16},null,null,{"$f":"Berechnung!S100","v":310},null,null,null,{"$f":"IF(Berechnung!$C$162=TRUE,FIXED(Berechnung!AH100,2),FIXED(E341/24*Berechnung!$C$157/365,2))","v":"12,03"},null,null,null,{"$f":"FIXED(Berechnung!X100,1)","v":"73,5"},null,null,null,{"$f":"FIXED(Berechnung!Y100,1)","v":"73,5"},null,null,null,null,{"$f":"FIXED(Berechnung!Z100,1)","v":"0,0"}]
[null,{"$f":"Berechnung!M101","v":17},null,null,{"$f":"Berechnung!S101","v":322},null,null,null,{"$f":"IF(Berechnung!$C$162=TRUE,FIXED(Berechnung!AH101,2),FIXED(E342/24*Berechnung!$C$157/365,2))","v":"12,50"},null,null,null,{"$f":"FIXED(Berechnung!X101,1)","v":"76,3"},null,null,null,{"$f":"FIXED(Berechnung!Y101,1)","v":"76,3"},null,null,null,null,{"$f":"FIXED(Berechnung!Z101,1)","v":"0,0"}]
[null,{"$f":"Berechnung!M102","v":18},null,null,{"$f":"Berechnung!S102","v":280},null,null,null,{"$f":"IF(Berechnung!$C$162=TRUE,FIXED(Berechnung!AH102,2),FIXED(E343/24*Berechnung!$C$157/365,2))","v":"10,87"},null,null,null,{"$f":"FIXED(Berechnung!X102,1)","v":"66,4"},null,null,null,{"$f":"FIXED(Berechnung!Y102,1)","v":"66,4"},null,null,null,null,{"$f":"FIXED(Berechnung!Z102,1)","v":"0,0"}]
[null,{"$f":"Berechnung!M103","v":19},null,null,{"$f":"Berechnung!S103","v":217},null,null,null,{"$f":"IF(Berechnung!$C$162=TRUE,FIXED(Berechnung!AH103,2),FIXED(E344/24*Berechnung!$C$157/365,2))","v":"8,42"},null,null,null,{"$f":"FIXED(Berechnung!X103,1)","v":"51,4"},null,null,null,{"$f":"FIXED(Berechnung!Y103,1)","v":"51,4"},null,null,null,null,{"$f":"FIXED(Berechnung!Z103,1)","v":"0,0"}]
[null,{"$f":"Berechnung!M104","v":20},null,null,{"$f":"Berechnung!S104","v":196},null,null,null,{"$f":"IF(Berechnung!$C$162=TRUE,FIXED(Berechnung!AH104,2),FIXED(E345/24*Berechnung!$C$157/365,2))","v":"7,61"},null,null,null,{"$f":"FIXED(Berechnung!X104,1)","v":"46,4"},null,null,null,{"$f":"FIXED(Berechnung!Y104,1)","v":"46,4"},null,null,null,null,{"$f":"FIXED(Berechnung!Z104,1)","v":"0,0"}]
[null,{"$f":"Berechnung!M105","v":"> 20"},null,null,{"$f":"Berechnung!S105","v":744},null,null,null,{"$f":"IF(Berechnung!$C$162=TRUE,FIXED(Berechnung!AH105,2),FIXED(E346/24*Berechnung!$C$157/365,2))","v":"28,88"},null,null,null,{"$f":"FIXED(Berechnung!X105,1)","v":"176,3"},null,null,null,{"$f":"FIXED(Berechnung!Y105,1)","v":"176,3"},null,null,null,null,{"$f":"FIXED(Berechnung!Z105,1)","v":"0,0"}]
[null,null,null,null,{"$f":"Berechnung!S106","v":8760},null,null,null,{"$f":"IF(Berechnung!$C$162=TRUE,FIXED(Berechnung!AH106,2),Berechnung!C157)","v":340},null,null,null,{"$f":"FIXED(Berechnung!X106,0)","v":"2.076"},null,null,null,{"$f":"FIXED(Berechnung!Y106,0)","v":"2.076"},null,null,null,null,{"$f":"FIXED(Berechnung!Z106,0)","v":"0"}]
[]
[]
[]
[]
[null,{"$f":"Translation!A182","v":"Electricity requirement"}]
[]
[]
[null,{"$f":"Translation!$A$175","v":"Electricity requirement heat pump"},null,null,null,null,null,null,null,{"$f":"Berechnung!$D$166","v":"5.869 kWh/a"}]
[null,{"$f":"Translation!$A$22","v":"Heating"},null,null,null,null,null,null,null,{"$f":"IF(ISERROR(Berechnung!L204),\" ---\",FIXED(Berechnung!L204,0)&\" \"&Translation!A225)","v":"5.150 kWh/a"}]
[null,{"$f":"Translation!$A$23","v":"Warm water"},null,null,null,null,null,null,null,{"$f":"IF(ISERROR(Berechnung!L206),\" ---\",FIXED(Berechnung!L206,0)&\"  \"&Translation!A225)","v":"720  kWh/a"}]
[null,{"$f":"Translation!A242","v":"Ventilation"},null,null,null,null,null,null,null,{"$f":"IF(ISERROR(Berechnung!L208),\" ---\",FIXED(Berechnung!L208,0)&\"  \"&Translation!A225)","v":"0  kWh/a"}]
[null,{"$f":"Berechnung!$D$173","v":"End energy 2. heat source"},null,null,null,null,null,null,null,{"$f":"Berechnung!$D$169","v":"199 kWh/a"}]
[null,{"$f":"Translation!$A$22","v":"Heating"},null,null,null,null,null,null,null,{"$f":"IF(ISERROR(Berechnung!L205),\" ---\",FIXED(Berechnung!L205,0)&\" \"&Translation!A225)","v":"199 kWh/a"}]
[null,{"$f":"Translation!$A$23","v":"Warm water"},null,null,null,null,null,null,null,{"$f":"IF(ISERROR(Berechnung!L207),\" ---\",FIXED(Berechnung!L207,0)&\" \"&Translation!A225)","v":"0 kWh/a"}]
[]
[null,null,null,null,null,{"$f":"Berechnung!$O$141","v":"Heating Heat pump "},null,null,null,null,null,null,null,null,null,null,{"$f":"Berechnung!$O$143","v":"Warm water Heat pump"}]
[null,null,null,null,null,{"$f":"Berechnung!$O$142","v":"Heating 2nd heat source"},null,null,null,null,null,null,null,null,null,null,{"$f":"Berechnung!$O$144","v":"Warm water 2nd heat source"}]
[null,null,null,null,null,{"$f":"Translation!A242","v":"Ventilation"}]
[]
[]
[]
[]
[]
[]
[]
[]
[]
[]
[]
[]
[]
[]
[]
[]
[]
[]
[]
[]
[]
[]
[]
[]
[]
[]
[]
[]
[]
[]
[]
[]
[]
[]
[]
[null,{"$f":"Translation!A183&\" \"&Translation!$A$22","v":"End energy  Heating"}]
[null,{"$f":"Translation!$A$140","v":"Temperature"},null,null,{"$f":"Translation!$A$142","v":"Heating power HP"},null,null,null,{"$f":"Translation!$A$143","v":"Heating power 2. HS"},null,null,null,{"$f":"Translation!$A$211","v":"operating point"},null,null,null,"COP",null,null,{"$f":"Translation!$A$176","v":"Electricitiy heat pump"},null,null,null,{"$f":"Translation!$A$55","v":"2nd heat source"}]
[null,"[°C]",null,null,{"$f":"\"[\"&Translation!A225&\"]\"","v":"[kWh/a]"},null,null,null,{"$f":"\"[\"&Translation!A225&\"]\"","v":"[kWh/a]"},null,null,null,"-",null,null,null,"-",null,null,{"$f":"\"[\"&Translation!A225&\"]\"","v":"[kWh/a]"},null,null,null,{"$f":"\"[\"&Translation!A225&\"]\"","v":"[kWh/a]"}]
[null,{"$f":"Berechnung!M63","v":"< -20"},null,null,{"$f":"FIXED(Berechnung!V63,1)","v":"0,0"},null,null,null,{"$f":"FIXED(Berechnung!W63,1)","v":"0,0"},null,null,null,{"$f":"Berechnung!AK63","v":"A-20/W35"},null,null,null,{"$f":"FIXED(Berechnung!AB63,2)","v":"2,31"},null,null,{"$f":"FIXED(Berechnung!AD63,1)","v":"0,0"},null,null,null,{"$f":"FIXED(Berechnung!AF63,1)","v":"0,0"}]
[null,{"$f":"Berechnung!M64","v":-20},null,null,{"$f":"FIXED(Berechnung!V64,1)","v":"0,0"},null,null,null,{"$f":"FIXED(Berechnung!W64,1)","v":"0,0"},null,null,null,{"$f":"Berechnung!AK64","v":"A-20/W35"},null,null,null,{"$f":"FIXED(Berechnung!AB64,2)","v":"2,39"},null,null,{"$f":"FIXED(Berechnung!AD64,1)","v":"0,0"},null,null,null,{"$f":"FIXED(Berechnung!AF64,1)","v":"0,0"}]
[null,{"$f":"Berechnung!M65","v":-19},null,null,{"$f":"FIXED(Berechnung!V65,1)","v":"0,0"},null,null,null,{"$f":"FIXED(Berechnung!W65,1)","v":"0,0"},null,null,null,{"$f":"Berechnung!AK65","v":"A-19/W35"},null,null,null,{"$f":"FIXED(Berechnung!AB65,2)","v":"2,47"},null,null,{"$f":"FIXED(Berechnung!AD65,1)","v":"0,0"},null,null,null,{"$f":"FIXED(Berechnung!AF65,1)","v":"0,0"}]
[null,{"$f":"Berechnung!M66","v":-18},null,null,{"$f":"FIXED(Berechnung!V66,1)","v":"0,0"},null,null,null,{"$f":"FIXED(Berechnung!W66,1)","v":"0,0"},null,null,null,{"$f":"Berechnung!AK66","v":"A-18/W35"},null,null,null,{"$f":"FIXED(Berechnung!AB66,2)","v":"2,55"},null,null,{"$f":"FIXED(Berechnung!AD66,1)","v":"0,0"},null,null,null,{"$f":"FIXED(Berechnung!AF66,1)","v":"0,0"}]
[null,{"$f":"Berechnung!M67","v":-17},null,null,{"$f":"FIXED(Berechnung!V67,1)","v":"0,0"},null,null,null,{"$f":"FIXED(Berechnung!W67,1)","v":"0,0"},null,null,null,{"$f":"Berechnung!AK67","v":"A-17/W35"},null,null,null,{"$f":"FIXED(Berechnung!AB67,2)","v":"2,55"},null,null,{"$f":"FIXED(Berechnung!AD67,1)","v":"0,0"},null,null,null,{"$f":"FIXED(Berechnung!AF67,1)","v":"0,0"}]
[null,{"$f":"Berechnung!M68","v":-16},null,null,{"$f":"FIXED(Berechnung!V68,1)","v":"0,0"},null,null,null,{"$f":"FIXED(Berechnung!W68,1)","v":"0,0"},null,null,null,{"$f":"Berechnung!AK68","v":"A-16/W35"},null,null,null,{"$f":"FIXED(Berechnung!AB68,2)","v":"2,60"},null,null,{"$f":"FIXED(Berechnung!AD68,1)","v":"0,0"},null,null,null,{"$f":"FIXED(Berechnung!AF68,1)","v":"0,0"}]
[null,{"$f":"Berechnung!M69","v":-15},null,null,{"$f":"FIXED(Berechnung!V69,1)","v":"0,0"},null,null,null,{"$f":"FIXED(Berechnung!W69,1)","v":"0,0"},null,null,null,{"$f":"Berechnung!AK69","v":"A-15/W35"},null,null,null,{"$f":"FIXED(Berechnung!AB69,2)","v":"2,66"},null,null,{"$f":"FIXED(Berechnung!AD69,1)","v":"0,0"},null,null,null,{"$f":"FIXED(Berechnung!AF69,1)","v":"0,0"}]
[null,{"$f":"Berechnung!M70","v":-14},null,null,{"$f":"FIXED(Berechnung!V70,1)","v":"0,0"},null,null,null,{"$f":"FIXED(Berechnung!W70,1)","v":"0,0"},null,null,null,{"$f":"Berechnung!AK70","v":"A-14/W35"},null,null,null,{"$f":"FIXED(Berechnung!AB70,2)","v":"2,76"},null,null,{"$f":"FIXED(Berechnung!AD70,1)","v":"0,0"},null,null,null,{"$f":"FIXED(Berechnung!AF70,1)","v":"0,0"}]
[null,{"$f":"Berechnung!M71","v":-13},null,null,{"$f":"FIXED(Berechnung!V71,1)","v":"0,0"},null,null,null,{"$f":"FIXED(Berechnung!W71,1)","v":"0,0"},null,null,null,{"$f":"Berechnung!AK71","v":"A-13/W35"},null,null,null,{"$f":"FIXED(Berechnung!AB71,2)","v":"2,87"},null,null,{"$f":"FIXED(Berechnung!AD71,1)","v":"0,0"},null,null,null,{"$f":"FIXED(Berechnung!AF71,1)","v":"0,0"}]
[null,{"$f":"Berechnung!M72","v":-12},null,null,{"$f":"FIXED(Berechnung!V72,1)","v":"0,0"},null,null,null,{"$f":"FIXED(Berechnung!W72,1)","v":"0,0"},null,null,null,{"$f":"Berechnung!AK72","v":"A-12/W35"},null,null,null,{"$f":"FIXED(Berechnung!AB72,2)","v":"2,87"},null,null,{"$f":"FIXED(Berechnung!AD72,1)","v":"0,0"},null,null,null,{"$f":"FIXED(Berechnung!AF72,1)","v":"0,0"}]
[null,{"$f":"Berechnung!M73","v":-11},null,null,{"$f":"FIXED(Berechnung!V73,1)","v":"48,8"},null,null,null,{"$f":"FIXED(Berechnung!W73,1)","v":"22,5"},null,null,null,{"$f":"Berechnung!AK73","v":"A-11/W35"},null,null,null,{"$f":"FIXED(Berechnung!AB73,2)","v":"2,93"},null,null,{"$f":"FIXED(Berechnung!AD73,1)","v":"16,6"},null,null,null,{"$f":"FIXED(Berechnung!AF73,1)","v":"25,0"}]
[null,{"$f":"Berechnung!M74","v":-10},null,null,{"$f":"FIXED(Berechnung!V74,1)","v":"273,5"},null,null,null,{"$f":"FIXED(Berechnung!W74,1)","v":"90,2"},null,null,null,{"$f":"Berechnung!AK74","v":"A-10/W35"},null,null,null,{"$f":"FIXED(Berechnung!AB74,2)","v":"3,00"},null,null,{"$f":"FIXED(Berechnung!AD74,1)","v":"91,1"},null,null,null,{"$f":"FIXED(Berechnung!AF74,1)","v":"100,2"}]
[null,{"$f":"Berechnung!M75","v":-9},null,null,{"$f":"FIXED(Berechnung!V75,1)","v":"125,1"},null,null,null,{"$f":"FIXED(Berechnung!W75,1)","v":"26,8"},null,null,null,{"$f":"Berechnung!AK75","v":"A-9/W35"},null,null,null,{"$f":"FIXED(Berechnung!AB75,2)","v":"3,10"},null,null,{"$f":"FIXED(Berechnung!AD75,1)","v":"40,3"},null,null,null,{"$f":"FIXED(Berechnung!AF75,1)","v":"29,8"}]
[null,{"$f":"Berechnung!M76","v":-8},null,null,{"$f":"FIXED(Berechnung!V76,1)","v":"214,4"},null,null,null,{"$f":"FIXED(Berechnung!W76,1)","v":"23,2"},null,null,null,{"$f":"Berechnung!AK76","v":"A-8/W35"},null,null,null,{"$f":"FIXED(Berechnung!AB76,2)","v":"3,20"},null,null,{"$f":"FIXED(Berechnung!AD76,1)","v":"67,0"},null,null,null,{"$f":"FIXED(Berechnung!AF76,1)","v":"25,8"}]
[null,{"$f":"Berechnung!M77","v":-7},null,null,{"$f":"FIXED(Berechnung!V77,1)","v":"415,8"},null,null,null,{"$f":"FIXED(Berechnung!W77,1)","v":"16,1"},null,null,null,{"$f":"Berechnung!AK77","v":"A-7/W35"},null,null,null,{"$f":"FIXED(Berechnung!AB77,2)","v":"3,20"},null,null,{"$f":"FIXED(Berechnung!AD77,1)","v":"129,9"},null,null,null,{"$f":"FIXED(Berechnung!AF77,1)","v":"17,9"}]
[null,{"$f":"Berechnung!M78","v":-6},null,null,{"$f":"FIXED(Berechnung!V78,1)","v":"455,7"},null,null,null,{"$f":"FIXED(Berechnung!W78,1)","v":"0,0"},null,null,null,{"$f":"Berechnung!AK78","v":"A-6/W35"},null,null,null,{"$f":"FIXED(Berechnung!AB78,2)","v":"3,26"},null,null,{"$f":"FIXED(Berechnung!AD78,1)","v":"139,7"},null,null,null,{"$f":"FIXED(Berechnung!AF78,1)","v":"0,0"}]
[null,{"$f":"Berechnung!M79","v":-5},null,null,{"$f":"FIXED(Berechnung!V79,1)","v":"360,1"},null,null,null,{"$f":"FIXED(Berechnung!W79,1)","v":"0,0"},null,null,null,{"$f":"Berechnung!AK79","v":"A-5/W35"},null,null,null,{"$f":"FIXED(Berechnung!AB79,2)","v":"3,33"},null,null,{"$f":"FIXED(Berechnung!AD79,1)","v":"108,3"},null,null,null,{"$f":"FIXED(Berechnung!AF79,1)","v":"0,0"}]
[null,{"$f":"Berechnung!M80","v":-4},null,null,{"$f":"FIXED(Berechnung!V80,1)","v":"735,7"},null,null,null,{"$f":"FIXED(Berechnung!W80,1)","v":"0,0"},null,null,null,{"$f":"Berechnung!AK80","v":"A-4/W35"},null,null,null,{"$f":"FIXED(Berechnung!AB80,2)","v":"3,42"},null,null,{"$f":"FIXED(Berechnung!AD80,1)","v":"215,1"},null,null,null,{"$f":"FIXED(Berechnung!AF80,1)","v":"0,0"}]
[null,{"$f":"Berechnung!M81","v":-3},null,null,{"$f":"FIXED(Berechnung!V81,1)","v":"1.247,8"},null,null,null,{"$f":"FIXED(Berechnung!W81,1)","v":"0,0"},null,null,null,{"$f":"Berechnung!AK81","v":"A-3/W35"},null,null,null,{"$f":"FIXED(Berechnung!AB81,2)","v":"3,51"},null,null,{"$f":"FIXED(Berechnung!AD81,1)","v":"355,0"},null,null,null,{"$f":"FIXED(Berechnung!AF81,1)","v":"0,0"}]
[null,{"$f":"Berechnung!M82","v":-2},null,null,{"$f":"FIXED(Berechnung!V82,1)","v":"1.497,3"},null,null,null,{"$f":"FIXED(Berechnung!W82,1)","v":"0,0"},null,null,null,{"$f":"Berechnung!AK82","v":"A-2/W35"},null,null,null,{"$f":"FIXED(Berechnung!AB82,2)","v":"3,51"},null,null,{"$f":"FIXED(Berechnung!AD82,1)","v":"426,0"},null,null,null,{"$f":"FIXED(Berechnung!AF82,1)","v":"0,0"}]
[null,{"$f":"Berechnung!M83","v":-1},null,null,{"$f":"FIXED(Berechnung!V83,1)","v":"1.665,7"},null,null,null,{"$f":"FIXED(Berechnung!W83,1)","v":"0,0"},null,null,null,{"$f":"Berechnung!AK83","v":"A-1/W35"},null,null,null,{"$f":"FIXED(Berechnung!AB83,2)","v":"3,72"},null,null,{"$f":"FIXED(Berechnung!AD83,1)","v":"447,2"},null,null,null,{"$f":"FIXED(Berechnung!AF83,1)","v":"0,0"}]
[null,{"$f":"Berechnung!M84","v":0},null,null,{"$f":"FIXED(Berechnung!V84,1)","v":"1.630,6"},null,null,null,{"$f":"FIXED(Berechnung!W84,1)","v":"0,0"},null,null,null,{"$f":"Berechnung!AK84","v":"A0/W35"},null,null,null,{"$f":"FIXED(Berechnung!AB84,2)","v":"3,93"},null,null,{"$f":"FIXED(Berechnung!AD84,1)","v":"414,5"},null,null,null,{"$f":"FIXED(Berechnung!AF84,1)","v":"0,0"}]
[null,{"$f":"Berechnung!M85","v":1},null,null,{"$f":"FIXED(Berechnung!V85,1)","v":"1.534,5"},null,null,null,{"$f":"FIXED(Berechnung!W85,1)","v":"0,0"},null,null,null,{"$f":"Berechnung!AK85","v":"A1/W35"},null,null,null,{"$f":"FIXED(Berechnung!AB85,2)","v":"4,07"},null,null,{"$f":"FIXED(Berechnung!AD85,1)","v":"376,8"},null,null,null,{"$f":"FIXED(Berechnung!AF85,1)","v":"0,0"}]
[null,{"$f":"Berechnung!M86","v":2},null,null,{"$f":"FIXED(Berechnung!V86,1)","v":"1.694,7"},null,null,null,{"$f":"FIXED(Berechnung!W86,1)","v":"0,0"},null,null,null,{"$f":"Berechnung!AK86","v":"A2/W35"},null,null,null,{"$f":"FIXED(Berechnung!AB86,2)","v":"4,21"},null,null,{"$f":"FIXED(Berechnung!AD86,1)","v":"402,5"},null,null,null,{"$f":"FIXED(Berechnung!AF86,1)","v":"0,0"}]
[null,{"$f":"Berechnung!M87","v":3},null,null,{"$f":"FIXED(Berechnung!V87,1)","v":"1.599,6"},null,null,null,{"$f":"FIXED(Berechnung!W87,1)","v":"0,0"},null,null,null,{"$f":"Berechnung!AK87","v":"A3/W35"},null,null,null,{"$f":"FIXED(Berechnung!AB87,2)","v":"4,21"},null,null,{"$f":"FIXED(Berechnung!AD87,1)","v":"379,9"},null,null,null,{"$f":"FIXED(Berechnung!AF87,1)","v":"0,0"}]
[null,{"$f":"Berechnung!M88","v":4},null,null,{"$f":"FIXED(Berechnung!V88,1)","v":"1.417,7"},null,null,null,{"$f":"FIXED(Berechnung!W88,1)","v":"0,0"},null,null,null,{"$f":"Berechnung!AK88","v":"A4/W35"},null,null,null,{"$f":"FIXED(Berechnung!AB88,2)","v":"4,40"},null,null,{"$f":"FIXED(Berechnung!AD88,1)","v":"322,5"},null,null,null,{"$f":"FIXED(Berechnung!AF88,1)","v":"0,0"}]
[null,{"$f":"Berechnung!M89","v":5},null,null,{"$f":"FIXED(Berechnung!V89,1)","v":"1.497,3"},null,null,null,{"$f":"FIXED(Berechnung!W89,1)","v":"0,0"},null,null,null,{"$f":"Berechnung!AK89","v":"A5/W35"},null,null,null,{"$f":"FIXED(Berechnung!AB89,2)","v":"4,58"},null,null,{"$f":"FIXED(Berechnung!AD89,1)","v":"326,7"},null,null,null,{"$f":"FIXED(Berechnung!AF89,1)","v":"0,0"}]
[null,{"$f":"Berechnung!M90","v":6},null,null,{"$f":"FIXED(Berechnung!V90,1)","v":"1.230,7"},null,null,null,{"$f":"FIXED(Berechnung!W90,1)","v":"0,0"},null,null,null,{"$f":"Berechnung!AK90","v":"A6/W35"},null,null,null,{"$f":"FIXED(Berechnung!AB90,2)","v":"4,69"},null,null,{"$f":"FIXED(Berechnung!AD90,1)","v":"262,3"},null,null,null,{"$f":"FIXED(Berechnung!AF90,1)","v":"0,0"}]
[null,{"$f":"Berechnung!M91","v":7},null,null,{"$f":"FIXED(Berechnung!V91,1)","v":"1.048,8"},null,null,null,{"$f":"FIXED(Berechnung!W91,1)","v":"0,0"},null,null,null,{"$f":"Berechnung!AK91","v":"A7/W35"},null,null,null,{"$f":"FIXED(Berechnung!AB91,2)","v":"4,80"},null,null,{"$f":"FIXED(Berechnung!AD91,1)","v":"218,5"},null,null,null,{"$f":"FIXED(Berechnung!AF91,1)","v":"0,0"}]
[null,{"$f":"Berechnung!M92","v":8},null,null,{"$f":"FIXED(Berechnung!V92,1)","v":"781,2"},null,null,null,{"$f":"FIXED(Berechnung!W92,1)","v":"0,0"},null,null,null,{"$f":"Berechnung!AK92","v":"A8/W35"},null,null,null,{"$f":"FIXED(Berechnung!AB92,2)","v":"4,80"},null,null,{"$f":"FIXED(Berechnung!AD92,1)","v":"162,7"},null,null,null,{"$f":"FIXED(Berechnung!AF92,1)","v":"0,0"}]
[null,{"$f":"Berechnung!M93","v":9},null,null,{"$f":"FIXED(Berechnung!V93,1)","v":"634,0"},null,null,null,{"$f":"FIXED(Berechnung!W93,1)","v":"0,0"},null,null,null,{"$f":"Berechnung!AK93","v":"A9/W35"},null,null,null,{"$f":"FIXED(Berechnung!AB93,2)","v":"4,93"},null,null,{"$f":"FIXED(Berechnung!AD93,1)","v":"128,7"},null,null,null,{"$f":"FIXED(Berechnung!AF93,1)","v":"0,0"}]
[null,{"$f":"Berechnung!M94","v":10},null,null,{"$f":"FIXED(Berechnung!V94,1)","v":"387,5"},null,null,null,{"$f":"FIXED(Berechnung!W94,1)","v":"0,0"},null,null,null,{"$f":"Berechnung!AK94","v":"A10/W35"},null,null,null,{"$f":"FIXED(Berechnung!AB94,2)","v":"5,05"},null,null,{"$f":"FIXED(Berechnung!AD94,1)","v":"76,7"},null,null,null,{"$f":"FIXED(Berechnung!AF94,1)","v":"0,0"}]
[null,{"$f":"Berechnung!M95","v":11},null,null,{"$f":"FIXED(Berechnung!V95,1)","v":"217,0"},null,null,null,{"$f":"FIXED(Berechnung!W95,1)","v":"0,0"},null,null,null,{"$f":"Berechnung!AK95","v":"A11/W35"},null,null,null,{"$f":"FIXED(Berechnung!AB95,2)","v":"5,21"},null,null,{"$f":"FIXED(Berechnung!AD95,1)","v":"41,6"},null,null,null,{"$f":"FIXED(Berechnung!AF95,1)","v":"0,0"}]
[null,{"$f":"Berechnung!M96","v":12},null,null,{"$f":"FIXED(Berechnung!V96,1)","v":"0,0"},null,null,null,{"$f":"FIXED(Berechnung!W96,1)","v":"0,0"},null,null,null,{"$f":"Berechnung!AK96","v":"A12/W35"},null,null,null,{"$f":"FIXED(Berechnung!AB96,2)","v":"5,38"},null,null,{"$f":"FIXED(Berechnung!AD96,1)","v":"0,0"},null,null,null,{"$f":"FIXED(Berechnung!AF96,1)","v":"0,0"}]
[null,{"$f":"Berechnung!M97","v":13},null,null,{"$f":"FIXED(Berechnung!V97,1)","v":"0,0"},null,null,null,{"$f":"FIXED(Berechnung!W97,1)","v":"0,0"},null,null,null,{"$f":"Berechnung!AK97","v":"A13/W35"},null,null,null,{"$f":"FIXED(Berechnung!AB97,2)","v":"5,38"},null,null,{"$f":"FIXED(Berechnung!AD97,1)","v":"0,0"},null,null,null,{"$f":"FIXED(Berechnung!AF97,1)","v":"0,0"}]
[null,{"$f":"Berechnung!M98","v":14},null,null,{"$f":"FIXED(Berechnung!V98,1)","v":"0,0"},null,null,null,{"$f":"FIXED(Berechnung!W98,1)","v":"0,0"},null,null,null,{"$f":"Berechnung!AK98","v":"A14/W35"},null,null,null,{"$f":"FIXED(Berechnung!AB98,2)","v":"5,48"},null,null,{"$f":"FIXED(Berechnung!AD98,1)","v":"0,0"},null,null,null,{"$f":"FIXED(Berechnung!AF98,1)","v":"0,0"}]
[null,{"$f":"Berechnung!M99","v":15},null,null,{"$f":"FIXED(Berechnung!V99,1)","v":"0,0"},null,null,null,{"$f":"FIXED(Berechnung!W99,1)","v":"0,0"},null,null,null,{"$f":"Berechnung!AK99","v":"A15/W35"},null,null,null,{"$f":"FIXED(Berechnung!AB99,2)","v":"5,59"},null,null,{"$f":"FIXED(Berechnung!AD99,1)","v":"0,0"},null,null,null,{"$f":"FIXED(Berechnung!AF99,1)","v":"0,0"}]
[null,{"$f":"Berechnung!M100","v":16},null,null,{"$f":"FIXED(Berechnung!V100,1)","v":"0,0"},null,null,null,{"$f":"FIXED(Berechnung!W100,1)","v":"0,0"},null,null,null,{"$f":"Berechnung!AK100","v":"A16/W35"},null,null,null,{"$f":"FIXED(Berechnung!AB100,2)","v":"5,68"},null,null,{"$f":"FIXED(Berechnung!AD100,1)","v":"0,0"},null,null,null,{"$f":"FIXED(Berechnung!AF100,1)","v":"0,0"}]
[null,{"$f":"Berechnung!M101","v":17},null,null,{"$f":"FIXED(Berechnung!V101,1)","v":"0,0"},null,null,null,{"$f":"FIXED(Berechnung!W101,1)","v":"0,0"},null,null,null,{"$f":"Berechnung!AK101","v":"A17/W35"},null,null,null,{"$f":"FIXED(Berechnung!AB101,2)","v":"5,77"},null,null,{"$f":"FIXED(Berechnung!AD101,1)","v":"0,0"},null,null,null,{"$f":"FIXED(Berechnung!AF101,1)","v":"0,0"}]
[null,{"$f":"Berechnung!M102","v":18},null,null,{"$f":"FIXED(Berechnung!V102,1)","v":"0,0"},null,null,null,{"$f":"FIXED(Berechnung!W102,1)","v":"0,0"},null,null,null,{"$f":"Berechnung!AK102","v":"A18/W35"},null,null,null,{"$f":"FIXED(Berechnung!AB102,2)","v":"5,77"},null,null,{"$f":"FIXED(Berechnung!AD102,1)","v":"0,0"},null,null,null,{"$f":"FIXED(Berechnung!AF102,1)","v":"0,0"}]
[null,{"$f":"Berechnung!M103","v":19},null,null,{"$f":"FIXED(Berechnung!V103,1)","v":"0,0"},null,null,null,{"$f":"FIXED(Berechnung!W103,1)","v":"0,0"},null,null,null,{"$f":"Berechnung!AK103","v":"A19/W35"},null,null,null,{"$f":"FIXED(Berechnung!AB103,2)","v":"5,84"},null,null,{"$f":"FIXED(Berechnung!AD103,1)","v":"0,0"},null,null,null,{"$f":"FIXED(Berechnung!AF103,1)","v":"0,0"}]
[null,{"$f":"Berechnung!M104","v":20},null,null,{"$f":"FIXED(Berechnung!V104,1)","v":"0,0"},null,null,null,{"$f":"FIXED(Berechnung!W104,1)","v":"0,0"},null,null,null,{"$f":"Berechnung!AK104","v":"A20/W35"},null,null,null,{"$f":"FIXED(Berechnung!AB104,2)","v":"5,90"},null,null,{"$f":"FIXED(Berechnung!AD104,1)","v":"0,0"},null,null,null,{"$f":"FIXED(Berechnung!AF104,1)","v":"0,0"}]
[null,{"$f":"Berechnung!M105","v":"> 20"},null,null,{"$f":"FIXED(Berechnung!V105,1)","v":"0,0"},null,null,null,{"$f":"FIXED(Berechnung!W105,1)","v":"0,0"},null,null,null,{"$f":"Berechnung!AK105","v":"A20/W35"},null,null,null,{"$f":"FIXED(Berechnung!AB105,2)","v":"5,96"},null,null,{"$f":"FIXED(Berechnung!AD105,1)","v":"0,0"},null,null,null,{"$f":"FIXED(Berechnung!AF105,1)","v":"0,0"}]
[null,null,null,null,{"$f":"FIXED(Berechnung!V106,0)","v":"20.714"},null,null,null,{"$f":"FIXED(Berechnung!W106,0)","v":"179"},null,null,null,null,null,null,null,{"$f":"FIXED(Berechnung!V106/Berechnung!AD106,2)","v":"4,02"},null,null,{"$f":"FIXED(Berechnung!AD106,0)","v":"5.150"},null,null,null,{"$f":"FIXED(Berechnung!AF106,0)","v":"199"}]
[]
[]
[]
[null,{"$f":"Translation!A183&\" \"&Translation!$A$23","v":"End energy  Warm water"}]
[null,{"$f":"Translation!$A$140","v":"Temperature"},null,null,{"$f":"Translation!$A$142","v":"Heating power HP"},null,null,null,{"$f":"Translation!$A$143","v":"Heating power 2. HS"},null,null,null,{"$f":"Translation!$A$211","v":"operating point"},null,null,null,"COP",null,null,{"$f":"Translation!$A$176","v":"Electricitiy heat pump"},null,null,null,{"$f":"Translation!$A$55","v":"2nd heat source"}]
[null,"[°C]",null,null,{"$f":"\"[\"&Translation!A225&\"]\"","v":"[kWh/a]"},null,null,null,{"$f":"\"[\"&Translation!A225&\"]\"","v":"[kWh/a]"},null,null,null,"-",null,null,null,"-",null,null,{"$f":"\"[\"&Translation!A225&\"]\"","v":"[kWh/a]"},null,null,null,{"$f":"\"[\"&Translation!A225&\"]\"","v":"[kWh/a]"}]
[null,{"$f":"Berechnung!M63","v":"< -20"},null,null,{"$f":"FIXED(Berechnung!Y63,1)","v":"0,0"},null,null,null,{"$f":"FIXED(Berechnung!Z63,1)","v":"0,0"},null,null,null,{"$f":"Berechnung!AL63","v":"A-20/W55"},null,null,null,{"$f":"FIXED(Berechnung!AC63,2)","v":"1,67"},null,null,{"$f":"FIXED(Berechnung!AE63,1)","v":"0,0"},null,null,null,{"$f":"FIXED(Berechnung!AG63,1)","v":"0,0"}]
[null,{"$f":"Berechnung!M64","v":-20},null,null,{"$f":"FIXED(Berechnung!Y64,1)","v":"0,0"},null,null,null,{"$f":"FIXED(Berechnung!Z64,1)","v":"0,0"},null,null,null,{"$f":"Berechnung!AL64","v":"A-20/W55"},null,null,null,{"$f":"FIXED(Berechnung!AC64,2)","v":"1,73"},null,null,{"$f":"FIXED(Berechnung!AE64,1)","v":"0,0"},null,null,null,{"$f":"FIXED(Berechnung!AG64,1)","v":"0,0"}]
[null,{"$f":"Berechnung!M65","v":-19},null,null,{"$f":"FIXED(Berechnung!Y65,1)","v":"0,0"},null,null,null,{"$f":"FIXED(Berechnung!Z65,1)","v":"0,0"},null,null,null,{"$f":"Berechnung!AL65","v":"A-19/W55"},null,null,null,{"$f":"FIXED(Berechnung!AC65,2)","v":"1,79"},null,null,{"$f":"FIXED(Berechnung!AE65,1)","v":"0,0"},null,null,null,{"$f":"FIXED(Berechnung!AG65,1)","v":"0,0"}]
[null,{"$f":"Berechnung!M66","v":-18},null,null,{"$f":"FIXED(Berechnung!Y66,1)","v":"0,0"},null,null,null,{"$f":"FIXED(Berechnung!Z66,1)","v":"0,0"},null,null,null,{"$f":"Berechnung!AL66","v":"A-18/W55"},null,null,null,{"$f":"FIXED(Berechnung!AC66,2)","v":"1,85"},null,null,{"$f":"FIXED(Berechnung!AE66,1)","v":"0,0"},null,null,null,{"$f":"FIXED(Berechnung!AG66,1)","v":"0,0"}]
[null,{"$f":"Berechnung!M67","v":-17},null,null,{"$f":"FIXED(Berechnung!Y67,1)","v":"0,0"},null,null,null,{"$f":"FIXED(Berechnung!Z67,1)","v":"0,0"},null,null,null,{"$f":"Berechnung!AL67","v":"A-17/W55"},null,null,null,{"$f":"FIXED(Berechnung!AC67,2)","v":"1,85"},null,null,{"$f":"FIXED(Berechnung!AE67,1)","v":"0,0"},null,null,null,{"$f":"FIXED(Berechnung!AG67,1)","v":"0,0"}]
[null,{"$f":"Berechnung!M68","v":-16},null,null,{"$f":"FIXED(Berechnung!Y68,1)","v":"0,0"},null,null,null,{"$f":"FIXED(Berechnung!Z68,1)","v":"0,0"},null,null,null,{"$f":"Berechnung!AL68","v":"A-16/W55"},null,null,null,{"$f":"FIXED(Berechnung!AC68,2)","v":"1,89"},null,null,{"$f":"FIXED(Berechnung!AE68,1)","v":"0,0"},null,null,null,{"$f":"FIXED(Berechnung!AG68,1)","v":"0,0"}]
[null,{"$f":"Berechnung!M69","v":-15},null,null,{"$f":"FIXED(Berechnung!Y69,1)","v":"0,0"},null,null,null,{"$f":"FIXED(Berechnung!Z69,1)","v":"0,0"},null,null,null,{"$f":"Berechnung!AL69","v":"A-15/W55"},null,null,null,{"$f":"FIXED(Berechnung!AC69,2)","v":"1,93"},null,null,{"$f":"FIXED(Berechnung!AE69,1)","v":"0,0"},null,null,null,{"$f":"FIXED(Berechnung!AG69,1)","v":"0,0"}]
[null,{"$f":"Berechnung!M70","v":-14},null,null,{"$f":"FIXED(Berechnung!Y70,1)","v":"0,0"},null,null,null,{"$f":"FIXED(Berechnung!Z70,1)","v":"0,0"},null,null,null,{"$f":"Berechnung!AL70","v":"A-14/W55"},null,null,null,{"$f":"FIXED(Berechnung!AC70,2)","v":"1,99"},null,null,{"$f":"FIXED(Berechnung!AE70,1)","v":"0,0"},null,null,null,{"$f":"FIXED(Berechnung!AG70,1)","v":"0,0"}]
[null,{"$f":"Berechnung!M71","v":-13},null,null,{"$f":"FIXED(Berechnung!Y71,1)","v":"0,0"},null,null,null,{"$f":"FIXED(Berechnung!Z71,1)","v":"0,0"},null,null,null,{"$f":"Berechnung!AL71","v":"A-13/W55"},null,null,null,{"$f":"FIXED(Berechnung!AC71,2)","v":"2,05"},null,null,{"$f":"FIXED(Berechnung!AE71,1)","v":"0,0"},null,null,null,{"$f":"FIXED(Berechnung!AG71,1)","v":"0,0"}]
[null,{"$f":"Berechnung!M72","v":-12},null,null,{"$f":"FIXED(Berechnung!Y72,1)","v":"0,0"},null,null,null,{"$f":"FIXED(Berechnung!Z72,1)","v":"0,0"},null,null,null,{"$f":"Berechnung!AL72","v":"A-12/W55"},null,null,null,{"$f":"FIXED(Berechnung!AC72,2)","v":"2,05"},null,null,{"$f":"FIXED(Berechnung!AE72,1)","v":"0,0"},null,null,null,{"$f":"FIXED(Berechnung!AG72,1)","v":"0,0"}]
[null,{"$f":"Berechnung!M73","v":-11},null,null,{"$f":"FIXED(Berechnung!Y73,1)","v":"1,4"},null,null,null,{"$f":"FIXED(Berechnung!Z73,1)","v":"0,0"},null,null,null,{"$f":"Berechnung!AL73","v":"A-11/W55"},null,null,null,{"$f":"FIXED(Berechnung!AC73,2)","v":"2,09"},null,null,{"$f":"FIXED(Berechnung!AE73,1)","v":"0,7"},null,null,null,{"$f":"FIXED(Berechnung!AG73,1)","v":"0,0"}]
[null,{"$f":"Berechnung!M74","v":-10},null,null,{"$f":"FIXED(Berechnung!Y74,1)","v":"7,6"},null,null,null,{"$f":"FIXED(Berechnung!Z74,1)","v":"0,0"},null,null,null,{"$f":"Berechnung!AL74","v":"A-10/W55"},null,null,null,{"$f":"FIXED(Berechnung!AC74,2)","v":"2,13"},null,null,{"$f":"FIXED(Berechnung!AE74,1)","v":"3,6"},null,null,null,{"$f":"FIXED(Berechnung!AG74,1)","v":"0,0"}]
[null,{"$f":"Berechnung!M75","v":-9},null,null,{"$f":"FIXED(Berechnung!Y75,1)","v":"3,3"},null,null,null,{"$f":"FIXED(Berechnung!Z75,1)","v":"0,0"},null,null,null,{"$f":"Berechnung!AL75","v":"A-9/W55"},null,null,null,{"$f":"FIXED(Berechnung!AC75,2)","v":"2,18"},null,null,{"$f":"FIXED(Berechnung!AE75,1)","v":"1,5"},null,null,null,{"$f":"FIXED(Berechnung!AG75,1)","v":"0,0"}]
[null,{"$f":"Berechnung!M76","v":-8},null,null,{"$f":"FIXED(Berechnung!Y76,1)","v":"5,5"},null,null,null,{"$f":"FIXED(Berechnung!Z76,1)","v":"0,0"},null,null,null,{"$f":"Berechnung!AL76","v":"A-8/W55"},null,null,null,{"$f":"FIXED(Berechnung!AC76,2)","v":"2,24"},null,null,{"$f":"FIXED(Berechnung!AE76,1)","v":"2,4"},null,null,null,{"$f":"FIXED(Berechnung!AG76,1)","v":"0,0"}]
[null,{"$f":"Berechnung!M77","v":-7},null,null,{"$f":"FIXED(Berechnung!Y77,1)","v":"10,4"},null,null,null,{"$f":"FIXED(Berechnung!Z77,1)","v":"0,0"},null,null,null,{"$f":"Berechnung!AL77","v":"A-7/W55"},null,null,null,{"$f":"FIXED(Berechnung!AC77,2)","v":"2,24"},null,null,{"$f":"FIXED(Berechnung!AE77,1)","v":"4,7"},null,null,null,{"$f":"FIXED(Berechnung!AG77,1)","v":"0,0"}]
[null,{"$f":"Berechnung!M78","v":-6},null,null,{"$f":"FIXED(Berechnung!Y78,1)","v":"11,6"},null,null,null,{"$f":"FIXED(Berechnung!Z78,1)","v":"0,0"},null,null,null,{"$f":"Berechnung!AL78","v":"A-6/W55"},null,null,null,{"$f":"FIXED(Berechnung!AC78,2)","v":"2,28"},null,null,{"$f":"FIXED(Berechnung!AE78,1)","v":"5,1"},null,null,null,{"$f":"FIXED(Berechnung!AG78,1)","v":"0,0"}]
[null,{"$f":"Berechnung!M79","v":-5},null,null,{"$f":"FIXED(Berechnung!Y79,1)","v":"9,7"},null,null,null,{"$f":"FIXED(Berechnung!Z79,1)","v":"0,0"},null,null,null,{"$f":"Berechnung!AL79","v":"A-5/W55"},null,null,null,{"$f":"FIXED(Berechnung!AC79,2)","v":"2,31"},null,null,{"$f":"FIXED(Berechnung!AE79,1)","v":"4,2"},null,null,null,{"$f":"FIXED(Berechnung!AG79,1)","v":"0,0"}]
[null,{"$f":"Berechnung!M80","v":-4},null,null,{"$f":"FIXED(Berechnung!Y80,1)","v":"21,1"},null,null,null,{"$f":"FIXED(Berechnung!Z80,1)","v":"0,0"},null,null,null,{"$f":"Berechnung!AL80","v":"A-4/W55"},null,null,null,{"$f":"FIXED(Berechnung!AC80,2)","v":"2,37"},null,null,{"$f":"FIXED(Berechnung!AE80,1)","v":"8,9"},null,null,null,{"$f":"FIXED(Berechnung!AG80,1)","v":"0,0"}]
[null,{"$f":"Berechnung!M81","v":-3},null,null,{"$f":"FIXED(Berechnung!Y81,1)","v":"38,2"},null,null,null,{"$f":"FIXED(Berechnung!Z81,1)","v":"0,0"},null,null,null,{"$f":"Berechnung!AL81","v":"A-3/W55"},null,null,null,{"$f":"FIXED(Berechnung!AC81,2)","v":"2,42"},null,null,{"$f":"FIXED(Berechnung!AE81,1)","v":"15,8"},null,null,null,{"$f":"FIXED(Berechnung!AG81,1)","v":"0,0"}]
[null,{"$f":"Berechnung!M82","v":-2},null,null,{"$f":"FIXED(Berechnung!Y82,1)","v":"49,1"},null,null,null,{"$f":"FIXED(Berechnung!Z82,1)","v":"0,0"},null,null,null,{"$f":"Berechnung!AL82","v":"A-2/W55"},null,null,null,{"$f":"FIXED(Berechnung!AC82,2)","v":"2,42"},null,null,{"$f":"FIXED(Berechnung!AE82,1)","v":"20,3"},null,null,null,{"$f":"FIXED(Berechnung!AG82,1)","v":"0,0"}]
[null,{"$f":"Berechnung!M83","v":-1},null,null,{"$f":"FIXED(Berechnung!Y83,1)","v":"58,8"},null,null,null,{"$f":"FIXED(Berechnung!Z83,1)","v":"0,0"},null,null,null,{"$f":"Berechnung!AL83","v":"A-1/W55"},null,null,null,{"$f":"FIXED(Berechnung!AC83,2)","v":"2,46"},null,null,{"$f":"FIXED(Berechnung!AE83,1)","v":"23,9"},null,null,null,{"$f":"FIXED(Berechnung!AG83,1)","v":"0,0"}]
[null,{"$f":"Berechnung!M84","v":0},null,null,{"$f":"FIXED(Berechnung!Y84,1)","v":"62,3"},null,null,null,{"$f":"FIXED(Berechnung!Z84,1)","v":"0,0"},null,null,null,{"$f":"Berechnung!AL84","v":"A0/W55"},null,null,null,{"$f":"FIXED(Berechnung!AC84,2)","v":"2,49"},null,null,{"$f":"FIXED(Berechnung!AE84,1)","v":"25,0"},null,null,null,{"$f":"FIXED(Berechnung!AG84,1)","v":"0,0"}]
[null,{"$f":"Berechnung!M85","v":1},null,null,{"$f":"FIXED(Berechnung!Y85,1)","v":"64,0"},null,null,null,{"$f":"FIXED(Berechnung!Z85,1)","v":"0,0"},null,null,null,{"$f":"Berechnung!AL85","v":"A1/W55"},null,null,null,{"$f":"FIXED(Berechnung!AC85,2)","v":"2,54"},null,null,{"$f":"FIXED(Berechnung!AE85,1)","v":"25,2"},null,null,null,{"$f":"FIXED(Berechnung!AG85,1)","v":"0,0"}]
[null,{"$f":"Berechnung!M86","v":2},null,null,{"$f":"FIXED(Berechnung!Y86,1)","v":"77,7"},null,null,null,{"$f":"FIXED(Berechnung!Z86,1)","v":"0,0"},null,null,null,{"$f":"Berechnung!AL86","v":"A2/W55"},null,null,null,{"$f":"FIXED(Berechnung!AC86,2)","v":"2,59"},null,null,{"$f":"FIXED(Berechnung!AE86,1)","v":"30,0"},null,null,null,{"$f":"FIXED(Berechnung!AG86,1)","v":"0,0"}]
[null,{"$f":"Berechnung!M87","v":3},null,null,{"$f":"FIXED(Berechnung!Y87,1)","v":"81,5"},null,null,null,{"$f":"FIXED(Berechnung!Z87,1)","v":"0,0"},null,null,null,{"$f":"Berechnung!AL87","v":"A3/W55"},null,null,null,{"$f":"FIXED(Berechnung!AC87,2)","v":"2,59"},null,null,{"$f":"FIXED(Berechnung!AE87,1)","v":"31,4"},null,null,null,{"$f":"FIXED(Berechnung!AG87,1)","v":"0,0"}]
[null,{"$f":"Berechnung!M88","v":4},null,null,{"$f":"FIXED(Berechnung!Y88,1)","v":"81,3"},null,null,null,{"$f":"FIXED(Berechnung!Z88,1)","v":"0,0"},null,null,null,{"$f":"Berechnung!AL88","v":"A4/W55"},null,null,null,{"$f":"FIXED(Berechnung!AC88,2)","v":"2,62"},null,null,{"$f":"FIXED(Berechnung!AE88,1)","v":"31,0"},null,null,null,{"$f":"FIXED(Berechnung!AG88,1)","v":"0,0"}]
[null,{"$f":"Berechnung!M89","v":5},null,null,{"$f":"FIXED(Berechnung!Y89,1)","v":"98,1"},null,null,null,{"$f":"FIXED(Berechnung!Z89,1)","v":"0,0"},null,null,null,{"$f":"Berechnung!AL89","v":"A5/W55"},null,null,null,{"$f":"FIXED(Berechnung!AC89,2)","v":"2,65"},null,null,{"$f":"FIXED(Berechnung!AE89,1)","v":"37,0"},null,null,null,{"$f":"FIXED(Berechnung!AG89,1)","v":"0,0"}]
[null,{"$f":"Berechnung!M90","v":6},null,null,{"$f":"FIXED(Berechnung!Y90,1)","v":"94,1"},null,null,null,{"$f":"FIXED(Berechnung!Z90,1)","v":"0,0"},null,null,null,{"$f":"Berechnung!AL90","v":"A6/W55"},null,null,null,{"$f":"FIXED(Berechnung!AC90,2)","v":"2,72"},null,null,{"$f":"FIXED(Berechnung!AE90,1)","v":"34,6"},null,null,null,{"$f":"FIXED(Berechnung!AG90,1)","v":"0,0"}]
[null,{"$f":"Berechnung!M91","v":7},null,null,{"$f":"FIXED(Berechnung!Y91,1)","v":"96,2"},null,null,null,{"$f":"FIXED(Berechnung!Z91,1)","v":"0,0"},null,null,null,{"$f":"Berechnung!AL91","v":"A7/W55"},null,null,null,{"$f":"FIXED(Berechnung!AC91,2)","v":"2,79"},null,null,{"$f":"FIXED(Berechnung!AE91,1)","v":"34,5"},null,null,null,{"$f":"FIXED(Berechnung!AG91,1)","v":"0,0"}]
[null,{"$f":"Berechnung!M92","v":8},null,null,{"$f":"FIXED(Berechnung!Y92,1)","v":"89,6"},null,null,null,{"$f":"FIXED(Berechnung!Z92,1)","v":"0,0"},null,null,null,{"$f":"Berechnung!AL92","v":"A8/W55"},null,null,null,{"$f":"FIXED(Berechnung!AC92,2)","v":"2,79"},null,null,{"$f":"FIXED(Berechnung!AE92,1)","v":"32,2"},null,null,null,{"$f":"FIXED(Berechnung!AG92,1)","v":"0,0"}]
[null,{"$f":"Berechnung!M93","v":9},null,null,{"$f":"FIXED(Berechnung!Y93,1)","v":"96,9"},null,null,null,{"$f":"FIXED(Berechnung!Z93,1)","v":"0,0"},null,null,null,{"$f":"Berechnung!AL93","v":"A9/W55"},null,null,null,{"$f":"FIXED(Berechnung!AC93,2)","v":"2,86"},null,null,{"$f":"FIXED(Berechnung!AE93,1)","v":"33,9"},null,null,null,{"$f":"FIXED(Berechnung!AG93,1)","v":"0,0"}]
[null,{"$f":"Berechnung!M94","v":10},null,null,{"$f":"FIXED(Berechnung!Y94,1)","v":"88,9"},null,null,null,{"$f":"FIXED(Berechnung!Z94,1)","v":"0,0"},null,null,null,{"$f":"Berechnung!AL94","v":"A10/W55"},null,null,null,{"$f":"FIXED(Berechnung!AC94,2)","v":"2,93"},null,null,{"$f":"FIXED(Berechnung!AE94,1)","v":"30,3"},null,null,null,{"$f":"FIXED(Berechnung!AG94,1)","v":"0,0"}]
[null,{"$f":"Berechnung!M95","v":11},null,null,{"$f":"FIXED(Berechnung!Y95,1)","v":"99,5"},null,null,null,{"$f":"FIXED(Berechnung!Z95,1)","v":"0,0"},null,null,null,{"$f":"Berechnung!AL95","v":"A11/W55"},null,null,null,{"$f":"FIXED(Berechnung!AC95,2)","v":"3,02"},null,null,{"$f":"FIXED(Berechnung!AE95,1)","v":"33,0"},null,null,null,{"$f":"FIXED(Berechnung!AG95,1)","v":"0,0"}]
[null,{"$f":"Berechnung!M96","v":12},null,null,{"$f":"FIXED(Berechnung!Y96,1)","v":"89,6"},null,null,null,{"$f":"FIXED(Berechnung!Z96,1)","v":"0,0"},null,null,null,{"$f":"Berechnung!AL96","v":"A12/W55"},null,null,null,{"$f":"FIXED(Berechnung!AC96,2)","v":"3,11"},null,null,{"$f":"FIXED(Berechnung!AE96,1)","v":"28,8"},null,null,null,{"$f":"FIXED(Berechnung!AG96,1)","v":"0,0"}]
[null,{"$f":"Berechnung!M97","v":13},null,null,{"$f":"FIXED(Berechnung!Y97,1)","v":"82,7"},null,null,null,{"$f":"FIXED(Berechnung!Z97,1)","v":"0,0"},null,null,null,{"$f":"Berechnung!AL97","v":"A13/W55"},null,null,null,{"$f":"FIXED(Berechnung!AC97,2)","v":"3,11"},null,null,{"$f":"FIXED(Berechnung!AE97,1)","v":"26,6"},null,null,null,{"$f":"FIXED(Berechnung!AG97,1)","v":"0,0"}]
[null,{"$f":"Berechnung!M98","v":14},null,null,{"$f":"FIXED(Berechnung!Y98,1)","v":"87,7"},null,null,null,{"$f":"FIXED(Berechnung!Z98,1)","v":"0,0"},null,null,null,{"$f":"Berechnung!AL98","v":"A14/W55"},null,null,null,{"$f":"FIXED(Berechnung!AC98,2)","v":"3,17"},null,null,{"$f":"FIXED(Berechnung!AE98,1)","v":"27,6"},null,null,null,{"$f":"FIXED(Berechnung!AG98,1)","v":"0,0"}]
[null,{"$f":"Berechnung!M99","v":15},null,null,{"$f":"FIXED(Berechnung!Y99,1)","v":"78,9"},null,null,null,{"$f":"FIXED(Berechnung!Z99,1)","v":"0,0"},null,null,null,{"$f":"Berechnung!AL99","v":"A15/W55"},null,null,null,{"$f":"FIXED(Berechnung!AC99,2)","v":"3,23"},null,null,{"$f":"FIXED(Berechnung!AE99,1)","v":"24,4"},null,null,null,{"$f":"FIXED(Berechnung!AG99,1)","v":"0,0"}]
[null,{"$f":"Berechnung!M100","v":16},null,null,{"$f":"FIXED(Berechnung!Y100,1)","v":"73,5"},null,null,null,{"$f":"FIXED(Berechnung!Z100,1)","v":"0,0"},null,null,null,{"$f":"Berechnung!AL100","v":"A16/W55"},null,null,null,{"$f":"FIXED(Berechnung!AC100,2)","v":"3,30"},null,null,{"$f":"FIXED(Berechnung!AE100,1)","v":"22,2"},null,null,null,{"$f":"FIXED(Berechnung!AG100,1)","v":"0,0"}]
[null,{"$f":"Berechnung!M101","v":17},null,null,{"$f":"FIXED(Berechnung!Y101,1)","v":"76,3"},null,null,null,{"$f":"FIXED(Berechnung!Z101,1)","v":"0,0"},null,null,null,{"$f":"Berechnung!AL101","v":"A17/W55"},null,null,null,{"$f":"FIXED(Berechnung!AC101,2)","v":"3,37"},null,null,{"$f":"FIXED(Berechnung!AE101,1)","v":"22,6"},null,null,null,{"$f":"FIXED(Berechnung!AG101,1)","v":"0,0"}]
[null,{"$f":"Berechnung!M102","v":18},null,null,{"$f":"FIXED(Berechnung!Y102,1)","v":"66,4"},null,null,null,{"$f":"FIXED(Berechnung!Z102,1)","v":"0,0"},null,null,null,{"$f":"Berechnung!AL102","v":"A18/W55"},null,null,null,{"$f":"FIXED(Berechnung!AC102,2)","v":"3,37"},null,null,{"$f":"FIXED(Berechnung!AE102,1)","v":"19,7"},null,null,null,{"$f":"FIXED(Berechnung!AG102,1)","v":"0,0"}]
[null,{"$f":"Berechnung!M103","v":19},null,null,{"$f":"FIXED(Berechnung!Y103,1)","v":"51,4"},null,null,null,{"$f":"FIXED(Berechnung!Z103,1)","v":"0,0"},null,null,null,{"$f":"Berechnung!AL103","v":"A19/W55"},null,null,null,{"$f":"FIXED(Berechnung!AC103,2)","v":"3,42"},null,null,{"$f":"FIXED(Berechnung!AE103,1)","v":"15,0"},null,null,null,{"$f":"FIXED(Berechnung!AG103,1)","v":"0,0"}]
[null,{"$f":"Berechnung!M104","v":20},null,null,{"$f":"FIXED(Berechnung!Y104,1)","v":"46,4"},null,null,null,{"$f":"FIXED(Berechnung!Z104,1)","v":"0,0"},null,null,null,{"$f":"Berechnung!AL104","v":"A20/W55"},null,null,null,{"$f":"FIXED(Berechnung!AC104,2)","v":"3,47"},null,null,{"$f":"FIXED(Berechnung!AE104,1)","v":"13,4"},null,null,null,{"$f":"FIXED(Berechnung!AG104,1)","v":"0,0"}]
[null,{"$f":"Berechnung!M105","v":"> 20"},null,null,{"$f":"FIXED(Berechnung!Y105,1)","v":"176,3"},null,null,null,{"$f":"FIXED(Berechnung!Z105,1)","v":"0,0"},null,null,null,{"$f":"Berechnung!AL105","v":"A20/W55"},null,null,null,{"$f":"FIXED(Berechnung!AC105,2)","v":"3,51"},null,null,{"$f":"FIXED(Berechnung!AE105,1)","v":"50,2"},null,null,null,{"$f":"FIXED(Berechnung!AG105,1)","v":"0,0"}]
[null,null,null,null,{"$f":"FIXED(Berechnung!Y106,0)","v":"2.076"},null,null,null,{"$f":"FIXED(Berechnung!Z106,0)","v":"0"},null,null,null,null,null,null,null,{"$f":"IF(Berechnung!AE106=0,\"---\",FIXED(Berechnung!Y106/Berechnung!AE106,2))","v":"2,88"},null,null,{"$f":"FIXED(Berechnung!AE106,0)","v":"720"},null,null,null,{"$f":"FIXED(Berechnung!AG106,0)","v":"0"}]
[]
[]
[]
[]
[null,{"$f":"Translation!A185","v":"Energy costs"}]
[]
[]
[null,{"$f":"Translation!A185","v":"Energy costs"},null,null,null,null,null,null,null,{"$f":"Berechnung!$D$190","v":"1.187 €/a"}]
[null,{"$f":"Translation!$A$22","v":"Heating"},null,null,null,null,null,null,null,{"$f":"IF(ISERROR(Berechnung!C182),\" ---\",FIXED(Berechnung!C182,0)&\" \"&Translation!A223)","v":"1.043 €/a"}]
[null,{"$f":"Translation!$A$23","v":"Warm water"},null,null,null,null,null,null,null,{"$f":"IF(ISERROR(Berechnung!C183),\" ---\",FIXED(Berechnung!C183,0)&\" \"&Translation!A223)","v":"144 €/a"}]
[null,{"$f":"Translation!A242","v":"Ventilation"},null,null,null,null,null,null,null,{"$f":"IF(ISERROR(Berechnung!N208),\" ---\",FIXED(Berechnung!N208,0)&\" \"&Translation!A223)","v":"0 €/a"}]
[null,{"$f":"Translation!A35","v":"Heat pump"},null,null,null,null,null,null,null,{"$f":"IF(ISERROR(Berechnung!C180),\" ---\",FIXED(Berechnung!C180,0)&\" \"&Translation!A223)","v":"1.174 €/a"}]
[null,{"$f":"Translation!A55","v":"2nd heat source"},null,null,null,null,null,null,null,{"$f":"IF(ISERROR(Berechnung!C181),\" ---\",FIXED(Berechnung!C181,0)&\" \"&Translation!A223)","v":"13 €/a"}]
[null,{"$f":"Berechnung!P166","v":"HP-electricity: 20,0 Ct/kWh   |   Household electricity: 26,0 Ct/kWh   |   Oil/Gas: 6,5 Ct/kWh"}]
[]
[]
[]
[null,null,null,null,null,{"$f":"Berechnung!$P$141","v":"Heat pump"}]
[null,null,null,null,null,{"$f":"Berechnung!$P$142","v":"2nd heat source"}]
[]
[]
[]
[]
[]
[]
[]
[]
[null,null,null,null,null,{"$f":"Translation!A22","v":"Heating"},null,null,null,{"$f":"Translation!A23","v":"Warm water"},null,null,null,null,null,{"$f":"Translation!A242","v":"Ventilation"}]
[]
[]
[]
[]
[]
[]
[]
[]
[]
[]
[]
[]
[]
[]
[]
[]
[]
[]
[]
[]
[]
[]
[]
[]
[]
[]
[null,{"$f":"Translation!A116","v":"Climate data"}]
[]
[]
[null,{"$f":"B55&\" | \"&B56","v":"Country | City"},null,null,null,null,null,null,null,{"$f":"Berechnung!K5&\" | \"&Berechnung!L5","v":"Germany | Holzminden"}]
[null,{"$f":"B61","v":"Heating treshold"},null,null,null,null,null,null,null,{"$f":"Berechnung!N5","v":"12 °C | New building"}]
[null,{"$f":"Translation!A121","v":"Annual heating days"},null,null,null,null,null,null,null,{"$f":"Berechnung!C129","v":"216 days/year"}]
[null,{"$f":"Translation!A123&\" 0°C\"","v":"Yearly hours < 0°C"},null,null,null,null,null,null,null,{"$f":"Berechnung!C131","v":"1.177"}]
[null,{"$f":"Translation!$A$123&\" -5 °C\"","v":"Yearly hours < -5 °C"},null,null,null,null,null,null,null,{"$f":"Berechnung!C132","v":"209"}]
[null,{"$f":"Translation!A116&\" Meteonorm 1995-2005\"","v":"Climate data Meteonorm 1995-2005"}]
[]
[null,null,null,null,{"$f":"Berechnung!Q141","v":"Yearly hours with temperature"}]
[null,null,null,null,{"$f":"Berechnung!Q142","v":"Sum of yearly hours with temperatures < outside temperature"}]
[]
[]
[]
[]
[]
[]
[]
[]
[]
[]
[]
[]
[]
[]
[]
[]
[]
[]
[]
[]
[]
[]
[]
[]
[]
[]
[]
[]
[]
[]
[]
[]
[]
[]
[]
[]
[]
[]
[]
[]
[]
[]
[]
[]
[]
[]
[]
[]
[]
[]
[]
[]
[]
[]
[]
[]
[]
[]
[]
[]
[]
[]
[]
[]
[]
[]
[]
[]
[]
[]
[]
[]
[]
[]
[]
[]
[]
[]
[]
[]
[]
[]
[]
[]
[]
[]
[]
[]
[null,{"$f":"Translation!A138","v":"Legal note"}]
[]
[null,{"$f":"Translation!A139","v":"Stiebel Eltron shall not provide any guarantees that the information, values and data provided, or values, information and recommendations determined with the aid or on the basis of such information, values and data, are complete, accurate, correct or current in every respect.\nStiebel Eltron shall reserve the right to make changes to the data, values and information provided at any time and without prior notification.\nErrors excepted. Subject to changes.\nNone of the information, values and data provided or the values, information and recommendations determined with the aid or on the basis of such information, values and data constitutes any basis for a financial decision or for any other purpose, but rather is merely initial non-binding information as an initial guide.\nUnder no circumstances should the following design tool be considered a substitute for consultation with Stiebel Eltron or another authorised expert engineer.\nPlease contact Stiebel Eltron or another authorised expert engineer in relation to specific project design.\nStiebel Eltron shall accept no liability for losses of any kind that may arise from the use of information, values and data provided, or values, information and recommendations determined with the aid or on the basis of such information, values and data. This exclusion of liability shall not apply if the loss is due to intent or gross negligence on the part of Stiebel Eltron or in the event of a fatality, physical injury or damage to health.\n"}]

{"sheet":"Druckauswahl","index":4,"n_rows":18,"n_cols":11,"rows_kept":18,"cut":false,"hidden":true,"merged":[[3,10,3,12],[16,7,18,7],[3,2,3,4],[3,6,3,8],[14,2,14,4],[14,6,14,8]]}
[]
[null,null,{"$f":"Translation!A131","v":"Select printout"}]
[]
[null,null,{"$f":"Translation!$A$10","v":"Project"},null,null,null,{"$f":"Translation!A17","v":"Customer"},null,null,null,{"$f":"Translation!A131","v":"Select printout"}]
[null,null,null,{"$f":"Translation!$A$11","v":"Name"},null,null,null,{"$f":"Translation!$A$11","v":"Name"}]
[]
[null,null,null,{"$f":"Translation!$A$12","v":"Street"},null,null,null,{"$f":"Translation!$A$12","v":"Street"}]
[]
[null,null,null,{"$f":"Translation!$A$13","v":"Postcode/Town"},null,null,null,{"$f":"Translation!$A$13","v":"Postcode/Town"}]
[]
[null,null,null,{"$f":"Translation!$A$14","v":"Phone"},null,null,null,{"$f":"Translation!$A$14","v":"Phone"}]
[]
[]
[]
[null,null,{"$f":"Translation!$A$9","v":"Project data"},null,null,null,{"$f":"Translation!$A$18","v":"Notes"}]
[null,null,null,{"$f":"Translation!A15","v":"Project.-Nr."}]
[]
[null,null,null,{"$f":"Translation!A16","v":"Processed by"}]

{"sheet":"Translation","index":5,"n_rows":251,"n_cols":14,"rows_kept":251,"cut":false,"hidden":true,"merged":[]}
[]
["English","Deutsch","English","Holländisch","Französisch","Finnisch","Spanish","Slovak","Dansk","Litauisch","Latviski","Italienisch","Hungarian","Nowegisch"]
["en_DE","de_DE","en_DE","nl_NL","fr_BE","fi_FI","en_DE","sk_SK","da_DK","en_DE","en_DE","it_AT","en_DE","no_NO"]
["Layout heat pump","Auslegung Wärmepumpe","Layout heat pump","Keuze warmtepomp","dimennsionnement pompes à chaleur","Lämpöpumpun energialaskelmat","Manual de la bomba de calor","Špecifikácia tepelného čerpadla","Dimensionering af varmepumpe","Šilumos siurblio sistema","Siltumsūkņu sistēma","Dimensionamento sistema in pompa di calore","Hőszivattyú kiválasztás","Dimensjonering varmepumpe"]
["The fast and easy way to generate a detailed specification","Mit wenigen Klicks zum idealen Wärmepumpensystem","The fast and easy way to generate a detailed specification","In enkele stappen naar de juiste warmtepomp","The fast and easy way to generate a detailed specification","Nopea ja helppo tapa laatia yksityiskohtainen mitoitus","The fast and easy way to generate a detailed specification","Rýchly a jednoduchý spôsob, ako vytvoriť podrobnú špecifikáciu.","Den lette vej til den rigtige varmepumpe","Keli žingsniai tinkamo šilumos siurblio parinkimui","Ātra un viegla sistēmas specifikācija!","Il modo facile e veloce per definire il sistema in pompa di calore più adatto alle proprie esigenze","Pár lépés a megfelelő hőszivattyú kiválasztásához","Velg riktig varmepumpesystem med noen få klikk"]
["Back","Zurück","Back","Terug","retour","Takaisin","atrás/anterior","Späť","Tilbage","Atgal","Atpakaļ","Indietro","Vissza","Tilbake"]
["Back to main window","Zurück zur Auswahl","Back to main window","Terug","retour","Takaisin","atrás/anterior","Späť","Tilbage til hovedskærmbillede","Atgal","Atpakaļ","Indietro","Vissza a kiválasztáshoz","Retur til hovedvindu"]
[]
["Project data","Projektdaten","Project data","Projectdata","Données du projet","Projektin tiedot","data del proyecto","Informácie o projekte","Projekt data","Projekto duomenys","Projekta dati","Dati del progetto","Projekt adatok","Prosjektinfo"]
["Project","Bauvorhaben","Project","Project","Projet","Projekti","proyecto","Projekt","Projekt","Statinys/pastatas","Projekts","Progetto","Projekt adatok","Prosjekt"]
["Name","Name","Name","Naam ","Nom","Nimi","nombre","Meno","Navn","Vardas, pavardė","Nosaukums | Vārds","Nominativo","Név","Navn"]
["Street","Straße","Street","Straat","Rue","Katuosoite","calle","Ulica","Gade","Gatvė","Iela","Via","Utca","Gate"]
["Postcode/Town","PLZ/Ort","Postcode/Town","Postcode/ Plaats","code postal/Ville","Postinumero- ja toimipaikka","codigo postal/localidad","PSČ/Mesto","Postnr./By","Pašto kodas/Vietovė","Pasta indekss","CAP/Città","Irányítószám/Helyiség","Postnr./by"]
["Phone","Telefon","Phone","Telefoon","Téléphone","Puhelinnumero","teléfono","Telefón","Telefon","Telefonas","Tālrunis","Telefono","Telefonszám","Telefon"]
["Project.-Nr.","Projekt.-Nr.","Project.-Nr.","Project.-Nr.","Project.-Nr.","Projektinumero","Project.-Nr.","Projekt č.","Projekt-nr.","Projekto Nr. ","Projekta numurs","Progetto-N°","Projekt szám","Prosjekt.-Nr"]
["Processed by","Bearbeiter","Processed by","Gemaakt door","Réalisé par","Laatija","procesado por","Spracované","Udført af","Pasiūlymą pateikė","Izstrādājis","Elaborato da","Kivitelező","Utarbeidet av"]
["Customer","Auftraggeber","Customer","Opdrachtgever","Client","Asiakas","cliente","Zákazník","Kunde","Užsakovas","Klients | Partneris","Cliente","Megbízó","Kunde"]
["Notes","Bemerkungen","Notes","Notes","Notes","Muistiinpanot","Notes","Poznámky","Bemærkninger","Pastabos","Pieraksti","Note","Megjegyzés","Notater"]
["reset values","Projektdaten zurücksetzen","reset values","Beginwaarden","Réinitialiser les valeurs","Tyhjennä kentät","restablecer valores","vymazať kolónky","Nulstil værdier","Skaičiuoti iš naujo","Pamatiestatījumi","Reset valori","Projekt adatok visszaállítása","Tilbakestill verdier"]
[]
["Heat pump finder","WP-Schnellauswahl","Heat pump finder","Snelkeuze warmtepomp","Heat pump finder","Lämpöpumppuvalitsin","Heat pump finder","Rýchly výber tepelného čerpadla","Varmepumpevælger","Greitas šilumos siurblio pasirinkimas","Siltumsūkņu meklētājs","Trova pompa di calore","Hőszivattyú gyorskiválasztás","Varmepumpe velger"]
["Heating","Heizung","Heating","Verwarming","Heating","Lämmitys","Heating","Vykurovanie","Varme","Šildymas","Apkure","Riscaldamento","Fűtés","Varme"]
["Warm water","Warmwasser","Warm water","Warm water","Warm water","Käyttövesi","Warm water","Teplá voda","Varmtvand","Karštas vanduo","Karstais ūdens","Acqua calda","Melegvíz","Varmtvann"]
["Solar","Solar","Solar","Solar","Solar","Aurinko","Solar","Solár","Solar","Saulė","Saule","Solare","Szolár","Solvarme"]
["Ventilation","Lüftung","Ventilation","Ventilatie","Ventilation","Ilmanvaihto","Ventilation","Ventilácia","Ventilation","Vėdinimas","Vēdināšana","Ventilazione","Szellőzés","Ventilasjon"]
["Cooling","Kühlung","Cooling","Koeling","Cooling","Viilennys","Cooling","Chladenie","Kølling","Vėsinimas","Dzesēšana","Raffrescamento","Hűtés","Kjøling"]
["Installation","Aufstellung","Installation","Installatie","Installation","Asennuspaikka","Installation","Inštalácia","Installationssted","Montavimas","Iekārtas tips","Installazione","Elhelyezés","Oppstilling"]
["Internal","Innenaufstellung","Internal","Intern","Internal","Sisällä","Internal","Vnútorná","Indendørs Installation","Vidinė instaliacija","Iekštelpu","Interna","Belső elhelyezés","Utendørs"]
["External","Außenaufstellung","External","Extern","External","Ulkona","External","Vonkajšia","Udendørs Installation","Lauko instaliacija","Ārtelpu","Esterna","Külső elhelyezés","Innendørs"]
["Show all","Alle anzeigen","Show all","Alles tonen","Show all","Näytä kaikki","Show all","Ukáž všetko","Vis alt","Rodyti viską","Rādīt visus","Mostra tutto","Minden megmutatása","Vis alle"]
["Estimated assumption dosen't replace a detailed calculation,Heating threshold -15°C, Calculation without switch off time, Heat source air: monoenergetic operation, Bivalence point -3°C…-7°C, Heat Source Brine/Well Water monovalent operation","Überschlägige Auslegung, ersetzt nicht die detaillierte Dimensionierung\nFür Heizgrenztemperatur -15°C, Berechnung ohne EVU-Sperrzeiten\nWärmequelle Luft: monoenergetischer Betrieb, Bivalenzpunkt -3°C…-7°C\nWärmequelle Erdreich/Grundwasser: monovalenter Betrieb","Estimated assumption dosen't replace a detailed calculation,Heating threshold -15°C, Calculation without switch off time, Heat source air: monoenergetic operation, Bivalence point -3°C…-7°C, Heat Source Brine/Well Water monovalent operation","Ruwe interpretatie, geen vervanging van de gedetailleerde calculatie, Verwarmingsdrempel -15°C. Berekening zonder uitschakeltijd, Warmtebron lucht: mono-energetische werking, bivalentiepunt -3 ° C ... -7 ° C. Warmtebron collector/grondwater: Monovalent bedrijf."," ",null," ","Približný návrh nenahrádza podrobné dimenzovanie                                                     pre vykurvanie -15 °C, bez započítania HDO výpadku,                                                   Vzduch ako zdroj tepla: monoenergetická prevádzka, bivalnetný bod -3°C…-7°C             Zem/voda ako zdroj tepla: monovalentná prevádzka","Overslagsberegning, erstatter ikke den detaljerede dimensionering.\nFor varmegrænse temperatur -15 ° C, beregning uden maks. spærretid\nVarmekilde luft: Monoenergetisk drift, bivalenspunkt -3 ° C... -7 ° C\nVarmekilde Jordvarme / grundvand: Monovalent drift","Bendras išankstinis pasiūlymas negali pakeisti detalaus projektavimo: Ribinės šildymo temperatūros -15C. Šilumos šaltinis oras : monoenerginis veikimas ,bivalentinis taškas -3 C ... -7 C.  Šilumos šaltinis gruntas/ gruntiniai vandenys: monovalentinis veikimas","Esošās aplēses neaizstāj detalizētu aprēķinu, Apkures 5 dienu zemāko temperatūru slieksni -21°C, aprēķini bez sistēmas dīkstāves.\nApkures avots Gaiss: monoenerģētiska darbība, bivalences punkts -7°C....-12°C\nApkures avots Zeme | Aka: monovalenta darbība","Una stima preliminare non può sostituire un calcolo esecutivo, Soglia di ricaldamento -15°C, Calcolo senza tempo di spegimento; Sistemi ad aria: funzionamento monoenergetico, punto di bivalenza -3°C…-7°C, Sorgente geotermica / acqua di falda: funzionamento monovalente","Megközelítő kiválasztás, nem helyettesíti a pontos méretezést. A méretezési külső hőmérséklet -15°C\na szolgáltatói zárásidő nincs figyelembe véve.\nLevegő, mint hőforrás esetén: monoenergetikus üzemmód, bivalenciapont -3°C…-7°C\nTalajvíz illetve talaj, mint hőforrás esetén: monovalens üzemmód\n","Estimert overslag erstatter ikke en detaljert prosjektering. For temperaturer under -15°C beregnes uten sperretider. Med varmekilde uteluft mono-energetisk drift, bivalens punkt -3°C…..-7°C. Varmekilde berg med monvalent drift."]
[]
["Selection","Auswahl","Selection","Selectie","Choix","Valinnat","selección","Výber","Valg","Pasirinkimas","Izvēle","Selezione","Kiválasztás","Valg"]
["Heat demand building","Gebäudeheizlast","Heat demand building","Warmteverlies gebouw","Puissance du bâtiment","Rakennuksen lämmöntarve","demanda térmica del edificio","Tepelná strata ","Bygningens varmebehov","Pastato šilumos galios poreikis","Ēkas siltumslodze","Fabbisogno termico dell'edificio","Épület hőszükséglete","Varmebehov bygg"]
["Heat pump","Wärmepumpe","Heat pump","Warmtepomp","Pompe à Chaleur","Lämpöpumppu","bomba de calor","Tepelné čerpadlo","Varmepumpe","Šilumos siurblys","Siltumsūknis","Pompa di calore","Hőszivattyú","Varmepumpe"]
["Heat source","Wärmequelle","Heat source","Bron","source de chaleur","Lämmönlähde","fuente de calor","Zdroj tepla","Energikilde","Šilumos šaltinis","Siltuma avots","Sorgente di calore","Hőforrás","Varmkilde"]
["Air","Außenluft","Air","Buitenlucht","air","Ilma","aire","Vzduch","Luft","Lauko oras","Gaiss","Aria","Levegő","Uteluft"]
["Brine","Erdreich","Brine","Horizontale bodemcollector","sol","Liuos","agua glicolada ","Zem","Brine","Gruntas","Zeme","Acqua glicolata","Talaj","Berg/jord"]
["Water","Grundwasser","Water","Grondwater","eau","Muu","agua","Podzemná voda","Grundvand","Gruntiniai vandenys","Ūdens","Acqua","Talajvíz","Vann"]
["Quantity","Anzahl","Quantity","Aantal","Nombre","Määrä","cantidad ","Množstvo","Mængde","Kiekis","Skaits","Quantità","Darabszám","Antall"]
["Type","Typ","Type","Type","Type","Laite","tipo ","Typ","Type","Tipas","Tips","Tipo","Tipus","Type"]
["Operating mode","Betriebsweise","Operating mode","Werkwijze","mode de fonctionnement","Käyttötapa","Modo de operación","Prevádzka","Driftstype","Veikimo būdas","Darbības režīms","Modalità di funzionamento","Üzemmód","Driftsmodus"]
["Dual-mode point","Bivalenzpunkt","Dual-mode point","Bivalentiepunt","bivalence","Rinnakkaispiste","Punto bivalente","Bivalentný bod","Bivalenspunkt","Bivalentinis taškas","Bivalenta darbība","Punto di bivalenza","Bivalenciapont","Bivalenspunkt"]
["Switch-Off point","Abschaltpunkt","Switch-Off point","Afschakeling","point d'arrêt","Keskeytyspiste","punto de parada ","Switch-Off point","Switch-Off point","Išjungimo momentas","Bivalenta darbība","Switch-Off point","Switch-Off point","Grenseverdi f. stopp"]
["Monovalent","Monovalent","Monovalent","Monovalent","monovalent","Monovalentti (täystehoinen)","monovalente","Monovalent","Monovalent","Monovalentinis","Monovalenta","Monovalente","Monovalens","Monovalent"]
["Mono-mode","Monovalenter Betrieb","Mono-mode","Monovalent","monovalent","Monovalentti (täystehoinen)","mono modo","Monovalentná prevádzka","Monovalent drift","Monovalentinis veikimas","Mono-darbība","Monovalente","Monovalens üzem","Monovalent drift"]
["Monoenergetic","Monoenergetisch","Monoenergetic","Monoenergetisch","mono-énergétique","Monoenerginen (LP + sähkövastus)","monoenergético","Monoenergetická","Monoenergetisk","Monoenerginis","Monoenerģētiska","Monoenergetico","Monoergiás üzem","Monoenergetisk"]
["Bivalent-parallel with SBP-Gas","Bivalent-Parallel mit SBP-Gas","Bivalent-parallel with SBP-Gas","Bivalent-parallel SBP-Gas","Bivalent-parallel with SBP-Gas","Bivalenttinen-rinnakkainen SBP-G","Bivalent-parallel with SBP-Gas","Bivalentná-paralelná s SBP-plynovým","Bivalent-parallel med SBP-Gas","Bivalentinis-lygiagretus su susk.dujomis","Bivalenta-paralēla ar SBP-Gāze","Con SBP e caldaia a gas metano (parallelo)","Bivalens Párhuzamos SBP-Gáz tárolóval","Bivalent parallel med gass"]
["Bivalent-alternativ with SBP-Gas","Bivalent-Alternativ mit SBP-Gas","Bivalent-alternativ with SBP-Gas","Bivalent-alternatief SBP-Gas","Bivalent-alternativ with SBP-Gas","Bivalenttinen-vaihtoehtoinen SBP-G","Bivalent-alternativ with SBP-Gas","Bivalentná-alternatívna s SBP-plynovým","Bivalent-alternativ med SBP-Gas","Bivalentinis-lalternatyvus su susk.dujomis","Bivalenta-alternatīva ar SBP-Gāze","Con SBP e caldaia a gas metano (alternativo)","Bivalens Alternatív SBP-Gáz tárolóval","Bivalent alternativ med gass"]
["Bivalent-parallel with oil/gas","Bivalent-Parallel mit Öl/Gas","Bivalent-parallel with oil/gas","Bivalent-parallel Olie/Gas","Bivalent-parallel with oil/gas","Bivalenttinen-rinnakkainen öljy/kaasu","Bivalent-parallel with oil/gas","Bivalentná-paralelná s plynovým kotlom","Bivalent-parallel olie/gas","Bivalentinis - lygiagretus kuro/dujų","Bivalenta-paralēla ar dīzeli/gāzi","Bivalente-parallelo with gasolio / gas metano","Bivalens Párhuzamos Olaj/Gáz","Bivalent parallel med oljekjel"]
["Bivalent-parallel with electricity","Bivalent-Parallel mit Strom","Bivalent-parallel with electricity","Bivalent-parallel stroom","Bivalent-parallel with electricity","Bivalenttinen-rinnakkainen sähkö","Bivalent-parallel with electricity","Bivalentná-paralelná s elektrokotlom","Bivalent-parallel strøm","Bivalentinis - lygiagretus Elektra","Bivalenta-paralēla ar elektrību","Bivalente-parallelo with elettricità","Bivalens Párhuzamos Elektromos","Bivalent parallell med elektrisk"]
["Bivalent-alternativ with oil/gas","Bivalent-Alternativ mit Öl/Gas","Bivalent-alternativ with oil/gas","Bivalent-alternatief Olie/Gas","Bivalent-alternativ with oil/gas","Bivalenttinen-vaihtoehtoinen öljy/kaasu","Bivalent-alternativ with oil/gas","Bivalentná-alternatívna s plynovým kotlom","Bivalent-alternativ olie/gas","Bivalentinis - alternatyvus kuro/dujų","Bivalenta-alternatīva ar dīzeli/gāzi","Bivalente-alternativo with gasolio / gas metano","Bivalens Alternatív Olaj/Gáz","Bivalent alternativ med olje/gass"]
["Bivalent-part priority mode","Bivalent-Teilparallel mit Öl/Gas","Bivalent-part priority mode","Bivalent-gedeeltelijk parallel Olie/Gas","bivalent-parallèle partiel","Bivalentti/osittain etusijainen käyttö","Modo prioritario parte bivalente ","Bivalentná - čiastočná","Bivalent-delvist prioriteret","Bivalentinis-dalinis prioritetas ","Bivalenti - daļēji prioritāri","Priorità nella zona di bivalenza","Bivalens Részpárhuzamos Olaj/Gáz","Bivalent-delt prioritert modus"]
["Heating Capacity","Heizleistung","Heating Capacity","Verwarmingscapaciteit","capacité de chauffe","Lämpöteho","Capacidad de calefacción","Potreba tepla","Varmeeffekt","Šildymo galia","Siltumslodze","Capacità di riscaldamento","Fűtési teljesítmény","Varmekapasitet"]
["2nd heat source","2. Wärmeerzeuger","2nd heat source","Additioneel toestel","2ième source de chaleur","2. lämmöntuottaja","segunda fuente de calor","Druhý zdroj","2. varmekilde","2-inis šilumos šaltinis","2-ais siltumavots","Seconda sorgente di calore","2. Hőtermelő","Tilskudds varme"]
["Forward flow temperature","Vorlauftemperatur","Forward flow temperature","Aanvoertemperatuur","température de départ","Menovirtauslämpötila","Temperatura de impulsión","Výstupná teplota","Fremløbstemperatur","Tiekiamo srauto temperatūra","Turpgaitas temperatūra","Temperatura di mandata","Előremenő hőmérséklet","Turløpstemperatur"]
["Switch off time","EVU-Sperrzeiten","Switch off time","EVU-Spertijden","interdiction tarifaire journalière","Keskeytystilat","tiempo de parada ","Doba HDO","Spærretid","Elektros tinklų išjungimo laikas","Elektrotīkla atslēgšana","Tempo di spegnimento","GEO zárásidő","Sperretider"]
["No switch off times","Keine Sperrzeiten","No switch off times","Geen spertijden","pas d'interdiction tarifaire journalière","Ei keskeytystiloja","tiempo de parada no existente","Žiadne HDO","Antal spærringer","Išjungimo laikų nėra","Bez elektrotīkla atslēgšanas","Senza tempi di spegnimento","Nincs zárásidő","Ingen sperretider"]
["h/day","Stunde pro Tag","h/day","u/Dag","h/jour","h/päivä","horas/día (h/día)","h/deň","timer/dag","Valanda per dieną","stundas dienā","ore/giorno","Óra/nap","Timer daglig"]
["h/day","Stunden pro Tag","h/day","u/Dag","h/jour","h/päivä","horas/día (h/día)","h/deň","timer/dag","Valandos per dieną","stundas dienā","ore/giorno","Óra/nap","Timer pr. dag"]
["Building","Gebäude","Building","Gebouw","bâtiment","Rakennus","construcción / edificio","Budova","Bygning","Pastatas","Ēka","Edificio","Épület","Bygning"]
["Country","Land","Country","Land","Pays","Maa","país","Krajna","Land","Šalis","Valsts","Nazione","Ország","Land"]
["Country selection","Auswahl Land","Country selection","Land selectie","Choix du pays","Maan valinta","selección de país","Výber krajny","Valg af Land","Šalies pasirinkimas","Valsts izvēle","Selezione nazione","Ország kiválasztása","Velg land"]
["Germany","Deutschland","Germany","Duitsland","Allemagne","Saksa","Alemania","Nemecko","Tyskland","Vokietija","Vācija","Germania","Németország","Tyskland"]
["Austria","Österreich","Austria","Oostenrijk","Autriche","Itävalta","Austria","Rakúsko","Østrig","Austrija","Austrija","Austria","Ausztria","Østerrike"]
["Switzerland","Schweiz","Switzerland","Zwitserland","Suisse","Sveitsi","Suiza","Švajčiarsko","Schweiz","Šveicarija","Šveice","Svizzera","Svájc","Sveits"]
["Great Britain","Großbritannien","Great Britain","Engeland","Grande-Bretagne","Iso-Britannia","Gran Bretaña","Veľká Británia","Storbritannien","Didžioji Britanija","Lielbritānija","Gran Bretagna","Anglia","Stor-Britannia"]
["Netherlands","Niederlande","Netherlands","Nederland","Pays-Bas","Alankomaat","Holanda ","Holandsko","Holland","Olandija","Nīderlande","Paesi Bassi","Hollandia","Nederland"]
["Italy","Italien","Italy","Italie","Italie","Italia","Italia","Taliansko","Italien","Italija","Itālija","Italia","Olaszország","Italia"]
["Finland","Finnland","Finland","Finland ","Finlande","Suomi","Finlandia","Fínsko","Finland","Suomija","Somija","Finlandia","Finnország","Finland"]
["Norway","Norwegen","Norway","Norway","Norway","Norja","Norway","Norway","Norway","Norvegija","Norway","Norway","Norway","Norge"]
["Spain","Spanien","Spain","Spanje","Espagne","Espanja","Espana","Španielsko","Spanien","Ispanija","Spānija","Spagna","Spanyolország","Spania"]
["Near East","Naher Osten","Near East","Midden Oosten","Proche-Orient","Lähi-Itä","Cercano Oriente","Blízky Východ","Mellemøsten","Artimieji rytai","Tuvie austrumi","Vicino Oriente","Közel-kelet","Fjerne Østen"]
["Morocco","Marokko","Morocco","Morocco","Morocco","Marokko","Marruecos","Maroko","Marokko","Marokas","Maroka","Marocco","Marokkó","Marocco"]
["Russia","Russland","Russia","Russia","Russia","Russia","Russia","Rusko","Rusland","Rusija","Krievija","Russia","Oroszország","Russland"]
["Bosnia-Herzegovina","Bosnien-Herzegowina","Bosnia-Herzegovina","Bosnie-Herzegovina","Bosnia-Herzegovina","Bosnia ja Hertsegovina","Bosnia-Herzegovina","Bosna a Hercegovina","Bosnien-Herzegovina","Bosnija-Hercegovina","Bosnija-Hercegovina","Bosnia-Erzegovina","Bosznia-Hercegovina","Bosnia-Herzegovina"]
["Slovakia","Slovakei","Slovakia","Slovakia","Slovaquie","Slovakia","Slovakia","Slovensko","Slovakiet","Slovakija","Slovākija","Repubblica Slovacca","Szlovákia","Slovakia"]
["Latvia","Lettland","Latvia","Letland","Lettonie","Latvia","Letonia","Lotyšsko","Letland","Latvija","Latvija","Lettonia","Lettország","Latvia"]
["Hungary","Ungarn","Hungary","Hongarije","Hongrie","Unkari","Hungria","Mad'arsko","Ungarn","Vengrija","Ungārija","Ungheria","Magyarország","Ungarn"]
["Denmark","Dänemark","Denmark","Denemarken","Danemark","Tanska","Dinamarca","Dánsko","Danmark","Danija","Dānija","Danimarca","Dánia","Danmark"]
["Namibia","Namibia","Namibia","Namibië","Namibia","Namibia","Namibia","Namibia","Namibia","Namibija","Namībija","Namibia","Namíbia","Namibia"]
["Lithuania","Litauen","Lithuania","Litouwen","Lituanie","Liettua","Lituania","Litva","Litauen","Lietuva","Lietuva","Lituania","Litvánia","Litauen"]
["Belgium","Belgien","Belgium","Belgium","Belgium","Belgia","Belgium","Belgicko","Belgien","Belgija","Beļģija","Belgium","Belgium","Belgia"]
["Europe","Europa","Europe","Europa","Europe","Eurooppa","Europa","Európa","Europa","Europa","Eiropa","Europa","Európa","Europa"]
["City","Stadt","City","Locatie","lieu","Sijainti","Ciudad","Mesto","By","Miestas","Pilsēta","Città","Város","By"]
[]
["Heating treshold","Heizgrenze","Heating treshold","Verwarmingsgrens","Limite de chauffage","Lämmityskynnys","umbral de calefacción","Hranice vykurovania","Varmegrænse","Šildymo sezono pradžia  ","Apkures robeža","Soglia di riscaldamento","Fűtési határhőmérséklet","Start oppvarming"]
["Building type","Gebäudeart","Building type","Gebouwtype","Type de bâtiment","Rakennustyyppi","Construcción tipo","Typ budovy","Bygningstype","Pastato tipas","Ēkas tips","Tipologio di edificio","Épület típusa","Bygningstype"]
["New building","Neubau EnEV 2014","New building","Nieuwbouw EnEV 2014","nouvelle construction","Uudisrakennus","Nueva construcción","Nová budova","Ny bygning","Nauja statyba pagal EnEv 2014","Jaunbūve","Edificio di nuova costruzione","Új építésű EnEV 2014","Nybygg"]
["Renovated old building","Altbau EnEV 2014","Renovated old building","Oudbouw EnEV 2014","rénovation ","Saneerattu vanha rakennus","Antigüo edificio renovado","Rekonštruovaná budova","Renoveret ældre bygning","Renovuotas statinys pagal EnEv 2014","Renovēta ēka","Ristrutturazione","Régi építésű EnEV 2014","Rehabilitert bygning"]
["Not-renovated building","Altbau unsaniert","Not-renovated building","Oudbouw niet gerenoveerd","non rénové","Saneeraamaton rakennus","construcción no renovada","Nerekonštruovaná budova","Ikke renoveret bygning","Nerenovuotas senas statinys","Nerenovēta ēka","Vecchio edificio non ristrutturato","Régi építésű nem felújított","Eldre bygning"]
["Passive house","Passivhaus","Passive house","Passiefhuis","maison passive","Passiivitalo","casa pasiva","Pasívny dom","Passivhus","Pasyvus namas","Pasīva ēka","Casa passiva","Passzívház","Passivhus"]
["Heating capacity","Gebäude-Heizlast","Heating capacity","Norm-warmteverlies","capacité de chauffage","Lämmöntarve","Capacidad de calefacción","Potreba tepla","Varmeeffekt","Pastato šilumos galia","Siltumslodze","Capacità di riscaldamento","Épület hőszükséglete","Effektbehov bygning"]
["Heating capacity","Norm-Heizlast nach DIN EN 12831","Heating capacity","Norm-warmteverlies","capacité de chauffage","Lämmöntarve","Capacidad de calefacción","Potreba tepla","Varmeeffekt","Norminė šilumos galia pagal DIN EN 12831","Siltumslodze","Capacità di riscaldamento","Tervezési hőszükséglet DIN EN 12831 szerint","Effektbehov bygning"]
["Please insert numerical values only","Bitte nur Zahlenwerte eingeben.","Please insert numerical values only","Alleen getallen ingeven a.u.b.","Merci de n'entrer que des nombres","Aseta vain numeerisia arvoja","Por favor, introduzca dígitos numéricos ","Prosím vložte len numerickú hodnotu","Venligst kun indtast numeriske værdier","Įvesti tik skaitmenis","Lūdzu ievadiet vērtību","Inserire solo valori numerici","Csak számokat írjon be","Kun tallverdier!"]
["Heat demand","Heizlast","Heat demand","Verwarmingslast","demande de chaleur","Lämmöntarve","demanda de calefacción","Tepelná strata","Effektbehov","Šilumos poreikis","Siltumslodze","Fabbisogno termico","Hőszükséglet","Varmebehov"]
["Heat demand with switch off time and DHW extra amount","Heizlast + Zuschlag Sperrzeiten + Warmwasserzuschlag","Heat demand with switch off time and DHW extra amount","Warmteverlies met spertijd en warmwatertoeslag","Heat demand with switch off time and DHW extra amount","Lämmöntarve keskeytystiloilla ja suurella KV kulutuksella","Heat demand with switch off time and DHW extra amount","Tepelná strata so započítaným HDO a hodnoty  TUV navyše ","Effektbehov med spærretid og ekstra varmtvandstilskud","Šilumos poreikis+išjungimo laikas+karštas vanduo","Siltumslodze ar elektrotīkla dīkstāvi un karsto ūdeni","Fabbisogno termico con tempi di spegnimento e maggiorazione per ACS","Hőszükséglet+GEO zárásidő pótlék+HMV pótlék ","Varmebehov m. sperretider og ekstra varmtvann"]
["Heat demand with switch off time factor ","Heizlast + Zuschlag Sperrzeiten","Heat demand with switch off time factor ","Warmteverlies met Spertijdfactor","demande de chaleur avec interdiction tarifaire","Lämmöntarve keskeytystilakertoimella","demanda de calefacción con tiempo de parada","Tepelná strata so započítaným HDO faktoru","Effektbehov med spæretid","Šilumos poreikis + išjungimo laiko faktorius","Siltumslodze ar elektrotīkla dīkstāvi","Fabbisogno termico comprensivo di fattore per tempi di spegimento","Hőszükséglet+GEO zárásidő pótlék ","Varmebehov med sperretider"]
["Heat demand | Heating capacity [KW]","Heizlast | Heizleistung [KW]","Heat demand | Heating capacity [KW]","Warmteverlies | Verwarmingscapaciteit [KW]","demande de chaleur [KW]","Lämmöntarve | Lämpöteho [kW]","Heat demand | Heating capacity [KW]","Tepelná strata | Potreba tepla [KW]","Effektbehov | Varmeeffekt [kW]","Šilumos poreikis | Šilumos galia (kW)","Siltumslodze | Apkures jauda [kW]","Fabbisogno termico | Capacità di riscaldamento [kW]","Hőszükséglet / Fűtőteljesítmény [kW]","Varmebehov | Varmekapasitet [KW]"]
["Calculated heating-load","Auslegungs-Heizleistung","Calculated heating-load","Auslegungs-Heizleistung","Auslegungs-Heizleistung","Laskettu lämmöntarve","Auslegungs-Heizleistung","Dimenzovanie vykurovania","Beregnet varmebehov","Apskaičiuota šilumos galia","Aprēķinātā siltumslodze","Carico termico calcolato","Szükséges Össz Fűtőteljesítmény","Kalkulert varmebehov"]
["Extra amount for switch off times and DHW","Zuschlag Sperrzeiten und Warmwasser","Extra amount for switch off times and DHW","Zuschlag Sperrzeiten und Warmwasser","Zuschlag Sperrzeiten und Warmwasser","Lisäteho keskeytystiloille ja käyttövedelle","Zuschlag Sperrzeiten und Warmwasser","Prirážka za HDO a TUV","Tillæg for spærretid og varmtvand","Papildomas išjungimo laiko ir karšto vandens faktorius","Papildus elektrotīkla dīkstāve un karstais ūdens","Maggiorazione per tempi di spegnimento e ACS","Zárásidő pótlék és HMV pótlék","Tillegg for sperretider og varmtvann"]
["Extra amount for switch off times","Zuschlag Sperrzeiten","Extra amount for switch off times","Zuschlag Sperrzeiten","Zuschlag Sperrzeiten","Lisäteho keskeytystiloille","Zuschlag Sperrzeiten","Prirážka za HDO ","Tillæg for spærretid","Papildomas išjungimo laiko faktorius","Papildus elektrotīkla dīkstāve","Maggiorazione per tempi di spegnimento","Zárásidő pótlék","Tillegg for sperretider"]
["Design temperature [°C]","Außentemperatur [°C]","Design temperature [°C]","Buitentemperatuur [°C]","Norme de température [°C]","Ulkolämpötila [°C]","temperatura de diseño [°C]","Výpočtová teplotná oblasť [°C]","Designtemperatur [°C]","Skaičiuotina lauko temperatūra (˚C)","Ārgaisa temperatūra [°C]","Temperatura di progetto [°C]","Külső hőmérséklet [°C]","Dim. Utetemperaur [°C]"]
["Design temperature","Außentemperatur","Design temperature","Buitentemperatuur","Norme de température","Ulkolämpötila","temperatura de diseño","Výpočtová teplotná oblasť ","Designtemperatur","Skaičiuotina lauko temperatūra","Ārgaisa temperatūra","Temperatura di progetto","Külső hőmérséklet","Dim. Utetemperatur"]
[]
["Covering ratio heat pump","Deckungsanteil Wärmepumpe","Covering ratio heat pump","Dekkingsaandeel warmtepomp","% couverture PAC","Lämpöpumpun energiakattavuus","Ratio de cobertura de bomba de calor","Pokrytie tepelným čerpadlom","Varmepumpens dækningsgrad","Dalis, užtikrinama šilumos siurbliu","Siltumsūkņa īpatsvars","Fattore di copertura della pompa di calore","Hőszivattyús fedezet","Dekningsgrad varmepumpe"]
["Results","Ergebnis","Results","Overzicht","Résumé","Yhteenveto","Resultados","Výsledok","Resultat","Rezultatai","Rezultāti","Risultati","Eredmény","Resultat"]
["Dual-mode point","Bivalenzpunkt Wärmepumpe","Dual-mode point","Bivalentiepunt warmtepomp","point de bivalence","Rinnakkaispiste","Punto bivalente","Bivalentný bod tepelného čerpadla","Bivalenspunkt","Bivalentinis šilumos siurblio taškas","Bivalenta darbība","Punto di bivalenza","Hőszivattyú bivalencia pontja","Bivalenspunkt varmepumpe"]
["Switch-Off point","Abschaltpunkt Wärmepumpe","Switch-Off point","Afschakeling","point d'arrêt","Keskeytyspiste","punto de parada ","Switch-Off point","Switch-Off point","Išjungimo momentas","Bivalenta darbība","Switch-Off point","Switch-Off point","Grenseverdi varmepumpe"]
["Annual heating power","Jahresheizarbeit","Annual heating power","Jaarlijkse verwarmingsvermogen ","Puissance annuelle pour le chauffage","Vuotuinen lämpöenergia","Potencia anual de calefacción","Ročné výkonové číslo","Årlig varmeeffekt","Metinė šildymo trukmė","Gada siltumjauda","Consumi annui per il riscaldamento","Éves megtermelt hőmennyiség","Årsvarmefaktor"]
["Annual heating power [kWh]","Jahresheizarbeit [kWh]","Annual heating power [kWh]","Jaarlijkse verwarmingsvermogen [kWh]","Puissance annuelle pour le chauffage [kWh]","Vuotuinen lämpöenergia [kWh]","Potencia anual de calefacción [kWh]","Ročné výkonové číslo [kWh]","Årlig varmeeffekt [kWh]","Metinis šilumos kiekis (kWh)","Gada siltumjauda [kWh]","Consumi annui per il riscaldamento [kWh]","Éves megtermelt hőmennyiség [kWh]","Årsvarmetall [kWh]"]
["Heating power heat pump","Heizarbeit Wärmepumpe","Heating power heat pump","Vermogen warmtepomp","puissance pompe à chaleur","Lämpöpumpun lämmöntuotto","Potencia de calefacción bomba de calor","Dodané teplo tepelným čerpadlom","Varmeproduktion varmepumpe","Metinė šilumos siurblio šildymo trukmė","Siltumsūkņa saražotā jauda","Consumi annui della pompa di calore per il riscaldamento","Hősziv. által megtermelt hőmenny.","Levert energi varmepumpe"]
["Heating power 2. heat source","Heizarbeit 2. Wärmeerzeuger","Heating power 2. heat source","Vermogen additioneel toestel","2ième source de chaleur","2. lämmöntuottajan lämmöntuotto","potencia de calefacción 2. Fuente de calor","Dodané teplo 2. zdrojom","Varmeproduktion 2. varmekilde","Metinė 2-nio šilumos šaltinio šildymo trukmė","2-ā siltumavota saražotā jauda","Consumi annui del secondo generatore di calore per il riscaldamento","2. hőtermelő által megtermelt hőmenny.","Levert energi tilskuddsvarme"]
["The determination of the heating power is a calculation of heat demand, heat pump capacity and annual hours for each outside temperature. Internal & solar gains and set-back periods are not considered.","Für die Bestimmung der Heizarbeit werden Heizlast, Wärmepumpen-Leistung und Jahresstunden für jede Außentemperatur in Ansatz gebracht. Interne & solare Wärmegewinne sowie Absenkzeiten sind nicht berücksichtigt.","The determination of the heating power is a calculation of heat demand, heat pump capacity and annual hours for each outside temperature. Internal & solar gains and set-back periods are not considered.","Voor de bepaling van het warmteverlies wordt de warmtelast, Warmtepompen vermogen en draaiuren per jaar voor elke buitentemperatuur benaderd. Interne- en solar-warmtewinning, daluren en spertijden worden niet in beschouwing genomen.","la détermination de la puissance de chauffe est calculée suivant la demande de chauffe et en heures par année pour toutes les températures extérieures. Interne + rapport solairela réduction ne sont pas pris en considération","Lämmitysenergian määrittäminen perustuu lämmöntarpeen laskentaan, lämpöpumpun lämpötehoon ja vuotuisiin käyttötunteihin kullekin ulkolämpötilalle. Sisäisiä- ja aurinkolämmönlähteitä tai keskeytyksiä ei ole huomioitu laskennoissa.","La potencia de la bomba de calor se calcula teniendo en cuenta la demanda térmica, potencia de la bomba de calor y las horas de funcionamiento en cada época del año. Las ganancias solares, períodos de recuperación y ACS no están considerados.","Stanovenie spotreby tepla je na základe vypočitaných tepelných strát, tepelného príkonu tepelného čerpadla a ročných spotrieb pre každú hodnotu vonkajšieho vzduchu. Vnútorné a solárne zisky, útlmy, obdobie HDO a tpela voda nie sú brané v úvahu.","For at bestemme varmeeffekten må man betragte varmebehovet og varmepumpens kapacitet udfra antallet af årlige timer for hver udetemperatur. \nBestemmelsen af varmeeffekten er en beregning af varmebehovet, varmepumpe kapacitet og årlige timer for hver udetemperaturen. Varme fra interne apparater og solindfald, temperatur reducering, spærretider og varmtvandsopvarmning er ikke medregnet.\n","Šildymo galiai nustatyti imami šie parametrai : šilumos poreikis, šilumos siurblio galia, konkrečių lauko temperatūrų reikšmių trukmė metuose. Vidiniai ir saulės pritekėjimai, taupymo režimai  neįskaičiuojami. ","Siltuma jauda aprēķināta balstoties uz siltumslodzi, siltumsūkņa jaudu un gada klimatoloģijas datiem attiecīgajai pilsētai. Iekšējie siltumizdalījumi, temperatūru pazeminājums telpās un saules ietekme nav ņemti vērā.","Il calcolo dell'energia richiesta per il riscaldamento è dato dal fabbisogno energetico, dalla potenza della pompa di calore e dai dati climatici. Non sono considerati gli apporti interni, gli apporti solari ed i tempi di spegnimento.","A hőszivattyú által megtermelt hőmennyiség megállapításához az épület hőszükségletét, a hőszivattyú teljesítményét és az éves működési órák számát az aktuális külső hőmérséklethez vesszük figyelembe.\nBelső és szolár hőnyereség valamint a csökkentett üzemmód nincs figyelembe véve. \n","Beregning av samlet levert varme-energi er en kalkulasjon av varmebehov, varmepumpens kapasitet og årlige timer for utetemperatur. Interne varmekilder og solinnstråling samt sperreperioder er ikke hensyntatt "]
[]
["Climate data","Klimadaten","Climate data","Klimaat data","donnée climatique","Ilmastotiedot","data del clima","Klimatické hodnoty","Klimadata","Klimato duomenys","Klimatiskie dati","Dati climatici","Meterológia","Klimadata"]
["Yearly hours with temperature","Stunden pro Jahr bei Außentemperatur","Yearly hours with temperature","Uren per jaar bij buitentemperatuur","nombre d'heures par an à la température ambiante","Vuotuiset tunnit ulkolämpötilassa","temperaturas anuales por horas","Hodiny ročne s teplotami","Timer pr. år med udetemperatur","Konkrečių lauko temperatūrų reikšmių trukmė metuose","Gada temperatūru stundas","Ore annue con temperature","Éves órák száma adott külső hőmérsékleten","Årlige timer for utetemperatur"]
["Sum of yearly hours with temperatures < outside temperature","Summe Stunden pro Jahr mit Temperaturen < Außentemperatur","Sum of yearly hours with temperatures < outside temperature","Som jaaruren met temperaturen < buitentemperatuur","nombre total d'heures par an avec des températures < température extérieure","Kumulatiiviset tunnit","Suma de temperaturas anuales por horas ^ temperatura exterior","Sumárne hodiny ročne s teplotamy < vonk. teplota","Sum af årlige timer med temperaturer < udetemperaturer","Valandos per metus su temperatūromis<lauko temp. ","Gada stundu kopsumma temperatūrām < ārgaisa temperatūras","Somma delle ore annue con temperature inferiori della termperatura esterna","Össz órák száma évente adott hőmérsékletnél < Külső hőmérséklet","Sum årlige timer med temperaturer < utetemperatur"]
["Weather station","Wetterstation","Weather station","Weerstation","zone climatique","Säätiedot","estación meterológica","Meteorologická stanica","Vejrstation","Meteorologinė stotis","Meteoroloģijas stacija","Stazione climatica","Meterológiai állomás","Klimastasjon"]
["Seasonal heating hours","Vollbenutzungsstunden","Seasonal heating hours","Vollasturen","temps de chauffe en heure pleine","Kausittaiset lämmitystunnit","horas de climatización por estaciones","Ročné vykurovacie hodiny","Årlige opvarmningstimer","Šildymo sezono valandos","Sezonas apkures stundas","Ore stagionali di riscaldamento","Éves fűtési órák száma","Sesongvariable timer"]
["Annual heating days","Heiztage pro Jahr","Annual heating days","Verwarmingsdagen per jaar","jour de chauffe annuel","Vuotuiset lämmityspäivät","Días de calefacción por año","Počet vykurovacích dní za rok","Varmedage pr. år","Šildymo sezono dienos per metus","Apkures sezonas dienas","Giorni annui di riscaldamento","Fűtési napok évente","Årsvarmetimer"]
["Yearly hours","Jahresstunden","Yearly hours","Draaiuren per jaar","nombre d'heures annuel","Vuotuiset tunnit","Horas anuales","Hodín ročne","Årlige timer","Valandos per metus","Stundas gadā","Ore annue","Éves óraszám","Årlige timer"]
["Yearly hours <","Jahresstunden unter","Yearly hours <","Draaiuren per jaar <","nombre d'heures annuel <","tuntia vuodessa <","Horas anuales <","Hodín ročne <","Årlige timer <","Valandos per metus <","Stundas gadā <","Ore annue","Éves órák száma ˂","Årlige timer under"]
["Heating degree days ","Heizgradtage","Heating degree days ","Heating degree days ","Heating degree days ","Heating degree days ","grados de calefacción al día","Počet vykurocích dní","Varmegraddage","Dienolaipsniai","Heating degree days ","Gradi giorno","Fűtési foknap","Graddagstall"]
["Sum of yearly hours [h/a]","Summe Stunden [h/a]","Sum of yearly hours [h/a]","Som jaaruren [h/a]","nombre total d'heures par an [h/a]","Summa vuotuisista tunneista [h/v]","Suma de temperaturas anuales por horas [h/a]","Sumárne hodín ročne [h/a]","Sum af årlige timer [t/år]","Valandų suma (h/a)","Gada stundu kopsumma [h/gadā]","Somma di ore annue (ore/anno)","Össz óra [h/év]","Sum timer år [h/a]"]
["Yearly hours [h/a]","Jahresstunden [h/a]","Yearly hours [h/a]","Draaiuren per jaar [h/a]","nombre d'heures annuel [h/a]","Vuotuiset tunnit [h/v]","Horas anuales [h/a]","Hodín ročne [h/a]","Årlige timer [t/år]","Valandos per metus (h/a)","Stundas gadā [h/gadā]","Ore annue (ore/anno)","Éves órák száma [h/év]","Årstimer [h/a]"]
[]
["Print results","Ergebnisse drucken","Print results","Afdruk","Impresssion","Tulosta","impresión","Vytlač","Udskriv resultater","Spausdinti","Izdruka","Area di stampa","Eredmények nyomtatása","Utskrift"]
["Create PDF","PDF erstellen","Create PDF","PDF afdrukken","Create PDF","Luo PDF","Create PDF","Create PDF","Create PDF","Sukurti PDF","Create PDF","Create PDF","Create PDF","Opprett PDF"]
["Data sheet heatpump","Wärmepumpendaten","Data sheet heatpump","Data sheet heatpump","Data sheet heatpump","Lämpöpumpun tiedot","Data sheet heatpump","Technické info tepelného čerpadla","Datablad varmepumpe","Šilumos siurblio duomenys","Siltumsūkņa specifikācija","Scheda pompa di calore","Hőszivattyú adatlapja","Datablad varmepumpe"]
["Select printout","Druckauswahl","Select printout","Selecteer afdruk","Sélection impression","Valitse tuloste","selccionar impresión","Vyber tlač","Vælg udskrift","Pasirinkti, ką spausdinti","Izvēlēties lapas","Seleziona area di stampa","Nyomtatás kiválasztása","Velg utskrift"]
["Druckoptionen","Druckoptionen","Druckoptionen","Druckoptionen","Druckoptionen","Tulostusvalinnat","Druckoptionen","Druckoptionen","Druckoptionen","Spausdinimo sąranka","Druckoptionen","Druckoptionen","Druckoptionen","Utskriftsvalg"]
["Printout","Auswahl drucken","Printout","Afdrukken","Imprimer","Tulosteen valinta","selección de impresión","Tlač výber","Udskriv valgte","Spausdinti pasirinktą","Drukāt izvēlēto","Stampa selezione","Kiválasztottak nyomtatása","Utskrift utvalg"]
["Select all","Alles drucken","Select all","Alles selecteren","Tout sélectionner","Valitse kaikki","seleccionar todo","Označ všetko","Vælg alle","Pasirinkti viską ","Izvēlēties visu","Seleziona tutto","Összes kiválasztása","Utskrift alle"]
["Select none","Nichts auswählen","Select none","Niets selecteren","Ne rien sélectionner","Poista valinnat","no seleccionar ninguna","Žiadny výber","Vælg ingen","Nepasirinkti nieko","Atcelt visu","Deseleziona tutto","Nincs kiválasztás","Ingen utvalg"]
["Mit Ergebnistabellen","Mit Ergebnistabellen","Mit Ergebnistabellen","Mit Ergebnistabellen","Mit Ergebnistabellen","Tulostaulukot","Mit Ergebnistabellen","Mit Ergebnistabellen","Mit Ergebnistabellen","Mit Ergebnistabellen","Mit Ergebnistabellen","Mit Ergebnistabellen","Mit Ergebnistabellen","Med resultatstabeller"]
["Export prinout","Ausdruck exportieren","Export prinout","Ausdruck exportieren","Ausdruck exportieren","Vie tuloste","Ausdruck exportieren","Vytlač výkaz","Eksporter udskrift","Eksportuoti spaudinį","Eksportēt izdruku","Esporta stampa","Nyomtatási kép exportálása","Eksporter utskrift"]
["Legal note","Rechtliche Hinweise","Legal note","Juridische informatie","Clause de non-responsabilité","Oikeudellinen huomautus","nota legal","Poznámka","Juridiske betingelser","Juridinės pastabos","Legālās atsauces","Nota legale","Jogi nyilatkozat","Viktig informasjon"]
["Stiebel Eltron shall not provide any guarantees that the information, values and data provided, or values, information and recommendations determined with the aid or on the basis of such information, values and data, are complete, accurate, correct or current in every respect.\nStiebel Eltron shall reserve the right to make changes to the data, values and information provided at any time and without prior notification.\nErrors excepted. Subject to changes.\nNone of the information, values and data provided or the values, information and recommendations determined with the aid or on the basis of such information, values and data constitutes any basis for a financial decision or for any other purpose, but rather is merely initial non-binding information as an initial guide.\nUnder no circumstances should the following design tool be considered a substitute for consultation with Stiebel Eltron or another authorised expert engineer.\nPlease contact Stiebel Eltron or another authorised expert engineer in relation to specific project design.\nStiebel Eltron shall accept no liability for losses of any kind that may arise from the use of information, values and data provided, or values, information and recommendations determined with the aid or on the basis of such information, values and data. This exclusion of liability shall not apply if the loss is due to intent or gross negligence on the part of Stiebel Eltron or in the event of a fatality, physical injury or damage to health.\n","Stiebel Eltron übernimmt keinerlei Gewährleistung oder Garantie dafür, dass die bereitgestellten Angaben, Werte und Informationen oder die mit Hilfe bzw. anhand dieser Informationen, Werte und Angaben ermittelten Werte und Angaben in jeder Hinsicht vollständig, genau, richtig und aktuell sind. \n\nStiebel Eltron behält sich das Recht vor, jederzeit und ohne vorherige Ankündigung Änderungen der bereitgestellten Angaben, Werte und Informationen vorzunehmen.\nIrrtum und Änderungen sind ausdrücklich vorbehalten.\nKeine der bereitgestellten Angaben, Werte und Informationen oder der mit Hilfe bzw. anhand dieser Angaben, Werte und Informationen ermittelten Werte und Angaben sind als Grundlage für eine finanzielle Entscheidung oder für einen sonstigen Zweck anzusehen, sondern dienen vielmehr nur als eine erste unverbindliche Information und als Hilfe zur ersten Orientierung.\n\nUnter keinen Umständen ersetzt die Planungshilfe die Beratung durch Stiebel Eltron oder einen autorisierten Fachplaner.\n\nBitte wenden Sie sich für die konkrete Planung des Projektes an Stiebel Eltron oder einen anderen autorisierten Fachplaner.\n\nDie Haftung von Stiebel Eltron für Schäden jeglicher Art, die sich möglicherweise aus der Nutzung oder Verwendung der bereitgestellten Informationen, Werte und Angaben oder der mit Hilfe bzw. anhand dieser Angaben, Werte und Informationen ermittelten Werte und Angaben, ergeben, ist ausgeschlossen. Dieser Haftungsausschluss gilt nicht, wenn der Schaden auf Vorsatz oder grobe Fahrlässigkeit von Stiebel Eltron zurückzuführen ist sowie bei einer Verletzung des Lebens, des Körpers oder der Gesundheit.","Stiebel Eltron shall not provide any guarantees that the information, values and data provided, or values, information and recommendations determined with the aid or on the basis of such information, values and data, are complete, accurate, correct or current in every respect.\nStiebel Eltron shall reserve the right to make changes to the data, values and information provided at any time and without prior notification.\nErrors excepted. Subject to changes.\nNone of the information, values and data provided or the values, information and recommendations determined with the aid or on the basis of such information, values and data constitutes any basis for a financial decision or for any other purpose, but rather is merely initial non-binding information as an initial guide.\nUnder no circumstances should the following design tool be considered a substitute for consultation with Stiebel Eltron or another authorised expert engineer.\nPlease contact Stiebel Eltron or another authorised expert engineer in relation to specific project design.\nStiebel Eltron shall accept no liability for losses of any kind that may arise from the use of information, values and data provided, or values, information and recommendations determined with the aid or on the basis of such information, values and data. This exclusion of liability shall not apply if the loss is due to intent or gross negligence on the part of Stiebel Eltron or in the event of a fatality, physical injury or damage to health.\n","Stiebel Eltron geeft geen enkele garantie dat de aangeboden informatie, waarden en gegevens of de met behulp van of aan de hand van deze informatie, waarden en gegevens berekende waarden, informatie en aanbevelingen in elk opzicht volledig, nauwkeurig, juist en actueel zijn. \n\nStiebel Eltron behoudt zich het recht voor om op elk moment zonder voorafgaande kennisgeving wijzigingen aan te brengen in de aangeboden gegevens, waarden en informatie.\nVergissingen en wijzigingen worden door Stiebel Eltron uitdrukkelijk voorbehouden.\nDe aangeboden informatie, waarden en gegevens of de met behulp van of aan de hand van deze informatie, waarden en gegevens berekende waarden, informatie en aanbevelingen betreffen een eerste Stiebel Eltron niet-bindende informatie voorziening die niet kan worden gebruikt als basis voor een financiële beslissing of voor andere doeleinden dan een eerste oriëntatie. \n\nDeze planningshulp kan in geen geval dienen als vervanging voor het persoonlijke advies van Stiebel Eltron of een andere geautoriseerde systeemadviseur. \n\nVoor de concrete planning van uw project dient u zich te allen tijde te wenden tot Stiebel Eltron of een andere geautoriseerde systeemadviseur. \n\nStiebel Eltron aanvaardt op geen enkele wijze aansprakelijkheid voor schade en/of ander nadeel, direct dan wel indirect, die voortvloeit uit het gebruik of de toepassing van de aangeboden informatie, waarden en gegevens of de met behulp van of aan de hand van deze informatie, waarden en gegevens van berekende waarden, informatie en aanbevelingen. De hierboven omschreven uitsluitingen gelden niet in geval van grove nalatigheid, opzet of schade aan leven, lichaam of gezondheid.","STIEBEL ELTRON ne se porte pas garant de l'exactitude, intégralité, actualité et pertinence des informations, valeurs ou données mises à disposition, ni de toute valeur, information ou recommandation établie à l'aide de ces données, valeurs et informations fournies.\nSTIEBEL ELTRON se réserve le droit de modifier, à tout moment et sans avis préalable, les données, valeurs et informations mises à disposition.\nSous réserve de modification et d'erreurs.\nLes informations, valeurs et données, ou les valeurs, informations et recommandations établies à l'aide de ces informations, valeurs et données, ne doivent être utilisées pour aucune prise de décision financière ou autre. Elles sont fournies à titre indicatif uniquement en ne représentent qu'une source approximative d'information.\nL'assistant de planification et les informations fournies ci-après ne remplacent en aucun cas le conseil direct d'un expert STIEBEL ELTRON ou de tout autre spécialiste autorisé.\nPour la planification concrète de votre projet, veuillez contacter STIEBEL ELTRON ou tout autre spécialiste autorisé.\nSTIEBEL ELTRON décline toute responsabilité pour les dommages éventuels découlant de l'utilisation ou du traitement des informations, valeurs et données mises à disposition, ou des valeurs, informations et recommandations établies à l'aide de ces informations, valeurs et données. Cette exclusion de garantie n'est pas valable en cas de dommage intentionnel découlant d'une négligence grave de la part de Stiebel Eltron, ni en cas d'atteinte à la vie, au corps ou à la santé des utilisateurs.\n","Stiebel Eltron ei takaa, että julkaistut tiedot ja arvot tai niiden avulla aikaansaadut tiedot tai arvot ovat joka suhteessa tarkkoja, oikeellisia ja ajantasaisia.\nStiebel Eltron pidättää itsellään oikeuden muuttaa julkaistuja tietoja ja arvoja ilman ennakkoilmoitusta.\nValmistaja ei vastaa mahdollisista virheistä tai muutoksista.\nMitään julkaistuja arvoja tai niiden pohjalta aikaansaatuja arvoja, tietoja tai suosituksia ei tule käyttää perustana taloudellisille päätöksille tai muuhun vastaavaan tarkoitukseen. Tiedot on tarkoitettu vain  ensikäden ei-sitovaksi tietomateriaaliksi ja alkuvaiheen opastukseksi.\nTämä suunnitteluapu ei missään tapauksessa korvaa Stiebel Eltronin tai muun valtuutetun ammattisuunnittelijan tarjoamaa neuvontapalvelua.\nKehotamme asiakasta konkreettisissa suunnittelukysymyksissä kääntymään Stiebel Eltronin tai muun valtuutetun ammattisuunnittelijan puoleen.\nStiebel Eltron ei vastaa julkaistujen tietojen tai arvojen käytöstä tai näiden tietojen nojalla aikaansaaduista arvoista, tiedoista ja suosituksista mahdollisesti aiheutuneista vahingoista. Tämä vastuuvapauslauseke ei päde, mikäli vahinko johtuu Stiebel Eltronin tarkoituksellisesta teosta tai karkeasta huolimattomuudesta tai mikäli seurauksena on ollut hengen, ruumiin tai terveyden loukkaus.\n","Stiebel Eltron no garantiza que tanto la información proporcionada como los datos sean correctos y precisos, ya que se trata de información genérica. Stiebel Eltron se reserva el derecho en cualquier momento y sin previo aviso de realizar los cambios que se estimen oportunos para el óptimo funcionamiento de las instalaciones.  Bajo ninguna circunstacia esta herramienta de diseño será utilizada como consulta para otra instalación o utilizado por otros ingenieros ajenos a Stiebel Eltron. Por favor, póngase en contacto directamente con Stiebel Eltron o con alguna empresa autorizada para la comercialización e instalación de productos Stiebel Eltron para realizar el diseño de un proyecto en concreto. Stiebel Eltron no se hará responsable y exime cualquier responsabilidad a daños y perjuicios derivados de la mala praxis por personas ajenas a la empresa.   ","Stiebel Eltron nijako nepreberá ručenie alebo záruku zato, že poskytnuté údaje, hodnoty a informácie alebo hodnoty a údaje zistené pomocou, resp. na základe týchto informácií, hodnôt a údajov v každom smere sú úplné, presné, správne a aktuálne. \n\nStiebel Eltron si vyhradzuje právo vykonávať zmeny poskytovaných údajov, hodnôt a informácií kedykoľvek a bez predchádzajúcich oznámení.\nOmyl a zmeny sú výslovne vyhradené.\nŽiadne z poskytovaných údajov, hodnôt a informácií alebo hodnôt a údajov zistených pomocou alebo na základe týchto údajov, hodnôt a informácií sa nepovažujú za základ pre finančné rozhodovanie alebo pre nejaký iný účel, ale slúžia skôr len ako prvá nezáväzná informácia a ako pomoc pre prvú orientáciu.\n\nZa žiadnych okolností nenahrádza plánovacia pomôcka poradenstvo Stiebel Eltron alebo autorizovaného odborného plánovača.\n\nPre konkrétne plánovanie projektu sa obráťte prosím na Stiebel Eltron alebo iného autorizovaného odborného plánovača.\n\nRučenie Stiebel Eltron za škody akéhokoľvek druhu, ktoré môžu vzniknúť na základe použitia alebo využívania poskytovaných informácií, hodnôt a údajov alebo hodnôt a údajov zistených pomocou alebo na základe týchto údajov, hodnôt a informácií, je vylúčené. Toto vylúčenie záruky neplatí, ak sa škoda vzťahuje na úmysel alebo hrubú nedbanlivosť zo strany Stiebel Eltron ako aj pri poškodení života, organizmu alebo zdravia.","Stiebel Eltron giver ingen garantier for, at de oplysninger, værdier og data,  information og anbefalinger der defineres ved hjælp af eller på grundlag af disse oplysninger, værdier og data, er fuldstændige, nøjagtige, korrekte eller anvendelige i enhver henseende.\nStiebel Eltron forbeholder sig ret til at foretage ændringer i data, værdier og oplysninger, til en hver tid og uden forudgående varsel. \nDer tages forbehold for fejl og ændringer.\nIngen af de oplysninger, værdier og data der forudsættes, eller værdier, oplysninger og anbefalinger der bestemmes ved hjælp af eller på grundlag af disse oplysninger, værdier og data, bør danne grundlag for økonomiske beslutninger eller til andre formål.  Dette må snarere betragtes som en indledende ikke-bindende information, der kan benyttes som en indledende vejledning. \nUnder ingen omstændigheder må følgende designværktøj betragtes som en erstatning for konsultation med Stiebel Eltron eller anden autoriseres ekspertteknikker.\nKontakt venligst Stiebel Eltron eller anden autoriseret ekspertteknikker, i forhold til det konkrete projektdesign.\nStiebel Eltron påtager sig intet ansvar for tab af nogen art, der måtte opstå som følge af brug af oplysninger, værdier og data der forudsættes eller værdier, oplysninger og anbefalinger bestemt ved hjælp af eller på grundlag af diss oplysninger, værdier og data.  Denne udelukkelse af ansvar gælder ikke, hvis tabet skyldes forsæt eller grov uagtsomhed fra Stiebel Eltrons side eller i tilfælde af en dødsulykke, fysisk skade eller skade på helbredet. ","Stiebel Eltron neprisiima jokios garantijos, kad pateikti duomenys, vertės ir informacija ar jų pagrindu pateikti paskaičiavimai yra įvairiapusiškai  teisingi, tikslūs ir aktualūs . \nSTIEBEL ELTRON pasilieka teisę keisti duomenis, reikšmes ir informaciją be išankstinio įspėjimo.\nGali pasitaikyti klaidų, pasiliekama teisė pakeitimams.\nTai nėra įpareigojanti informacija , skaičiai ar vertės,kurie galėtų būti laikomi kaip finansinių sprendimų arba kokių nors sprendimų kitais tikslais pagrindu , o tarnauja tik  kaip pirminės neįpareigojančios informacijos pagalbinis šaltinis .\n\nJokiomis aplinkybėmis ši pagalbinė priemonė negali atstoti  Stiebel Eltron ar jo įgaliotų projektavimo specialistų ar inžinierių patarimų.\n\nPrašome susisiekti su Stiebel Eltron ar kitais įgaliotais projektuotojais dėl konkretaus projekto.\n\nStiebel Eltron neprisiima jokios atsakomybės už bet kokio pobūdžio žalą, kuri gali atsirasti kaip šios priemonės verčių, duomenų ir informacijos , arba iš to išplaukiančių rezultatų vartojimo pasekmė. ","Stiebel Eltron negarantē, ka informācija un dati ir pietiekami īpašajām klienta vai lietotāja vajadzībām un darbojas kombinācijā ar citu klienta programmatūru un aparatūru. Klients ir atbildīgs par uzstādīšanu, izmantošanu, un paredzēto rezultātu sasniegšanu. Nepastāv garantija par klienta vai lietotāja pārveidotu vai izmainītu programmas versiju vai klientu gatavotu kopiju, ja vien pircējs nepierāda, ka esošie defekti nav saistīti ar izmaiņām, kopiju vai atvasinātiem darbiem.\nStiebel Eltron neuzņemas atbildību un garantijas par piedāvāto informāciju, vērtībām, datiem vai ar to palīdzību iegūto rezultātu, datu un ieteikumu kuri noteikti, lai sniegtu informāciju, pilnīgi visos aspektos, kā arī to precizitāti, pareizību un aktualitāti.\nStiebel Eltron patur tiesības izdarīt izmaiņas jebkurā laikā un bez brīdinājuma par sniegto informāciju un rezultātiem. Kļūdas un izmaiņas ir skaidri atrunātas.\nSniegtie datiem, vērtības un informācija, kā arī no tās atvasinātās vērtības, nevar būt par pamatu finansiāliem lēmumiem vai citiem līdzīgiem mērķiem, bet gan tikai kā pirmā nesaistošā informācija un orientācijas palīgs.\nNekādos apstākļos sekojošais plānošanas palīgs neaizstāj Stiebel Eltron vai cita autorizēta partnera konsultāciju.\nKonkrēta projekta plānošanā, lūdzam, griezieties pie Stiebel Eltron vai cita autorizēta partnera.\nStiebel Eltron noraida atbildību par jebkāda veida zaudējumiem, kuri radušies izmantojot vai lietojot sniegto informāciju, vērtības un datus vai ar to palīdzību iegūto informāciju, vērtības, datus un ieteikumus.","Stiebel Eltron non può fornire alcuna garanzia che le informazioni, i valori ed i dati forniti da questo progamma o che i valori, le informazioni e le raccomandazioni determinati con il supporto o sulla base di essi siano completi, accurati, corretti o aggiornati sotto ogni aspetto. Stiebel Eltron si riserva di effettuare variazioni ai dati, ai valori ed alle informazioni forniti in qualsiasi momento e senza alcun preavviso. Salvo errori. Soggetto a cambbiamenti. I valori, i dati, le informazioni e le raccomandazioni determinati con il supporto o sulla base di informazioni, valori e dati forniti da questo progamma non devono in alcun modo costituire la base per una decisione di investimento o per qualsiasi altro scopo, ma piuttosto devono essere considerati una semplice stima preliminare non vincolante, utile come guida iniziale. In nessuna circostanza questo programma di dimensionamento può essere considerato sostitutivo di una consultazione diretta con Stiebel Eltron, con un partner autorizzato Stiebel Eltron o con un tecnico specializzato. Contattare Stiebel Eltron, un partner autorizzato Stiebel Eltron o un tecnico specializzato per avere un dimensionamento esatto del sistema. Stiebel Eltron non si assume alcuna responsabilità per danni o perdite di qualsiasi genere che possano derivare dall'utilizzo di informazioni, valori e dati forniti o da valori, informazioni o raccomandazioni determinati con il supporto o sulla base di essi. Questa esclusione di responsabilità non si applica se la perdita è dovuta a dolo o colpa grave da parte di Stiebel Eltron o in caso di fatalità, lesioni fisiche o danni alla salute. ","A Stiebel Eltron nem vállal jótállást, vagy garanciát azért, hogy a rendelkezésre álló információk, értékek és adatok vagy az ezek felhasználásával számított adatok minden tekintetben teljes körű, pontos, korrekt és aktuális értékek.\nA Stiebel Eltron fenntartja magának a jogot, hogy bármikor, előzetes értesítés nélkül ezeket az adatokat, értékeket és információkat megváltoztathassa.\nA Stiebel Eltron a tévedés és a módosítás jogát is nyomatékosan fenntartja.\nA használt információk, értékek és adatok vagy az ezek felhasználásával számított adatok nem pénzügyi döntések vagy egyéb hasonló döntések alapjául szolgáló adatok, hanem csak lényegesen több mint egy kezdeti, nem kötelező erejű információt és támogatást biztosító, első tájékozódásként szolgáló anyag.\nEz az alábbi tervezési segédlet semmilyen körülmények között nem helyettesíti a Stiebel Eltron vagy más engedéllyel rendelkező tervezők tervezési tanácsadását.\nKérjük, forduljon a konkrét tervezés ügyében a Stiebel Eltronhoz vagy más engedélyezett tervezőhöz.\nA Stiebel Eltron bármilyen felelőssége a kárért, amely a program használatából származó, vagy használatára vonatkozó adatok, információk vagy értékek, illetve az ezekből számított adatok, információk vagy értékek miatt következett be, nem érvényesíthető. Ez a nyilatkozat nem vonatkozik arra az esetre, ha a kár a Stiebel Eltron szándékosságára vagy súlyos gondatlanságára vezethető vissza, valamint a sérülések és egészségkárosodások esetére sem.\n","Dimensjonering er estimert på informasjon tilgjengelig og er ikke å betrakte som et endelig og gitt resulltat for installasjon og bruk av et varmepumpeanlegg. Dimensjonering er ment å virke som veiledende for utvalg av varmepumpe med tilhørende utstyr. "]
["Temperature","Temperatur","Temperature","Temperatuur","Température","Lämpötila","Temperatura","Teplota","Temperatur","Temperatūra","Temperatūra","Temperatura","Hőmérséklet","Temperatur"]
["Annual heat demand","Heizwärmebedarf","Annual heat demand","Warmtevraag","demande de chauffe annuelle","Vuotuinen lämmöntarve","demanda de calefacción anual","Ročná tepelná strata","Varmebehov","Metinis šilumos poreikis","Gada siltuma patēriņš","Fabbisogno termico annuo","Fűtési hőmennyiség","Årlig varmebehov"]
["Heating power HP","Heizarbeit WP","Heating power HP","Verwarmingsvermogen WP","puissance de chauffe PAC","Lämmöntuotto, LP","Potencia de calefacción HP","Tepelný príkon TČ","Varmeeffekt VP","Šilumos siurblio galia","Siltuma daudzums ar siltumsūkni","Potenza termica pompa di calore","Megtermelt hőmennyíség HSZ","Levert energi varmepumpe"]
["Heating power 2. HS","Heizarbeit 2. WE","Heating power 2. HS","Verwarmingsvermogen additioneel toestel","puissance de chauffe 2ième source","Lämmöntuotto, 2. lämmönlähde","potencia de calefacción HP 2","Tepelný príkon 2. zdroja","Varmeeffekt 2. VK","2-nio šilumos šaltinio galia ","Siltuma daudzums ar 2-o siltuma avotu","Potenza termica secondo generatore di calore","Megtermelt hőmennyiség 2. hőtermelő","Levert energi tilskuddsvarme"]
["Hot water generation","Warmwasserbereitung","Hot water generation","Warm waterbereiding","Hot water generation","Käyttöveden käyttö","Hot water generation","Ohrev vody","Varmtvandsopvarmning","Karšto vandens ruošimas","Karstā ūdens ražošana","Produzione di acqua calda","Melegvíz ellátás","Varmtvannsberedning"]
["Number of Persons","Personen","Number of Persons","Aantal personen","Number of Persons","Henkilömäärä","Number of Persons","Počet osôb","Antal personer","Gyventojų skaičius","Iedzīvotāju skaits","Numero di persone","Felhasználok száma","Antall personer"]
["Accommodation unit","Wohneinheiten","Accommodation unit","Accommodation unit","Accommodation unit","Asunnot","Accommodation unit","Počet bytov","Boligenheder","Kambarių kiekis","Dzīvokļu skaits","Unità di alloggio","Lakóegységek","Boenheter"]
["Water consumption per day","Verbrauch pro Tag","Water consumption per day","Waterverbruik per dag","Water consumption per day","Käyttöveden kulutus päivässä","Water consumption per day","Potreba vody za deň","Vandforbrug pr. dag","Karšto vandens sąnaudos per dieną","Ūdens patēriņš dienā","Consumo giornaliero di acqua","Napi igény","Forbruk varmtvann pr. dag"]
["Daily tapping patterns","Zapfprofil DIN EN 15450","Daily tapping patterns","Tapprofiel","Daily tapping patterns","Päivittäinen kulutusprofiili","Daily tapping patterns","Denné figúry potreby DIN EN 15450","Daglige forbrugsmønstre","Dienos suvartojimo ypatybės pagal EN 15450","Ikdienas patēriņš","Modelli di captazione quotidiana","Napi felhasználás DIN EN 15450 szerint","Daglig varmtvannsforbruk"]
["Daily tapping patterns","Zapfprofil","Daily tapping patterns","Tapprofiel","Daily tapping patterns","Päivittäinen kulutusprofiili","Daily tapping patterns","Denné figúry potreby","Daglige forbrugsmønstre","Dienos suvartojimo ypatybės ","Ikdienas patēriņš","Modelli di captazione quotidiana","Napi felhasználás ","Daglig varmtvannsforbruk"]
["Without DHW","Ohne Warmwasser","Without DHW","Zonder ","Without DHW","Ei käyttövettä","Without DHW","Bez TUV","Uden varmtvand","Be ","Bez","Senza","Nincs HMV készítés","Uten varmtvann"]
["Single family house without circulation","Einfamilienhaus ohne Zirkulation","Single family house without circulation","Single family house without circulation","Single family house without circulation","Yhden perheen talous, ei käyttövedenkiertoa","Single family house without circulation","Rodinný dom bez cirkulácie","Enfamiliehus uden cirkulation","Šeimos namas be karšto vandens recirkuliacijos","Vienģimenes ēka bez cirkulācijas","Single family house without circulation","Családi ház cirkuláció nélkül","Enebolig u. varmtvann sirkulasjon"]
["Single family house with circulation","Einfamilienhaus mit Zirkulation","Single family house with circulation","Single family house with circulation","Single family house with circulation","Yhden perheen talous, käyttövedenkierto","Single family house with circulation","Rodinný dom s cirkulácie","Enfamiliehus med cirkulation","Šeimos namas  su karšto vandens recirkuliacija","Vienģimenes ēka ar cirkulāciju","Single family house with circulation","Családi ház cirkulációval","Enebolig m. varmtvann sirkulasjon"]
["Multi-family house without circulation","Mehrfamilienhaus ohne Zirkulation","Multi-family house without circulation","Multi-family house without circulation","Multi-family house without circulation","Usean perheen talous, ei käyttövedenkiertoa","Multi-family house without circulation","Bytový dom bez cirkulácie ","Flerfamiliehus uden cirkulation","Daugiabutis be karšto vandens recirkuliacijos","Daudzģimeņu ēka bez cirkulācijas","Multi-family house without circulation","Társasház cirkuláció nélkül","Leiligheter u. varmtvann sirkulasjon"]
["Multi-family house with circulation","Mehrfamilienhaus mit Zirkulation","Multi-family house with circulation","Multi-family house with circulation","Multi-family house with circulation","Usean perheen talous, käyttövedenkierto","Multi-family house with circulation","Bytový dom s cirkulácie ","Flerfamiliehus med cirkulation","Daugiabutis bsu karšto vandens recirkuliacija","Daudzģimeņu ēka ar cirkulāciju","Multi-family house with circulation","Társasház cirkulációval","Leiligheter m. varmtvann sirkulasjon"]
["Single family house","Einfamilienhaus","Single family house","Single family house","Single family house","Yhden perheen talous","Single family house","Rodinný dom","Enfamiliehus","Šeimos namas","Vienģimenes ēka","Single family house","Családi ház","Enebolig"]
["Multi-family house","Mehrfamilienhaus","Multi-family house","Multi-family house","Multi-family house","Usean perheen talous","Multi-family house","Bytový dom","Flerfamiliehus","Daugiabutis namas","Daudzģimeņu ēka","Multi-family house","Társasház","Leilighetsbygg"]
["Very low demand","Sehr geringer Bedarf","Very low demand","Gering verbruik","Very low demand","Erittäin vähäinen tarve","Very low demand","Veľmi nízka spotreba","Meget lavt forbrug","Labai mažas poreikis","Ļoti zems patēriņš","Richiesta molto bassa","Nagyon alacsony igény","Svært lavt behov"]
["Low demand","Geringer Bedarf","Low demand","Gering verbruik","Low demand","Vähäinen tarve","Low demand","Nízka spotreba","Lavt forbrug","Mažas poreikis","Zems patēriņš","Richiesta bassa","Alacsony igény","Moderat behov"]
["Normal demand","Normaler Bedarf","Normal demand","Normaal verbruik","Normal demand","Normaali tarve","Normal demand","Normálna spotreba","Normalt forbrug","Normalus poreikis","Vidējs patēriņš","Richiesta normale","Normál igény","Normalt behov"]
["High demand","Hoher Bedarf","High demand","Hoog verbruik","High demand","Korkea tarve","High demand","Vysoká spotreba","Højt forbrug","Didelis poreikis","Augsts patēriņš","Richiesta elevata","Magas igény","Høyt behov"]
["Very high demand","Sehr hoher Bedarf","Very high demand","Hoog verbruik","Very high demand","Erittäin korkea tarve","Very high demand","Veľmi vysoká spotreba","Meget højt forbrug","Labai didelis poreikis","Ļoti augsts patēriņš","Richiesta molto elevata","Nagyon magas igény","Svært høyt behov"]
["Single person (shower)","1 Person | Duschen","Single person (shower)","Eenpersoon (douche)","Single person (shower)","1 henkilöä (suihku)","Single person (shower)","1 osoba (sprcha)","1 person (bruser)","1 asmuo/dušas","1 person (duša)","1 persona (doccia)","1 személy / zuhany","1 person | Dusjbad"]
["3 persons (shower)","3 Personen | Duschen","3 persons (shower)","3-Familie (douche)","3 persons (shower)","3 henkilöä (suihku)","3 persons (shower)","3 osoby (sprcha)","3 personer (bruser)","3 asmenys/dušas","3 personas (duša)","3 persone (doccia)","3 személy / zuhany","3 personer | Dusjbad"]
["3 persons (shower+bathing)","3 Personen | Duschen | Baden","3 persons (shower+bathing)","3-Familie (douche+bad)","3 persons (shower+bathing)","3 henkilöä (suihku+kylpy)","3 persons (shower+bathing)","3 osoby (sprcha+vaňa)","3 personer (bruser+bad)","3 asmenys/dušas/vonia","3 personas (duša+vanna)","3 persone (doccia + vasca da bagno)","3 személy / zuhany / fürdőkád","3 personer I Dusj | Badekar"]
["4 persons (shower+bathing)","4 Personen | Duschen | Baden","4 persons (shower+bathing)","4-Familie (douche+bad)","4 persons (shower+bathing)","4 henkilöä (suihku+kylpy)","4 persons (shower+bathing)","4 osoby (sprcha+vaňa)","4 personer (bruser+bad)","4 asmenys/dušas/vonia","4 personas (duša+vanna)","4 persone (doccia + vasca da bagno)","4 személy  /zuhany / fürdőkád","4 personer | Dusj | Badekar"]
["6 persons (shower+bathing)","6 Personen | Duschen | Baden","6 persons (shower+bathing)","6-Familie (douche+bad)","6 persons (shower+bathing)","6 henkilöä (suihku+kylpy)","6 persons (shower+bathing)","6 osôb (sprcha+vaňa)","6 personer (bruser+bad)","6 asmenys/dušas/vonia","6 personas (duša+vanna)","6 persone (doccia + vasca da bagno)","6 személy /zuhany / fürdőkád","6 personer | Dusj | Badekar"]
["cold water","Kaltwassertemperatur","cold water","Koud water","cold water","Kylmän veden lämpötila","cold water","studená voda","Koldtvandstemperatur","Šalto vandens temperatūra","aukstais ūdens","Acqua fredda","Hidegvíz hőmérséklet","Kaldtvannstemperatur"]
["hot water","Warmwassertemperatur","hot water","Warm water","hot water","Käyttöveden lämpötila","hot water","teplá voda","Varmtvandstemperatur","Karšto vandens temperatūra","karstais ūdens","Acqua calda","Melegvíz hőmérséklet","Varmtvannstemperatur"]
["Loss factor distribution","Verlustfaktor Verteilung","Loss factor distribution","Verliesfactor distributie","Loss factor distribution","Jakelun häviökerroin","Loss factor distribution","Koeficient straty cirkuláciou","Distributionstabsfaktor","Karšto vandens recirkuliacijos nuostoliai","Cirkulācijas zudumi","Fattore di perdita per la distribuzione","Rendszer veszteségi tényező","Tapsfaktor fordeling"]
["Up-time DHW","Nutzungsdauer Warmwasser","Up-time DHW","Gebruikstijd warmwater","Up-time DHW","Käyttöveden käyttöaika","Up-time DHW","Doba spotreby TUV","Brugstid varmtvand","Karšto vandens paruošimo trukmė","Karstā ūdens dienas gadā","Tempo di funzionamento ACS","Melegvíz felhasználás","Forbrukstid varmtvann"]
["Days per year","Tage pro Jahr","Days per year","Dagen per jaar","Days per year","päivää vuodessa","Days per year","Dní za rok","Dage pr. år","Dienos per metus","Dienas gadā","Giorni all'anno","Felhasználási napok száma","Dager pr. år"]
["Energy consumption","Energiebedarf Warmwasser","Energy consumption","Energieverbruik warm water","Energy consumption","Energiankulutus, käyttövesi","Energy consumption","Potreba energie","Energiforbrug varmtvand","Energijos poreikis karštam vandeniui","Enerģijas patēriņš","Consumo energetico","Energia szükséglet melegvíz készítéshez","Energibehov varmtvann"]
["Demand DHW [kWh/day]","Warmwasserbedarf [kWh/Tag]","Demand DHW [kWh/day]","Warm water verbruik [kWh/dag]","Demand DHW [kWh/day]","Käyttövedentarve [kWh/päivä]","Demand DHW [kWh/day]","Potreba TUV [kWh/day]","Varmtvandsbehov [kWh/day]","Karšto vandens poreikis (kWh/dienai) ","Patēriņš karstajam ūdenim [kWh/dienā]","Fabbisogno di ACS [kWh/giorno]","Melegvíz hőigény [kWh/nap]","Behov varmtvann [kWh/dag]"]
["Energy consumption per year","Energiebedarf pro Jahr","Energy consumption per year","Energie verbruik per jaar","Energy consumption per year","Energiankulutus vuodessa","Energy consumption per year","Potreba energie za rok ","Energiforbrug pr. år","Energijos poreikis per metus ","Enerģijas patēriņš gadā","Consumo energetico annuo","Éves energia szükséglet","Energibehov årlig"]
["Electricity requirement heat pump","Strombedarf Wärmepumpe","Electricity requirement heat pump","Stroomverbruik warmtepomp","Strombedarf Wärmepumpe","Lämpöpumpun sähkönkulutus","Strombedarf Wärmepumpe","Spotreba elektriky TČ","Elforbrug varmepumpe"," Šilumos siurblio elektros galia","Elektrības patēriņš siltumsūknim","Fabbisogno elettrico pompa di calore","Hősziv. által felhasznált villamos energia","kW/h forbruk varmepumpe"]
["Electricitiy heat pump","Strom WP","Electricitiy heat pump","Stroom WP","Strom WP","Sähkönkulutus, LP","Strom WP","Napájanie TČ","El varmepumpe"," Šilumos siurblio elektros sunaudojimas","Elektrība siltumsūknim","Elettricità pompa di calore","Hőszivattyús villamos energia","Forbruk kW/h VP"]
["End energy 2. heat source","Endenergie 2. Wärmeerzeuger","End energy 2. heat source","Totaalenergie 2de warmteopwekker","Endenergie 2. Wärmeerzeuger","Energiankulutus, 2. lämmönlähde","Endenergie 2. Wärmeerzeuger","Energia 2. zdroja","Sluteffekt 2. varmekilde"," 2-inio šilumos šaltinio tiekiama energija","Papildenerģija 2-ais avots","Energia finale 2° generatore di calore","2.Hőtermelő által felhasznált energia","Energibehov tilskuddsvarme"]
["Electricity requirement auxiliary heating","Strombedarf Zusatzheizung","Electricity requirement auxiliary heating","Stroomverbruik bijverwarming","Strombedarf Zusatzheizung","2. lämmöntuottajan sähkönkulutus","Strombedarf Zusatzheizung","Spotreba prídavného vykurovania ","Elforbrug tilskudsopvarmning","Elektros poreikis papildomam šildymui","Elektrības patēriņš papildapsildei","Consumi elettrici riscaldamento integrativo","Kieg. fűtés által felhasznált villamos energia","kW/h forbruk tilskuddsvarme"]
["Liter oil","Liter Öl","Liter oil","Liters Olie","Liter Öl","litraa öljyä","Liter Öl","Liter oleja","Liter olie","Skystas kuras, litrai","Litri degvielas","Litro di gasolio","Liter olaj","Liter olje"]
["m³ gas","m³ Gas","m³ gas","m³ Gas","m³ Gas","m³ kaasua","m³ Gas","m³ plynu","m³ gas","Dujos m³","m³ gāzes","m³ di gas","m³ Gáz","m³ gass"]
["Heat demand","Wärmebedarf","Heat demand","Warmtevraag","Wärmebedarf","Lämmöntarve","Wärmebedarf","Vyrobená energia ","Varmebehov","Šilumos poreikis","Siltumslodze","Fabbisogno termico","Hőszükséglet","Varmebehov"]
["Electricity requirement","Strombedarf","Electricity requirement","Stroomverbruik","Strombedarf","Sähkönkulutus","Strombedarf","Spotrebovaná energia ","Elforbrug","Elektros poreikis","Elektrības patēriņš","Fabbisogno elettrico","Felhasznált villamos energia","Forbruk i kW/h"]
["End energy ","Endenergie","End energy ","Totaalenergie","Endenergie","Primäärienergia","Endenergie","Celková energia","Slutenergi","Galutinė energija ","Enerģija kopā","Energia Finale","Felhasznált energia","Energibehov"]
["End energy [kWh]","Endenergie [kWh]","End energy [kWh]","Totaal energie [kWh]","Endenergie [kWh]","Primäärienergia [kWh]","Endenergie [kWh]","Celková energia [kWh]","Slutenergi [kWh]","Galutinė energija (kWh)","Enerģija kopā [kWh]","Energia Finale","Felhasznált energia [kWh]","Energibehov [kWh]"]
["Energy costs","Energiekosten","Energy costs","Energiekosten","Energiekosten","Energiakustannus","Energiekosten","Celková cena energie","Energiomkostninger","Energijos kaina","Enerģijas izmaksas","Costi energetici","Energia költségek","Energikostnader"]
["Options","Einstellungen","Options","Opties","Options","Asetukset","Options","Možnosti","Indstillinger","Nustatymai ","Iestatījumi","Opzioni","Beállítások","Innstillinger"]
["Energy costs [€/a]","Energiekosten [€/a]","Energy costs [€/a]","Energie kosten [€/a]","Energy costs [€/a]","Energiakustannukset [€/v]","Energy costs [€/a]","Cena energie [€/a]","Energiomkostninger [DKK/år]","Energijos kaina (€/metams) ","Enerģijas izmaksas [€/gadā]","Costi energetici [€/anno]","Energia költségek [Ft/év]","Energikostnader [Kr/å]"]
["Ersparnis gegenüber Öl-/Gasheizung","Ersparnis gegenüber Öl-/Gasheizung","Ersparnis gegenüber Öl-/Gasheizung","Ersparnis gegenüber Öl-/Gasheizung","Ersparnis gegenüber Öl-/Gasheizung","Säästöt öljy-/kaasulämmitykseen verrattuna","Ersparnis gegenüber Öl-/Gasheizung","Ersparnis gegenüber Öl-/Gasheizung","Ersparnis gegenüber Öl-/Gasheizung","Ersparnis gegenüber Öl-/Gasheizung","Ersparnis gegenüber Öl-/Gasheizung","Ersparnis gegenüber Öl-/Gasheizung","Ersparnis gegenüber Öl-/Gasheizung","Besparelse ifht. olje/gass"]
["CO2-Emmision","CO2-Emmision","CO2-Emmision","CO2-Emmisie","CO2-Emmision","CO2-päästöt","CO2-Emmision","CO2-emisie","CO2-Emmision","CO2 emisija","CO2 Emisija","Emissioni di CO2","CO2-Kibocsátás","CO2 utslipp"]
["Oil","Öl","Oil","Olie","Öl","Öljy","Öl","olej","Olie","Skystas kuras","Dīzeļdegviela","Gasolio","Olaj","Olje"]
["Gas","Gas","Gas","Gas","Gas","Kaasu","Gas","plyn","Gas","Dujos ","Gāze","Gas metano","Gáz","Gass"]
["Restore to standard values ?","Alle Änderungen werden verworfen. Fortfahren?","Restore to standard values ?","Alle ingegeven waarden worden gereset, doorgaan?","Restore to standard values ?","Haluatko palauttaa oletusarvot?","Restore to standard values ?","Obnoviť štandardné hodnoty?","Gendan til standard værdier ?","Grįžti prie standartinių nustatymų ? ","Atjaunot pamatiestatījumus?","Ripristinare i valori standard?","Minden változtatás elvetése. Folytatás ?","Tilbakestille til standard verdier?"]
["Default values","Konfiguration zurücksetzen","Default values","Standaardwaarden","Default values","Oletusarvot","Default values","Predvolené","Standard værdier","Standartiniai parametrai","Pamatiestatījumi","Valori di default","Minden változtatás visszaállítása","Standard verdier"]
["Save & Back","Speichern & Zurück","Save & Back","Terug","Save","Tallenna ja palaa","Save","Späť","Gem & tilbage","Išsaugoti","Saglabāt","Salva","Mentés és vissza","Lagre & retur"]
["Energy prices","Energiepreise","Energy prices","Energieprijzen","Energiepreise","Energianhinnat","Energiepreise","Cena energie","Energipriser","Energijos kainos","Enerģijas cenas","Prezzi dell'energia","Energia árak","Energipriser"]
["Heat pump rate","Wärmepumpentarif","Heat pump rate","Warmtepomptarief","Wärmepumpentarif","Lämpöpumpun sähköenergia","Wärmepumpentarif","Tarif pre tepelné čerpadlá","Varmepumpetarif","Šilumos siurblio elektros tarifas","Siltumsūkņa tarifs","Tariffa pompa di calore","Hőszivattyús tarifa","Varmepumpetariff"]
["Household electricity","Haushaltsstrom","Household electricity","Standaardtarief","Haushaltsstrom","Taloussähkö","Haushaltsstrom","Tarif pre domácnosti","Husholdningsstrøm","Elektros tarifas gyventojams","Mājsaimniecības elektrības tarifs","Elettricità ad uso domestico","Normál tarifa","Tariff kW/h"]
["Oil-/gas price","Öl-/Gaspreis","Oil-/gas price","Olie-/Gasprijs","Öl-/Gaspreis","Öljyn/kaasun hinta","Öl-/Gaspreis","Tarif olej-/plyn","Olie/gaspris","skysto kuro/dujų","Dīzelis | Gāze","Costo del gasolio / gas metano","Olaj / Gáz ár","Olje/gass pris"]
["Boiler efficiency oil/gas","Kesselwirkungsgrad Öl/Gas","Boiler efficiency oil/gas","Ketelrendement Olie/Gas","Kesselwirkungsgrad Öl/Gas","Kattilan hyötysuhde, öljy/kaasu","Kesselwirkungsgrad Öl/Gas","Účinnosť kotla olej/plyn","Keddelvirkningsgrad olie/gas"," Skysto kuro/dujų katilo efektyvumas","Apkures katla lietderības koeficients","Rendimento caldaia a gas metano / gasolio","Kazán hatásfoka olaj / gáz","Virkningsgrad kjele"]
["CO2-emmision electricity","CO2-Emmision Strom","CO2-emmision electricity","CO2-Emmisie stroom","CO2-Emmision Strom","CO2-päästöt, sähkö","CO2-Emmision Strom","CO2-emisie elektriky","CO2-Emmision strøm","CO² emisija elektra","CO2 emisijas elektrībai","Emissioni di CO2 dell'elettricità","CO2 Kibocsátás Elektromos energia","CO2 faktor elektrisitet"]
["CO2-emmision oil/gas","CO2-Emmision Öl/Gas","CO2-emmision oil/gas","CO2-Emmisie olie/Gas","CO2-Emmision Öl/Gas","CO2-päästöt, öljy/kaasu","CO2-Emmision Öl/Gas","CO2-emisie oleja/plynu","CO2-Emmision olie/gas","CO² emisija skystas kuras/dujos","CO2 emisijas dīzelim/gāzei","Emissioni di CO2 del gasolio/metano","CO2 Kibocsátás Olaj/Gáz","CO2 utslipp olje/gass"]
["Cold water temperature","Kaltwassertemperatur","Cold water temperature","Koudwatertemperatuur","Kaltwassertemperatur","Kylmän veden lämpötila","Kaltwassertemperatur","studená voda","Koldtvandstemperatur","Šalto vandens temperatūra","aukstais ūdens","Temperatura dell'acqua fredda","Hidegvíz hőmérséklet","Kaldtvannstemperatur"]
["Buffer temperature","Speichertemperatur","Buffer temperature","Boilertemperatuur","Speichertemperatur","Varaajalämpötila","Speichertemperatur","Teplota akumulátora","Beholdertemperatur","Talpos temperatūra ","Karstā ūdens temperatūra","Temperatura dell'accumulo","Tároló hőmérséklet","Varmtvannstemperatur"]
["Forward flow heatpump in DHW-mode","WP-Vorlauf im WW-Betrieb","Forward flow heatpump in DHW-mode","Forward flow heatpump in DHW-mode","Forward flow heatpump in DHW-mode","Menovesilämpötila, käyttövesi","Forward flow heatpump in DHW-mode","Výstupný prietok TČ v režime TUV","VP-fremløbstemperatur i VV-drift","Šilumos siurblio temperatūra ruošiant karštą vandenį","Turpgaita siltumsūknim ražojot karsto ūdeni","Forward flow heatpump in DHW-mode","HSZ. előremenő hőmérséklete HMV üzemmódban","Turtemperatur VP f. varmtvann"]
["Heat loss distribution without circulation","Wärmeverluste Verteilung ohne Zirkulation","Heat loss distribution without circulation","Wärmeverluste Verteilung ohne Zirkulation","Wärmeverluste Verteilung ohne Zirkulation","Lämpöhukka, ilman käyttövedenkiertoa","Wärmeverluste Verteilung ohne Zirkulation","Tepelné straty s cirkuláciou","Distributionstab uden cirkulation","Šilumos perdavimo nuostoliai be recirkuliacijos","Sadales siltumzudumi bez cirkulācijas","Wärmeverluste Verteilung ohne Zirkulation","Rendszer hővesztesége cirkuláció nélkül","Varmetap fordeling u. VVC"]
["Heat loss distribution with circulation","Wärmeverluste Verteilung mit Zirkulation","Heat loss distribution with circulation","Wärmeverluste Verteilung mit Zirkulation","Wärmeverluste Verteilung mit Zirkulation","Lämpöhukka, käyttövedenkierrolla","Wärmeverluste Verteilung mit Zirkulation","Tepelné straty bez cirkulácie","Distributionstab med cirkulation","Šilumos perdavimo nuostoliai su recirkuliacija","Sadales siltumzudumi ar cirkulāciju","Wärmeverluste Verteilung mit Zirkulation","Rendszer hővesztesége cirkulációval","Varmetap fordeling m. VVC"]
["Covering ratio 2. heat source","Wirkungsgrad 2. Wärmeerzeuger","Covering ratio 2. heat source","Rendement additioneel toestel","Wirkungsgrad 2. Wärmeerzeuger","2. lämmöntuottajan hyötysuhde","Wirkungsgrad 2. Wärmeerzeuger","Účinnosť 2. zdroja","Virkningsgrad 2. varmekilde","2-inio šilumos šaltinio efektyvumas ","Saražots ar 2-o avotu","Fattore di copertura 2° generatore di calore in %","2.Hőtermelő hatásfoka","Dekningsgrad el-tilskudd"]
["kWh per day","kWh pro Tag","kWh per day","kWh per dag","kWh pro Tag","kWh päivässä","kWh pro Tag","kWh za deň","kWh pr. dag","kWh per dieną ","kWh dienā","kWh giornalieri","kWh naponta","kWh pr. dag"]
["Heating load with surcharges","Heizlast mit Zuschlägen","Heating load with surcharges","Verwarmingslast met toeslagen","Heizlast mit Zuschlägen","Lämmöntarve lisäteholla","Heizlast mit Zuschlägen","Celková potreba aj s korekcoiu","Effektbehov med tilskud","Šildymo galia su papildomu poreikiu ","Siltumslodze ar papildnosacījumiem","Carico termico con sovradimensionamenti","Hőszükséglet pótlékokkal","Varmebehov m. tillegg"]
["daily requirements","Tagesbedarfe","daily requirements","Dagverbruik","Tagesbedarfe","Päivätarve","Tagesbedarfe","Denná potreba","Dagsbehov","Dienos poreikis","Dienas patēriņš","Fabbisogni giornalieri","Napi igény","Daglig behov"]
["operating point","Betriebspunkt","operating point","Werkpunt","Betriebspunkt","Toimintapiste","Betriebspunkt","Pracovný bod","Driftspunkt","Veikimo taškas","Darba punkts","Punto operativo","Munkapont","Driftspunkt"]
["HP-electricity","WP-Strom","HP-electricity","WP-stroom","WP-Strom","LP, sähkö","WP-Strom","TČ-napájanie","VP-strøm","Elektra šilumos siurbliui ","Siltumsūkņa elektrība","Elettricità per pompa di calore","Hőszivattyús tarifa","Elektrisitet VP"]
["Household electricity","Haushaltsstrom","Household electricity","Standaardtarief","Haushaltsstrom","Taloussähkö","Haushaltsstrom","Tarif pre domácnosti","Husholdningsstrøm","Elektros tarifas gyventojams","Mājsaimniecības elektrības tarifs","Elettricità ad uso domestico","Normál tarifa","Tariff kW/h"]
["Manual Input","Manuelle Eingabe","Manual Input","Handmatige ingave","Manuelle Eingabe","Käsinsyöttö","Manuelle Eingabe","Manuálne zadanie","Manuel indtastning","Rankinis duomenų įvedimas ","Ievadiet vērtību","Input manuale","Kézi beadás","Manuell input"]
["Swimming pool","Schwimmbad","Swimming pool","Zwembad","Schwimmbad","Uima-allas","Schwimmbad","Bazén","Swimmingpool","Baseinas","Peldbaseins","Piscina","Medence","Svømmebasseng"]
["Volume in m³","Volumen in m³","Volume in m³","Volume in m ³","Volume en m³","Tilavuus [m³]","Volume in m ³","Objem v m³","Volumen i m³","Kiekiai m³","Tilpums m³","Volume in m³","Térfogat m³","Volum i m³"]
["Swimming pool type","Schwimmbadart","Swimming pool type","Zwembadtype","Type de piscine","Uima-altaan tyyppi","Swimming pool type","Bazén","Swimmingpooltype","Baseino tipas","Peldbaseina tips","Tipologia di piscina","Medence típusa","Svømmebasseng type"]
["Open air swimming pool with cover","Freibad mit Abdeckung","Open air swimming pool with cover","Openluchtzwembad met afdekking","Piscine de plein air avec bâche","Katettu ulkoilmauima-allas","Open air swimming pool with cover","Zastrešený vonkajší bazén","Udendørs swimmingpool med afdækning","Dengiamas atviras baseinas","Brīvdabas baseins ar pārklāju","Piscina all'esterno con copertura","Szabadtéri medence takarással","Utendørs basseng m. overdekning"]
["Open air pool without cover","Freibad ohne Abdeckung","Open air pool without cover","Openluchtzwembad zonder afdekking","Piscine de plein air sans bâche","Kattamaton ulkoilmauima-allas","Open air pool without cover","Nezastrešený vonkajší bazén","Udendørs swimmingpool uden afdækning","Atviras baseinas be uždengimo","Brīvdabas baseins bez pārklāja","Piscina all'esterno senza copertura","Szabadtéri medence takarás nélkül","Utendørs basseng u. overdekning"]
["Indoor pool with cover","Hallenbad mit Abdeckung","Indoor pool with cover","Binnenzwembad met afdekking","Piscine couverte, avec bâche","Katettu sisäuima-allas","Indoor pool with cover","Krytý vnútorný bazén","Indendørs swimmingpool med afdækning","Dengiamas baseinas patalpose","Iekštelpu baseins ar pārklāju","Piscina all'interno con copertura","Beltéri medence takarással","Innendørs basseng m. overdekning"]
["Indoor pool without cover","Hallenbad ohne Abdeckung","Indoor pool without cover","Binnenzwembad zonder afdekking","Piscine couverte, sans bâche","Kattamaton sisäuima-allas","Indoor pool without cover","Nekrytý vnútorný bazén","Indendørs swimmingpool uden afdækning","Baseinas pastate be uždengimo","Iekštelpu baseins bez pārklāja","Piscina all'interno senza copertura","Beltéri medence takarás nélkül","Innendørs basseng u. overdekning"]
["Rate electricity auxiliary heating","Tarif elektrische Zusatzheizung","Rate electricity auxiliary heating","Tarief elektrische bijverwarming","Tarif elektrische Zusatzheizung","Lisälämmityksen tariffi","Tarif elektrische Zusatzheizung","Tarif elektrického kúrenia ","Tarif elektrisktilskudsvarme","Papildomo elektrinio šildymo tarifas ","Elektrības tarifs papildapsildei","Tariffa dell'elettrcità per il riscaldamento ausiliario","Kiegészítő fűtés tarifája","Tariff tilskuddsvarme"]
["€/a","€/a","€/a","€/a","€/a","€/v","€/a","€/a","DKK/år","€/a","€/gadā","€/anno","Ft/év","Kr/år"]
["Ct/kWh","Ct/kWh","Ct/kWh","Ct/kWh","Ct/kWh","snt/kWh","Ct/kWh","Ct/kWh","øre/kWh","Ct/kWh","centi/kWh","centesimi/kWh","Ft/kWh","Øre/kWh"]
["kWh/a","kWh/a","kWh/a","kWh/a","kWh/a","kWh/v","kWh/a","kWh/a","kWh/år","kWh/a","kWh/gadā","kWh/anno","kWh/év","kWh/år"]
["kg/a","kg/a","kg/a","kg/a","kg/a","kg/v","kg/a","kg/a","kg/år","kg/a","kg/gadā","kg/anno","kg/év","kg/år"]
["h/a","h/a","h/a","h/a","h/a","h/v","h/a","h/a","h/år","h/a","h/gadā","ore/anno","h/év","h/år"]
["days/year","Tage/Jahr","days/year","dagen/jaar","Tage/Jahr","päivää/vuosi","Tage/Jahr","dni/rok","dage/år","dienomis per metus ","patēriņš gadā","giorni/anno","Nap/év","dager/år"]
["Import","Projektdaten importieren","Import","Import","Import","Tuo","Import","Projektové dáta Import","Importer","Importas ","Importēt","Import","Projekt adatainak importálása","Importere prosjekt"]
["Export","Projektdaten exportieren","Export","Export","Export","Vie","Export","Projektové dáta Export","Eksporter","Eksportas","Eksportēt","Export","Projekt adatainak exportálása","Eksportere prosjekt"]
["No weather data was found. Please choose another location.","Zum gewähltem Standort wurden keine Wetterdaten gefunden. Bitte wählen Sie einen anderen Ort aus.","No weather data was found. Please choose another location.","No weather data was found. Please choose another location.","No weather data was found. Please choose another location.","Säätietoja ei löytynyt. Ole hyvä ja valitse toinen sijainti.","No weather data was found. Please choose another location.","Neboli nájdené infomácie o počasí. Prosím vyberte inú oblasť.","Ingen vejr informationer fundet. Vælg Venligst en anden lokation.","Nėra meteorologinių duomenų. Pasirinkite kitą vietovę ","Jūsu izvēlētajai pilsētai nav meteoroloģijas datu. Lūdzam izvēlēties citu pilsētu.","Per questa località non sono disponibili dati climatici. Si prega di scegliere un'altra località.","A kiválasztott helységhez nem találhatók meterológiai adatok.Kérjük válasszon másik helységet.","Klimadata ikke tilgjengelig, velg på ny"]
["Software update is available.","Es ist eine neue Programmversion verfügbar:","Software update is available.","Software update is available.","Software update is available.","Ohjelmistopäivitys saatavilla.","Software update is available.","Aktualizácia softwaru je možná.","Ny softwareopdatering tilgængelig.","Galima atnaujinti programinę įrangą","Ir pieejama jaunākas programmas versija.","Software update is available.","A programnak újabb verziója érhető el.","Ny software versjon tilgjengelig"]
["Heat source DHW","Wärmeerzeuger Warmwasser","Heat source DHW","Wärmeerzeuger Warmwasser","Wärmeerzeuger Warmwasser","Käyttöveden lämmöntuottaja","Wärmeerzeuger Warmwasser","Zdroj tepla pre TUV","Varmekilde varmtvand","Šilumos šaltinis karštam vandeniui","Siltuma avots karstajam ūdenim","Wärmeerzeuger Warmwasser","Melegvíz készítő berendezés tipusa","Varmeavgiver varmtvann"]
["Cylinder temperature","Speichertemperatur","Cylinder temperature","Speichertemperatur","Speichertemperatur","Varaajalämpötila","Speichertemperatur","Teplota akumulátora","Beholdertemperatur","Talpos temperatūra ","Karstā ūdens trauka temperatūra","Speichertemperatur","Tároló hőmérséklet","Varmtvannstemperatur"]
["with heat pump for heating","Mit Heizungswärmepumpe","with heat pump for heating","Mit Heizungswärmepumpe","Mit Heizungswärmepumpe","Lämmityksen lämpöpumpulla","Mit Heizungswärmepumpe","S tepelným čerpadlom.","Med varmepumpe til rumopvarmning","Kartu su šildymo šilumos siurbliu","ar apkures siltumsūkni","Mit Heizungswärmepumpe","Fűtési Hőszivattyúval","Med varmepumpe"]
["with second heat source only","Nur mit 2. Wärmeerzeuger","with second heat source only","Nur mit 2. Wärmeerzeuger","Nur mit 2. Wärmeerzeuger","Ainoastaan 2. lämmöntuottajalla","Nur mit 2. Wärmeerzeuger","S 2. zdrojom","Kun med 2. varmekilde","Tik su antriniu šilumos šaltiniu","Tikai ar 2-o siltumavotu","Nur mit 2. Wärmeerzeuger","Csak 2. hőtermelővel","Kun m. tilskuddsvarme"]
["automatic calculation","Automatische Berechnung","automatic calculation","Automatische Berechnung","Automatische Berechnung","Automaattinen laskenta","Automatische Berechnung","Automatický výpočet","Automatisk beregnet","Suskaičiuota automatiškai","automātisks aprēķins","Automatische Berechnung","Automatikus számítás","Automatisk kalkulasjon"]
["Control heat curve","Regelung Heizkurve","Control heat curve","Regelung Heizkurve","Regelung Heizkurve","Lämmityskäyrän ohjaus","Regelung Heizkurve","Regulačná vykurovacia krivka","Styring af varmekurve","Pagal šildymo kreivės algoritmą","Apkures līknes kontrole","Regelung Heizkurve","Fűtés szabályozás","Temperatur-regulering"]
["Outside temperature driven","Außentemperaturgeführt","Outside temperature driven","Außentemperaturgeführt","Außentemperaturgeführt","Ulkolämpötilaohjattu","Außentemperaturgeführt","Závislosť na vonkajšej teplote","Udetemperaturstyret","Pagal lauko temperatūrą","Ārgaisa temperatūras vadīts","Außentemperaturgeführt","Időjáráskövető szabályozás","Utekompensert regulering"]
["Fixed value control","Festwertregelung","Fixed value control","Festwertregelung","Festwertregelung","Kiinteän lämpötilan ohjaus","Festwertregelung","Pevné hodnoty regulácie","Fasttemperaturstyret","Pagal nustatytą temperatūrą","Fiksētas vērtības vadība","Festwertregelung","Állandó hőhérsékletre szabályozás","Fasttemperatur regulering"]
["System data","Anlagendaten","System data","Anlagendaten","Anlagendaten","Järjestelmän tiedot","Anlagendaten","Údaje o objekte","Anlægsdata","Sistemos aprašymas","Sistēmas dati","Anlagendaten","Rendszeradatok","Anleggsdata"]
["Ventilation","Lüftung","Ventilation","Lüftung","Lüftung","Ilmanvaihto","Lüftung","Lüftung","Lüftung","Vėdinimas","Vēdināšana","Lüftung","Szellőzés","Ventilasjon"]
["Heat recovery rate","Wärmerückgewinnungsgrad","Heat recovery rate","Wärmerückgewinnungsgrad","Wärmerückgewinnungsgrad","Lämmöntalteenoton hyötysuhde","Wärmerückgewinnungsgrad","Wärmerückgewinnungsgrad","Wärmerückgewinnungsgrad","Šilumogrąžos efektyvumas","Siltumatguves rādītājs","Wärmerückgewinnungsgrad","Hővisszanyerési hatásfok","Varmegjenvinningsgrad"]
["Ventilation heat content on the heat load","Anteil Lüftungswärmebedarf an Heizlast","Ventilation heat content on the heat load","Anteil Lüftungswärmebedarf an Heizlast","Anteil Lüftungswärmebedarf an Heizlast","IV-lämpötehontarpeen osuus lämmöntarpeesta","Anteil Lüftungswärmebedarf an Heizlast","Anteil Lüftungswärmebedarf an Heizlast","Anteil Lüftungswärmebedarf an Heizlast","Vėdinimo dalis šilumos poreikyje","Ventilācijai paredzētais siltums","Anteil Lüftungswärmebedarf an Heizlast","Szellőztetés részaránya a hőszükségletből","Andel av energibehov f. ventilasjon"]
["Power consumption fan","Leistungsaufnahme je Ventilator","Power consumption fan","Leistungsaufnahme je Ventilator","Leistungsaufnahme je Ventilator","Puhaltimen ottoteho","Leistungsaufnahme je Ventilator","Leistungsaufnahme je Ventilator","Leistungsaufnahme je Ventilator","Ventiliatorių elektros sąnaudos","Dzinēju elektriskais patēriņš","Leistungsaufnahme je Ventilator","Ventilátorok teljesítményfelvétele","Effektbehov pr. ventilator"]
["Running time ventilation system","Laufzeit Lüftungsanlage","Running time ventilation system","Laufzeit Lüftungsanlage","Laufzeit Lüftungsanlage","Ilmanvaihdon käyntiaika","Laufzeit Lüftungsanlage","Laufzeit Lüftungsanlage","Laufzeit Lüftungsanlage","Vėdinimo sistemos veikimo laikas","Ventilācijas sistēmas darba stundas","Laufzeit Lüftungsanlage","Szellőztető berendezés üzemideje","Driftstid ventilasjonanlegg"]
["Ventilation system","Lüftungsanlage","Ventilation system","Lüftungsanlage","Lüftungsanlage","Ilmanvaihtojärjestelmä","Lüftungsanlage","Lüftungsanlage","Lüftungsanlage","Vėdinimo sistema","Ventilācijas sistēma","Lüftungsanlage","Szellőzés","Ventilasjonsanlegg"]
["Heat recovery ","Wärmerückgewinnung","Heat recovery ","Wärmerückgewinnung","Wärmerückgewinnung","Lämmöntalteenotto","Wärmerückgewinnung","Wärmerückgewinnung","Wärmerückgewinnung","Šilumogrąža","Enerģijas atguve","Wärmerückgewinnung","Hővisszanyerő","Varmegjenvinning"]
["Full screen mode","Ganzer Bildschirm","Full screen mode","Full screen mode","Full screen mode","Koko ruudun tila","Full screen mode","Full screen mode","Full screen mode","Per visą ekraną","Full screen mode","Full screen mode","Full screen mode","Full skjerm modus"]
["Send E-Mail","E-Mail an uns","Send E-Mail","Send E-Mail","Send E-Mail","Send E-Mail","Send E-Mail","Send E-Mail","Send E-Mail","Išsiųsti elektroninį laišką","Send E-Mail","Send E-Mail","Send E-Mail","Send e-post"]
["Exit program","Programm schließen","Exit program","Exit program","Exit program","Sulje ohjelma","Exit program","Exit program","Exit program","Užbaigti darbą","Exit program","Exit program","Exit program","Avslutt program"]

{"sheet":"Schnellauswahl","index":6,"n_rows":19,"n_cols":28,"rows_kept":19,"cut":false,"hidden":true,"merged":[[17,20,17,24],[17,26,17,30],[15,2,15,3],[13,2,13,3],[11,2,11,3],[15,20,15,24],[14,20,14,24],[11,14,11,18],[17,14,17,18],[15,14,15,18],[16,14,16,18],[12,26,12,30],[15,26,15,30],[16,20,16,24],[16,26,16,30],[9,14,9,18],[13,14,13,18],[14,14,14,18],[8,26,8,30],[9,20,9,24],[9,26,9,30],[10,20,10,24],[10,26,10,30],[10,14,10,18],[11,20,11,24],[11,26,11,30],[13,20,13,24],[13,26,13,30],[14,26,14,30],[12,14,12,18],[12,20,12,24],[21,2,21,7],[23,2,23,7],[25,2,25,7],[19,26,19,30],[20,20,20,24],[20,26,20,30],[20,14,20,18],[18,3,20,11],[18,20,18,24],[18,26,18,30],[19,20,19,24],[18,14,18,18],[19,14,19,18],[7,14,7,18],[8,14,8,18],[7,20,7,24],[7,26,7,30],[8,20,8,24],[0,1,0,30],[2,14,2,18],[2,20,2,24],[2,26,2,30],[2,2,2,12]]}
[]
[null,null,{"$f":"Translation!A21","v":"Heat pump finder"}]
[null,null,{"$f":"Translation!A33","v":"Selection"},null,null,null,null,null,null,null,null,null,null,null,{"$f":"Translation!A37","v":"Air"},null,null,null,null,null,{"$f":"Translation!A38","v":"Brine"},null,null,null,null,null,{"$f":"Translation!A39","v":"Water"}]
[]
[]
[]
[]
[null,null,null,null,null,null,null,null,null,null,null,null,null,null,"WPL 12 S Trend",null,null,null,null,null,"WPF 10",null,null,null,null,null,"WPW 10 Set","2 x WPF 40"]
[null,null,null,null,null,null,null,null,null,null,null,null,null,null,"WPL 13 cool",null,null,null,null,null,"WPF 10 cool",null,null,null,null,null,"WPW 10 basic Set"]
[null,null,null,null,null,null,null,null,null,null,null,null,null,null,null,null,null,null,null,null,"WPC 10",null,null,null,null,null,"WPC 07"]
[null,null,null,null,null,null,null,null,null,null,null,null,null,null,null,null,null,null,null,null,"WPC 10 cool"]
[null,null,{"$f":"Translation!A34","v":"Heat demand building"},null,null,null,null,null,null,null,null,{"$f":"Berechnung!W5&\" KW\"","v":"9 KW"},null,null,null,null,null,null,null,null,"WPF 10 basic"]
[null,null,null,null,null,null,null,null,null,null,null,null,null,null,null,null,null,null,null,null,"WPF 10 M"]
[null,null,{"$f":"Translation!A104","v":"Design temperature"},null,null,null,null,null,null,null,null,{"$f":"Berechnung!X7&\" °C\"","v":"-14 °C"}]
[]
[null,null,{"$f":"Translation!A56","v":"Forward flow temperature"},null,null,null,null,null,null,null,null,{"$f":"Berechnung!R7&\" °C\"","v":"35 °C"}]
[]
[null,null,null,{"$f":"Translation!A27","v":"Installation"}]
[null,null,null,{"$f":"Translation!A31","v":"Estimated assumption dosen't replace a detailed calculation,Heating threshold -15°C, Calculation without switch off time, Heat source air: monoenergetic operation, Bivalence point -3°C…-7°C, Heat Source Brine/Well Water monovalent operation"}]

{"sheet":"Klimadaten","index":7,"n_rows":8160,"n_cols":91,"rows_kept":8160,"cut":false,"hidden":true,"merged":[[0,33,0,35],[0,0,0,3],[0,15,0,17],[0,18,0,20],[0,54,0,56],[0,48,0,50],[0,69,0,71],[0,66,0,68],[0,21,0,23],[0,9,0,11],[0,27,0,29],[0,12,0,14],[0,30,0,32],[0,45,0,47],[0,42,0,44],[0,36,0,38],[0,24,0,26],[0,57,0,59],[0,60,0,62],[0,51,0,53],[0,63,0,65],[0,39,0,41]]}
["Norm-Außentemperaturen Deutschland",null,null,null,null,null,null,null,null,"Deutschland",null,null,"Österreich",null,null,"Schweiz",null,null,"England",null,null,"Holland",null,null,"Belgien",null,null,"Finnland",null,null,"Dänemark",null,null,"Norwegen",null,null,"Slowakei",null,null,"Lettland",null,null,"Russland",null,null,"Litauen",null,null,"Ungarn",null,null,"Bosnien-Herzegowina",null,null,"Italien",null,null,"Spanien",null,null,"Marokko",null,null,"Namibia",null,null,"Europa",null,null,"Near East"]
["PLZ","Stadt","Außentemp.","Wetterstation",null,null,null,null,null,"PLZ","Stadt","Außentemp.","PLZ","Stadt","Außentemp.","PLZ","Stadt","Außentemp.","PLZ","Stadt","Außentemp.","PLZ","Stadt","Außentemp.","PLZ","Stadt","Außentemp.","PLZ","Stadt","Außentemp.","PLZ","Stadt","Außentemp.","PLZ","Stadt","Außentemp.","PLZ","Stadt","Außentemp.","PLZ","Stadt","Außentemp.","PLZ","Stadt","Außentemp.","PLZ","Stadt","Außentemp.","PLZ","Stadt","Außentemp.","PLZ","Stadt","Außentemp.","PLZ","Stadt","Außentemp.","PLZ","Stadt","Außentemp.","PLZ","Stadt","Außentemp.","PLZ","Stadt","Außentemp.","PLZ","Stadt","Außentemp.","PLZ","Stadt","Außentemp."]
["1....","Berlin","-14 °C","Berlin",null,null,null,null,null,null,"Aachen","-12 °C",3300,"Amstetten","-13 °C",6780,"Airolo","-8 °C",null,"Aberdeen ","-3 °C",1300,"Almere","-9 °C",-11,"Antwerpen","-11 °C","02002","Espoo","-26 °C",null,"Aalborg","-12 °C",null,"Ålesund","-11 °C",null,"Banská Bystrica","-15 °C",null,"Ainaži","-23 °C",null,"Kaliningrad","-18 °C",null,"Alytus","-23 °C",null,"Budapest","-13 °C",null,"Banja Luka","-13 °C",null,"Bari","0 °C","15000","A Coruna","5 °C",null,"Rabat","5 °C",null,"Keetmanshoop","-2 °C","TUR","Ankara","-14 °C",null,"Aschkeloh","6 °C"]
["22...","Hamburg","-12 °C","Hamburg",null,null,null,null,null,null,"Augsburg","-14 °C",4052,"Ansfelden","-13 °C",8243,"Altdorf","-6 °C",null,"Ashfield ","-6 °C",3800,"Amersfoort","-11 °C",-6,"Brugge","-6 °C","00100","Helsinki","-26 °C",null,"Aarhus","-12 °C",null,"Asker","-16 °C",null,"Bardejov","-16 °C",null,"Alūksne","-25 °C",null,"Krasnodar","-14 °C",null,"Kaunas","-22 °C",null,"Deprecen","-15 °C",null,"Doboj","-12 °C",null,"Bergamo","-7 °C","03000","Alicante","2 °C",null,"Casablanca","5 °C",null,"Otjiwarongo","0 °C","GRE","Athen","0 °C",null,"Dimona","5 °C"]
["8....","München","-16 °C","München",null,null,null,null,null,null,"Bamberg","-16 °C",4820,"Bad Ischl","-14 °C",7050,"Arosa","-16 °C",null,"Aspatria","0 °C",1000,"Amsterdam","-8 °C",-9,"Bruxelles","-9 °C","99800","Ivalo","-38 °C",null,"Esbjerg","-12 °C",null,"Bærum","-11 °C",null,"Bratislava","-12 °C",null,"Daugavpils","-24 °C",null,"Kursk","-20 °C",null,"Klaipėda","-20 °C",null,"Győr","-13 °C",null,"Grude","-4 °C",null,"Bologna","-6 °C","08000","Barcelona","0 °C",null,"Agadir","5 °C",null,"Swakopmund","0 °C","BEL","Brüssel","-9 °C",null,"Elat","2 °C",null,null,null,null,null,null,null,null,null,null,null,null,null,null,null,null,null,null,"Deutschland"]
["5....","Köln","-10 °C","Düsseldorf",null,null,null,null,null,null,"Berlin","-14 °C",2500,"Baden bei Wien","-13 °C",7310,"Bad Ragaz","-9 °C",null,"Barnsley ","-4 °C",7300,"Apeldoorn","-11 °C",-8,"Charleroi","-8 °C","80100","Joensuu","-32 °C",null,"Helsingør","-12 °C",null,"Bergen","-15 °C",null,"Komárno","-12 °C",null,"Dobele","-22 °C",null,"Moscow","-20 °C",null,"Panevėžys","-22 °C",null,"Kecskemét","-15 °C",null,"Livno","-11 °C",null,"Brescia","-7 °C","48000","Bilbao","0 °C",null,"Marrakech","4 °C",null,"Walvis Bay","0 °C","ROM","Bukarest","-14 °C",null,"Haifa","6 °C",null,null,null,null,null,null,null,null,null,null,null,null,null,null,null,null,null,null,"Österreich"]
["60...","Frankfurt / Main","-12 °C","Frankfurt am Main",null,null,null,null,null,null,"Bremen","-12 °C",6700,"Bludenz","-15 °C",4102,"Basel","-8 °C",null,"Belfast","-2 °C",6800,"Arnhem","-10 °C",-11,"Genk","-11 °C","40100","Jyväskylä","-32 °C",null,"Herning","-12 °C",null,"Bodø","-8 °C",null,"Košice","-12 °C",null,"Liepāja","-18 °C",null,"Nizhniy Novgorod","-20 °C",null,"Šiauliai","-22 °C",null,"Miskolc","-15 °C",null,"Mostar","-6 °C",null,"Firenze","-5 °C","14000","Cordoba","2 °C",null,"Fes","0 °C",null,"Windhoek","0 °C","POR","Lissabon","2 °C",null,"Jerusalem","-2 °C",null,null,null,null,null,null,null,null,null,null,null,null,null,null,null,null,null,null,"Schweiz"]
["7....","Stuttgart","-12 °C","Stuttgart",null,null,null,null,null,null,"Dortmund","-12 °C",5280,"Braunau am Inn","-15 °C",3803,"Beatenberg","-8 °C",null,"Birmingham","-5 °C",1940,"Beverwijk","-7 °C",-7,"Gent","-7 °C","87100","Kajaani","-32 °C",null,"Hjørring","-12 °C",null,"Drammen","-12 °C",null,"Lučenec ","-16 °C",null,"Mērsrags","-20 °C",null,"Rostov-on-Don","-15 °C",null,"Vilnius","-22 °C",null,"Nyíregyháza","-15 °C",null,"Prijedor","-13 °C",null,"Genova","0 °C","33200","Gijon","2 °C",null,"Oujda","-2 °C",null,null,null,"NOR","Oslo","-18 °C",null,"Naharija","6 °C",null,null,null,null,null,null,null,null,null,null,null,null,null,null,null,null,null,null,"England"]
["44...","Dortmund","-12 °C","Dortmund",null,null,null,null,null,null,"Dresden","-14 °C",6900,"Bregenz","-11 °C",3000,"Bern","-8 °C",null,"Boulmer","-3 °C",4800,"Breda","-11 °C",-8,"Kortrijk","-8 °C","67100","Kokkola","-29 °C",null,"Holbæk","-12 °C",null,"Florø","-13 °C",null,"Námestovo","-18 °C",null,"Priekuļi","-24 °C",null,"Saint-Petersburg","-20 °C",null,null,null,null,"Pécs","-11 °C",null,"Sarajevo","-15 °C",null,"Mesina","4 °C","18000","Granada","-5 °C",null,"Bou Anfer","5 °C",null,null,null,"FRA","Paris","-8 °C",null,"Nazareth","6 °C",null,null,null,null,null,null,null,null,null,null,null,null,null,null,null,null,null,null,"Holland"]
["40...","Düsseldorf","-10 °C","Düsseldorf",null,null,null,null,null,null,"Düsseldorf","-10 °C",8600,"Bruck an der Mur","-14 °C",7502,"Bever","-16 °C",null,"Bournemouth","-5 °C",3300,"Dordrecht","-8 °C",-9,"La Louvière","-9 °C","70100","Kuopio","-32 °C",null,"København","-12 °C",null,"Hammerfest","-8 °C",null,"Nitra","-14 °C",null,"Rīga","-21 °C",null,"Smolensk","-20 °C",null,null,null,null,"Szeged","-13 °C",null,"Slavonski Brod","-15 °C",null,"Milano","-6 °C","21000","Huelva","2 °C",null,"Ouarzazate","0 °C",null,null,null,"CRO","Ploče","-4 °C",null,"Tel Aviv","6 °C",null,null,null,null,null,null,null,null,null,null,null,null,null,null,null,null,null,null,"Belgien"]
["45...","Essen","-10 °C","Dortmund",null,null,null,null,null,null,"Emden","-10 °C",6850,"Dornbirn","-12 °C",1660,"Château-d'Oex","-11 °C",null,"Bristol","-3 °C",5600,"Eindhoven","-11 °C",-10,"Liège","-10 °C","93600","Kuusamo","-32 °C",null,"Kolding","-12 °C",null,"Kristiansand","-16 °C",null,"Poprad","-16 °C",null,"Stende","-20 °C",null,"Sochi","-2 °C",null,null,null,null,"Székesfehérvár","-13 °C",null,"Tuzla","-12 °C",null,"Napoli","0 °C","28000","Madrid","-2 °C",null,null,null,null,null,null,"CZE","Prag","-14 °C",null,"Ramallah","1 °C",null,null,null,null,null,null,null,null,null,null,null,null,null,null,null,null,null,null,"Finnland"]
["28...","Bremen","-12 °C","Bremen",null,null,null,null,null,null,"Erfurt","-14 °C",6800,"Feldkirch","-13 °C",3965,"Chippis","-7 °C",null,"Cardiff","-3 °C",7500,"Enschede","-11 °C",-7,"Mons","-7 °C","15100","Lahti","-29 °C",null,"Nykøbing","-12 °C",null,"Oslo","-14 °C",null,"Žilina","-15 °C",null,"Zīlāni","-24 °C",null,"Vladivostok","-20 °C",null,null,null,null,null,null,null,"Zenica","-15 °C",null,"Padova","-8 °C","29000","Malaga","2 °C",null,null,null,null,null,null,"ITA","Rom","-2 °C",null,null,null,null,null,null,null,null,null,null,null,null,null,null,null,null,null,null,null,null,null,"Dänemark"]
["30...","Hannover","-14 °C","Hannover",null,null,null,null,null,null,"Frankfurt am Main","-12 °C",9560,"Feldkirchen in Kärnten","-15 °C",7000,"Chur","-8 °C",null,"Cork (Irland)","-2 °C",6160,"Geleen","-10 °C",-9,"Namur","-9 °C","90100","Oulu","-32 °C",null,"Odense","-12 °C",null,"Sandnes","-16 °C",null,null,null,null,null,null,null,"Volgograd","-20 °C",null,null,null,null,null,null,null,null,null,null,"Palermo","4 °C","07000","Palma de Mallorca","0 °C",null,null,null,null,null,null,"BUL","Sofia","-16 °C",null,null,null,null,null,null,null,null,null,null,null,null,null,null,null,null,null,null,null,null,null,"Norwegen"]
["04...","Leipzig","-14 °C","Leipzig",null,null,null,null,null,null,"Fritzlar","-12 °C",4810,"Gmunden","-14 °C",7260,"Davos","-14 °C",null,"Coventry","-5 °C",9700,"Groningen","-10 °C",-7,"Oostende","-7 °C","28100","Pori","-26 °C",null,"Rønne","-12 °C",null,"Sarpsborg","-14 °C",null,null,null,null,null,null,null,"Voronezh","-20 °C",null,null,null,null,null,null,null,null,null,null,"Parma","-7 °C","38000","Santa Cruz de Tenerife","5 °C",null,null,null,null,null,null,"SWE","Stockholm","-18 °C",null,null,null,null,null,null,null,null,null,null,null,null,null,null,null,null,null,null,null,null,null,"Slowakei"]
["010..","Dresden","-14 °C","Dresden",null,null,null,null,null,null,"Görlitz","-16 °C",8010,"Graz","-12 °C",2800,"Delémont","-7 °C",null,"Dover","-4 °C",2000,"Haarlem","-6 °C",null,null,null,"96100","Rovaniemi","-38 °C",null,"Slagelse","-12 °C",null,"Skien","-14 °C",null,null,null,null,null,null,null,null,null,null,null,null,null,null,null,null,null,null,null,"Perugia","-6 °C","39000","Santander","0 °C",null,null,null,null,null,null,"MON","Tivat","-2 °C",null,null,null,null,null,null,null,null,null,null,null,null,null,null,null,null,null,null,null,null,null,"Lettland"]
["904..","Nürnberg","-16 °C","Nürnberg",null,null,null,null,null,null,"Greifswald","-12 °C",5400,"Hallein","-15 °C",7180,"Disentis","-9 °C",null,"Dublin (Irland)","-2 °C",1117,"Haarlemmermeer","-7 °C",null,null,null,"33002","Tampere","-29 °C",null,"Sønderburg","-12 °C",null,"Stavanger","-15 °C",null,null,null,null,null,null,null,null,null,null,null,null,null,null,null,null,null,null,null,"Pescara","-3 °C","41000","Sevilla","2 °C",null,null,null,null,null,null,"POL","Warschau","-18 °C",null,null,null,null,null,null,null,null,null,null,null,null,null,null,null,null,null,null,null,null,null,"Russland"]
["1805.","Rostock","-10 °C","Rostock",null,null,null,null,null,null,"Hamburg","-12 °C",6845,"Hohenems","-13 °C",8840,"Einsiedeln","-10 °C",null,"Dundee","-2 °C",6300,"Heerlen","-10 °C",null,null,null,"20002","Turku","-26 °C",null,"Svendborg","-12 °C",null,"Tromsø","-11 °C",null,null,null,null,null,null,null,null,null,null,null,null,null,null,null,null,null,null,null,"Piacenza","-7 °C","46000","Valencia","0 °C",null,null,null,null,null,null,"CRO","Zagreb","-10 °C",null,null,null,null,null,null,null,null,null,null,null,null,null,null,null,null,null,null,null,null,null,"Litauen"]
["72280","Aach","-16 °C","Stuttgart",null,null,null,null,null,null,"Hannover","-14 °C",6020,"Innsbruck","-14 °C",6390,"Engelberg","-10 °C",null,"Edinburgh","-4 °C",1200,"Hilversum","-11 °C",null,null,null,"65100","Vaasa","-29 °C",null,null,null,null,"Trondheim","-15 °C",null,null,null,null,null,null,null,null,null,null,null,null,null,null,null,null,null,null,null,"Pisa","-4 °C","47000","Valladolid","-5 °C",null,null,null,null,null,null,null,null,null,null,null,null,null,null,null,null,null,null,null,null,null,null,null,null,null,null,null,null,null,null,"Ungarn"]
["78267","Aach/Hegau","-14 °C","Konstanz",null,null,null,null,null,null,"Hof","-14 °C",8605,"Kapfenberg","-14 °C",1996,"Fey","-9 °C",null,"Enfield ","-6 °C",6460,"Kerkrade","-11 °C",null,null,null,"01200","Vantaa","-26 °C",null,null,null,null,"Vardo","-17 °C",null,null,null,null,null,null,null,null,null,null,null,null,null,null,null,null,null,null,null,"Rimini","-5 °C","36200","Vigo","2 °C",null,null,null,null,null,null,null,null,null,null,null,null,null,null,null,null,null,null,null,null,null,null,null,null,null,null,null,null,null,null,"Bosnien-Herzegowina"]
["520..","Aachen","-12 °C","Aachen",null,null,null,null,null,null,"Hohenpeißenberg","-16 °C",9020,"Klagenfurt (Wörthersee)","-16 °C",1700,"Fribourg","-9 °C",null,"Glasgow","-6 °C",2300,"Leiden","-8 °C",null,null,null,"-----","Säävyöhyke I","-26 °C",null,null,null,null,null,null,null,null,null,null,null,null,null,null,null,null,null,null,null,null,null,null,null,null,null,"Roma","-2 °C","50000","Zaragoza","-5 °C",null,null,null,null,null,null,null,null,null,null,null,null,null,null,null,null,null,null,null,null,null,null,null,null,null,null,null,null,null,null,"Italien"]
["7343.","Aalen / Württ.","-16 °C","Stuttgart",null,null,null,null,null,null,"Karlsruhe","-12 °C",3400,"Klosterneuburg","-13 °C",1201,"Genève","-5 °C",null,"Lancaster ","-6 °C",6200,"Maastricht","-11 °C",null,null,null,"-----","Säävyöhyke II","-29 °C",null,null,null,null,null,null,null,null,null,null,null,null,null,null,null,null,null,null,null,null,null,null,null,null,null,"Torino","-7 °C",null,null,null,null,null,null,null,null,null,null,null,null,null,null,null,null,null,null,null,null,null,null,null,null,null,null,null,null,null,null,null,null,null,"Spanien"]
["65326","Aarbergen","-14 °C","Nürburg-Barweiler",null,null,null,null,null,null,"Kempten","-16 °C",3500,"Krems an der Donau","-12 °C",8750,"Glarus","-9 °C",null,"Leeds ","-4 °C",6500,"Nijmegen","-10 °C",null,null,null,"-----","Säävyöhyke III","-32 °C",null,null,null,null,null,null,null,null,null,null,null,null,null,null,null,null,null,null,null,null,null,null,null,null,null,"Trieste","-3 °C",null,null,null,null,null,null,null,null,null,null,null,null,null,null,null,null,null,null,null,null,null,null,null,null,null,null,null,null,null,null,null,null,null,"Marokko"]
["19322","Abbendorf","-14 °C","Schwerin",null,null,null,null,null,null,"Konstanz","-12 °C",6330,"Kufstein","-16 °C",6487,"Göschenen","-9 °C",null,"Leicester","-6 °C",3000,"Rotterdam","-8 °C",null,null,null,"-----","Säävyöhyke IV","-38 °C",null,null,null,null,null,null,null,null,null,null,null,null,null,null,null,null,null,null,null,null,null,null,null,null,null,"Udine","-7 °C",null,null,null,null,null,null,null,null,null,null,null,null,null,null,null,null,null,null,null,null,null,null,null,null,null,null,null,null,null,null,null,null,null,"Namibia"]
["30900","Abbensen","-14 °C","Hannover",null,null,null,null,null,null,"Leipzig","-14 °C",8700,"Leoben","-14 °C",9410,"Heiden","-10 °C",null,"Liverpool ","-3 °C",{"$error":"#N/A"},"s-Gravenhage","-7 °C",null,null,null,null,null,null,null,null,null,null,null,null,null,null,null,null,null,null,null,null,null,null,null,null,null,null,null,null,null,null,null,"Venezia","-6 °C",null,null,null,null,null,null,null,null,null,null,null,null,null,null,null,null,null,null,null,null,null,null,null,null,null,null,null,null,null,null,null,null,null,"Europa"]
["31234","Abbensen","-14 °C","Hannover",null,null,null,null,null,null,"Lindenberg","-14 °C",4060,"Leonding","-12 °C",3800,"Interlaken","-7 °C",null,"London","-3 °C",{"$error":"#N/A"},"s-Hertogenbosch","-10 °C",null,null,null,null,null,null,null,null,null,null,null,null,null,null,null,null,null,null,null,null,null,null,null,null,null,null,null,null,null,null,null,"Verona","-7 °C",null,null,null,null,null,null,null,null,null,null,null,null,null,null,null,null,null,null,null,null,null,null,null,null,null,null,null,null,null,null,null,null,null,"Near East"]
["93326","Abensberg","-18 °C","Straubing",null,null,null,null,null,null,"List auf Sylt","-10 °C",4020,"Linz","-12 °C",8280,"Kreuzlingen","-8 °C",null,"Manchester ","-5 °C",6100,"Sittard","-10 °C"]
["08485","Abhorn","-16 °C","Erfurt",null,null,null,null,null,null,"Magdeburg","-14 °C",6890,"Lustenau","-12 °C",2300,"La Chaux-de-Fonds","-10 °C",null,"Middlesbrough","-4 °C",5000,"Tilburg","-10 °C"]
["37290","Abterode","-16 °C","Fritzlar",null,null,null,null,null,null,"Meiningen","-16 °C",2340,"Mödling","-13 °C",4438,"Langenbruck","-9 °C",null,"Northampton","-6 °C",3500,"Utrecht","-9 °C"]
["04347","Abtnaundorf","-14 °C","Leipzig",null,null,null,null,null,null,"München","-16 °C",2380,"Perchtoldsdorf","-13 °C",3550,"Langnau/Emmental","-9 °C",null,"Norwich","-3 °C",1970,"Velsen","-7 °C"]
["94261","Abtschlag","-18 °C","Straubing",null,null,null,null,null,null,"Neuruppin","-14 °C",5760,"Saalfelden/Steinernes Meer","-17 °C",1000,"Lausanne","-6 °C",null,"Nottingham","-6 °C",1500,"Zaanstad","-6 °C"]
["73453","Abtsgmünd","-16 °C","Stuttgart",null,null,null,null,null,null,"Nürburg-Barweiler","-14 °C",5020,"Salzburg","-15 °C",1854,"Leysin","-9 °C",null,"Ogwr ","-3 °C",1519,"Zaanstreek","-6 °C"]
["69518","Abtsteinach","-12 °C","Würzburg",null,null,null,null,null,null,"Nürnberg","-16 °C",3100,"Sankt Pölten","-14 °C",6600,"Locarno","-2 °C",null,"Oxford","-6 °C",2700,"Zoetermeer","-7 °C"]
["83101","Achenmühle","-18 °C","Hohenpeißenberg",null,null,null,null,null,null,"Potsdam","-14 °C",6130,"Schwaz","-15 °C",6900,"Lugano","-2 °C",null,"Plymouth ","-3 °C"]
["77855","Achern","-12 °C","Karlsruhe",null,null,null,null,null,null,"Rostock","-10 °C",2320,"Schwechat","-13 °C",6000,"Luzern","-8 °C",null,"Sheffield","-4 °C"]
["28832","Achim","-12 °C","Bremen",null,null,null,null,null,null,"Saarbrücken","-12 °C",9800,"Spittal an der Drau","-14 °C",1633,"Marsens","-9 °C",null,"Southampton","-4 °C"]
["82547","Achmühle","-16 °C","Kempten",null,null,null,null,null,null,"Schleswig","-10 °C",4400,"Steyr","-14 °C",3860,"Meiringen","-7 °C",null,"Swansea","-3 °C"]
["88480","Achstetten","-16 °C","Stuttgart",null,null,null,null,null,null,"Schwerin","-14 °C",2000,"Stockerau","-13 °C",3963,"Montana","-9 °C",null,"York","-5 °C"]
["47626","Achterhoek","-10 °C","Düsseldorf",null,null,null,null,null,null,"Straubing","-18 °C",6410,"Telfs","-15 °C",1820,"Montreux","-5 °C"]
["25917","Achtrup","-10 °C","Schleswig",null,null,null,null,null,null,"Stuttgart","-12 °C",2630,"Ternitz","-14 °C",2000,"Neuchâtel","-7 °C"]
["37581","Ackenhausen","-16 °C","Fritzlar",null,null,null,null,null,null,"Trier","-10 °C",2514,"Traiskirchen","-13 °C",4600,"Olten","-8 °C"]
["73099","Adelberg","-16 °C","Stuttgart",null,null,null,null,null,null,"Westermakelsdorf","-10 °C",4050,"Traun","-14 °C",8200,"Schaffhausen","-8 °C"]
["37139","Adelebsen","-14 °C","Fritzlar",null,null,null,null,null,null,"Würzburg","-12 °C",3430,"Tulln an der Donau","-13 °C",1950,"Sion","-7 °C"]
["79618","Adelhausen","-12 °C","Stuttgart",null,null,null,null,null,null,null,null,9500,"Villach","-16 °C",9000,"St. Gallen","-10 °C"]
["73486","Adelmannsfelden","-16 °C","Stuttgart",null,null,null,null,null,null,null,null,4600,"Wels","-13 °C",7500,"St. Moritz","-14 °C"]
["79669","Adelsberg","-16 °C","Stuttgart",null,null,null,null,null,null,null,null,1090,"Wien","-13 °C",3920,"Zermatt","-12 °C"]
["97737","Adelsberg","-14 °C","Würzburg",null,null,null,null,null,null,null,null,2700,"Wiener Neustadt","-13 °C",8000,"Zürich","-7 °C"]
["85111","Adelschlag","-16 °C","München",null,null,null,null,null,null,null,null,9400,"Wolfsberg (Kärnten)","-15 °C"]
["74740","Adelsheim","-14 °C","Stuttgart"]
["86477","Adelsried","-16 °C","Augsburg"]
["04886","Adelwitz","-16 °C","Leipzig"]
["21365","Adendorf","-12 °C","Hamburg"]
["31171","Adensen","-14 °C","Hannover"]
["31079","Adenstedt","-16 °C","Hannover"]
["84166","Adlkofen","-16 °C","Straubing"]
["08626","Adorf/Vogtland","-18 °C","Meiningen"]
["31855","Aerzen","-14 °C","Hannover"]
["71563","Affalterbach","-14 °C","Stuttgart"]
["74182","Affaltrach","-14 °C","Stuttgart"]
["86444","Affing","-16 °C","Augsburg"]
["71083","Affstätt","-16 °C","Stuttgart"]
["74858","Aglasterhausen","-12 °C","Stuttgart"]
["48683","Ahaus","-10 °C","Hannover"]
["88697","Ahausen","-12 °C","Stuttgart"]
["72160","Ahldorf","-16 °C","Stuttgart"]
["5922.","Ahlen/Westf.","-12 °C","Nürburg-Barweiler"]
["06313","Ahlsdorf","-14 °C","Leipzig"]
["32609","Ahlsen","-12 °C","Fritzlar"]
["34292","Ahnatal","-14 °C","Fritzlar"]
["29353","Ahnsbeck","-14 °C","Hannover"]
["94527","Aholming","-18 °C","Straubing"]
["96482","Ahorn","-16 °C","Bamberg"]
["74744","Ahorn","-16 °C","Stuttgart"]
["95491","Ahorntal","-16 °C","Hof"]
["38707","Ahrensberg","-12 °C","Magdeburg"]
["22926","Ahrensburg","-12 °C","Hamburg"]
["16356","Ahrensfelde","-14 °C","Neuruppin"]
["18320","Ahrenshagen","-10 °C","Rostock"]
["53945","Ahrhütte","-14 °C","Nürburg-Barweiler"]
["86551","Aichach","-16 °C","Augsburg"]
["92262","Aichach","-16 °C","Nürnberg"]
["72539","Aichelau","-16 °C","Stuttgart"]
["73101","Aichelberg","-16 °C","Stuttgart"]
["75323","Aichelberg","-16 °C","Stuttgart"]
["78733","Aichhalden","-16 °C","Stuttgart"]
["88317","Aichstetten","-16 °C","Stuttgart"]
["72631","Aichtal","-14 °C","Stuttgart"]
["73773","Aichwald","-14 °C","Stuttgart"]
["84539","Aidenbach","-16 °C","Straubing"]
["94501","Aidenbach","-16 °C","Straubing"]
["97491","Aidhausen","-16 °C","Würzburg"]
["71134","Aidlingen","-16 °C","Stuttgart"]
["88448","Aigendorf","-16 °C","Stuttgart"]
["88048","Ailingen","-12 °C","Konstanz"]
["86447","Aindling","-16 °C","Augsburg"]
["83404","Ainring","-16 °C","Hohenpeißenberg"]
["83026","Aising","-18 °C","Hohenpeißenberg"]
["89344","Aislingen","-16 °C","Augsburg"]
["94330","Aiterhofen","-18 °C","Straubing"]
["88319","Aitrach","-16 °C","Stuttgart",null,null,null,null,null,null,null,null,"Deutschland",null,null,null,null,null,null,null,null,null,null,null,null,null,null,null,null,null,null,null,null,null,null,null,null,null,null,null,null,null,null,null,null,null,null,null,null,null,null,null,null,null,null,null,null,null,null,null,null,"Wetterdaten dieser Städte kommen mir etwas zu mild vor, E-Kosten zu gering, daher für diese Städte vorerst Wetterdaten von Emden (auch recht mild) hinterlegt"]
["78554","Aixheim","-18 °C","Stuttgart",null,null,null,null,null,null,null,null,"Außentemp","Aachen","Augsburg","Bamberg","Berlin","Bremen","Dortmund","Dresden","Düsseldorf","Emden","Erfurt","Frankfurt am Main","Fritzlar","Görlitz","Greifswald","Hamburg","Hannover","Hof","Hohenpeißenberg","Karlsruhe","Kempten","Konstanz","Leipzig","Lindenberg","List auf Sylt","Magdeburg","Meiningen","München","Neuruppin","Nürburg-Barweiler","Nürnberg","Potsdam","Rostock","Saarbrücken","Schleswig","Schwerin","Straubing","Stuttgart","Trier","Westermakelsdorf","Würzburg",null,null,null,null,null,null,null,null,"Original","Original","Original","Original","Original"]
["37671","Albaxen","-12 °C","Fritzlar",null,null,null,null,null,null,null,null,"°C","h/a","h/a","h/a","h/a","h/a","h/a","h/a","h/a","h/a","h/a","h/a","h/a","h/a","h/a","h/a","h/a","h/a","h/a","h/a","h/a","h/a","h/a","h/a","h/a","h/a","h/a","h/a","h/a","h/a","h/a","h/a","h/a","h/a","h/a","h/a","h/a","h/a","h/a","h/a","h/a",null,null,null,null,null,null,null,null,"**Aachen**","**Dortmund**","**Düseldorf**","**Bremen**","**Westermakelsdorf**"]
["79774","Albbruck","-12 °C","Stuttgart",null,null,null,null,null,null,null,null,"<-20",0,0,0,0,0,0,0,0,0,0,0,0,0,0,0,0,0,0,0,0,0,0,0,0,0,0,0,0,0,0,0,0,0,0,0,0,0,0,0,0,null,null,null,null,null,null,null,null,0,0,0,0,0]
["08280","Albernau","-16 °C","Meiningen",null,null,null,null,null,null,null,null,-20,0,0,0,0,0,0,0,0,0,0,0,0,0,0,0,0,0,0,0,0,0,0,0,0,0,0,0,0,0,0,0,0,0,0,0,0,0,0,0,0,null,null,null,null,null,null,null,null,0,0,0,0,0]
["08280","Alberoda","-16 °C","Meiningen",null,null,null,null,null,null,null,null,-19,0,0,0,0,0,0,0,0,0,0,0,0,0,0,0,0,0,0,0,0,0,0,0,0,0,0,0,0,0,0,0,0,0,0,0,0,0,0,0,0,null,null,null,null,null,null,null,null,0,0,0,0,0]
["04420","Albersdorf","-14 °C","Leipzig",null,null,null,null,null,null,null,null,-18,0,0,0,0,0,0,0,0,0,0,0,0,0,0,0,0,0,0,0,0,0,0,0,0,0,0,0,0,0,0,0,0,0,0,0,0,0,0,0,0,null,null,null,null,null,null,null,null,0,0,0,0,0]
["25767","Albersdorf, Holst","-12 °C","Schleswig",null,null,null,null,null,null,null,null,-17,0,0,0,0,0,0,0,0,0,0,0,0,3,0,0,0,0,0,0,0,0,0,0,0,0,5,0,0,0,0,0,0,0,0,0,0,0,0,0,0,null,null,null,null,null,null,null,null,0,0,0,0,0]
["73095","Albershausen","-16 °C","Stuttgart",null,null,null,null,null,null,null,null,-16,0,0,0,1,0,0,0,0,0,0,0,0,4,0,0,0,0,0,0,4,0,0,6,0,0,5,0,0,0,0,0,0,0,0,0,1,0,0,0,0,null,null,null,null,null,null,null,null,0,0,0,0,0]
["76857","Albersweiler","-12 °C","Saarbrücken",null,null,null,null,null,null,null,null,-15,0,1,2,4,0,0,0,0,0,1,0,0,7,0,0,0,0,11,0,5,0,5,5,0,4,10,2,0,0,0,5,0,0,0,0,7,0,0,0,0,null,null,null,null,null,null,null,null,0,0,0,0,0]
["88433","Alberweiler","-16 °C","Stuttgart",null,null,null,null,null,null,null,null,-14,0,6,7,8,0,0,0,0,0,4,0,0,5,0,0,0,1,13,0,13,0,10,10,0,9,17,5,0,0,0,8,0,0,0,0,10,0,0,0,0,null,null,null,null,null,null,null,null,0,0,0,0,0]
["72458","Albstadt","-18 °C","Stuttgart",null,null,null,null,null,null,null,null,-13,0,20,8,7,0,0,0,0,0,3,0,0,12,0,2,1,20,24,0,9,0,16,11,0,7,11,11,0,1,4,13,1,1,0,1,16,0,0,0,0,null,null,null,null,null,null,null,null,0,0,0,0,0]
["72461","Albstadt","-18 °C","Stuttgart",null,null,null,null,null,null,null,null,-12,0,7,11,8,0,0,7,0,0,7,3,0,28,1,4,4,22,17,0,20,0,8,16,0,9,19,24,4,3,28,11,7,6,1,4,11,1,0,0,5,null,null,null,null,null,null,null,null,0,0,0,0,0]
["57258","Alchen","-12 °C","Nürburg-Barweiler",null,null,null,null,null,null,null,null,-11,1,16,6,6,1,1,7,1,1,7,5,6,32,26,6,10,18,26,5,29,2,20,17,0,21,32,16,8,7,30,19,15,6,10,7,31,7,0,1,15,null,null,null,null,null,null,null,null,0,0,2,0,0]
["52457","Aldenhoven","-12 °C","Aachen",null,null,null,null,null,null,null,null,-10,16,36,25,28,16,16,9,16,16,17,17,32,28,25,17,20,20,40,11,45,13,22,34,0,42,25,31,18,11,20,18,18,13,1,22,32,18,0,16,26,null,null,null,null,null,null,null,null,2,2,3,2,0]
["94501","Aldersbach","-16 °C","Straubing",null,null,null,null,null,null,null,null,-9,22,49,38,19,22,22,27,22,22,32,12,14,27,43,20,9,16,54,6,61,19,30,34,0,29,60,30,29,14,22,24,27,10,14,23,32,8,23,22,29,null,null,null,null,null,null,null,null,5,9,7,7,0]
["78554","Aldingen","-18 °C","Stuttgart",null,null,null,null,null,null,null,null,-8,20,42,41,37,20,20,45,20,20,26,16,23,59,20,41,37,53,105,39,54,29,26,39,18,33,73,34,37,24,32,44,20,31,20,30,51,22,29,20,28,null,null,null,null,null,null,null,null,10,9,8,15,0]
["86733","Alerheim","-16 °C","Augsburg",null,null,null,null,null,null,null,null,-7,20,63,74,54,20,20,37,20,20,38,27,44,61,53,26,39,86,122,31,133,24,48,54,20,61,112,50,29,26,68,50,29,34,36,36,43,31,34,20,50,null,null,null,null,null,null,null,null,12,12,10,37,0]
["91793","Alesheim","-16 °C","Nürnberg",null,null,null,null,null,null,null,null,-6,39,103,98,56,39,39,52,39,39,45,26,49,111,78,48,49,103,159,53,155,59,101,118,40,70,134,102,61,56,108,75,66,49,44,41,77,34,37,39,56,null,null,null,null,null,null,null,null,32,27,24,44,1]
["73553","Alfdorf","-16 °C","Stuttgart",null,null,null,null,null,null,null,null,-5,44,148,126,107,44,44,68,44,44,85,56,41,117,95,67,108,128,215,73,154,55,130,169,53,100,134,151,59,113,149,126,90,98,55,75,147,70,44,44,100,null,null,null,null,null,null,null,null,32,26,32,38,45]
["31061","Alfeld","-16 °C","Hannover",null,null,null,null,null,null,null,null,-4,118,187,214,155,118,118,109,118,118,133,100,89,168,116,119,114,149,210,66,183,137,137,142,99,179,206,183,123,155,149,165,90,127,75,106,168,87,104,118,159,null,null,null,null,null,null,null,null,47,41,50,47,32]
["91236","Alfeld","-16 °C","Nürnberg",null,null,null,null,null,null,null,null,-3,108,231,231,219,108,108,153,108,108,163,190,161,213,147,175,190,189,220,124,248,222,187,186,157,209,240,184,120,179,193,221,164,184,148,144,255,135,197,108,184,null,null,null,null,null,null,null,null,97,88,113,110,62]
["91177","Alfershausen","-16 °C","Nürnberg",null,null,null,null,null,null,null,null,-2,184,226,262,224,184,184,219,184,184,202,185,207,225,225,185,216,279,262,169,261,257,249,264,186,229,304,217,223,205,240,249,184,183,179,176,228,191,191,184,234,null,null,null,null,null,null,null,null,88,116,120,186,124]
["49594","Alfhausen","-12 °C","Hannover",null,null,null,null,null,null,null,null,-1,248,273,235,288,248,248,261,248,248,205,248,248,302,251,263,231,272,316,247,283,253,299,266,222,272,362,257,285,266,304,290,299,233,259,220,280,226,240,248,282,null,null,null,null,null,null,null,null,174,159,154,192,198]
["53347","Alfter","-12 °C","Nürburg-Barweiler",null,null,null,null,null,null,null,null,0,224,240,263,271,224,224,271,224,224,243,243,263,308,288,294,262,296,291,259,242,258,236,289,281,224,304,272,272,250,263,249,265,212,248,291,284,208,244,224,256,null,null,null,null,null,null,null,null,165,195,233,216,228]
["99310","Alkersleben","-14 °C","Erfurt",null,null,null,null,null,null,null,null,1,310,307,352,341,310,310,298,310,310,310,291,270,305,480,333,300,412,340,274,305,375,276,326,380,294,296,296,420,360,330,303,360,277,349,319,303,246,300,310,311,null,null,null,null,null,null,null,null,242,228,254,264,325]
["59846","Allendorf","-14 °C","Nürburg-Barweiler",null,null,null,null,null,null,null,null,2,380,308,300,300,380,380,356,380,380,358,298,328,342,415,399,328,377,350,310,330,322,271,350,448,311,321,334,397,373,390,311,405,296,399,383,352,284,350,380,312,null,null,null,null,null,null,null,null,339,245,268,304,435]
["35108","Allendorf/Eder","-14 °C","Fritzlar",null,null,null,null,null,null,null,null,3,358,324,329,309,358,358,291,358,358,329,326,344,373,421,361,323,431,373,305,383,346,358,335,414,333,370,315,361,364,336,311,405,336,436,432,347,304,390,358,389,null,null,null,null,null,null,null,null,318,297,295,326,480]
["90584","Allersberg","-16 °C","Nürnberg",null,null,null,null,null,null,null,null,4,391,360,375,327,391,391,318,391,391,362,344,343,306,379,387,320,461,427,279,403,362,379,379,441,360,403,371,366,379,322,316,359,340,417,390,338,313,367,391,378,null,null,null,null,null,null,null,null,335,378,283,397,513]
["88422","Alleshausen","-16 °C","Stuttgart",null,null,null,null,null,null,null,null,5,399,338,335,381,399,399,378,399,399,413,343,414,336,373,399,401,387,397,345,394,380,396,348,525,413,419,341,330,435,320,394,369,367,385,388,327,378,384,399,379,null,null,null,null,null,null,null,null,344,402,338,381,462]
["82239","Alling","-16 °C","Kempten",null,null,null,null,null,null,null,null,6,412,330,298,386,412,412,345,412,412,380,418,397,374,386,424,454,391,391,403,390,338,375,372,434,367,368,312,334,404,342,392,410,468,388,357,344,414,477,412,335,null,null,null,null,null,null,null,null,366,372,408,415,468]
["78464","Allmannsdorf","-12 °C","Konstanz",null,null,null,null,null,null,null,null,7,445,353,307,353,445,445,305,445,445,404,438,406,355,344,359,357,398,386,377,405,382,376,321,407,354,322,310,341,391,364,366,444,443,382,399,293,399,398,445,372,null,null,null,null,null,null,null,null,438,384,450,454,386]
["77963","Allmannsweier","-12 °C","Karlsruhe",null,null,null,null,null,null,null,null,8,413,352,354,327,413,413,287,413,413,392,419,378,382,337,378,428,349,389,357,392,354,380,315,377,344,345,312,346,418,328,392,398,418,434,379,322,358,368,413,363,null,null,null,null,null,null,null,null,490,437,472,454,395]
["89604","Allmendingen","-14 °C","Augsburg",null,null,null,null,null,null,null,null,9,433,314,330,349,433,433,336,433,433,393,361,409,336,320,379,460,352,378,369,415,322,344,327,410,386,344,321,362,463,336,325,356,414,396,432,320,322,410,433,311,null,null,null,null,null,null,null,null,419,404,425,393,363]
["71573","Allmersbach im Tal","-14 °C","Stuttgart",null,null,null,null,null,null,null,null,10,501,343,384,341,501,501,360,501,501,385,393,375,342,344,402,391,351,391,374,413,379,316,341,397,360,371,316,360,437,322,322,400,408,425,389,301,328,407,501,315,null,null,null,null,null,null,null,null,415,355,428,393,337]
["06507","Allrode / Harz","-16 °C","Leipzig",null,null,null,null,null,null,null,null,11,449,356,316,318,449,449,333,449,449,349,402,420,363,397,426,444,367,333,373,395,368,354,347,425,371,351,335,344,367,323,342,363,413,379,375,324,364,390,449,371,null,null,null,null,null,null,null,null,419,452,450,398,380]
["06542","Allstedt","-14 °C","Leipzig",null,null,null,null,null,null,null,null,12,408,352,339,312,408,408,361,408,408,343,378,378,355,436,374,349,373,349,376,329,342,353,324,483,338,368,330,343,374,298,307,366,407,358,328,332,346,392,408,333,null,null,null,null,null,null,null,null,431,420,427,438,376]
["31079","Almstedt","-16 °C","Hannover",null,null,null,null,null,null,null,null,13,383,333,328,290,383,383,338,383,383,363,349,349,327,410,359,391,335,356,360,316,359,323,327,404,310,370,391,342,398,372,350,372,348,394,327,358,300,388,383,353,null,null,null,null,null,null,null,null,416,399,383,403,417]
["46519","Alpen","-10 °C","Düsseldorf",null,null,null,null,null,null,null,null,14,425,350,328,317,425,425,367,425,425,409,332,370,316,408,377,353,304,358,376,287,355,327,296,387,355,351,406,351,376,379,323,363,325,396,311,329,366,387,425,329,null,null,null,null,null,null,null,null,400,354,362,387,445]
["46519","Alpen-Bönninghardt","-10 °C","Düsseldorf",null,null,null,null,null,null,null,null,15,357,315,325,340,357,357,339,357,357,335,302,333,342,381,350,325,303,283,368,281,355,336,334,441,325,312,365,341,320,306,296,346,332,334,324,295,333,356,357,346,null,null,null,null,null,null,null,null,368,412,337,393,446]
["99195","Alperstedt","-14 °C","Erfurt",null,null,null,null,null,null,null,null,16,318,300,297,303,318,318,338,318,318,314,334,310,335,353,345,292,275,226,321,235,314,309,277,378,302,267,309,331,327,292,297,321,312,339,317,328,350,335,318,323,null,null,null,null,null,null,null,null,402,384,362,370,431]
["72275","Alpirsbach","-16 °C","Stuttgart",null,null,null,null,null,null,null,null,17,290,286,277,279,290,290,308,290,290,313,290,322,281,293,280,318,254,183,348,237,296,261,274,312,260,249,312,326,279,268,263,327,301,300,302,306,323,311,290,281,null,null,null,null,null,null,null,null,405,327,354,356,340]
["52477","Alsdorf/Rheinl.","-12 °C","Aachen",null,null,null,null,null,null,null,null,18,270,254,248,301,270,270,306,270,270,239,267,280,256,224,242,279,211,178,284,213,268,254,244,207,250,192,274,288,216,261,261,257,263,255,296,264,296,233,270,268,null,null,null,null,null,null,null,null,380,294,335,333,280]
["67722","Alsenbrück","-12 °C","Saarbrücken",null,null,null,null,null,null,null,null,19,189,224,249,255,189,189,282,189,189,221,247,217,224,204,217,213,200,159,265,173,270,223,221,137,232,158,250,285,181,244,242,201,187,214,278,283,278,181,189,245,null,null,null,null,null,null,null,null,288,290,286,247,238]
["36304","Alsfeld","-14 °C","Fritzlar",null,null,null,null,null,null,null,null,20,166,200,211,222,166,166,255,166,166,231,207,196,194,150,162,186,186,128,265,142,197,202,211,103,206,142,226,196,137,195,226,182,175,220,226,247,273,153,166,208,null,null,null,null,null,null,null,null,203,272,236,163,223]
["67577","Alsheim","-12 °C","Saarbrücken",null,null,null,null,null,null,null,null,">20",419,813,837,917,419,419,994,419,419,706,893,744,606,337,540,558,391,300,948,423,748,823,831,174,791,388,765,728,451,822,854,481,743,470,632,774,1147,640,419,814,null,null,null,null,null,null,null,null,678,970,851,597,330]
["57515","Alsting (Frankreich)","-12 °C","Nürburg-Barweiler"]
["19303","Alt Jabel","-12 °C","Schwerin"]
["18236","Alt Karin","-10 °C","Rostock"]
["75365","Altburg","-16 °C","Stuttgart"]
["75365","Altburg ","-16 °C","Stuttgart",null,null,null,null,null,null,null,null,"Österreich"]
["03229","Altdöbern","-16 °C","Lindenberg",null,null,null,null,null,null,null,null,"Außentemp","Amstetten","Ansfelden","Bad Ischl","Baden bei Wien","Bludenz","Braunau am Inn","Bregenz","Bruck an der Mur","Dornbirn","Feldkirch","Feldkirchen in Kärnten","Gmunden","Graz","Hallein","Hohenems","Innsbruck","Kapfenberg","Klagenfurt (Wörthersee)","Klosterneuburg","Krems an der Donau","Kufstein","Leoben","Leonding","Linz","Lustenau","Mödling","Perchtoldsdorf","Saalfelden/Steinernes Meer","Salzburg","Sankt Pölten","Schwaz","Schwechat","Spittal an der Drau","Steyr","Stockerau","Telfs","Ternitz","Traiskirchen","Traun","Tulln an der Donau","Villach","Wels","Wien","Wiener Neustadt","Wolfsberg (Kärnten)"]
["77955","Altdorf","-12 °C","Karlsruhe",null,null,null,null,null,null,null,null,"°C","h/a","h/a","h/a","h/a","h/a","h/a","h/a","h/a","h/a","h/a","h/a","h/a","h/a","h/a","h/a","h/a","h/a","h/a","h/a","h/a","h/a","h/a","h/a","h/a","h/a","h/a","h/a","h/a","h/a","h/a","h/a","h/a","h/a","h/a","h/a","h/a","h/a","h/a","h/a","h/a","h/a","h/a","h/a","h/a","h/a"]
["90518","Altdorf","-16 °C","Nürnberg",null,null,null,null,null,null,null,null,"<-20",0,0,0,0,0,0,0,0,0,0,0,0,0,0,0,0,0,0,0,0,0,0,0,0,0,0,0,0,0,0,0,0,0,0,0,0,0,0,0,0,0,0,0,0,0]
["84032","Altdorf","-16 °C","Straubing",null,null,null,null,null,null,null,null,-20,0,0,0,0,0,0,0,0,0,0,0,0,0,0,0,0,0,0,0,0,0,0,0,0,0,0,0,0,0,0,0,0,0,0,0,0,0,0,0,0,0,0,0,0,0]
["71155","Altdorf","-16 °C","Stuttgart",null,null,null,null,null,null,null,null,-19,0,0,0,0,0,0,0,0,0,0,0,0,0,0,0,0,0,0,0,0,0,0,0,0,0,0,0,0,0,0,0,0,0,0,0,0,0,0,0,0,0,0,0,0,0]
["72655","Altdorf","-16 °C","Stuttgart",null,null,null,null,null,null,null,null,-18,0,0,0,0,0,0,0,0,0,0,0,0,0,0,0,0,0,0,0,0,0,0,0,0,0,0,0,0,0,0,0,0,0,0,0,0,0,0,0,0,0,0,0,0,0]
["83549","Alteiselfing","-16 °C","Hohenpeißenberg",null,null,null,null,null,null,null,null,-17,2,0,2,0,0,0,0,0,0,0,0,0,0,4,0,0,0,0,0,0,0,0,0,0,0,0,0,0,0,0,0,0,0,0,0,0,0,0,0,0,0,0,0,0,0]
["58762","Altena / Westf.","-12 °C","Nürburg-Barweiler",null,null,null,null,null,null,null,null,-16,5,0,10,0,0,0,0,0,0,0,0,0,0,19,0,0,0,2,0,0,0,0,0,0,0,0,0,13,4,0,1,0,0,0,0,0,0,0,0,0,0,0,0,0,2]
["53505","Altenahr","-14 °C","Nürburg-Barweiler",null,null,null,null,null,null,null,null,-15,9,0,5,0,0,4,0,3,0,0,0,0,0,17,0,0,3,6,0,0,8,3,0,0,0,0,0,60,7,1,15,0,10,0,1,0,2,0,0,1,0,0,0,0,16]
["38707","Altenau","-16 °C","Magdeburg",null,null,null,null,null,null,null,null,-14,21,4,27,0,0,5,0,8,0,0,6,22,0,34,0,0,10,8,0,1,20,5,0,0,0,0,0,37,8,4,10,0,2,4,5,1,14,0,4,7,4,4,0,1,26]
["04828","Altenbach","-14 °C","Leipzig",null,null,null,null,null,null,null,null,-13,24,6,27,1,0,9,0,14,0,0,11,15,0,32,0,11,15,18,0,5,14,20,0,0,0,0,0,74,16,7,23,0,11,8,7,36,14,0,7,6,10,6,0,9,47]
["33184","Altenbeken","-14 °C","Fritzlar",null,null,null,null,null,null,null,null,-12,30,16,42,4,4,17,0,11,2,0,14,48,7,24,1,12,27,20,0,12,32,22,4,4,0,3,3,83,12,12,50,8,16,11,5,25,8,3,25,5,17,25,0,25,54]
["01773","Altenberg","-16 °C","Dresden",null,null,null,null,null,null,null,null,-11,21,19,40,7,37,33,5,52,6,3,31,39,34,35,39,21,34,39,15,20,47,38,7,7,0,4,4,154,23,29,40,6,47,24,16,38,6,6,25,10,19,16,0,11,60]
["49733","Altenberge","-10 °C","Hannover",null,null,null,null,null,null,null,null,-10,28,36,72,19,38,45,42,49,9,17,37,68,22,46,44,26,47,41,4,17,42,49,14,14,3,16,14,149,36,37,51,18,52,47,8,71,30,11,22,15,32,33,1,17,104]
["48341","Altenbergen","-12 °C","Hannover",null,null,null,null,null,null,null,null,-9,29,25,79,23,39,27,42,46,17,24,57,71,24,84,28,49,65,60,18,36,45,66,42,42,8,27,15,150,32,16,45,14,51,35,10,46,40,26,26,29,51,36,11,34,125]
["34587","Altenbrunslar","-14 °C","Fritzlar",null,null,null,null,null,null,null,null,-8,43,42,176,41,60,41,47,68,38,30,92,100,43,117,39,41,66,78,36,34,110,84,29,29,10,24,41,222,25,39,123,33,78,39,7,98,36,38,48,17,79,29,12,56,197]
["34587","Altenburg","-14 °C","Fritzlar",null,null,null,null,null,null,null,null,-7,42,65,158,51,63,33,53,110,51,41,103,123,71,138,106,43,115,96,33,50,170,115,33,33,28,44,42,175,38,68,174,45,137,54,57,136,78,45,47,45,132,63,38,81,163]
["04600","Altenburg","-14 °C","Leipzig",null,null,null,null,null,null,null,null,-6,103,67,184,70,99,66,72,152,68,55,123,184,107,221,140,119,178,137,56,91,189,177,56,58,52,64,58,224,77,83,151,61,168,53,100,163,90,66,64,116,135,72,54,127,228]
["29574","Altenebstorf","-14 °C","Hannover",null,null,null,null,null,null,null,null,-5,96,104,225,102,188,110,121,202,102,60,148,206,136,210,198,164,177,158,67,128,195,176,91,87,49,85,104,264,125,114,237,73,169,174,96,256,130,88,122,89,171,134,56,137,282]
["45329","Altenessen","-10 °C","Düsseldorf",null,null,null,null,null,null,null,null,-4,145,153,277,147,171,184,170,242,110,117,210,260,203,277,193,183,224,206,107,136,266,223,99,101,81,139,127,386,179,187,241,122,202,175,127,253,154,154,184,128,222,200,90,154,192]
["98701","Altenfeld","-16 °C","Meiningen",null,null,null,null,null,null,null,null,-3,170,189,269,166,218,231,207,256,180,142,214,251,228,289,232,202,271,238,181,192,270,271,217,217,104,149,177,304,157,190,268,191,223,170,185,307,205,159,186,172,190,203,145,168,284]
["66885","Altenglau","-14 °C","Saarbrücken",null,null,null,null,null,null,null,null,-2,214,246,280,219,234,242,227,293,212,211,262,285,237,324,253,242,296,284,220,251,313,320,251,248,146,173,215,320,214,215,351,204,265,248,196,333,184,197,224,219,242,228,171,202,287]
["36391","Altengronau","-14 °C","Fritzlar",null,null,null,null,null,null,null,null,-1,216,256,306,234,280,224,234,348,296,258,295,304,252,326,285,265,315,294,257,244,390,283,255,258,216,231,221,343,229,212,331,226,287,234,236,326,260,211,232,216,243,198,231,215,298]
["33729","Altenhagen","-12 °C","Fritzlar",null,null,null,null,null,null,null,null,0,222,258,333,215,250,270,264,323,251,255,295,233,256,287,308,253,327,275,222,240,328,295,214,213,234,197,191,342,226,245,333,217,258,290,190,312,250,183,273,214,275,218,214,189,326]
["31558","Altenhagen","-14 °C","Hannover",null,null,null,null,null,null,null,null,1,275,303,390,294,330,339,316,346,379,312,320,330,281,327,335,259,357,297,279,322,366,374,327,318,281,258,258,398,301,322,329,259,301,305,268,365,307,272,303,340,291,333,250,282,298]
["85356","Altenhausen","-16 °C","München",null,null,null,null,null,null,null,null,2,273,336,348,269,331,308,307,370,344,327,289,310,317,311,366,344,330,255,313,296,356,356,361,372,265,291,245,464,297,385,328,274,294,333,281,311,270,279,366,277,340,307,297,286,375]
["77743","Altenheim","-12 °C","Karlsruhe",null,null,null,null,null,null,null,null,3,356,316,369,309,368,336,315,367,341,283,312,388,298,323,366,340,308,251,320,339,310,344,344,342,286,290,320,479,288,326,308,307,293,326,337,329,303,306,299,309,296,356,324,297,435]
["96479","Altenhof","-16 °C","Bamberg",null,null,null,null,null,null,null,null,4,367,343,324,279,321,309,335,339,453,342,257,294,255,344,410,317,285,259,340,311,327,324,375,369,334,306,340,388,330,337,312,284,290,319,375,297,323,336,383,355,259,323,332,352,398]
["16244","Altenhof","-14 °C","Neuruppin",null,null,null,null,null,null,null,null,5,336,307,359,353,370,338,388,323,359,315,256,279,298,357,363,295,308,267,302,301,329,327,293,308,361,362,340,391,332,299,335,300,258,294,342,315,328,351,330,300,263,317,287,297,400]
["57368","Altenhundem","-14 °C","Nürburg-Barweiler",null,null,null,null,null,null,null,null,6,357,305,359,328,335,321,371,328,367,316,269,275,258,351,424,324,294,247,296,328,362,306,277,268,394,308,294,396,354,275,321,295,275,290,311,319,308,309,317,305,307,280,286,300,477]
["57610","Altenkirchen","-14 °C","Nürburg-Barweiler",null,null,null,null,null,null,null,null,7,340,295,398,297,362,299,364,316,346,348,245,288,255,412,415,320,308,280,284,317,360,330,301,302,377,303,321,355,344,302,364,301,262,309,253,343,284,313,296,288,312,331,272,317,437]
["66903","Altenkirchen","-12 °C","Saarbrücken",null,null,null,null,null,null,null,null,8,292,347,381,292,387,342,360,332,385,349,304,348,261,374,389,306,362,270,293,287,362,327,280,282,361,278,306,385,329,297,337,275,313,296,289,383,306,272,281,310,279,325,309,299,400]
["23730","Altenkrempe","-10 °C","Schwerin",null,null,null,null,null,null,null,null,9,265,302,350,262,350,342,406,341,386,352,285,334,299,307,386,334,355,331,324,324,350,338,299,301,387,314,294,381,320,302,353,287,345,311,301,388,301,288,271,311,286,330,267,328,390]
["83352","Altenmarkt","-16 °C","Hohenpeißenberg",null,null,null,null,null,null,null,null,10,311,306,339,295,415,325,373,351,371,346,332,365,311,350,418,330,402,312,271,301,340,360,307,309,407,345,270,356,339,308,354,280,367,332,326,427,349,310,267,290,297,280,312,297,366]
["29575","Altenmedingen","-12 °C","Hannover",null,null,null,null,null,null,null,null,11,331,309,350,324,371,318,431,390,318,383,322,343,318,302,445,337,371,315,294,301,353,338,337,310,373,286,266,360,350,300,325,329,356,350,320,335,340,254,324,360,290,303,330,300,338]
["26169","Altenoythe","-12 °C","Emden",null,null,null,null,null,null,null,null,12,303,333,323,313,388,322,433,332,405,362,335,333,344,315,407,363,359,316,304,335,323,380,330,339,394,296,310,239,324,407,348,329,298,348,338,365,373,311,339,339,313,292,317,315,375]
["95500","Altenplos","-16 °C","Hof",null,null,null,null,null,null,null,null,13,347,320,313,307,340,345,337,332,377,347,347,370,350,332,323,349,320,313,321,315,289,334,337,338,363,322,338,254,369,366,348,323,306,325,307,342,350,292,333,331,339,315,275,329,260]
["72657","Altenriet","-16 °C","Stuttgart",null,null,null,null,null,null,null,null,14,341,304,318,361,383,340,410,296,334,409,317,303,346,308,321,327,288,325,404,309,346,345,353,353,407,333,319,174,354,330,339,329,323,340,334,259,384,395,326,369,353,311,365,324,263]
["06642","Altenrode","-14 °C","Leipzig",null,null,null,null,null,null,null,null,15,301,329,281,362,369,327,342,285,359,381,332,366,312,298,310,299,277,304,390,318,308,309,356,363,366,367,383,147,311,308,314,374,309,341,341,236,317,367,351,321,335,334,347,310,233]
["89281","Altenstadt","-16 °C","Augsburg",null,null,null,null,null,null,null,null,16,334,294,243,372,348,333,280,277,332,321,327,319,338,248,279,330,289,311,295,307,246,289,355,371,358,298,331,100,325,300,246,385,279,322,348,254,321,363,319,282,341,355,367,313,163]
["92665","Altenstadt","-16 °C","Nürnberg",null,null,null,null,null,null,null,null,17,316,298,202,335,276,309,277,274,307,294,321,272,317,207,220,291,249,303,304,321,220,263,335,339,313,305,364,92,310,321,229,328,285,317,344,232,317,309,316,333,309,369,347,312,141]
["72213","Altensteig","-16 °C","Stuttgart",null,null,null,null,null,null,null,null,18,296,308,163,297,255,286,270,203,345,328,274,236,303,180,205,291,221,322,309,323,172,226,305,290,321,348,355,52,312,324,183,318,240,306,322,180,290,366,282,292,282,357,358,306,124]
["17087","Altentreptow","-14 °C","Greifswald",null,null,null,null,null,null,null,null,19,259,291,114,319,211,296,235,204,243,317,251,250,249,145,137,279,214,300,335,275,167,172,285,276,266,339,354,25,279,293,165,331,238,264,285,165,288,322,252,276,254,299,312,282,86]
["97327","Altertheim","-14 °C","Würzburg",null,null,null,null,null,null,null,null,20,259,289,87,288,142,240,209,135,152,252,220,171,282,128,116,230,187,235,291,316,132,132,258,258,245,274,303,15,252,254,139,277,247,258,239,153,254,297,248,279,245,250,291,245,55]
["66802","Altforweiler","-12 °C","Saarbrücken",null,null,null,null,null,null,null,null,">20",1081,1039,237,1205,427,844,517,442,515,863,947,377,1148,357,259,864,506,987,1275,1057,303,439,1033,1041,970,1381,1237,9,932,945,339,1357,905,908,1253,361,946,1261,1068,1204,947,928,1492,1243,55]
["01462","Altfranken","-14 °C","Dresden"]
["84169","Altfraunhofen","-16 °C","Straubing"]
["09326","Altgeringswalde","-14 °C","Erfurt"]
["89174","Altheim","-16 °C","Augsburg"]
["89195","Altheim","-16 °C","Augsburg",null,null,null,null,null,null,null,null,"Schweiz"]
["89605","Altheim","-14 °C","Augsburg",null,null,null,null,null,null,null,null,"Außentemp","Airolo","Altdorf","Arosa","Bad Ragaz","Basel","Beatenberg","Bern","Bever","Bern","Château-d'Oex","Chippis","Chur","Davos","Delémont","Disentis","Einsiedeln","Engelberg","Fey","Fribourg","Genève","Glarus","Göschenen","Heiden","Interlaken","Kreuzlingen","La Chaux-de-Fonds","Langenbruck","Langnau/Emmental","Lausanne","Leysin","Locarno","Lugano","Luzern","Marsens","Meiringen","Montana","Montreux","Neuchâtel","Olten","Schaffhausen","Sion","St. Gallen","St. Moritz","Zermatt","Zürich"]
["77743","Altheim","-12 °C","Karlsruhe",null,null,null,null,null,null,null,null,"°C","h/a","h/a","h/a","h/a","h/a","h/a","h/a","h/a","h/a","h/a","h/a","h/a","h/a","h/a","h/a","h/a","h/a","h/a","h/a","h/a","h/a","h/a","h/a","h/a","h/a","h/a","h/a","h/a","h/a","h/a","h/a","h/a","h/a","h/a","h/a","h/a","h/a","h/a","h/a","h/a","h/a","h/a","h/a","h/a","h/a"]
["72160","Altheim","-16 °C","Stuttgart",null,null,null,null,null,null,null,null,"<-20",0,0,30,0,0,0,0,186,0,0,0,0,27,0,0,0,0,0,0,0,0,0,0,0,0,0,0,0,0,0,0,0,0,0,0,0,0,0,0,0,0,0,0,0,0]
["74731","Altheim","-16 °C","Stuttgart",null,null,null,null,null,null,null,null,-20,0,0,9,0,0,0,0,63,0,0,0,0,9,0,0,0,0,0,0,0,0,0,0,0,0,0,0,0,0,0,0,0,0,0,0,0,0,0,0,0,0,0,9,0,0]
["88433","Altheim","-16 °C","Stuttgart",null,null,null,null,null,null,null,null,-19,0,0,12,0,0,0,0,76,0,0,0,0,17,0,0,0,0,0,0,0,0,0,0,0,0,0,0,0,0,0,0,0,0,0,0,0,0,0,0,0,0,0,9,0,0]
["88499","Altheim (bei Riedlingen,Württ )","-14 °C","Stuttgart",null,null,null,null,null,null,null,null,-18,0,0,24,0,0,0,0,105,0,0,0,0,19,0,0,0,0,0,0,0,0,0,0,0,0,0,0,0,0,0,0,0,0,0,0,0,0,0,0,0,0,0,10,0,0]
["04451","Althen","-14 °C","Leipzig",null,null,null,null,null,null,null,null,-17,0,0,31,0,0,0,0,118,0,0,0,0,27,0,0,0,0,0,0,0,0,0,0,0,0,0,0,0,0,0,0,0,0,0,0,0,0,0,0,0,0,0,9,0,0]
["75382","Althengstett","-14 °C","Stuttgart",null,null,null,null,null,null,null,null,-16,0,0,58,0,0,0,0,122,0,0,0,0,49,0,0,0,0,0,0,0,0,0,0,0,0,0,0,0,0,0,0,0,0,0,0,0,0,0,0,0,0,0,18,0,0]
["71566","Althütte","-14 °C","Stuttgart",null,null,null,null,null,null,null,null,-15,0,0,70,0,0,0,0,167,0,0,0,0,71,0,0,0,0,0,0,0,0,0,0,0,0,10,0,0,0,0,0,0,0,0,0,0,0,0,0,0,0,0,26,0,0]
["72119","Altingen","-16 °C","Stuttgart",null,null,null,null,null,null,null,null,-14,0,0,92,0,0,0,0,151,0,0,0,0,76,0,0,0,0,0,0,0,0,0,0,0,0,3,0,0,0,0,0,0,0,0,0,1,0,0,0,0,0,0,32,18,0]
["82054","Altkirchen","-16 °C","Kempten",null,null,null,null,null,null,null,null,-13,1,0,102,0,0,0,0,141,0,0,0,0,92,0,0,4,1,0,0,0,0,1,0,0,0,15,0,0,0,3,0,0,0,0,0,3,0,0,0,0,0,0,32,15,0]
["19288","Alt-Krenzlin","-14 °C","Schwerin",null,null,null,null,null,null,null,null,-12,6,0,118,0,0,0,0,151,0,5,0,0,100,1,0,27,6,0,0,0,0,6,0,0,0,15,0,0,0,11,0,0,0,0,0,9,0,0,0,0,0,0,61,32,0]
["68804","Altlußheim","-12 °C","Karlsruhe",null,null,null,null,null,null,null,null,-11,26,1,120,1,0,2,0,154,0,38,0,0,128,14,4,24,10,0,0,0,0,14,5,0,0,27,1,0,0,27,0,0,0,0,0,26,0,0,0,1,0,1,84,44,0]
["73479","Altmannsrot","-16 °C","Stuttgart",null,null,null,null,null,null,null,null,-10,24,20,140,15,1,33,0,168,0,41,0,9,143,26,11,18,33,0,0,0,15,28,39,1,0,37,7,3,0,34,0,0,0,0,0,27,0,0,8,8,0,50,101,78,0]
["93336","Altmannstein","-16 °C","Straubing",null,null,null,null,null,null,null,null,-9,41,16,161,49,17,45,1,207,0,61,2,14,187,30,38,57,53,2,1,0,10,40,39,28,0,56,17,24,1,49,0,0,0,10,11,49,0,0,13,21,3,36,117,112,21]
["84453","Altmühldorf","-16 °C","Straubing",null,null,null,null,null,null,null,null,-8,70,41,174,32,15,37,10,226,4,53,9,50,162,21,32,51,61,27,22,0,41,71,45,12,10,76,45,21,7,95,0,0,0,22,20,81,3,0,22,47,23,23,151,135,19]
["85250","Altomünster","-16 °C","München",null,null,null,null,null,null,null,null,-7,107,37,212,42,32,34,30,229,34,86,31,31,172,32,60,89,92,27,36,0,37,90,61,34,30,83,41,56,11,112,0,0,19,53,28,119,9,0,58,28,56,48,152,147,37]
["77815","Altschweier","-14 °C","Karlsruhe",null,null,null,null,null,null,null,null,-6,154,32,213,44,24,86,30,196,51,114,60,55,222,65,88,113,142,35,48,11,72,158,87,86,23,114,37,48,21,138,22,0,42,65,73,129,16,5,64,44,72,76,160,203,46]
["17214","Alt-Schwerin","-12 °C","Greifswald",null,null,null,null,null,null,null,null,-5,184,60,228,69,22,122,30,236,24,137,67,55,224,67,148,168,201,53,36,30,80,190,115,110,30,180,69,65,40,174,21,18,55,68,105,163,45,51,64,58,65,86,214,226,37]
["79263","Altsimonswald","-16 °C","Stuttgart",null,null,null,null,null,null,null,null,-4,278,107,229,104,53,148,52,230,83,173,73,91,259,131,184,171,278,108,108,33,106,255,139,116,50,221,116,104,76,164,22,14,84,79,102,194,75,66,126,82,110,184,224,238,74]
["89584","Altsteußlingen","-14 °C","Augsburg",null,null,null,null,null,null,null,null,-3,326,190,214,153,93,178,127,259,121,212,133,184,321,197,250,190,264,207,165,64,168,307,196,175,123,238,156,147,104,221,66,36,94,163,167,227,90,41,130,194,179,175,231,313,154]
["56858","Altstrimmig","-12 °C","Nürburg-Barweiler",null,null,null,null,null,null,null,null,-2,298,211,268,166,103,209,139,258,201,250,191,257,329,197,379,241,284,250,243,93,154,331,239,235,191,244,237,254,129,276,94,68,165,303,235,275,104,122,220,213,220,191,254,337,191]
["88364","Alttann","-16 °C","Stuttgart",null,null,null,null,null,null,null,null,-1,325,291,324,257,134,259,208,298,260,282,226,218,282,207,392,321,322,246,285,187,201,352,265,259,247,299,332,348,236,311,155,137,225,323,264,294,176,166,345,292,257,221,249,360,189]
["17375","Altwarp","-12 °C","Greifswald",null,null,null,null,null,null,null,null,0,331,278,308,249,166,239,246,276,252,280,234,236,294,232,327,306,340,279,266,186,245,333,314,248,285,325,276,306,214,299,182,199,241,287,261,294,230,218,272,240,259,269,274,348,223]
["63755","Alzenau","-12 °C","Würzburg",null,null,null,null,null,null,null,null,1,361,286,350,227,271,324,311,268,292,316,302,265,314,289,357,233,381,304,358,274,281,342,299,301,292,332,409,343,252,397,293,243,332,349,287,350,306,308,328,350,313,290,318,399,278]
["53783","Alzenbach","-12 °C","Nürburg-Barweiler",null,null,null,null,null,null,null,null,2,356,308,336,265,316,332,388,336,331,375,271,305,348,321,400,311,379,341,346,346,259,328,287,357,288,351,341,330,272,385,310,304,351,331,355,421,289,338,372,283,301,314,341,395,366]
["75365","Alzenberg","-16 °C","Stuttgart",null,null,null,null,null,null,null,null,3,335,314,372,269,286,358,358,301,382,364,292,320,398,340,365,359,356,331,323,366,316,335,299,429,356,410,349,328,353,440,306,362,328,331,368,428,335,354,333,346,289,303,398,379,324]
["55232","Alzey","-12 °C","Trier",null,null,null,null,null,null,null,null,4,347,342,391,282,347,346,344,295,387,390,353,325,402,327,352,378,329,374,369,397,272,292,318,419,321,397,379,362,378,387,350,337,311,376,388,420,343,391,360,364,299,347,408,405,375]
["56727","Alzheim","-14 °C","Nürburg-Barweiler",null,null,null,null,null,null,null,null,5,347,362,399,343,356,404,338,305,430,421,363,334,371,368,366,384,291,369,331,367,342,300,389,395,302,420,328,342,365,366,324,318,387,334,348,374,378,392,372,331,312,388,403,416,374]
["86676","Ambach","-16 °C","Augsburg",null,null,null,null,null,null,null,null,6,340,333,419,371,343,415,335,335,405,435,337,369,365,347,371,373,291,359,354,405,341,343,358,335,426,413,357,305,326,390,344,311,418,337,383,336,399,460,353,307,325,370,422,405,395]
["86854","Amberg","-16 °C","Kempten",null,null,null,null,null,null,null,null,7,354,350,422,360,359,448,363,299,337,427,358,351,371,343,337,399,350,356,297,376,361,374,387,320,371,439,361,366,332,402,345,347,361,364,371,350,417,438,368,341,293,329,399,344,397]
["92224","Amberg / Oberpf.","-16 °C","Nürnberg",null,null,null,null,null,null,null,null,8,362,376,372,340,386,424,342,316,326,428,334,359,363,339,352,359,334,316,355,426,360,364,368,292,426,395,419,399,397,427,317,327,380,349,323,409,371,377,322,350,297,370,381,387,382]
["48165","Amelsbüren","-12 °C","Hannover",null,null,null,null,null,null,null,null,9,355,357,331,375,360,436,401,315,307,353,305,370,353,402,328,407,368,388,349,448,316,358,458,362,350,370,420,394,351,413,321,344,378,364,302,422,377,372,368,357,330,372,374,366,396]
["37688","Amelunxen","-14 °C","Fritzlar",null,null,null,null,null,null,null,null,10,387,370,288,434,365,462,363,317,356,389,370,343,310,352,434,358,384,352,355,383,346,353,418,333,358,370,338,377,370,323,298,314,364,352,340,432,368,373,365,366,356,414,347,335,367]
["83123","Amerang","-16 °C","Hohenpeißenberg",null,null,null,null,null,null,null,null,11,368,358,285,388,375,396,400,315,372,394,333,341,279,395,378,386,393,377,436,403,411,366,389,341,373,343,373,370,370,386,370,354,350,405,357,421,392,387,341,406,346,419,388,348,416]
["04683","Ammelshain","-14 °C","Leipzig",null,null,null,null,null,null,null,null,12,340,347,260,337,343,414,327,261,371,383,326,380,304,418,358,365,392,393,375,371,394,381,363,363,331,338,331,328,375,409,368,332,410,372,390,375,436,415,346,385,340,351,332,322,373]
["07407","Ammelstädt","-14 °C","Erfurt",null,null,null,null,null,null,null,null,13,344,307,241,352,362,372,318,203,434,347,372,359,269,394,357,369,337,354,386,320,387,344,362,373,359,385,359,304,338,341,362,334,357,365,375,336,447,401,353,343,353,364,316,295,368]
["92665","Altenstadt","-16 °C","Nürnberg",null,null,null,null,null,null,null,null,14,347,358,239,370,347,357,309,185,372,363,351,383,225,363,350,374,339,365,349,379,391,323,394,348,371,361,324,337,342,342,367,373,446,331,399,286,424,403,336,312,351,410,277,274,381]
["72213","Altensteig","-16 °C","Stuttgart",null,null,null,null,null,null,null,null,15,302,370,193,355,363,389,349,147,366,282,333,337,205,336,323,342,327,330,324,339,389,347,349,359,356,295,318,342,381,292,383,372,395,301,385,304,416,387,352,334,326,360,212,230,339]
["17087","Altentreptow","-14 °C","Greifswald",null,null,null,null,null,null,null,null,16,257,341,171,374,364,320,296,143,303,277,330,326,164,311,298,352,293,287,316,335,373,279,340,328,310,258,344,309,326,224,374,346,387,307,345,258,374,374,308,293,345,327,225,219,358]
["97327","Altertheim","-14 °C","Würzburg",null,null,null,null,null,null,null,null,17,226,322,140,354,351,253,331,116,347,282,330,311,134,316,271,235,272,296,295,338,350,267,289,317,326,224,325,304,361,212,358,355,314,301,323,223,316,342,322,308,307,299,170,151,298]
["66802","Altforweiler","-12 °C","Saarbrücken",null,null,null,null,null,null,null,null,18,197,298,130,288,363,255,326,92,273,211,353,290,116,301,218,229,198,296,278,315,343,204,254,287,279,184,266,299,324,152,325,330,279,258,267,177,281,292,262,292,340,293,175,155,287]
["01462","Altfranken","-14 °C","Dresden",null,null,null,null,null,null,null,null,19,204,271,110,273,317,192,307,82,271,164,273,300,79,259,163,169,178,255,264,282,270,198,220,283,277,132,253,241,325,119,314,344,286,272,227,143,279,257,243,245,301,288,128,106,280]
["84169","Altfraunhofen","-16 °C","Straubing",null,null,null,null,null,null,null,null,20,151,220,80,260,280,121,275,58,225,131,247,277,83,242,140,151,143,220,244,264,226,153,158,234,238,111,215,204,305,124,305,306,237,218,207,114,234,226,236,229,250,194,131,84,216]
["09326","Altgeringswalde","-14 °C","Erfurt",null,null,null,null,null,null,null,null,">20",309,886,94,962,1246,350,1106,54,843,296,1201,915,97,777,329,447,338,863,846,1022,903,333,517,680,1061,289,617,800,1078,315,1464,1635,764,770,754,290,830,804,798,990,1142,598,198,139,799]
["89174","Altheim","-16 °C","Augsburg"]
["89195","Altheim","-16 °C","Augsburg"]
["89605","Altheim","-14 °C","Augsburg"]
["77743","Altheim","-12 °C","Karlsruhe"]
["72160","Altheim","-16 °C","Stuttgart",null,null,null,null,null,null,null,null,"Großbritannien"]
["74731","Altheim","-16 °C","Stuttgart",null,null,null,null,null,null,null,null,"Außentemp","Aberdeen ","Ashfield ","Aspatria","Barnsley ","Belfast","Birmingham","Boulmer","Bournemouth","Bristol","Cardiff","Cork (Irland)","Coventry","Dover","Dublin (Irland)","Dundee","Edinburgh","Enfield ","Glasgow","Lancaster ","Leeds ","Leicester","Liverpool ","London","Manchester ","Middlesbrough","Northampton","Norwich","Nottingham","Ogwr ","Oxford","Plymouth ","Sheffield","Southampton","Swansea","York"]
["88433","Altheim","-16 °C","Stuttgart",null,null,null,null,null,null,null,null,"°C","h/a","h/a","h/a","h/a","h/a","h/a","h/a","h/a","h/a","h/a","h/a","h/a","h/a","h/a","h/a","h/a","h/a","h/a","h/a","h/a","h/a","h/a","h/a","h/a","h/a","h/a","h/a","h/a","h/a","h/a","h/a","h/a","h/a","h/a","h/a","h/a","h/a","h/a","h/a","h/a","h/a","h/a","h/a","h/a","h/a"]
["88499","Altheim (bei Riedlingen,Württ )","-14 °C","Stuttgart",null,null,null,null,null,null,null,null,"<-20",0,0,0,0,0,0,0,0,0,0,0,0,0,0,0,0,0,0,0,0,0,0,0,0,0,0,0,0,0,0,0,0,0,0,0]
["04451","Althen","-14 °C","Leipzig",null,null,null,null,null,null,null,null,-20,0,0,0,0,0,0,0,0,0,0,0,0,0,0,0,0,0,0,0,0,0,0,0,0,0,0,0,0,0,0,0,0,0,0,0]
["75382","Althengstett","-14 °C","Stuttgart",null,null,null,null,null,null,null,null,-19,0,0,0,0,0,0,0,0,0,0,0,0,0,0,0,0,0,0,0,0,0,0,0,0,0,0,0,0,0,0,0,0,0,0,0]
["71566","Althütte","-14 °C","Stuttgart",null,null,null,null,null,null,null,null,-18,0,0,0,0,0,0,0,0,0,0,0,0,0,0,0,0,0,0,0,0,0,0,0,0,0,0,0,0,0,0,0,0,0,0,0]
["72119","Altingen","-16 °C","Stuttgart",null,null,null,null,null,null,null,null,-17,0,0,0,0,0,0,0,0,0,0,0,0,0,0,0,0,0,0,0,0,0,0,0,0,0,0,0,0,0,0,0,0,0,0,0]
["82054","Altkirchen","-16 °C","Kempten",null,null,null,null,null,null,null,null,-16,0,0,0,0,0,0,0,0,0,0,0,0,0,0,0,0,0,0,0,0,0,0,0,0,0,0,0,0,0,0,0,0,0,0,0]
["19288","Alt-Krenzlin","-14 °C","Schwerin",null,null,null,null,null,null,null,null,-15,0,0,0,0,0,0,0,0,0,0,0,0,0,0,0,0,0,0,0,0,0,0,0,0,0,0,0,0,0,0,0,0,0,0,0]
["68804","Altlußheim","-12 °C","Karlsruhe",null,null,null,null,null,null,null,null,-14,0,0,0,0,0,0,0,0,0,0,0,0,0,0,0,0,0,0,0,0,0,0,0,0,0,0,0,0,0,0,0,0,0,0,0]
["73479","Altmannsrot","-16 °C","Stuttgart",null,null,null,null,null,null,null,null,-13,0,0,0,0,0,0,0,0,0,0,0,0,0,0,0,0,0,0,0,0,0,0,0,0,0,0,0,0,0,0,0,0,0,0,0]
["93336","Altmannstein","-16 °C","Straubing",null,null,null,null,null,null,null,null,-12,0,0,0,0,0,0,0,0,0,0,0,0,0,0,0,0,0,0,0,0,0,0,0,0,0,0,0,0,0,0,0,0,0,0,0]
["84453","Altmühldorf","-16 °C","Straubing",null,null,null,null,null,null,null,null,-11,0,0,0,0,0,0,0,0,0,0,0,0,0,0,0,0,0,0,0,0,0,0,0,0,0,0,0,0,0,0,0,0,0,0,0]
["85250","Altomünster","-16 °C","München",null,null,null,null,null,null,null,null,-10,0,0,0,0,0,0,0,0,0,0,0,0,0,0,0,0,0,0,0,0,0,0,0,0,0,0,0,0,0,0,0,0,0,0,0]
["77815","Altschweier","-14 °C","Karlsruhe",null,null,null,null,null,null,null,null,-9,0,0,0,0,0,0,0,0,0,0,0,0,0,0,0,0,0,0,0,0,0,0,0,0,0,0,0,0,0,0,0,0,0,0,0]
["17214","Alt-Schwerin","-12 °C","Greifswald",null,null,null,null,null,null,null,null,-8,0,0,0,0,0,0,0,0,0,0,0,0,0,0,0,0,0,0,0,0,0,0,0,0,0,0,0,0,0,0,0,0,0,0,0]
["79263","Altsimonswald","-16 °C","Stuttgart",null,null,null,null,null,null,null,null,-7,0,0,0,0,0,0,0,0,0,0,0,0,0,0,0,0,0,0,0,0,0,0,0,0,0,0,0,0,0,0,0,0,0,0,0]
["89584","Altsteußlingen","-14 °C","Augsburg",null,null,null,null,null,null,null,null,-6,0,5,0,0,0,0,0,0,0,0,0,0,0,0,0,0,1,9,5,0,1,0,0,0,0,2,0,3,0,1,0,0,0,0,0]
["56858","Altstrimmig","-12 °C","Nürburg-Barweiler",null,null,null,null,null,null,null,null,-5,0,16,0,0,0,13,0,12,0,0,0,5,0,0,0,0,22,11,20,0,5,0,0,1,0,13,0,11,0,9,0,0,0,0,3]
["88364","Alttann","-16 °C","Stuttgart",null,null,null,null,null,null,null,null,-4,0,15,0,2,0,25,0,26,0,0,0,19,21,0,0,15,22,24,24,2,12,0,0,13,13,21,0,17,0,20,0,1,2,0,16]
["17375","Altwarp","-12 °C","Greifswald",null,null,null,null,null,null,null,null,-3,20,32,0,11,0,38,8,21,1,1,0,17,49,0,0,30,47,53,63,19,25,9,1,16,24,33,10,37,6,19,1,7,12,7,35]
["63755","Alzenau","-12 °C","Würzburg",null,null,null,null,null,null,null,null,-2,35,59,0,57,13,61,8,43,8,10,5,54,75,13,7,41,70,55,68,63,47,12,8,31,66,66,43,63,28,44,10,45,25,9,89]
["53783","Alzenbach","-12 °C","Nürburg-Barweiler",null,null,null,null,null,null,null,null,-1,73,122,0,93,23,70,63,82,35,33,17,70,81,26,37,66,104,75,78,111,99,63,16,97,105,113,50,105,60,100,16,77,28,30,96]
["75365","Alzenberg","-16 °C","Stuttgart",null,null,null,null,null,null,null,null,0,65,160,10,128,40,115,97,116,37,66,22,89,122,60,82,96,121,110,144,104,168,68,43,97,113,141,105,122,74,121,35,127,67,71,136]
["55232","Alzey","-12 °C","Trier",null,null,null,null,null,null,null,null,1,144,282,73,182,108,247,159,163,78,96,81,233,192,113,121,155,251,239,258,224,231,141,81,138,187,225,135,248,118,232,90,183,121,85,271]
["56727","Alzheim","-14 °C","Nürburg-Barweiler",null,null,null,null,null,null,null,null,2,261,332,122,301,127,311,241,255,116,125,133,293,293,167,214,261,323,278,381,354,305,210,144,229,296,252,257,356,193,289,119,273,187,121,336]
["86676","Ambach","-16 °C","Augsburg",null,null,null,null,null,null,null,null,3,395,377,216,367,314,326,321,325,180,259,211,317,410,286,386,416,380,373,408,389,362,326,245,348,420,387,373,387,253,329,171,359,270,193,405]
["86854","Amberg","-16 °C","Kempten",null,null,null,null,null,null,null,null,4,560,479,353,454,389,391,493,403,275,281,370,396,453,367,518,460,398,407,465,489,425,343,291,390,441,401,395,420,324,380,281,382,363,334,382]
["92224","Amberg / Oberpf.","-16 °C","Nürnberg",null,null,null,null,null,null,null,null,5,653,489,495,443,507,454,535,370,377,416,423,455,442,468,609,562,413,475,476,478,435,438,353,468,456,394,475,458,428,446,326,453,372,388,409]
["48165","Amelsbüren","-12 °C","Hannover",null,null,null,null,null,null,null,null,6,598,466,723,510,502,509,694,397,409,499,520,488,439,549,560,496,452,551,507,506,432,473,383,493,457,496,447,511,485,470,460,522,476,452,454]
["37688","Amelunxen","-14 °C","Fritzlar",null,null,null,null,null,null,null,null,7,681,507,698,614,575,565,679,468,503,509,592,517,480,590,626,586,527,562,601,612,513,525,477,550,559,495,530,521,554,476,474,559,508,515,552]
["83123","Amerang","-16 °C","Hohenpeißenberg",null,null,null,null,null,null,null,null,8,622,541,733,590,638,507,619,468,643,618,682,530,512,671,726,641,505,547,618,551,588,608,482,624,633,593,529,551,624,551,643,584,554,526,553]
["04683","Ammelshain","-14 °C","Leipzig",null,null,null,null,null,null,null,null,9,637,505,750,520,696,509,649,512,636,620,763,542,471,742,709,642,578,568,652,530,557,577,588,550,638,558,492,491,647,548,670,528,519,664,548]
["72119","Ammerbuch","-16 °C","Stuttgart",null,null,null,null,null,null,null,null,10,604,503,639,574,661,509,598,561,631,622,826,566,496,652,674,616,499,642,577,526,552,539,570,525,552,541,540,521,572,585,634,536,538,781,538]
["35287","Amöneburg","-12 °C","Fritzlar",null,null,null,null,null,null,null,null,11,630,484,530,616,604,529,586,543,640,628,701,494,489,678,647,563,545,629,572,543,520,565,569,538,557,502,536,487,565,532,650,547,501,671,527]
["85241","Ampermoching","-16 °C","München",null,null,null,null,null,null,null,null,12,577,478,511,500,563,503,522,518,616,539,615,502,504,611,622,561,501,551,585,517,518,638,528,518,493,458,516,492,575,470,636,571,496,646,508]
["88436","Ampfelbronn","-16 °C","Stuttgart",null,null,null,null,null,null,null,null,13,604,448,500,511,545,498,483,519,673,511,579,508,447,586,560,569,472,488,465,545,523,581,525,533,503,443,509,453,584,486,683,566,548,605,502]
["33803","Amshausen","-14 °C","Fritzlar",null,null,null,null,null,null,null,null,14,474,410,579,450,561,424,444,561,564,498,606,455,423,544,549,526,432,493,447,482,447,512,468,503,471,394,442,416,528,410,576,489,513,546,464]
["73340","Amstetten","-16 °C","Stuttgart",null,null,null,null,null,null,null,null,15,352,343,605,404,553,396,349,469,515,453,525,398,395,434,383,414,394,435,354,437,410,469,476,467,346,407,442,364,524,368,567,431,490,467,395]
["09439","Amtsberg","-14 °C","Meiningen",null,null,null,null,null,null,null,null,16,296,371,453,381,416,379,319,406,500,466,394,368,359,365,302,300,356,361,305,392,368,443,491,415,377,370,370,352,419,387,450,390,477,456,352]
["01855","Amtshainersdorf","-16 °C","Dresden",null,null,null,null,null,null,null,null,17,205,271,305,327,342,309,255,341,375,400,287,313,342,288,165,291,328,311,200,287,301,339,387,313,306,309,345,286,351,332,378,290,388,360,315]
["84098","Andermannsdorf","-18 °C","Straubing",null,null,null,null,null,null,null,null,18,128,276,240,276,261,290,239,290,310,331,190,294,275,231,119,178,283,202,173,175,241,299,336,273,203,294,314,258,269,316,291,273,324,318,248]
["56626","Andernach","-12 °C","Nürburg-Barweiler",null,null,null,null,null,null,null,null,19,61,241,123,159,162,219,140,264,213,255,120,226,248,179,92,123,223,121,138,135,193,219,306,218,175,247,277,220,244,258,251,184,282,220,198]
["99189","Andisleben","-14 °C","Erfurt",null,null,null,null,null,null,null,null,20,45,160,77,135,83,192,116,192,151,193,55,189,209,81,33,66,163,93,90,122,132,149,246,141,132,200,181,157,139,187,180,141,232,147,158]
["29413","Andorf","-14 °C","Hannover",null,null,null,null,null,null,null,null,">20",40,388,25,155,77,371,143,435,274,331,43,422,533,59,19,86,350,97,86,167,350,214,746,271,237,405,447,453,196,394,168,242,467,148,270]
["74918","Angelbachtal","-12 °C","Stuttgart"]
["35719","Angelburg","-14 °C","Fritzlar"]
["48143","Angelmodde","-12 °C","Hannover"]
["99338","Angelroda","-16 °C","Meiningen"]
["40489","Angermund","-10 °C","Düsseldorf",null,null,null,null,null,null,null,null,"Finnland"]
["16278","Angermünde","-14 °C","Neuruppin",null,null,null,null,null,null,null,null,"Außentemp","Espoo","Helsinki","Ivalo","Joensuu","Jyväskylä","Kajaani","Kokkola","Kuopio","Kuusamo","Lahti","Oulu","Pori","Rovaniemi","Tampere","Turku","Vaasa","Vantaa","Säävyöhyke I","Säävyöhyke II","Säävyöhyke III","Säävyöhyke IV"]
["86420","Anhausen","-16 °C","Augsburg",null,null,null,null,null,null,null,null,"°C","h/a","h/a","h/a","h/a","h/a","h/a","h/a","h/a","h/a","h/a","h/a","h/a","h/a","h/a","h/a","h/a","h/a","h/a","h/a","h/a","h/a",null,"h/a","h/a","h/a","h/a","h/a","h/a","h/a","h/a","h/a","h/a","h/a","h/a","h/a","h/a","h/a","h/a","h/a","h/a"]
["56584","Anhausen","-14 °C","Nürburg-Barweiler",null,null,null,null,null,null,null,null,"<-20",67,34,461,140,133,248,67,152,322,73,154,38,172,72,29,88,67,7,7,107,563]
["72534","Anhausen","-16 °C","Stuttgart",null,null,null,null,null,null,null,null,-20,20,11,74,57,32,66,20,29,83,4,23,15,79,10,13,16,20,19,19,62,60]
["17389","Anklam","-12 °C","Greifswald",null,null,null,null,null,null,null,null,-19,18,11,84,41,38,57,18,51,70,14,58,10,69,7,13,21,18,23,23,67,67]
["49577","Ankum","-12 °C","Hannover",null,null,null,null,null,null,null,null,-18,37,13,90,47,37,42,37,71,67,27,80,9,70,30,17,26,37,21,21,42,79]
["09456","Annaberg-Buchholz","-16 °C","Meiningen",null,null,null,null,null,null,null,null,-17,50,10,84,54,69,64,50,34,74,38,43,30,94,37,21,25,50,30,30,32,88]
["33129","Anreppen","-12 °C","Fritzlar",null,null,null,null,null,null,null,null,-16,41,16,103,58,41,84,41,45,120,46,79,24,101,45,17,33,41,55,55,50,85]
["91522","Ansbach / Mittelfr.","-16 °C","Nürnberg",null,null,null,null,null,null,null,null,-15,46,23,92,66,59,85,46,86,114,49,107,25,123,49,22,65,46,83,83,41,93]
["09517","Ansprung","-16 °C","Meiningen",null,null,null,null,null,null,null,null,-14,46,34,98,85,77,103,46,96,112,53,81,27,111,54,39,47,46,63,63,38,97]
["82387","Antdorf","-18 °C","Kempten",null,null,null,null,null,null,null,null,-13,74,43,152,117,92,104,74,80,117,68,113,51,123,71,63,71,74,72,72,44,158]
["84371","Anzenkirchen","-16 °C","Straubing",null,null,null,null,null,null,null,null,-12,54,52,152,125,101,113,54,114,140,85,103,63,132,67,71,86,54,52,52,54,166]
["85646","Anzing","-16 °C","München",null,null,null,null,null,null,null,null,-11,100,101,161,131,110,158,100,123,153,133,119,79,161,101,83,95,100,49,49,76,154]
["31552","Apelern","-14 °C","Hannover",null,null,null,null,null,null,null,null,-10,95,53,183,150,144,135,95,129,176,95,191,97,178,112,68,103,95,49,49,120,177]
["86974","Apfeldorf","-16 °C","Kempten",null,null,null,null,null,null,null,null,-9,122,89,211,176,169,129,122,154,255,137,127,103,208,113,68,112,122,76,76,140,159]
["72525","Apfelstetten","-16 °C","Stuttgart",null,null,null,null,null,null,null,null,-8,148,113,198,168,171,191,148,208,301,144,197,126,289,127,81,151,148,124,124,241,196]
["88437","Äpfingen","-16 °C","Stuttgart",null,null,null,null,null,null,null,null,-7,150,141,215,200,175,265,150,176,259,154,196,135,252,197,204,181,150,146,146,186,223]
["99510","Apolda","-14 °C","Erfurt",null,null,null,null,null,null,null,null,-6,197,190,223,206,220,247,197,193,257,180,206,176,267,248,198,206,197,169,169,255,263]
["48301","Appelhülsen","-12 °C","Hannover",null,null,null,null,null,null,null,null,-5,239,202,291,253,233,275,239,216,245,258,226,229,215,256,203,189,239,174,174,263,251]
["27616","Appeln","-12 °C","Bremen",null,null,null,null,null,null,null,null,-4,242,225,270,282,282,242,242,246,206,273,235,213,261,295,260,240,242,193,193,329,248]
["25482","Appen","-10 °C","Schleswig",null,null,null,null,null,null,null,null,-3,243,312,269,284,314,311,243,326,264,291,273,307,317,289,227,248,243,214,214,375,369]
["71297","Appenberg","-14 °C","Stuttgart",null,null,null,null,null,null,null,null,-2,264,329,299,306,300,266,264,312,295,339,292,308,326,306,352,309,264,237,237,370,351]
["55437","Appenheim","-12 °C","Trier",null,null,null,null,null,null,null,null,-1,270,316,319,254,270,269,270,288,323,314,303,308,311,306,370,308,270,301,301,343,321]
["77767","Appenweier","-12 °C","Karlsruhe",null,null,null,null,null,null,null,null,0,236,325,253,275,308,217,236,254,279,283,285,300,265,283,303,234,236,519,519,470,385]
["17291","Arendsee","-14 °C","Greifswald",null,null,null,null,null,null,null,null,1,289,319,265,311,305,266,289,306,340,365,308,323,295,311,334,310,289,494,494,357,260]
["39619","Arendsee","-14 °C","Magdeburg",null,null,null,null,null,null,null,null,2,304,341,276,254,319,319,304,257,289,325,333,343,295,342,351,325,304,460,460,277,300]
["23617","Arfrade","-12 °C","Schwerin",null,null,null,null,null,null,null,null,3,325,360,373,333,319,292,325,313,244,321,296,420,295,312,318,320,325,354,354,299,265]
["88260","Argenbühl","-16 °C","Stuttgart",null,null,null,null,null,null,null,null,4,295,326,333,264,331,261,295,311,229,321,308,366,286,352,402,351,295,280,280,248,265]
["55288","Armsheim","-12 °C","Trier",null,null,null,null,null,null,null,null,5,348,303,282,262,233,296,348,254,261,289,286,319,284,321,353,330,348,301,301,335,204]
["72119","Ammerbuch","-16 °C","Stuttgart",null,null,null,null,null,null,null,null,6,349,355,280,269,243,266,349,268,292,260,267,337,244,267,269,327,349,279,279,298,251]
["35287","Amöneburg","-12 °C","Fritzlar",null,null,null,null,null,null,null,null,7,331,319,297,248,295,287,331,296,239,287,281,295,233,305,271,351,331,300,300,262,254]
["85241","Ampermoching","-16 °C","München",null,null,null,null,null,null,null,null,8,280,280,255,244,295,257,280,233,252,307,260,309,269,309,329,311,280,280,280,257,228]
["88436","Ampfelbronn","-16 °C","Stuttgart",null,null,null,null,null,null,null,null,9,300,323,235,237,246,250,300,223,221,316,243,279,250,250,332,294,300,285,285,243,250]
["33803","Amshausen","-14 °C","Fritzlar",null,null,null,null,null,null,null,null,10,303,286,226,194,268,254,303,245,238,276,240,301,232,268,291,272,303,290,290,295,230]
["73340","Amstetten","-16 °C","Stuttgart",null,null,null,null,null,null,null,null,11,278,298,236,249,262,272,278,240,261,258,264,277,206,254,293,294,278,293,293,270,229]
["09439","Amtsberg","-14 °C","Meiningen",null,null,null,null,null,null,null,null,12,294,321,157,243,281,210,294,278,247,251,229,304,255,255,267,279,294,293,293,257,240]
["01855","Amtshainersdorf","-16 °C","Dresden",null,null,null,null,null,null,null,null,13,273,269,175,256,237,254,273,227,213,249,248,242,224,259,240,285,273,322,322,268,208]
["84098","Andermannsdorf","-18 °C","Straubing",null,null,null,null,null,null,null,null,14,260,255,177,242,273,246,260,245,203,271,245,266,216,233,251,248,260,297,297,223,187]
["56626","Andernach","-12 °C","Nürburg-Barweiler",null,null,null,null,null,null,null,null,15,255,279,175,241,241,227,255,272,220,236,239,262,177,266,251,241,255,291,291,217,167]
["99189","Andisleben","-14 °C","Erfurt",null,null,null,null,null,null,null,null,16,247,244,175,233,205,219,247,268,155,222,254,262,196,262,239,241,247,309,309,202,141]
["29413","Andorf","-14 °C","Hannover",null,null,null,null,null,null,null,null,17,226,276,144,241,193,181,226,251,160,208,209,228,156,247,258,213,226,209,209,156,111]
["74918","Angelbachtal","-12 °C","Stuttgart",null,null,null,null,null,null,null,null,18,194,214,115,213,191,155,194,213,122,187,190,194,140,165,239,214,194,180,180,126,99]
["35719","Angelburg","-14 °C","Fritzlar",null,null,null,null,null,null,null,null,19,167,178,81,179,168,154,167,140,102,170,170,190,109,145,177,160,167,160,160,115,85]
["48143","Angelmodde","-12 °C","Hannover",null,null,null,null,null,null,null,null,20,152,140,78,154,140,119,152,138,103,179,135,144,94,161,162,138,152,142,142,133,66]
["99338","Angelroda","-16 °C","Meiningen",null,null,null,null,null,null,null,null,">20",531,431,143,418,340,304,531,399,137,404,264,426,180,401,411,402,531,265,265,217,167]
["40489","Angermund","-10 °C","Düsseldorf"]
["16278","Angermünde","-14 °C","Neuruppin"]
["86420","Anhausen","-16 °C","Augsburg"]
["56584","Anhausen","-14 °C","Nürburg-Barweiler"]
["72534","Anhausen","-16 °C","Stuttgart",null,null,null,null,null,null,null,null,"Near East"]
["17389","Anklam","-12 °C","Greifswald",null,null,null,null,null,null,null,null,"Außentemp","Aschkeloh","Dimona","Elat","Haifa","Jerusalem","Naharija","Nazareth","Tel Aviv","Ramallah"]
["49577","Ankum","-12 °C","Hannover",null,null,null,null,null,null,null,null,"°C","h/a","h/a","h/a","h/a","h/a","h/a","h/a","h/a","h/a","h/a","h/a","h/a","h/a","h/a","h/a","h/a","h/a","h/a","h/a","h/a","h/a","h/a","h/a","h/a","h/a","h/a","h/a","h/a","h/a","h/a","h/a","h/a","h/a","h/a","h/a","h/a","h/a","h/a","h/a","h/a"]
["09456","Annaberg-Buchholz","-16 °C","Meiningen",null,null,null,null,null,null,null,null,"<-20",0,0,0,0,0,0,0,0,0]
["33129","Anreppen","-12 °C","Fritzlar",null,null,null,null,null,null,null,null,-20,0,0,0,0,0,0,0,0,0]
["91522","Ansbach / Mittelfr.","-16 °C","Nürnberg",null,null,null,null,null,null,null,null,-19,0,0,0,0,0,0,0,0,0]
["09517","Ansprung","-16 °C","Meiningen",null,null,null,null,null,null,null,null,-18,0,0,0,0,0,0,0,0,0]
["82387","Antdorf","-18 °C","Kempten",null,null,null,null,null,null,null,null,-17,0,0,0,0,0,0,0,0,0]
["84371","Anzenkirchen","-16 °C","Straubing",null,null,null,null,null,null,null,null,-16,0,0,0,0,0,0,0,0,0]
["85646","Anzing","-16 °C","München",null,null,null,null,null,null,null,null,-15,0,0,0,0,0,0,0,0,0]
["31552","Apelern","-14 °C","Hannover",null,null,null,null,null,null,null,null,-14,0,0,0,0,0,0,0,0,0]
["86974","Apfeldorf","-16 °C","Kempten",null,null,null,null,null,null,null,null,-13,0,0,0,0,0,0,0,0,0]
["72525","Apfelstetten","-16 °C","Stuttgart",null,null,null,null,null,null,null,null,-12,0,0,0,0,0,0,0,0,0]
["88437","Äpfingen","-16 °C","Stuttgart",null,null,null,null,null,null,null,null,-11,0,0,0,0,0,0,0,0,0]
["99510","Apolda","-14 °C","Erfurt",null,null,null,null,null,null,null,null,-10,0,0,0,0,0,0,0,0,0]
["48301","Appelhülsen","-12 °C","Hannover",null,null,null,null,null,null,null,null,-9,0,0,0,0,0,0,0,0,0]
["27616","Appeln","-12 °C","Bremen",null,null,null,null,null,null,null,null,-8,0,0,0,0,0,0,0,0,0]
["25482","Appen","-10 °C","Schleswig",null,null,null,null,null,null,null,null,-7,0,0,0,0,0,0,0,0,0]
["71297","Appenberg","-14 °C","Stuttgart",null,null,null,null,null,null,null,null,-6,0,0,0,0,0,0,0,0,0]
["55437","Appenheim","-12 °C","Trier",null,null,null,null,null,null,null,null,-5,0,0,0,0,0,0,0,0,0]
["77767","Appenweier","-12 °C","Karlsruhe",null,null,null,null,null,null,null,null,-4,0,0,0,0,0,0,0,0,0]
["17291","Arendsee","-14 °C","Greifswald",null,null,null,null,null,null,null,null,-3,0,0,0,0,0,0,0,0,0]
["39619","Arendsee","-14 °C","Magdeburg",null,null,null,null,null,null,null,null,-2,0,0,0,0,8,0,0,0,0]
["23617","Arfrade","-12 °C","Schwerin",null,null,null,null,null,null,null,null,-1,0,0,0,0,12,0,0,0,0]
["88260","Argenbühl","-16 °C","Stuttgart",null,null,null,null,null,null,null,null,0,0,0,0,0,18,0,0,0,0]
["55288","Armsheim","-12 °C","Trier",null,null,null,null,null,null,null,null,1,0,0,0,0,47,0,0,0,9]
["75305","Arnbach","-14 °C","Stuttgart",null,null,null,null,null,null,null,null,2,0,0,4,0,74,0,0,0,34]
["39596","Arneburg","-14 °C","Magdeburg",null,null,null,null,null,null,null,null,3,0,0,8,0,157,0,0,0,43]
["89134","Arnegg","-14 °C","Augsburg",null,null,null,null,null,null,null,null,4,0,0,15,0,200,0,0,0,69]
["39596","Arnim","-14 °C","Magdeburg",null,null,null,null,null,null,null,null,5,0,3,43,0,234,0,0,0,136]
["59...","Arnsberg","-12 °C","Nürburg-Barweiler",null,null,null,null,null,null,null,null,6,8,3,78,5,231,4,8,4,211]
["93473","Arnschwang","-18 °C","Straubing",null,null,null,null,null,null,null,null,7,31,6,113,14,271,7,22,34,268]
["94424","Arnsdorf","-16 °C","Straubing",null,null,null,null,null,null,null,null,8,52,4,175,16,269,18,39,67,291]
["99310","Arnstadt","-14 °C","Erfurt",null,null,null,null,null,null,null,null,9,105,25,187,41,297,55,74,101,306]
["94424","Arnstorf","-16 °C","Straubing",null,null,null,null,null,null,null,null,10,153,70,228,130,332,85,121,158,330]
["30966","Arnum","-14 °C","Hannover",null,null,null,null,null,null,null,null,11,237,133,262,197,310,155,210,226,332]
["31275","Arpke","-14 °C","Hannover",null,null,null,null,null,null,null,null,12,272,149,308,249,344,218,263,272,337]
["93474","Arrach","-18 °C","Straubing",null,null,null,null,null,null,null,null,13,346,200,323,335,342,316,335,330,354]
["09326","Arras","-14 °C","Erfurt",null,null,null,null,null,null,null,null,14,375,232,330,395,361,374,377,385,363]
["91247","Artelshofen","-16 °C","Nürnberg",null,null,null,null,null,null,null,null,15,385,257,357,388,415,401,386,387,326]
["06556","Artern","-14 °C","Leipzig",null,null,null,null,null,null,null,null,16,402,287,377,428,385,393,426,410,312]
["84095","Arth","-16 °C","Straubing",null,null,null,null,null,null,null,null,17,427,324,352,474,372,427,411,385,309]
["56337","Arzbach","-12 °C","Nürburg-Barweiler",null,null,null,null,null,null,null,null,18,465,328,370,457,348,415,408,448,356]
["95659","Arzberg","-18 °C","Hof",null,null,null,null,null,null,null,null,19,442,354,388,448,361,411,394,463,356]
["04886","Arzberg","-16 °C","Leipzig",null,null,null,null,null,null,null,null,20,421,338,386,450,314,376,448,448,385]
["53343","Arzdorf","-14 °C","Nürburg-Barweiler",null,null,null,null,null,null,null,null,">20",4639,6047,4456,4733,3058,5105,4838,4642,3633]
["54687","Arzfeld","-14 °C","Trier"]
["76829","Arzheim","-12 °C","Karlsruhe"]
["86502","Asbach","-16 °C","Augsburg"]
["53567","Asbach","-12 °C","Nürburg-Barweiler"]
["94094","Asbach","-16 °C","Straubing",null,null,null,null,null,null,null,null,"Niederlande"]
["55758","Asbach","-14 °C","Trier",null,null,null,null,null,null,null,null,"Außentemp","Almere","Amersfoort","Amsterdam","Apeldoorn","Arnhem","Beverwijk","Breda","Dordrecht","Eindhoven","Enschede","Geleen","Groningen","Haarlem","Haarlemmermeer","Heerlen","Hilversum","Kerkrade","Leiden","Maastricht","Nijmegen","Rotterdam","s-Gravenhage","s-Hertogenbosch","Sittard","Tilburg","Utrecht","Velsen","Zaanstad","Zaanstreek","Zoetermeer"]
["97708","Aschach","-14 °C","Würzburg",null,null,null,null,null,null,null,null,"°C","h/a","h/a","h/a","h/a","h/a","h/a","h/a","h/a","h/a","h/a","h/a","h/a","h/a","h/a","h/a","h/a","h/a","h/a","h/a","h/a","h/a","h/a","h/a","h/a","h/a","h/a","h/a","h/a","h/a","h/a","h/a","h/a","h/a","h/a","h/a","h/a","h/a","h/a","h/a","h/a"]
["63...","Aschaffenburg","-12 °C","Würzburg",null,null,null,null,null,null,null,null,"<-20",0,0,0,0,0,0,0,0,0,0,0,0,0,0,0,0,0,0,0,0,0,0,0,0,0,0,0,0,0,0]
["96132","Aschbach","-16 °C","Bamberg",null,null,null,null,null,null,null,null,-20,0,0,0,0,0,0,0,0,0,0,0,0,0,0,0,0,0,0,0,0,0,0,0,0,0,0,0,0,0,0]
["67753","Aschbach","-12 °C","Saarbrücken",null,null,null,null,null,null,null,null,-19,0,0,0,0,0,0,0,0,0,0,0,0,0,0,0,0,0,0,0,0,0,0,0,0,0,0,0,0,0,0]
["59387","Ascheberg","-12 °C","Nürburg-Barweiler",null,null,null,null,null,null,null,null,-18,0,0,0,0,0,0,0,0,0,0,0,0,0,0,0,0,0,0,0,0,0,0,0,0,0,0,0,0,0,0]
["98634","Aschenhausen","-16 °C","Meiningen",null,null,null,null,null,null,null,null,-17,0,0,0,0,0,0,0,0,0,0,0,0,0,0,0,0,0,0,0,0,0,0,0,0,0,0,0,0,0,0]
["06449","Aschersleben","-14 °C","Leipzig",null,null,null,null,null,null,null,null,-16,0,0,0,0,0,0,0,0,0,0,0,0,0,0,0,0,0,0,0,0,0,0,0,0,0,0,0,0,0,0]
["85609","Aschheim","-16 °C","München",null,null,null,null,null,null,null,null,-15,0,0,0,0,0,0,0,0,0,0,0,0,0,0,0,0,0,0,0,0,0,0,0,0,0,0,0,0,0,0]
["49577","Aslage","-12 °C","Hannover",null,null,null,null,null,null,null,null,-14,0,0,0,0,0,0,0,0,0,0,0,0,0,0,0,0,0,0,0,0,0,0,0,0,0,0,0,0,0,0]
["71546","Aspach","-14 °C","Stuttgart",null,null,null,null,null,null,null,null,-13,0,0,0,0,0,0,0,0,0,0,0,0,0,0,0,0,0,0,0,0,0,0,0,0,0,0,0,0,0,0]
["71679","Asperg","-12 °C","Stuttgart",null,null,null,null,null,null,null,null,-12,0,0,0,0,0,0,0,0,0,0,0,0,0,0,0,0,0,0,0,0,0,0,0,0,0,0,0,0,0,0]
["55459","Aspisheim","-12 °C","Trier",null,null,null,null,null,null,null,null,-11,0,3,0,3,0,0,3,0,1,1,0,0,0,0,0,1,1,0,1,0,0,0,0,0,0,0,0,0,0,0]
["97959","Assamstadt","-16 °C","Würzburg",null,null,null,null,null,null,null,null,-10,0,7,0,4,8,0,5,0,5,6,2,5,0,0,2,4,5,0,4,1,0,0,1,2,2,0,0,0,0,0]
["67126","Assenheim","-12 °C","Saarbrücken",null,null,null,null,null,null,null,null,-9,2,9,0,11,11,0,9,0,10,7,5,18,0,0,5,7,10,0,8,6,0,0,6,5,6,3,0,0,0,0]
["35614","Asslar - Bechlingen","-12 °C","Fritzlar",null,null,null,null,null,null,null,null,-8,5,13,1,16,20,0,9,1,20,18,8,18,0,0,9,7,12,1,16,14,7,0,5,8,8,7,0,0,0,0]
["88433","Aßmannshardt","-16 °C","Stuttgart",null,null,null,null,null,null,null,null,-7,15,42,10,26,22,1,20,6,21,24,10,15,0,1,10,8,40,4,30,29,13,3,19,10,23,20,1,0,0,6]
["38685","Astfeld","-14 °C","Magdeburg",null,null,null,null,null,null,null,null,-6,22,36,24,34,39,9,43,12,29,41,31,52,8,8,44,36,30,7,24,31,23,7,24,31,20,12,9,8,8,6]
["57439","Attendorn","-14 °C","Nürburg-Barweiler",null,null,null,null,null,null,null,null,-5,37,45,21,42,52,15,37,18,56,44,27,37,15,14,20,51,51,18,67,45,21,16,48,27,50,44,15,23,21,18]
["88448","Attenweiler","-16 °C","Stuttgart",null,null,null,null,null,null,null,null,-4,37,97,37,94,70,25,48,30,66,64,60,59,27,24,52,41,70,26,86,46,56,25,44,60,63,60,25,33,22,29]
["79280","Au","-14 °C","Karlsruhe",null,null,null,null,null,null,null,null,-3,52,86,83,103,100,47,105,33,89,107,78,91,32,32,77,83,103,39,72,63,46,37,65,78,67,71,47,32,33,46]
["76474","Au am Rhein","-12 °C","Karlsruhe",null,null,null,null,null,null,null,null,-2,121,177,106,188,136,79,141,79,159,108,85,141,52,69,103,112,161,62,127,113,120,59,98,85,107,124,79,60,67,54]
["97239","Aub","-16 °C","Würzburg",null,null,null,null,null,null,null,null,-1,178,203,160,208,211,76,225,90,216,173,172,224,77,79,151,181,208,91,208,139,151,83,146,172,124,188,76,101,82,87]
["81245","Aubing","-16 °C","München",null,null,null,null,null,null,null,null,0,223,202,183,203,256,102,210,123,269,262,204,241,124,98,180,199,214,98,205,224,173,93,197,204,158,201,102,87,80,106]
["81249","Aubing","-16 °C","München",null,null,null,null,null,null,null,null,1,272,247,232,274,310,185,252,195,279,283,239,322,186,228,275,221,289,200,308,321,272,176,277,239,262,295,185,182,211,200]
["04838","Audenhain","-14 °C","Leipzig",null,null,null,null,null,null,null,null,2,298,283,298,300,307,254,266,211,293,294,286,409,230,236,257,256,264,225,328,307,298,237,305,286,281,259,254,251,243,218]
["08280","Aue","-16 °C","Meiningen",null,null,null,null,null,null,null,null,3,329,379,364,355,321,325,327,341,391,339,301,384,284,291,279,305,342,303,355,341,373,304,276,301,333,315,325,334,281,268]
["33034","Auenhausen","-14 °C","Fritzlar",null,null,null,null,null,null,null,null,4,365,427,409,348,375,360,396,363,345,364,350,391,389,353,321,326,443,312,408,345,340,285,378,350,389,385,360,365,358,283]
["08066","Auerbach","-14 °C","Erfurt",null,null,null,null,null,null,null,null,5,434,375,477,431,393,384,394,394,336,369,366,433,422,345,417,377,357,342,366,360,453,356,393,366,350,446,384,364,405,413]
["74834","Auerbach","-14 °C","Stuttgart",null,null,null,null,null,null,null,null,6,417,442,462,449,381,387,416,403,390,414,366,514,497,452,356,409,395,442,403,378,487,405,408,366,378,433,387,441,476,419]
["64625","Auerbach","-10 °C","Würzburg",null,null,null,null,null,null,null,null,7,505,439,506,416,453,450,470,453,485,470,420,447,401,459,443,478,476,515,380,450,484,514,450,420,393,481,450,474,460,531]
["08209","Auerbach / Vogtl.","-16 °C","Meiningen",null,null,null,null,null,null,null,null,8,478,445,465,423,462,600,440,515,475,415,435,464,507,517,475,471,452,525,403,402,497,514,455,435,472,494,600,535,500,509]
["08209","Auerbach / Vogtland","-16 °C","Meiningen",null,null,null,null,null,null,null,null,9,485,448,498,416,444,536,493,531,412,458,413,468,525,578,453,488,429,545,404,445,469,548,459,413,458,494,536,530,521,517]
["09238","Auerswalde","-14 °C","Erfurt",null,null,null,null,null,null,null,null,10,484,428,478,442,406,477,426,495,389,442,462,454,521,500,417,455,450,537,508,476,438,512,488,462,446,499,477,493,523,539]
["31749","Auetal","-14 °C","Hannover",null,null,null,null,null,null,null,null,11,495,514,499,472,489,495,453,483,439,447,473,421,495,503,432,427,443,549,512,405,457,584,448,473,469,519,495,461,524,521]
["93089","Aufhausen","-18 °C","Straubing",null,null,null,null,null,null,null,null,12,554,455,441,498,474,497,454,485,439,436,459,442,489,498,478,453,460,487,467,425,507,513,417,459,500,474,497,535,515,548]
["73312","Aufhausen","-16 °C","Stuttgart",null,null,null,null,null,null,null,null,13,416,413,465,418,409,517,433,518,469,410,407,451,501,526,439,446,420,462,425,453,470,439,424,407,437,448,517,501,478,495]
["91347","Aufseß","-16 °C","Nürnberg",null,null,null,null,null,null,null,null,14,409,374,422,408,396,480,378,477,393,404,418,371,492,456,406,401,388,486,386,370,430,484,364,418,454,382,480,498,447,492]
["79424","Auggen","-12 °C","Karlsruhe",null,null,null,null,null,null,null,null,15,417,352,456,359,363,485,383,445,357,378,404,361,461,464,375,418,416,488,392,390,398,475,350,404,359,406,485,474,418,434]
["86...","Augsburg","-14 °C","Augsburg",null,null,null,null,null,null,null,null,16,383,343,380,352,328,383,360,408,316,329,374,351,431,429,406,391,367,444,317,327,397,462,349,374,313,357,383,396,425,410]
["06308","Augsdorf","-14 °C","Leipzig",null,null,null,null,null,null,null,null,17,335,322,295,293,278,366,340,366,321,322,342,275,340,343,361,336,306,422,311,372,323,419,386,342,323,319,366,389,395,380]
["32832","Augustdorf","-12 °C","Fritzlar",null,null,null,null,null,null,null,null,18,280,275,272,257,289,360,289,311,291,276,309,250,301,287,349,317,240,314,276,315,299,344,359,309,299,277,360,298,336,324]
["72525","Auingen","-16 °C","Stuttgart",null,null,null,null,null,null,null,null,19,211,224,220,218,247,250,230,254,237,209,270,188,268,289,234,231,209,236,221,269,230,259,301,270,279,204,250,262,260,267]
["24613","Aukrug","-12 °C","Schleswig",null,null,null,null,null,null,null,null,20,176,195,190,173,185,180,189,205,189,189,262,159,211,200,199,203,161,189,196,227,191,184,225,262,252,138,180,207,226,213]
["88326","Aulendorf / Württ.","-16 °C","Stuttgart",null,null,null,null,null,null,null,null,">20",325,460,306,526,525,435,516,515,573,657,722,304,474,481,735,621,548,391,546,671,337,423,595,722,685,405,435,426,445,427]
["65606","Aumenau","-12 °C","Nürburg-Barweiler"]
["94474","Aunkirchen","-16 °C","Straubing"]
["91589","Aurach","-16 °C","Nürnberg"]
["2660.","Aurich","-10 °C","Emden"]
["89335","Autenried","-16 °C","Augsburg",null,null,null,null,null,null,null,null,"Europa"]
["04849","Authausen","-14 °C","Leipzig",null,null,null,null,null,null,null,null,"Außentemp","Ankara","Athen","Brüssel","Budapest","Bukarest","Lissabon","Oslo","Paris","Ploče","Prag","Rom","Sofia","Stockholm","Tivat","Warschau","Zagreb"]
["27729","Axstedt","-12 °C","Bremen",null,null,null,null,null,null,null,null,"°C","h/a","h/a","h/a","h/a","h/a","h/a","h/a","h/a","h/a","h/a","h/a","h/a","h/a","h/a","h/a","h/a","h/a","h/a","h/a","h/a","h/a","h/a","h/a","h/a","h/a","h/a","h/a","h/a","h/a","h/a","h/a","h/a","h/a","h/a","h/a","h/a","h/a","h/a","h/a","h/a","h/a"]
["86482","Aystetten","-16 °C","Bremen",null,null,null,null,null,null,null,null,"<-20",0,0,0,0,0,0,0,0,0,0,0,0,0,0,0,0]
["18586","Baabe","-10 °C","Rostock",null,null,null,null,null,null,null,null,-20,0,0,0,0,0,0,0,0,0,0,0,0,0,0,0,0]
["41836","Baal","-12 °C","Düsseldorf",null,null,null,null,null,null,null,null,-19,0,0,0,0,0,0,0,0,0,0,0,0,0,0,0,0]
["04457","Baalsdorf","-14 °C","Leipzig",null,null,null,null,null,null,null,null,-18,0,0,0,0,0,0,0,0,0,0,0,0,8,0,2,0]
["86672","Baar","-16 °C","Augsburg",null,null,null,null,null,null,null,null,-17,0,0,0,0,0,0,4,0,0,0,0,0,11,0,5,0]
["56729","Baar","-14 °C","Nürburg-Barweiler",null,null,null,null,null,null,null,null,-16,0,0,0,0,0,0,11,0,0,3,0,0,16,0,4,0]
["85107","Baar-Ebenhausen","-18 °C","München",null,null,null,null,null,null,null,null,-15,0,0,0,0,0,0,5,0,0,4,0,1,4,0,12,0]
["14482","Babelsberg","-14 °C","Potsdam",null,null,null,null,null,null,null,null,-14,0,0,0,0,4,0,18,0,0,6,0,8,5,0,21,0]
["87727","Babenhausen","-16 °C","Augsburg",null,null,null,null,null,null,null,null,-13,1,0,0,0,10,0,19,0,0,12,0,16,13,0,40,0]
["64832","Babenhausen","-12 °C","Würzburg",null,null,null,null,null,null,null,null,-12,7,0,0,2,13,0,44,0,0,17,0,26,14,0,31,0]
["83547","Babensham","-16 °C","Hohenpeißenberg",null,null,null,null,null,null,null,null,-11,16,0,0,24,35,0,17,0,0,29,0,45,16,0,35,0]
["84149","Babing","-16 °C","Straubing",null,null,null,null,null,null,null,null,-10,13,0,0,32,41,0,32,0,0,26,0,37,43,0,22,0]
["93090","Bach","-18 °C","Straubing",null,null,null,null,null,null,null,null,-9,28,0,0,25,59,0,67,0,0,19,0,37,69,0,42,3]
["50226","Bachem","-12 °C","Düsseldorf",null,null,null,null,null,null,null,null,-8,45,0,1,40,77,0,105,1,0,40,0,39,72,0,71,27]
["74831","Bachenau","-12 °C","Stuttgart",null,null,null,null,null,null,null,null,-7,46,0,6,80,65,0,153,4,0,44,0,62,82,0,71,39]
["86316","Bacherer","-16 °C","Augsburg",null,null,null,null,null,null,null,null,-6,41,0,12,69,98,0,152,8,0,86,0,84,119,0,105,28]
["82266","Bachern am Wörthsee","-16 °C","Kempten",null,null,null,null,null,null,null,null,-5,77,0,35,83,113,0,193,8,0,115,0,125,162,0,152,49]
["96528","Bachfeld","-16 °C","Bamberg",null,null,null,null,null,null,null,null,-4,119,0,36,151,187,0,233,28,6,161,0,167,193,0,206,65]
["89429","Bachhagel","-16 °C","Augsburg",null,null,null,null,null,null,null,null,-3,182,0,51,189,165,0,219,42,19,170,0,233,236,0,250,87]
["82335","Bachhausen","-16 °C","Kempten",null,null,null,null,null,null,null,null,-2,219,0,73,215,222,0,298,72,15,228,0,219,265,3,271,153]
["83549","Bachmehring","-16 °C","Hohenpeißenberg",null,null,null,null,null,null,null,null,-1,245,0,137,234,213,0,398,105,27,252,2,271,378,11,328,268]
["89431","Bäckingen","-16 °C","Augsburg",null,null,null,null,null,null,null,null,0,223,0,162,264,221,0,328,111,45,235,8,247,308,48,270,205]
["71522","Backnang","-12 °C","Stuttgart",null,null,null,null,null,null,null,null,1,284,2,219,278,271,0,379,172,70,338,21,271,388,76,302,246]
["83043","Bad Aibling","-16 °C","Hohenpeißenberg",null,null,null,null,null,null,null,null,2,291,19,242,284,292,0,364,239,129,328,40,286,385,100,293,247]
["34454","Bad Arolsen","-14 °C","Fritzlar",null,null,null,null,null,null,null,null,3,288,23,299,245,259,0,380,242,147,336,65,264,344,156,314,243]
["79415","Bad Bellingen","-12 °C","Karlsruhe",null,null,null,null,null,null,null,null,4,285,57,368,283,241,2,333,299,221,337,112,274,346,204,331,250]
["48455","Bad Bentheim","-10 °C","Hannover",null,null,null,null,null,null,null,null,5,319,95,388,297,262,25,285,353,309,356,129,265,318,290,288,283]
["76887","Bad Bergzaben","-12 °C","Saarbrücken",null,null,null,null,null,null,null,null,6,335,91,414,273,247,51,339,380,353,318,178,281,335,289,297,299]
["99438","Bad Berka","-14 °C","Erfurt",null,null,null,null,null,null,null,null,7,311,157,462,278,249,99,342,376,334,359,231,277,361,322,363,254]
["84364","Bad Birnbach","-16 °C","Straubing",null,null,null,null,null,null,null,null,8,282,192,460,252,259,165,345,404,351,319,278,245,328,356,279,246]
["07422","Bad Blankenburg","-14 °C","Erfurt",null,null,null,null,null,null,null,null,9,297,304,395,280,251,268,329,397,341,337,376,287,264,352,300,262]
["97708","Bad Bocklet","-14 °C","Würzburg",null,null,null,null,null,null,null,null,10,294,338,464,288,281,439,300,454,324,336,370,281,334,380,324,307]
["73087","Bad Boll","-16 °C","Stuttgart",null,null,null,null,null,null,null,null,11,275,360,474,299,278,462,316,452,400,336,398,324,341,390,260,285]
["24576","Bad Bramstedt","-12 °C","Schleswig",null,null,null,null,null,null,null,null,12,287,427,463,287,325,555,312,447,371,314,402,307,320,397,279,279]
["53498","Bad Breisig","-12 °C","Nürburg-Barweiler",null,null,null,null,null,null,null,null,13,306,451,461,292,311,574,335,476,344,337,393,326,329,373,263,322]
["88422","Bad Buchau","-16 °C","Stuttgart",null,null,null,null,null,null,null,null,14,295,488,425,327,277,584,337,453,326,327,407,307,293,375,290,295]
["65520","Bad Camberg","-14 °C","Nürburg-Barweiler",null,null,null,null,null,null,null,null,15,274,411,448,328,295,566,304,403,310,347,382,322,277,399,342,338]
["70372","Bad Cannstatt","-12 °C","Stuttgart",null,null,null,null,null,null,null,null,16,267,386,381,287,269,651,262,326,349,350,415,335,277,414,315,342]
["73342","Bad Ditzenbach","-18 °C","Stuttgart",null,null,null,null,null,null,null,null,17,299,417,339,310,261,616,237,354,341,322,435,329,235,385,307,348]
["18209","Bad Doberan","-10 °C","Rostock",null,null,null,null,null,null,null,null,18,263,373,320,305,268,603,218,379,371,295,420,300,226,361,309,366]
["33014","Bad Driburg","-14 °C","Fritzlar",null,null,null,null,null,null,null,null,19,272,377,292,312,254,549,187,311,352,249,360,292,228,297,268,355]
["04849","Bad Düben","-14 °C","Leipzig",null,null,null,null,null,null,null,null,20,240,334,211,266,246,436,173,305,363,234,368,241,184,328,242,290]
["67098","Bad Dürkheim","-12 °C","Saarbrücken",null,null,null,null,null,null,null,null,">20",1734,3458,722,1581,1841,2115,387,1159,2542,838,2970,1329,633,2454,856,1979]
["06231","Bad Dürrenberg","-14 °C","Leipzig"]
["78073","Bad Dürrheim","-18 °C","Stuttgart"]
["31703","Bad Eilsen","-14 °C","Hannover"]
["08645","Bad Elster","-18 °C","Meiningen"]
["56130","Bad Ems","-12 °C","Nürburg-Barweiler",null,null,null,null,null,null,null,null,"Marokko"]
["34308","Bad Emstal","-14 °C","Fritzlar",null,null,null,null,null,null,null,null,"Außentemp","Rabat","Casablanca","Agadir","Marrakech","Fes","Oujda","Bou Anfer","Ouarzazate"]
["35080","Bad Endbach","-14 °C","Fritzlar",null,null,null,null,null,null,null,null,"°C","h/a","h/a","h/a","h/a","h/a","h/a","h/a","h/a","h/a","h/a","h/a","h/a","h/a","h/a","h/a","h/a","h/a",null,"h/a","h/a","h/a","h/a","h/a","h/a","h/a","h/a","h/a","h/a","h/a","h/a","h/a","h/a","h/a","h/a","h/a","h/a","h/a","h/a","h/a","h/a"]
["83093","Bad Endorf","-16 °C","Hohenpeißenberg",null,null,null,null,null,null,null,null,"<-20",0,0,0,0,0,0,0,0]
["49152","Bad Essen","-12 °C","Hannover",null,null,null,null,null,null,null,null,-20,0,0,0,0,0,0,0,0]
["83075","Bad Feilnbach","-18 °C","Hohenpeißenberg",null,null,null,null,null,null,null,null,-19,0,0,0,0,0,0,0,0]
["74177","Bad Friedrichshall","-12 °C","Stuttgart",null,null,null,null,null,null,null,null,-18,0,0,0,0,0,0,0,0]
["37581","Bad Gandersheim","-16 °C","Fritzlar",null,null,null,null,null,null,null,null,-17,0,0,0,0,0,0,0,0]
["53...","Bad Godesberg","-10 °C","Nürburg-Barweiler",null,null,null,null,null,null,null,null,-16,0,0,0,0,0,0,0,0]
["94086","Bad Griesbach","-16 °C","Straubing",null,null,null,null,null,null,null,null,-15,0,0,0,0,0,0,0,0]
["87730","Bad Grönenbach","-16 °C","Augsburg",null,null,null,null,null,null,null,null,-14,0,0,0,0,0,0,0,0]
["38667","Bad Harzburg","-14 °C","Magdeburg",null,null,null,null,null,null,null,null,-13,0,0,0,0,0,0,0,0]
["83670","Bad Heilbrunn","-18 °C","Hohenpeißenberg",null,null,null,null,null,null,null,null,-12,0,0,0,0,0,0,0,0]
["76332","Bad Herrenalb","-14 °C","Karlsruhe",null,null,null,null,null,null,null,null,-11,0,0,0,0,0,0,0,0]
["36251","Bad Hersfeld","-14 °C","Fritzlar",null,null,null,null,null,null,null,null,-10,0,0,0,0,0,0,0,0]
["37412","Bad Herzberg","-16 °C","Fritzlar",null,null,null,null,null,null,null,null,-9,0,0,0,0,0,0,0,0]
["613..","Bad Homburg","-14 °C","Fritzlar",null,null,null,null,null,null,null,null,-8,0,0,0,0,0,0,0,0]
["53604","Bad Honnef","-12 °C","Nürburg-Barweiler",null,null,null,null,null,null,null,null,-7,0,0,0,0,0,0,0,0]
["53557","Bad Hönningen","-12 °C","Nürburg-Barweiler",null,null,null,null,null,null,null,null,-6,0,0,0,0,0,0,0,0]
["49186","Bad Iburg","-12 °C","Hannover",null,null,null,null,null,null,null,null,-5,0,0,0,0,0,0,0,0]
["34385","Bad Karlshafen","-12 °C","Fritzlar",null,null,null,null,null,null,null,null,-4,0,0,0,0,0,0,0,0]
["97688","Bad Kissingen","-14 °C","Würzburg",null,null,null,null,null,null,null,null,-3,0,0,0,0,0,0,0,0]
["23996","Bad Kleinen","-10 °C","Schwerin",null,null,null,null,null,null,null,null,-2,0,0,0,0,0,0,0,0]
["82433","Bad Kohlgrub","-16 °C","Kempten",null,null,null,null,null,null,null,null,-1,0,0,0,0,0,1,0,0]
["555..","Bad Kreuznach","-12 °C","Trier",null,null,null,null,null,null,null,null,0,0,0,0,0,0,7,0,0]
["79189","Bad Krozingen","-14 °C","Karlsruhe",null,null,null,null,null,null,null,null,1,0,0,0,0,2,15,0,12]
["57334","Bad Laasphe","-14 °C","Nürburg-Barweiler",null,null,null,null,null,null,null,null,2,0,0,0,0,30,39,0,26]
["49196","Bad Laer","-12 °C","Hannover",null,null,null,null,null,null,null,null,3,0,0,0,0,57,51,0,41]
["76669","Bad Langenbrück","-12 °C","Stuttgart",null,null,null,null,null,null,null,null,4,0,0,0,9,100,94,0,51]
["99947","Bad Langensalza","-14 °C","Erfurt",null,null,null,null,null,null,null,null,5,6,0,0,47,170,167,0,97]
["04651","Bad Lausick","-14 °C","Leipzig",null,null,null,null,null,null,null,null,6,30,0,17,87,222,212,14,155]
["37431","Bad Lauterberg","-16 °C","Fritzlar",null,null,null,null,null,null,null,null,7,50,15,51,142,279,277,31,186]
["04924","Bad Liebenwerda","-16 °C","Leipzig",null,null,null,null,null,null,null,null,8,95,62,89,175,336,289,72,222]
["75378","Bad Liebenzell","-14 °C","Stuttgart",null,null,null,null,null,null,null,null,9,255,100,145,218,356,331,126,253]
["33175","Bad Lippspringe","-12 °C","Fritzlar",null,null,null,null,null,null,null,null,10,307,202,214,292,385,381,173,275]
["07356","Bad Lobenstein","-18 °C","Meiningen",null,null,null,null,null,null,null,null,11,352,319,263,317,410,396,224,296]
["97980","Bad Mergentheim","-16 °C","Würzburg",null,null,null,null,null,null,null,null,12,428,438,315,347,421,391,294,302]
["31848","Bad Münder ","-14 °C","Hannover",null,null,null,null,null,null,null,null,13,499,526,425,371,403,422,325,308]
["53902","Bad Münstereifel","-14 °C","Nürburg-Barweiler",null,null,null,null,null,null,null,null,14,568,585,464,381,431,405,428,301]
["02953","Bad Muskau","-16 °C","Görlitz",null,null,null,null,null,null,null,null,15,580,609,530,416,456,441,472,306]
["61231","Bad Nauheim","-14 °C","Fritzlar",null,null,null,null,null,null,null,null,16,620,650,595,412,415,392,558,341]
["31542","Bad Nenndorf","-14 °C","Hannover",null,null,null,null,null,null,null,null,17,682,688,636,442,412,422,612,355]
["53474","Bad Neuenahr-Ahrweiler","-14 °C","Nürburg-Barweiler",null,null,null,null,null,null,null,null,18,685,693,628,441,418,403,614,327]
["72108","Bad Niedernau","-16 °C","Stuttgart",null,null,null,null,null,null,null,null,19,667,659,635,446,380,385,595,348]
["325..","Bad Oeynhausen","-12 °C","Fritzlar",null,null,null,null,null,null,null,null,20,562,705,583,435,372,393,600,354]
["23843","Bad Oldesloe","-12 °C","Schwerin",null,null,null,null,null,null,null,null,">20",2374,2509,3170,3782,2705,2846,3622,4204]
["77740","Bad Peterstal","-16 °C","Stuttgart"]
["31812","Bad Pyrmont","-14 °C","Hannover"]
["74906","Bad Rappenau","-12 °C","Stuttgart"]
["83435","Bad Reichenhall","-16 °C","Hohenpeißenberg"]
["76571","Bad Rotenfels","-14 °C","Karlsruhe",null,null,null,null,null,null,null,null,"Spanien"]
["37441","Bad Sachsa","-16 °C","Fritzlar",null,null,null,null,null,null,null,null,"Außentemp","A Coruna","Alicante","Barcelona","Bilbao","Cordoba","Gijon","Granada","Huelva","Madrid","Malaga","Palma de Mallorca","Santa Cruz de Tenerife","Santander","Sevilla","Valencia","Valladolid","Vigo","Zaragoza"]
["79713","Bad Säckingen","-12 °C","Stuttgart",null,null,null,null,null,null,null,null,"°C","h/a","h/a","h/a","h/a","h/a","h/a","h/a","h/a","h/a","h/a","h/a","h/a","h/a","h/a","h/a","h/a","h/a","h/a","h/a","h/a","h/a","h/a","h/a","h/a","h/a","h/a","h/a","h/a","h/a","h/a","h/a","h/a","h/a","h/a","h/a","h/a","h/a","h/a","h/a","h/a"]
["31162","Bad Salzdetfurth","-14 °C","Hannover",null,null,null,null,null,null,null,null,"<-20",0,0,0,0,0,0,0,0,0,0,0,0,0,0,0,0,0,0]
["36364","Bad Salzschlirf","-14 °C","Fritzlar",null,null,null,null,null,null,null,null,-20,0,0,0,0,0,0,0,0,0,0,0,0,0,0,0,0,0,0]
["3210.","Bad Salzuflen","-12 °C","Fritzlar",null,null,null,null,null,null,null,null,-19,0,0,0,0,0,0,0,0,0,0,0,0,0,0,0,0,0,0]
["36433","Bad Salzungen ","-16 °C","Fritzlar",null,null,null,null,null,null,null,null,-18,0,0,0,0,0,0,0,0,0,0,0,0,0,0,0,0,0,0]
["59505","Bad Sassendorf","-12 °C","Nürburg-Barweiler",null,null,null,null,null,null,null,null,-17,0,0,0,0,0,0,0,0,0,0,0,0,0,0,0,0,0,0]
["88348","Bad Saulgau","-14 °C","Stuttgart",null,null,null,null,null,null,null,null,-16,0,0,0,0,0,0,0,0,0,0,0,0,0,0,0,0,0,0]
["01814","Bad Schandau","-14 °C","Dresden",null,null,null,null,null,null,null,null,-15,0,0,0,0,0,0,0,0,0,0,0,0,0,0,0,0,0,0]
["06905","Bad Schmiedeberg","-14 °C","Leipzig",null,null,null,null,null,null,null,null,-14,0,0,0,0,0,0,0,0,0,0,0,0,0,0,0,0,0,0]
["76669","Bad Schönborn","-12 °C","Stuttgart",null,null,null,null,null,null,null,null,-13,0,0,0,0,0,0,0,0,0,0,0,0,0,0,0,0,0,0]
["88427","Bad Schussenried","-16 °C","Stuttgart",null,null,null,null,null,null,null,null,-12,0,0,0,0,0,0,0,0,0,0,0,0,0,0,0,0,0,0]
["65307","Bad Schwalbach","-14 °C","Nürburg-Barweiler",null,null,null,null,null,null,null,null,-11,0,0,0,0,0,0,0,0,0,0,0,0,0,0,0,0,0,0]
["23611","Bad Schwartau","-10 °C","Schwerin",null,null,null,null,null,null,null,null,-10,0,0,0,0,0,0,0,0,0,0,0,0,0,0,0,0,0,0]
["23795","Bad Segeberg","-10 °C","Schwerin",null,null,null,null,null,null,null,null,-9,0,0,0,0,0,0,0,0,0,0,0,0,0,0,0,0,0,0]
["55566","Bad Sobernheim","-12 °C","Trier",null,null,null,null,null,null,null,null,-8,0,0,0,0,0,0,0,0,0,0,0,0,0,0,0,0,0,0]
["65812","Bad Soden am Taunus","-14 °C","Nürburg-Barweiler",null,null,null,null,null,null,null,null,-7,0,0,0,0,0,0,0,0,0,0,0,0,0,0,0,0,0,0]
["63628","Bad Soden Salmünster","-14 °C","Würzburg",null,null,null,null,null,null,null,null,-6,0,0,0,0,0,0,0,0,0,0,0,0,0,0,0,0,0,0]
["06507","Bad Suderode","-14 °C","Leipzig",null,null,null,null,null,null,null,null,-5,0,0,0,0,0,0,9,0,0,0,0,0,0,0,0,0,0,0]
["75385","Bad Teinach","-16 °C","Stuttgart",null,null,null,null,null,null,null,null,-4,0,0,0,0,0,0,16,0,0,0,0,0,0,0,0,33,0,1]
["99955","Bad Tennstedt","-14 °C","Erfurt",null,null,null,null,null,null,null,null,-3,0,0,0,0,0,0,20,0,0,0,0,0,0,0,0,33,0,20]
["83646","Bad Tölz","-18 °C","Hohenpeißenberg",null,null,null,null,null,null,null,null,-2,0,0,0,0,0,0,39,0,23,0,0,0,0,0,0,53,0,23]
["72574","Bad Urach","-16 °C","Stuttgart",null,null,null,null,null,null,null,null,-1,0,0,0,7,0,0,83,0,18,0,0,0,0,0,0,100,0,38]
["61118","Bad Vilbel","-12 °C","Fritzlar",null,null,null,null,null,null,null,null,0,0,0,0,18,0,0,118,0,37,0,0,0,0,0,0,114,0,40]
["88339","Bad Waldsee","-16 °C","Stuttgart",null,null,null,null,null,null,null,null,1,0,0,16,32,0,0,178,0,96,0,0,0,12,0,10,247,0,71]
["59597","Bad Westernkotten","-12 °C","Nürburg-Barweiler",null,null,null,null,null,null,null,null,2,0,0,32,51,19,8,208,0,114,0,0,0,21,0,22,269,0,139]
["83707","Bad Wiessee","-18 °C","Hohenpeißenberg",null,null,null,null,null,null,null,null,3,0,5,33,80,30,20,239,2,203,0,0,0,45,1,26,315,19,195]
["75323","Bad Wildbad","-16 °C","Stuttgart",null,null,null,null,null,null,null,null,4,0,21,65,132,32,27,313,20,296,2,7,0,77,21,70,350,40,203]
["19336","Bad Wilsnack","-14 °C","Schwerin",null,null,null,null,null,null,null,null,5,13,43,135,169,67,67,321,64,292,16,27,0,123,46,107,340,68,244]
["74206","Bad Wimpfen","-12 °C","Stuttgart",null,null,null,null,null,null,null,null,6,27,79,219,243,129,114,341,87,351,56,36,0,164,85,160,364,129,319]
["91438","Bad Windsheim","-16 °C","Nürnberg",null,null,null,null,null,null,null,null,7,101,128,236,311,223,217,321,112,380,93,89,0,331,125,253,457,271,395]
["86825","Bad Wörishofen","-16 °C","Kempten",null,null,null,null,null,null,null,null,8,166,190,293,298,269,371,329,210,370,173,141,0,354,194,258,468,349,402]
["33181","Bad Wünnenberg","-14 °C","Fritzlar",null,null,null,null,null,null,null,null,9,306,279,444,349,284,469,368,329,394,268,163,0,477,276,293,399,402,403]
["88410","Bad Wurzach","-16 °C","Stuttgart",null,null,null,null,null,null,null,null,10,547,332,467,391,312,487,331,332,380,350,304,0,438,302,371,388,502,406]
["26160","Bad Zwischenahn","-12 °C","Emden",null,null,null,null,null,null,null,null,11,641,412,471,446,377,534,365,338,368,408,363,0,481,332,365,380,557,358]
["49635","Badbergen","-12 °C","Hannover",null,null,null,null,null,null,null,null,12,686,408,480,474,386,634,357,393,370,435,439,0,555,361,419,389,596,340]
["38271","Baddeckenstedt","-14 °C","Magdeburg",null,null,null,null,null,null,null,null,13,737,410,393,560,342,666,388,419,342,488,468,20,576,364,378,348,628,372]
["06493","Badeborn","-14 °C","Leipzig",null,null,null,null,null,null,null,null,14,815,423,392,563,362,695,382,435,297,489,518,70,589,317,356,362,659,390]
["79227","Baden","-14 °C","Karlsruhe",null,null,null,null,null,null,null,null,15,803,435,463,553,394,698,341,479,327,478,523,238,589,430,395,335,611,374]
["765..","Baden-Baden","-12 °C","Karlsruhe",null,null,null,null,null,null,null,null,16,775,428,441,555,332,735,354,447,305,491,521,405,619,392,369,344,639,374]
["79410","Badenweiler","-14 °C","Karlsruhe",null,null,null,null,null,null,null,null,17,732,437,430,464,347,635,312,461,299,493,499,675,559,408,416,336,578,341]
["04720","Baderitz","-14 °C","Leipzig",null,null,null,null,null,null,null,null,18,668,453,442,409,359,605,329,485,308,521,600,805,544,420,410,303,558,321]
["04769","Baderitz","-14 °C","Leipzig",null,null,null,null,null,null,null,null,19,616,410,420,366,360,579,295,450,297,518,589,932,575,444,419,267,454,297]
["52499","Baesweiler","-12 °C","Aachen",null,null,null,null,null,null,null,null,20,435,429,368,385,366,441,278,421,282,472,528,973,457,421,389,238,378,327]
["03130","Bagenz","-16 °C","Lindenberg",null,null,null,null,null,null,null,null,">20",692,3438,2520,1904,3770,758,2125,3276,2611,3009,2945,4642,1174,3821,3274,1528,1322,2367]
["79353","Bahlingen","-12 °C","Karlsruhe"]
["04895","Bahnsdorf","-16 °C","Leipzig"]
["27245","Bahrenborstel","-12 °C","Bremen"]
["88255","Baienfurt","-14 °C","Stuttgart"]
["72270","Baiersbronn","-16 °C","Stuttgart",null,null,null,null,null,null,null,null,"Russland"]
["91083","Baiersdorf","-16 °C","Nürnberg",null,null,null,null,null,null,null,null,"Außentemp","Kaliningrad","Kazan","Krasnodar","Kursk","Moscow","Murmansk","Nizhniy Novgorod","Perm","Rostov-on-Don","Saint-Petersburg","Smolensk","Sochi","Tyumen","Vladivostok","Volgograd","Voronezh","Yakutsk"]
["88255","Baindt - Schachen","-14 °C","Stuttgart",null,null,null,null,null,null,null,null,"°C","h/a","h/a","h/a","h/a","h/a","h/a","h/a","h/a","h/a","h/a","h/a","h/a","h/a","h/a","h/a","h/a","h/a","h/a","h/a","h/a","h/a","h/a","h/a","h/a","h/a","h/a","h/a","h/a","h/a","h/a","h/a","h/a","h/a","h/a","h/a","h/a","h/a","h/a","h/a","h/a"]
["72108","Baisingen","-16 °C","Stuttgart",null,null,null,null,null,null,null,null,"<-20",0,182,0,22,32,407,113,390,0,79,46,0,459,48,27,57,3110]
["87650","Baisweil","-16 °C","Kempten",null,null,null,null,null,null,null,null,-20,0,35,0,36,26,55,19,97,0,15,21,0,101,27,12,30,74]
["14806","Baitz","-14 °C","Potsdam",null,null,null,null,null,null,null,null,-19,4,68,0,24,30,81,50,83,0,20,25,0,105,38,19,28,77]
["73441","Baldern","-16 °C","Stuttgart",null,null,null,null,null,null,null,null,-18,9,75,0,20,18,102,44,90,0,24,24,0,119,79,30,22,75]
["85598","Baldham","-16 °C","München",null,null,null,null,null,null,null,null,-17,3,98,0,20,32,52,62,83,0,19,27,0,139,91,23,13,95]
["76532","Balg","-14 °C","Karlsruhe",null,null,null,null,null,null,null,null,-16,9,81,0,23,35,97,84,99,5,41,20,0,114,115,41,17,86]
["31609","Balge","-12 °C","Hannover",null,null,null,null,null,null,null,null,-15,18,97,1,44,55,89,92,87,16,54,38,0,102,142,38,60,90]
["86753","Balgheim","-16 °C","Augsburg",null,null,null,null,null,null,null,null,-14,25,139,4,66,69,118,114,104,35,54,51,0,137,172,66,41,92]
["78582","Balgheim","-18 °C","Stuttgart",null,null,null,null,null,null,null,null,-13,26,109,12,55,93,124,93,106,28,92,92,0,146,172,50,92,77]
["34308","Balhorn","-14 °C","Fritzlar",null,null,null,null,null,null,null,null,-12,17,116,23,112,109,157,102,108,41,111,84,0,166,150,77,105,77]
["72336","Balingen","-18 °C","Stuttgart",null,null,null,null,null,null,null,null,-11,23,104,16,122,122,146,116,145,39,121,128,0,159,165,94,117,98]
["89177","Ballendorf","-16 °C","Augsburg",null,null,null,null,null,null,null,null,-10,11,123,17,114,136,172,131,163,56,104,126,0,172,150,152,98,72]
["06493","Ballenstedt","-14 °C","Leipzig",null,null,null,null,null,null,null,null,-9,16,126,42,137,138,164,160,164,62,132,122,0,150,161,128,141,94]
["89561","Ballmertshofen","-16 °C","Augsburg",null,null,null,null,null,null,null,null,-8,46,165,22,124,141,217,141,179,106,121,179,0,154,168,116,131,81]
["79282","Ballrechten-Dottingen","-14 °C","Karlsruhe",null,null,null,null,null,null,null,null,-7,49,238,35,154,152,226,181,209,133,174,131,0,207,162,138,138,70]
["99869","Ballstädt","-14 °C","Erfurt",null,null,null,null,null,null,null,null,-6,76,190,56,184,190,262,173,205,125,182,131,0,184,166,192,147,91]
["73666","Baltmannsweiler","-14 °C","Stuttgart",null,null,null,null,null,null,null,null,-5,136,238,108,216,205,261,213,199,133,240,218,0,187,184,188,169,79]
["88487","Baltringen","-16 °C","Stuttgart",null,null,null,null,null,null,null,null,-4,173,241,123,215,226,292,232,251,114,219,261,0,233,166,192,226,99]
["960..","Bamberg","-16 °C","Bamberg",null,null,null,null,null,null,null,null,-3,229,278,160,270,239,289,252,233,218,307,283,6,244,160,233,255,123]
["79415","Bamlach","-12 °C","Karlsruhe",null,null,null,null,null,null,null,null,-2,222,254,173,284,261,285,248,274,202,285,347,22,201,179,232,280,117]
["69245","Bammental","-12 °C","Würzburg",null,null,null,null,null,null,null,null,-1,277,272,183,290,296,344,311,309,262,322,337,28,205,182,244,286,119]
["17506","Bandelin","-12 °C","Greifswald",null,null,null,null,null,null,null,null,0,299,248,198,289,289,281,227,217,278,284,287,43,182,180,254,240,121]
["17449","Bannemin","-12 °C","Greifswald",null,null,null,null,null,null,null,null,1,341,257,289,273,345,312,318,232,311,319,260,106,214,216,283,274,133]
["01728","Bannewitz","-14 °C","Dresden",null,null,null,null,null,null,null,null,2,389,290,300,271,335,344,274,232,282,267,310,123,223,207,299,284,124]
["17429","Bansin","-12 °C","Greifswald",null,null,null,null,null,null,null,null,3,382,209,290,267,288,349,268,206,306,261,263,174,193,166,264,321,130]
["31029","Banteln","-14 °C","Hannover",null,null,null,null,null,null,null,null,4,351,191,299,253,246,340,253,186,247,281,294,239,184,202,227,287,148]
["16868","Bantikow","-14 °C","Neuruppin",null,null,null,null,null,null,null,null,5,364,185,325,260,221,342,236,182,251,289,233,337,185,214,208,204,153]
["19246","Bantin","-12 °C","Schwerin",null,null,null,null,null,null,null,null,6,383,171,332,230,203,316,243,172,268,309,230,321,205,226,178,205,162]
["30890","Bantorf","-14 °C","Hannover",null,null,null,null,null,null,null,null,7,353,183,271,242,237,262,218,188,253,256,274,361,190,244,180,190,179]
["19079","Banzkow","-12 °C","Schwerin",null,null,null,null,null,null,null,null,8,341,193,259,191,236,273,208,217,238,260,254,398,204,229,221,198,164]
["93092","Barbing","-16 °C","Straubing",null,null,null,null,null,null,null,null,9,309,192,248,189,260,259,193,265,193,241,255,366,227,218,214,203,141]
["39249","Barby","-14 °C","Magdeburg",null,null,null,null,null,null,null,null,10,283,228,272,238,259,274,228,244,190,268,258,365,209,226,204,208,154]
["27809","Bardewisch","-12 °C","Bremen",null,null,null,null,null,null,null,null,11,306,247,253,238,241,248,205,228,194,247,275,447,217,220,173,254,164]
["21357","Bardowick","-12 °C","Hamburg",null,null,null,null,null,null,null,null,12,317,234,254,241,229,205,222,218,218,254,239,414,213,234,214,276,129]
["27245","Barenburg","-12 °C","Bremen",null,null,null,null,null,null,null,null,13,330,224,237,272,266,211,243,241,252,275,269,415,229,259,191,268,162]
["01768","Bärenstein/Erzgebirge","-16 °C","Dresden",null,null,null,null,null,null,null,null,14,335,258,279,242,270,152,267,236,258,284,262,341,273,282,245,287,137]
["08147","Bärenwalde","-16 °C","Erfurt",null,null,null,null,null,null,null,null,15,338,234,276,291,268,163,258,212,263,266,315,361,248,284,235,250,134]
["73529","Bargau","-16 °C","Stuttgart",null,null,null,null,null,null,null,null,16,310,235,279,235,271,104,281,239,268,262,322,374,237,282,215,269,179]
["74921","Bargen","-12 °C","Stuttgart",null,null,null,null,null,null,null,null,17,341,234,277,291,249,86,268,204,269,243,280,389,219,260,213,254,171]
["18211","Bargeshagen","-10 °C","Rostock",null,null,null,null,null,null,null,null,18,316,235,300,271,244,70,215,217,267,248,243,369,187,244,236,255,169]
["22941","Bargteheide","-12 °C","Hamburg",null,null,null,null,null,null,null,null,19,230,216,302,222,259,63,181,194,258,189,205,366,184,244,236,236,154]
["39179","Barleben","-14 °C","Magdeburg",null,null,null,null,null,null,null,null,20,185,201,304,250,197,45,196,126,281,161,166,355,167,279,246,222,161]
["46399","Barlo","-10 °C","Düsseldorf",null,null,null,null,null,null,null,null,">20",588,866,1941,972,742,121,827,726,1840,580,575,2040,686,967,1732,1122,695]
["23968","Barnekow","-10 °C","Schwerin"]
["19089","Barnin","-12 °C","Schwerin"]
["06268","Barnstädt","-14 °C","Leipzig"]
["49406","Barnstorf","-12 °C","Hannover"]
["38446","Barnstorf","-14 °C","Magdeburg",null,null,null,null,null,null,null,null,"Bosnien-Herzegowina"]
["31171","Barnten","-14 °C","Hannover",null,null,null,null,null,null,null,null,"Außentemp","Banja Luka","Doboj","Grude","Livno","Mostar","Prijedor","Sarajevo","Slavonski Brod","Tuzla","Zenica"]
["32683","Barntrup","-14 °C","Fritzlar",null,null,null,null,null,null,null,null,"°C","h/a","h/a","h/a","h/a","h/a","h/a","h/a","h/a","h/a","h/a","h/a","h/a","h/a","h/a","h/a","h/a","h/a","h/a","h/a","h/a","h/a","h/a","h/a","h/a","h/a","h/a","h/a","h/a","h/a","h/a","h/a","h/a","h/a","h/a","h/a","h/a","h/a","h/a","h/a"]
["41515","Barrenstein","-10 °C","Düsseldorf",null,null,null,null,null,null,null,null,"<-20",0,0,0,0,0,0,0,0,0,0,0,0,0,0,0,0]
["30890","Barrigsen","-14 °C","Hannover",null,null,null,null,null,null,null,null,-20,0,0,0,0,0,0,0,0,0,0,0,0,0,0,0,0]
["30890","Barsinghausen","-14 °C","Hannover",null,null,null,null,null,null,null,null,-19,0,0,0,0,0,0,0,0,0,0,0,0,0,0,0,0]
["21354","Barskamp","-12 °C","Hamburg",null,null,null,null,null,null,null,null,-18,0,0,0,0,0,0,0,0,0,0,0,0,0,0,0,0]
["71560","Bartenbach","-14 °C","Stuttgart",null,null,null,null,null,null,null,null,-17,0,0,0,0,0,0,0,0,0,0,0,0,0,0,0,0]
["73035","Bartenbach","-16 °C","Stuttgart",null,null,null,null,null,null,null,null,-16,0,0,0,0,0,0,2,0,0,0,0,0,0,0,0,0]
["18356","Barth","-10 °C","Rostock",null,null,null,null,null,null,null,null,-15,0,0,0,0,0,0,7,7,0,4,0,0,0,0,0,0]
["73566","Bartholomä","-16 °C","Stuttgart",null,null,null,null,null,null,null,null,-14,2,0,0,0,0,1,9,5,0,8,0,0,0,0,0,0]
["18516","Bartmannshagen","-12 °C","Rostock",null,null,null,null,null,null,null,null,-13,4,0,0,0,0,11,21,3,1,3,0,0,0,0,0,0]
["54578","Basberg","-14 °C","Trier",null,null,null,null,null,null,null,null,-12,8,13,0,0,1,8,24,5,5,4,0,0,0,0,0,0]
["56220","Bassenheim","-14 °C","Nürburg-Barweiler",null,null,null,null,null,null,null,null,-11,6,3,0,7,6,10,28,4,7,7,0,0,0,0,0,0]
["27211","Bassum","-12 °C","Bremen",null,null,null,null,null,null,null,null,-10,6,15,0,22,7,22,21,15,20,8,0,0,0,0,0,0]
["97654","Bastheim","-16 °C","Würzburg",null,null,null,null,null,null,null,null,-9,25,17,0,17,7,18,41,25,31,27,0,0,0,0,0,0]
["35088","Battenberg","-14 °C","Fritzlar",null,null,null,null,null,null,null,null,-8,36,35,0,39,17,32,67,20,26,30,0,0,0,0,0,0]
["86368","Batzenhofen","-16 °C","Augsburg",null,null,null,null,null,null,null,null,-7,43,55,0,63,28,44,79,51,60,38,0,0,0,0,0,0]
["01561","Bauda","-16 °C","Dresden",null,null,null,null,null,null,null,null,-6,46,64,0,107,30,51,154,72,54,69,0,0,0,0,0,0]
["75015","Bauerbach ( Bretten )","-12 °C","Stuttgart",null,null,null,null,null,null,null,null,-5,59,76,0,144,26,85,144,96,72,90,0,0,0,0,0,0]
["86663","Bäumenheim","-16 °C","Augsburg",null,null,null,null,null,null,null,null,-4,95,99,6,153,51,103,207,117,128,93,0,0,0,0,0,0]
["75245","Bauschlott","-14 °C","Stuttgart",null,null,null,null,null,null,null,null,-3,122,134,12,235,70,168,255,154,114,166,0,0,0,0,0,0]
["58730","Bausenhagen","-12 °C","Nürburg-Barweiler",null,null,null,null,null,null,null,null,-2,194,175,23,316,114,216,262,216,183,205,0,0,0,0,0,0]
["54636","Baustert","-14 °C","Trier",null,null,null,null,null,null,null,null,-1,224,226,43,280,152,206,221,215,209,239,0,0,0,0,0,0]
["88471","Baustetten","-16 °C","Stuttgart",null,null,null,null,null,null,null,null,0,213,217,42,235,182,182,286,240,259,210,0,0,0,0,0,0]
["02625","Bautzen","-16 °C","Görlitz",null,null,null,null,null,null,null,null,1,251,272,83,290,214,240,245,227,293,243,0,0,0,0,0,0]
["84092","Bayerbach","-18 °C","Straubing",null,null,null,null,null,null,null,null,2,275,286,148,325,254,261,260,263,282,249,0,0,0,0,0,0]
["86641","Bayerdilling","-16 °C","Augsburg",null,null,null,null,null,null,null,null,3,315,299,188,375,251,228,256,313,281,270,0,0,0,0,0,0]
["954..","Bayreuth","-16 °C","Hof",null,null,null,null,null,null,null,null,4,364,280,238,321,233,209,347,288,296,350,0,0,0,0,0,0]
["99976","Beberstedt","-16 °C","Erfurt",null,null,null,null,null,null,null,null,5,383,306,258,274,280,312,326,278,326,333,0,0,0,0,0,0]
["39343","Bebertal","-14 °C","Magdeburg",null,null,null,null,null,null,null,null,6,329,284,325,308,309,312,310,298,332,325,0,0,0,0,0,0]
["36179","Bebra-Solz","-14 °C","Fritzlar",null,null,null,null,null,null,null,null,7,303,298,363,299,369,317,313,248,312,276,0,0,0,0,0,0]
["51515","Bechen","-12 °C","Nürburg-Barweiler",null,null,null,null,null,null,null,null,8,286,286,361,301,326,285,346,241,281,265,0,0,0,0,0,0]
["55608","Becherbach","-12 °C","Trier",null,null,null,null,null,null,null,null,9,286,267,395,335,355,312,352,280,276,259,0,0,0,0,0,0]
["91572","Bechhofen","-16 °C","Nürnberg",null,null,null,null,null,null,null,null,10,297,241,379,347,315,294,325,301,286,280,0,0,0,0,0,0]
["88499","Bechingen","-14 °C","Stuttgart",null,null,null,null,null,null,null,null,11,284,255,377,350,315,292,332,261,316,270,0,0,0,0,0,0]
["88453","Bechtenrot","-16 °C","Stuttgart",null,null,null,null,null,null,null,null,12,298,317,335,349,323,298,294,284,280,258,0,0,0,0,0,0]
["72379","Bechtholdsweiler","-16 °C","Stuttgart",null,null,null,null,null,null,null,null,13,315,321,356,360,306,323,322,286,350,306,0,0,0,0,0,0]
["72379","Bechtoldsweiler","-16 °C","Stuttgart",null,null,null,null,null,null,null,null,14,288,323,330,328,332,301,328,315,359,287,0,0,0,0,0,0]
["38527","Bechtsbüttel","-14 °C","Magdeburg",null,null,null,null,null,null,null,null,15,330,335,368,366,325,295,317,313,338,289,0,0,0,0,0,0]
["21643","Beckdorf","-12 °C","Hamburg",null,null,null,null,null,null,null,null,16,339,370,352,310,377,316,283,306,364,301,0,0,0,0,0,0]
["23968","Beckerwitz","-10 °C","Schwerin",null,null,null,null,null,null,null,null,17,333,338,323,315,345,325,288,330,349,316,0,0,0,0,0,0]
["66701","Beckingen","-12 °C","Saarbrücken",null,null,null,null,null,null,null,null,18,330,292,333,292,349,321,255,340,326,296,0,0,0,0,0,0]
["59269","Beckum / Westf.","-12 °C","Nürburg-Barweiler",null,null,null,null,null,null,null,null,19,301,330,377,300,332,318,231,298,309,323,0,0,0,0,0,0]
["04889","Beckwitz","-16 °C","Leipzig",null,null,null,null,null,null,null,null,20,295,303,346,257,310,264,203,268,280,289,0,0,0,0,0,0]
["50181","Bedburg","-12 °C","Düsseldorf",null,null,null,null,null,null,null,null,">20",1475,1628,2399,740,1849,1780,999,1777,1355,1774,0,0,0,0,0,0]
["47551","Bedburg-Hau","-10 °C","Düsseldorf"]
["09306","Beedeln","-14 °C","Erfurt"]
["48361","Beelen","-12 °C","Hannover"]
["36251","Beenhausen","-14 °C","Fritzlar"]
["17291","Beenz","-14 °C","Greifswald",null,null,null,null,null,null,null,null,"Slovakei"]
["64743","Beerfelden / Odenw.","-14 °C","Würzburg",null,null,null,null,null,null,null,null,"Außentemp","Banská Bystrica","Bardejov","Bratislava","Komárno","Košice","Lučenec ","Námestovo","Nitra","Poprad","Žilina"]
["06198","Beesendorf","-14 °C","Leipzig",null,null,null,null,null,null,null,null,"°C","h/a","h/a","h/a","h/a","h/a","h/a","h/a","h/a","h/a","h/a","h/a","h/a","h/a","h/a","h/a","h/a","h/a","h/a","h/a","h/a","h/a","h/a","h/a","h/a","h/a","h/a","h/a","h/a","h/a","h/a","h/a","h/a","h/a","h/a","h/a","h/a","h/a","h/a","h/a"]
["49832","Beesten","-12 °C","Hannover",null,null,null,null,null,null,null,null,"<-20",0,0,0,0,0,0,0,0,0,0]
["52499","Beggendorf","-12 °C","Aachen",null,null,null,null,null,null,null,null,-20,1,0,0,0,0,0,0,0,5,0]
["39356","Behnsdorf","-14 °C","Magdeburg",null,null,null,null,null,null,null,null,-19,12,0,0,0,0,1,9,0,8,0]
["17498","Behrenhoff","-12 °C","Greifswald",null,null,null,null,null,null,null,null,-18,2,0,0,0,0,9,15,0,6,0]
["37130","Beienrode","-16 °C","Fritzlar",null,null,null,null,null,null,null,null,-17,6,1,0,0,0,3,16,0,7,0]
["96450","Beiersdorf","-16 °C","Bamberg",null,null,null,null,null,null,null,null,-16,7,13,0,0,0,10,18,0,18,6]
["01561","Beiersdorf","-16 °C","Dresden",null,null,null,null,null,null,null,null,-15,24,6,0,0,0,17,36,1,30,13]
["04924","Beiersdorf","-16 °C","Leipzig",null,null,null,null,null,null,null,null,-14,19,17,0,0,0,17,36,12,42,11]
["72221","Beihingen","-16 °C","Stuttgart",null,null,null,null,null,null,null,null,-13,16,17,7,5,7,18,27,6,47,30]
["92339","Beilngries","-16 °C","Nürnberg",null,null,null,null,null,null,null,null,-12,37,15,13,19,35,15,75,13,54,21]
["04886","Beilrode","-16 °C","Leipzig",null,null,null,null,null,null,null,null,-11,48,38,12,15,40,31,50,30,65,29]
["35753","Beilstein","-14 °C","Fritzlar",null,null,null,null,null,null,null,null,-10,64,43,22,34,27,62,58,21,91,37]
["71717","Beilstein","-14 °C","Stuttgart",null,null,null,null,null,null,null,null,-9,74,64,16,36,49,46,98,25,148,66]
["89179","Beimerstetten","-16 °C","Augsburg",null,null,null,null,null,null,null,null,-8,87,76,17,32,56,60,134,38,146,90]
["75378","Beinberg","-16 °C","Stuttgart",null,null,null,null,null,null,null,null,-7,92,99,35,40,75,119,162,80,174,130]
["89143","Beiningen","-16 °C","Augsburg",null,null,null,null,null,null,null,null,-6,172,132,103,60,143,119,190,87,182,139]
["71334","Beinstein","-14 °C","Stuttgart",null,null,null,null,null,null,null,null,-5,130,157,108,83,176,195,204,113,188,168]
["54340","Bekond","-12 °C","Trier",null,null,null,null,null,null,null,null,-4,209,205,157,140,239,224,253,137,223,218]
["53539","Belcherath","-14 °C","Nürburg-Barweiler",null,null,null,null,null,null,null,null,-3,214,216,164,207,259,190,240,231,225,209]
["04874","Belgern","-16 °C","Leipzig",null,null,null,null,null,null,null,null,-2,257,251,248,262,284,194,250,220,234,251]
["88416","Bellamont","-16 °C","Stuttgart",null,null,null,null,null,null,null,null,-1,249,303,215,221,266,217,254,269,271,289]
["89287","Bellenberg","-16 °C","Augsburg",null,null,null,null,null,null,null,null,0,258,307,229,227,228,230,271,268,253,243]
["33034","Beller","-14 °C","Fritzlar",null,null,null,null,null,null,null,null,1,344,330,267,280,301,286,415,287,309,371]
["33034","Bellersen","-14 °C","Fritzlar",null,null,null,null,null,null,null,null,2,309,327,304,319,307,317,326,291,336,338]
["72379","Belsen","-16 °C","Stuttgart",null,null,null,null,null,null,null,null,3,304,301,331,287,298,298,270,342,319,304]
["56290","Beltheim","-14 °C","Nürburg-Barweiler",null,null,null,null,null,null,null,null,4,278,255,322,299,258,282,320,264,293,274]
["14806","Belzig","-14 °C","Potsdam",null,null,null,null,null,null,null,null,5,270,281,292,261,252,265,325,246,281,259]
["72658","Bempflingen","-16 °C","Stuttgart",null,null,null,null,null,null,null,null,6,275,275,248,265,262,284,307,264,337,316]
["83671","Benediktbeuren","-18 °C","Hohenpeißenberg",null,null,null,null,null,null,null,null,7,277,255,264,277,249,272,334,290,306,270]
["18258","Benitz","-12 °C","Rostock",null,null,null,null,null,null,null,null,8,289,293,277,294,251,300,319,296,308,325]
["06308","Benndorf","-14 °C","Leipzig",null,null,null,null,null,null,null,null,9,299,276,302,268,270,291,292,270,364,297]
["04828","Bennewitz","-14 °C","Leipzig",null,null,null,null,null,null,null,null,10,283,307,311,290,273,272,337,294,308,285]
["71726","Benningen","-12 °C","Stuttgart",null,null,null,null,null,null,null,null,11,314,337,297,301,298,312,364,312,346,345]
["51429","Bensberg","-12 °C","Nürburg-Barweiler",null,null,null,null,null,null,null,null,12,290,372,312,314,327,262,330,296,342,341]
["64625","Bensheim (Bensh.-Auerbach)","-10 °C","Würzburg",null,null,null,null,null,null,null,null,13,317,352,306,302,340,283,302,325,299,350]
["31020","Benstorf","-14 °C","Hannover",null,null,null,null,null,null,null,null,14,280,331,323,332,348,306,294,336,290,320]
["37547","Bentierode","-16 °C","Fritzlar",null,null,null,null,null,null,null,null,15,313,302,339,321,335,312,326,307,297,323]
["18182","Bentwisch","-10 °C","Rostock",null,null,null,null,null,null,null,null,16,306,282,333,293,300,289,283,317,273,315]
["79777","Berau","-14 °C","Stuttgart",null,null,null,null,null,null,null,null,17,261,303,328,304,312,267,267,295,243,260]
["92334","Berching","-16 °C","Nürnberg",null,null,null,null,null,null,null,null,18,255,228,335,281,281,306,212,305,225,239]
["83471","Berchtesgaden","-16 °C","Hohenpeißenberg",null,null,null,null,null,null,null,null,19,256,257,261,295,278,277,184,275,202,226]
["24881","Berend","-10 °C","Schleswig",null,null,null,null,null,null,null,null,20,225,237,286,279,259,274,150,246,154,205]
["52385","Berg","-14 °C","Aachen",null,null,null,null,null,null,null,null,">20",1037,899,1376,1517,1077,1228,407,1351,511,847]
["82386","Berg","-16 °C","Kempten"]
["53505","Berg","-14 °C","Nürburg-Barweiler"]
["92348","Berg","-16 °C","Nürnberg"]
["88276","Berg","-14 °C","Stuttgart"]
["82335","Berg - Bachhausen","-16 °C","Kempten",null,null,null,null,null,null,null,null,"Lettland"]
["83546","Berg bei Au","-16 °C","Hohenpeißenberg",null,null,null,null,null,null,null,null,"Außentemp","Ainaži","Alūksne","Daugavpils","Dobele","Liepāja","Mērsrags","Priekuļi","Rīga","Stende","Zīlāni"]
["56357","Berg/Taunus","-12 °C","Nürburg-Barweiler",null,null,null,null,null,null,null,null,"°C","h/a","h/a","h/a","h/a","h/a","h/a","h/a","h/a","h/a","h/a","h/a","h/a","h/a","h/a","h/a","h/a","h/a","h/a","h/a","h/a","h/a","h/a","h/a","h/a","h/a","h/a","h/a","h/a","h/a","h/a","h/a","h/a","h/a","h/a","h/a","h/a","h/a","h/a","h/a"]
["07980","Berga","-14 °C","Erfurt",null,null,null,null,null,null,null,null,"<-20",0,29,52,0,0,0,26,0,0,17]
["06536","Berga","-14 °C","Leipzig",null,null,null,null,null,null,null,null,-20,0,6,6,5,0,0,12,0,0,13]
["88368","Bergatreute","-16 °C","Stuttgart",null,null,null,null,null,null,null,null,-19,0,11,6,10,0,0,24,0,0,4]
["49626","Berge","-12 °C","Hannover",null,null,null,null,null,null,null,null,-18,4,26,28,9,1,0,14,0,0,5]
["02979","Bergen","-16 °C","Görlitz",null,null,null,null,null,null,null,null,-17,13,16,30,12,6,0,16,16,0,11]
["83346","Bergen","-18 °C","Hohenpeißenberg",null,null,null,null,null,null,null,null,-16,30,31,49,5,6,0,15,14,6,22]
["18528","Bergen / Rügen","-10 °C","Rostock",null,null,null,null,null,null,null,null,-15,12,13,28,21,6,4,27,31,7,23]
["60388","Bergen-Enkheim","-12 °C","Frankfurt am Main",null,null,null,null,null,null,null,null,-14,22,27,23,26,7,8,21,20,13,37]
["72172","Bergfelden","-16 °C","Stuttgart",null,null,null,null,null,null,null,null,-13,15,42,71,21,14,14,39,24,13,52]
["77791","Berghaupten","-12 °C","Karlsruhe",null,null,null,null,null,null,null,null,-12,21,58,105,26,32,11,52,25,37,45]
["5164.","Berghausen","-12 °C","Nürburg-Barweiler",null,null,null,null,null,null,null,null,-11,43,55,107,37,28,26,68,29,20,80]
["501..","Bergheim","-12 °C","Düsseldorf",null,null,null,null,null,null,null,null,-10,61,96,97,74,17,26,105,51,26,60]
["32839","Bergheim","-14 °C","Fritzlar",null,null,null,null,null,null,null,null,-9,65,107,103,76,12,35,101,80,52,80]
["97493","Bergheinfeld","-14 °C","Würzburg",null,null,null,null,null,null,null,null,-8,60,132,145,78,40,51,133,91,60,98]
["16306","Bergholz","-16 °C","Neuruppin",null,null,null,null,null,null,null,null,-7,130,153,156,121,41,71,132,108,98,140]
["14558","Bergholz - Rehbrücke","-14 °C","Potsdam",null,null,null,null,null,null,null,null,-6,171,161,237,195,87,111,163,138,126,131]
["89180","Berghülen","-16 °C","Augsburg",null,null,null,null,null,null,null,null,-5,147,169,192,155,119,130,164,158,207,201]
["514..","Bergisch-Gladbach","-12 °C","Nürburg-Barweiler",null,null,null,null,null,null,null,null,-4,184,232,220,182,158,183,224,244,226,217]
["51381","Bergisch-Neukirchen","-10 °C","Nürburg-Barweiler",null,null,null,null,null,null,null,null,-3,269,252,264,250,251,262,247,237,251,220]
["59192","Bergkamen","-12 °C","Nürburg-Barweiler",null,null,null,null,null,null,null,null,-2,314,250,351,279,248,265,317,247,250,306]
["85232","Bergkirchen","-16 °C","München",null,null,null,null,null,null,null,null,-1,348,313,339,275,275,286,300,277,363,334]
["73663","Berglen","-14 °C","Stuttgart",null,null,null,null,null,null,null,null,0,358,317,300,297,276,339,320,326,365,309]
["85459","Berglern","-16 °C","München",null,null,null,null,null,null,null,null,1,423,354,297,306,361,385,351,391,368,415]
["54426","Berglicht","-14 °C","Trier",null,null,null,null,null,null,null,null,2,344,405,292,414,399,399,343,421,391,375]
["97241","Bergtheim","-14 °C","Würzburg",null,null,null,null,null,null,null,null,3,341,319,257,357,433,418,332,346,366,325]
["39307","Bergzow","-14 °C","Magdeburg",null,null,null,null,null,null,null,null,4,388,357,285,316,426,402,337,330,380,276]
["39624","Berkau","-14 °C","Magdeburg",null,null,null,null,null,null,null,null,5,341,326,271,329,420,404,306,296,311,281]
["73734","Berkheim","-14 °C","Stuttgart",null,null,null,null,null,null,null,null,6,291,358,263,317,397,379,304,288,286,297]
["88450","Berkheim","-16 °C","Stuttgart",null,null,null,null,null,null,null,null,7,302,270,250,293,326,332,277,276,334,257]
["99439","Berlstedt","-14 °C","Erfurt",null,null,null,null,null,null,null,null,8,262,284,300,233,377,347,238,295,305,248]
["89134","Bermaringen","-16 °C","Augsburg",null,null,null,null,null,null,null,null,9,279,282,278,281,297,306,260,274,291,272]
["88697","Bermatingen","-14 °C","Stuttgart",null,null,null,null,null,null,null,null,10,335,274,282,310,294,321,303,282,312,303]
["77723","Bermersbach","-12 °C","Karlsruhe",null,null,null,null,null,null,null,null,11,314,285,300,312,348,323,305,309,333,332]
["79872","Bernau","-18 °C","Stuttgart",null,null,null,null,null,null,null,null,12,341,311,316,324,370,330,288,338,334,293]
["83233","Bernau a. Chiemsee","-16 °C","Hohenpeißenberg",null,null,null,null,null,null,null,null,13,311,261,292,323,351,318,293,289,296,298]
["16321","Bernau b. Berlin","-14 °C","Neuruppin",null,null,null,null,null,null,null,null,14,304,307,273,286,373,333,266,283,313,297]
["76332","Bernbach","-12 °C","Karlsruhe",null,null,null,null,null,null,null,null,15,318,298,282,294,328,329,267,261,304,255]
["06406","Bernburg / Saale","-14 °C","Leipzig",null,null,null,null,null,null,null,null,16,286,307,285,274,318,347,267,303,324,262]
["27804","Berne","-10 °C","Bremen",null,null,null,null,null,null,null,null,17,268,248,236,275,296,257,291,309,313,292]
["72213","Berneck","-16 °C","Stuttgart",null,null,null,null,null,null,null,null,18,228,226,221,215,246,253,249,257,253,273]
["73312","Berneck","-16 °C","Stuttgart",null,null,null,null,null,null,null,null,19,195,179,214,239,207,222,232,228,236,289]
["92361","Berngau","-16 °C","Nürnberg",null,null,null,null,null,null,null,null,20,197,153,177,217,183,205,198,209,197,181]
["54470","Bernkastel-Kues","-10 °C","Trier",null,null,null,null,null,null,null,null,">20",425,460,480,691,386,328,533,659,393,534]
["16515","Bernöwe","-14 °C","Neuruppin"]
["82347","Bernried","-16 °C","Kempten"]
["92444","Bernried","-18 °C","Nürnberg"]
["94505","Bernried","-18 °C","Straubing"]
["08315","Bernsbach","-16 °C","Meiningen",null,null,null,null,null,null,null,null,"Dänemark"]
["02994","Bernsdorf","-16 °C","Görlitz",null,null,null,null,null,null,null,null,"Außentemp","Aalborg","Aarhus","Esbjerg","Helsingør","Herning","Hjørring","Holbæk","København","Kolding","Nykøbing","Odense","Rønne","Slagelse","Sønderburg","Svendborg"]
["07952","Bernsgrün","-16 °C","Erfurt",null,null,null,null,null,null,null,null,"°C","h/a","h/a","h/a","h/a","h/a","h/a","h/a","h/a","h/a","h/a","h/a","h/a","h/a","h/a","h/a"]
["89182","Bernstadt","-16 °C","Augsburg",null,null,null,null,null,null,null,null,"<-20",0,0,0,0,0,0,0,0,0,0,0,0,0,0,0]
["02748","Bernstadt auf dem Eigen","-16 °C","Görlitz",null,null,null,null,null,null,null,null,-20,0,0,0,0,0,0,0,0,0,0,0,0,0,0,0]
["74744","Berolzheim","-16 °C","Stuttgart",null,null,null,null,null,null,null,null,-19,0,0,0,0,0,0,0,0,0,0,0,0,0,0,0]
["49593","Bersenbrück","-12 °C","Hannover",null,null,null,null,null,null,null,null,-18,0,0,0,0,0,0,0,0,0,0,0,0,0,0,0]
["61200","Berstadt","-12 °C","Fritzlar",null,null,null,null,null,null,null,null,-17,0,0,0,0,0,0,0,0,0,0,0,0,0,0,0]
["09600","Berthelsdorf","-16 °C","Erfurt",null,null,null,null,null,null,null,null,-16,0,0,0,0,0,0,0,0,0,0,0,0,0,0,0]
["02747","Berthelsdorf","-16 °C","Görlitz",null,null,null,null,null,null,null,null,-15,0,0,0,0,0,0,0,0,0,0,0,0,0,0,0]
["66802","Berus , Überherrn","-12 °C","Saarbrücken",null,null,null,null,null,null,null,null,-14,0,0,0,0,0,0,0,0,0,0,0,0,0,0,0]
["65614","Beselich","-14 °C","Nürburg-Barweiler",null,null,null,null,null,null,null,null,-13,0,0,0,0,0,0,0,0,0,0,0,0,0,0,0]
["74354","Besigheim","-12 °C","Stuttgart",null,null,null,null,null,null,null,null,-12,0,0,0,0,0,0,0,0,0,0,0,0,0,0,0]
["54309","Beßlich","-14 °C","Trier",null,null,null,null,null,null,null,null,-11,0,0,0,0,0,0,0,0,0,0,0,0,0,0,0]
["31032","Betheln","-14 °C","Hannover",null,null,null,null,null,null,null,null,-10,0,10,0,5,4,0,0,0,0,0,0,0,0,0,0]
["72160","Betra","-16 °C","Stuttgart",null,null,null,null,null,null,null,null,-9,8,13,1,23,12,3,5,7,1,0,2,0,1,0,0]
["56355","Bettendorf","-14 °C","Nürburg-Barweiler",null,null,null,null,null,null,null,null,-8,21,25,14,29,12,16,24,19,10,0,22,0,19,0,0]
["41470","Bettikum","-10 °C","Düsseldorf",null,null,null,null,null,null,null,null,-7,23,11,22,20,21,24,16,35,26,0,17,6,16,0,0]
["87764","Bettrichs","-16 °C","Augsburg",null,null,null,null,null,null,null,null,-6,22,27,22,37,55,25,33,47,24,1,22,10,18,1,0]
["57518","Betzdorf","-12 °C","Nürburg-Barweiler",null,null,null,null,null,null,null,null,-5,40,98,32,36,45,33,38,54,26,7,45,24,54,25,9]
["88422","Betzenweiler","-14 °C","Stuttgart",null,null,null,null,null,null,null,null,-4,101,107,22,66,51,53,81,80,47,26,53,49,62,32,26]
["72291","Betzweiler","-16 °C","Stuttgart",null,null,null,null,null,null,null,null,-3,107,133,70,98,89,98,106,176,112,40,109,74,74,43,63]
["04824","Beucha","-14 °C","Leipzig",null,null,null,null,null,null,null,null,-2,186,241,104,211,140,115,157,238,129,98,171,90,153,102,70]
["04519","Beuden","-14 °C","Leipzig",null,null,null,null,null,null,null,null,-1,245,317,175,262,216,230,224,316,195,121,267,156,203,126,113]
["82547","Beuerberg","-18 °C","Kempten",null,null,null,null,null,null,null,null,0,334,284,239,287,253,261,266,322,253,183,246,218,245,211,178]
["72226","Beuren","-16 °C","Stuttgart",null,null,null,null,null,null,null,null,1,343,355,268,343,305,303,328,393,309,318,327,345,373,238,275]
["72660","Beuren","-16 °C","Stuttgart",null,null,null,null,null,null,null,null,2,446,382,297,378,359,371,388,357,295,404,361,385,366,314,383]
["88316","Beuren","-16 °C","Stuttgart",null,null,null,null,null,null,null,null,3,408,381,368,421,375,388,394,372,431,418,402,428,381,356,327]
["94501","Beutelsbach","-16 °C","Straubing",null,null,null,null,null,null,null,null,4,420,445,438,424,358,427,383,417,420,508,397,453,330,410,413]
["71384","Beutelsbach","-14 °C","Stuttgart",null,null,null,null,null,null,null,null,5,397,459,449,437,373,409,354,462,381,477,420,507,385,436,500]
["04924","Beutersitz","-16 °C","Leipzig",null,null,null,null,null,null,null,null,6,473,442,430,504,396,463,406,432,390,485,408,455,420,404,491]
["09366","Beutha","-16 °C","Meiningen",null,null,null,null,null,null,null,null,7,478,421,420,496,500,484,434,416,424,453,409,456,419,465,489]
["37639","Bevern","-12 °C","Fritzlar",null,null,null,null,null,null,null,null,8,506,400,465,362,485,422,464,425,420,389,434,416,437,396,440]
["37688","Beverungen","-12 °C","Fritzlar",null,null,null,null,null,null,null,null,9,473,455,490,393,490,458,438,345,421,436,378,371,423,374,404]
["66450","Bexbach","-12 °C","Saarbrücken",null,null,null,null,null,null,null,null,10,452,370,422,405,440,406,384,376,420,383,429,351,450,383,358]
["06528","Beyernaumburg","-14 °C","Leipzig",null,null,null,null,null,null,null,null,11,377,393,410,389,448,390,377,402,434,360,445,319,433,332,307]
["83104","Beyharting","-16 °C","Hohenpeißenberg",null,null,null,null,null,null,null,null,12,412,394,423,438,409,405,406,393,444,348,376,327,357,433,378]
["77781","Biberach","-14 °C","Stuttgart",null,null,null,null,null,null,null,null,13,395,359,390,408,418,443,410,363,426,417,383,378,408,438,459]
["88400","Biberach/Riß","-16 °C","Stuttgart",null,null,null,null,null,null,null,null,14,379,345,387,400,356,404,379,379,395,416,333,360,377,467,492]
["86485","Biberbach","-16 °C","Augsburg",null,null,null,null,null,null,null,null,15,349,327,370,380,321,323,371,344,364,426,342,365,357,410,439]
["68647","Biblis","-12 °C","Karlsruhe",null,null,null,null,null,null,null,null,16,282,382,389,302,343,337,361,291,354,418,334,353,312,383,415]
["93354","Biburg","-18 °C","Straubing",null,null,null,null,null,null,null,null,17,260,268,353,268,272,307,325,280,329,373,302,345,310,340,381]
["83673","Bichl","-18 °C","Hohenpeißenberg",null,null,null,null,null,null,null,null,18,230,203,317,238,278,283,258,251,280,314,302,326,277,316,336]
["72348","Bickelsberg","-16 °C","Stuttgart",null,null,null,null,null,null,null,null,19,176,213,296,215,238,242,198,243,226,270,226,304,253,296,259]
["87651","Bidingen","-16 °C","Kempten",null,null,null,null,null,null,null,null,20,123,154,207,151,196,188,180,177,158,255,194,270,230,244,217]
["97243","Bieberehren","-16 °C","Würzburg",null,null,null,null,null,null,null,null,">20",294,346,470,334,502,449,572,348,616,416,604,619,617,785,538]
["56370","Biebrich","-14 °C","Nürburg-Barweiler"]
["56370","Biebrich","-14 °C","Nürburg-Barweiler"]
["35216","Biedenkopf","-12 °C","Fritzlar"]
["79215","Biederbach","-14 °C","Stuttgart"]
["39175","Biederitz","-14 °C","Magdeburg",null,null,null,null,null,null,null,null,"Namibia"]
["02923","Biehain","-16 °C","Görlitz",null,null,null,null,null,null,null,null,"Außentemp","Keetmanshoop","Otjiwarongo","Swakopmund","Walvis Bay","Windhoek"]
["01920","Biehla","-16 °C","Dresden",null,null,null,null,null,null,null,null,"°C","h/a","h/a","h/a","h/a","h/a","h/a","h/a","h/a","h/a","h/a","h/a","h/a","h/a","h/a","h/a"]
["01824","Bielatal","-16 °C","Dresden",null,null,null,null,null,null,null,null,"<-20",0,0,0,0,0]
["33...","Bielefeld","-12 °C","Fritzlar",null,null,null,null,null,null,null,null,-20,0,0,0,0,0]
["49808","Biene","-10 °C","Hannover",null,null,null,null,null,null,null,null,-19,0,0,0,0,0]
["79189","Biengen","-14 °C","Karlsruhe",null,null,null,null,null,null,null,null,-18,0,0,0,0,0]
["38110","Bienrode","-14 °C","Magdeburg",null,null,null,null,null,null,null,null,-17,0,0,0,0,0]
["99100","Bienstädt","-14 °C","Erfurt",null,null,null,null,null,null,null,null,-16,0,0,0,0,0]
["72108","Bieringen","-16 °C","Stuttgart",null,null,null,null,null,null,null,null,-15,0,0,0,0,0]
["74214","Bieringen","-14 °C","Stuttgart",null,null,null,null,null,null,null,null,-14,0,0,0,0,0]
["72181","Bierlingen","-16 °C","Stuttgart",null,null,null,null,null,null,null,null,-13,0,0,0,0,0]
["88348","Bierstetten","-16 °C","Stuttgart",null,null,null,null,null,null,null,null,-12,0,0,0,0,0]
["75328","Bieselsberg","-16 °C","Stuttgart",null,null,null,null,null,null,null,null,-11,0,0,0,0,0]
["16359","Biesenthal","-14 °C","Neuruppin",null,null,null,null,null,null,null,null,-10,0,0,0,0,0]
["87640","Biessenhofen","-16 °C","Kempten",null,null,null,null,null,null,null,null,-9,0,0,0,0,0]
["72414","Bietenhausen","-16 °C","Stuttgart",null,null,null,null,null,null,null,null,-8,0,0,0,0,0]
["76467","Bietigheim","-12 °C","Karlsruhe",null,null,null,null,null,null,null,null,-7,0,0,0,0,0]
["74321","Bietigheim - Bissingen","-12 °C","Stuttgart",null,null,null,null,null,null,null,null,-6,0,0,0,0,0]
["17291","Bietikow","-14 °C","Greifswald",null,null,null,null,null,null,null,null,-5,0,0,0,0,0]
["78224","Bietingen","-12 °C","Konstanz",null,null,null,null,null,null,null,null,-4,0,0,0,0,0]
["87544","Bihlerdorf","-18 °C","Kempten",null,null,null,null,null,null,null,null,-3,0,0,0,0,0]
["72160","Bildechingen","-16 °C","Stuttgart",null,null,null,null,null,null,null,null,-2,7,0,0,0,0]
["75236","Bilfingen","-14 °C","Stuttgart",null,null,null,null,null,null,null,null,-1,6,0,0,0,0]
["18184","Billenhagen","-12 °C","Rostock",null,null,null,null,null,null,null,null,0,4,0,0,0,0]
["48727","Billerbeck","-10 °C","Hannover",null,null,null,null,null,null,null,null,1,23,0,0,0,3]
["74842","Billigheim","-12 °C","Stuttgart",null,null,null,null,null,null,null,null,2,40,0,2,0,8]
["31319","Bilm","-14 °C","Hannover",null,null,null,null,null,null,null,null,3,60,4,8,3,15]
["37434","Bilshausen","-16 °C","Fritzlar",null,null,null,null,null,null,null,null,4,75,3,16,9,24]
["99092","Bindersleben","-14 °C","Erfurt",null,null,null,null,null,null,null,null,5,99,13,29,7,50]
["39590","Bindfelde","-14 °C","Magdeburg",null,null,null,null,null,null,null,null,6,121,27,33,30,59]
["95463","Bindlach","-16 °C","Hof",null,null,null,null,null,null,null,null,7,127,34,60,38,101]
["72511","Bingen","-14 °C","Stuttgart",null,null,null,null,null,null,null,null,8,151,54,67,69,107]
["55411","Bingen/Rhein","-12 °C","Trier",null,null,null,null,null,null,null,null,9,187,89,92,68,127]
["78247","Binningen","-12 °C","Konstanz",null,null,null,null,null,null,null,null,10,190,108,130,105,163]
["56754","Binningen","-14 °C","Nürburg-Barweiler",null,null,null,null,null,null,null,null,11,202,145,155,136,187]
["72351","Binsdorf","-16 °C","Stuttgart",null,null,null,null,null,null,null,null,12,221,165,162,173,227]
["86637","Binswangen","-16 °C","Augsburg",null,null,null,null,null,null,null,null,13,243,198,183,186,223]
["54587","Birgel","-14 °C","Trier",null,null,null,null,null,null,null,null,14,267,231,202,221,284]
["41849","Birgelen","-10 °C","Düsseldorf",null,null,null,null,null,null,null,null,15,269,282,246,262,336]
["92262","Birgland","-16 °C","Nürnberg",null,null,null,null,null,null,null,null,16,312,346,316,284,344]
["69488","Birkenau","-12 °C","Würzburg",null,null,null,null,null,null,null,null,17,304,415,322,358,360]
["69498","Birkenau - Hornbach","-12 °C","Würzburg",null,null,null,null,null,null,null,null,18,368,451,343,365,406]
["79777","Birkendorf","-14 °C","Stuttgart",null,null,null,null,null,null,null,null,19,393,442,391,368,424]
["75217","Birkenfeld","-14 °C","Stuttgart",null,null,null,null,null,null,null,null,20,413,488,411,424,484]
["97834","Birkenfeld","-14 °C","Würzburg",null,null,null,null,null,null,null,null,">20",4678,5265,5592,5654,4828]
["55765","Birkenfeld / Nahe","-14 °C","Trier"]
["16928","Birkenfelde","-14 °C","Neuruppin"]
["15913","Birkenhainchen","-16 °C","Lindenberg"]
["88447","Birkenhard","-16 °C","Stuttgart"]
["16547","Birkenwerder","-14 °C","Neuruppin",null,null,null,null,null,null,null,null,"Litauen"]
["16515","Birkhorst","-14 °C","Neuruppin",null,null,null,null,null,null,null,null,"Außentemp","Alytus","Kaunas","Klaipėda","Panevėžys","Šiauliai","Vilnius"]
["92262","Birkland","-16 °C","Nürnberg",null,null,null,null,null,null,null,null,"°C","h/a","h/a","h/a","h/a","h/a","h/a","h/a","h/a","h/a","h/a","h/a","h/a","h/a","h/a","h/a"]
["79774","Birndorf","-12 °C","Stuttgart",null,null,null,null,null,null,null,null,"<-20",1,0,0,13,1,14]
["02708","Bischdorf","-16 °C","Görlitz",null,null,null,null,null,null,null,null,-20,13,13,0,6,11,5]
["03205","Bischdorf","-16 °C","Lindenberg",null,null,null,null,null,null,null,null,-19,4,4,0,7,5,11]
["37284","Bischhausen Kr. Eschwege","-14 °C","Fritzlar",null,null,null,null,null,null,null,null,-18,9,12,0,17,16,25]
["37130","Bischhausen Kr. Göttingen","-16 °C","Fritzlar",null,null,null,null,null,null,null,null,-17,20,26,23,14,14,23]
["01920","Bischheim","-16 °C","Dresden",null,null,null,null,null,null,null,null,-16,37,26,3,25,16,20]
["99094","Bischleben","-14 °C","Erfurt",null,null,null,null,null,null,null,null,-15,26,24,2,24,20,27]
["35649","Bischoffen","-14 °C","Fritzlar",null,null,null,null,null,null,null,null,-14,17,14,4,27,26,16]
["37345","Bischofferode","-16 °C","Fritzlar",null,null,null,null,null,null,null,null,-13,20,16,36,26,20,30]
["79235","Bischoffingen","-12 °C","Karlsruhe",null,null,null,null,null,null,null,null,-12,31,40,40,47,34,28]
["97653","Bischofsheim","-16 °C","Würzburg",null,null,null,null,null,null,null,null,-11,66,54,38,46,31,56]
["94253","Bischofsmais","-18 °C","Straubing",null,null,null,null,null,null,null,null,-10,38,51,30,65,67,99]
["01877","Bischofswerda","-16 °C","Dresden",null,null,null,null,null,null,null,null,-9,105,80,26,87,83,90]
["16559","Bischofswerder","-14 °C","Neuruppin",null,null,null,null,null,null,null,null,-8,138,108,55,127,135,105]
["83483","Bischofswiesen","-18 °C","Hohenpeißenberg",null,null,null,null,null,null,null,null,-7,78,131,93,119,126,174]
["72406","Bisingen","-18 °C","Stuttgart",null,null,null,null,null,null,null,null,-6,153,158,85,158,124,151]
["39629","Bismark","-14 °C","Magdeburg",null,null,null,null,null,null,null,null,-5,168,150,158,162,170,185]
["29646","Bispingen","-14 °C","Hannover",null,null,null,null,null,null,null,null,-4,175,170,243,194,220,251]
["30900","Bissendorf","-14 °C","Hannover",null,null,null,null,null,null,null,null,-3,237,187,187,218,263,248]
["86657","Bissingen","-16 °C","Augsburg",null,null,null,null,null,null,null,null,-2,251,314,203,285,311,305]
["74321","Bissingen (Bietigheim)","-12 °C","Stuttgart",null,null,null,null,null,null,null,null,-1,319,327,304,320,333,326]
["73266","Bissingen an der Teck","-16 °C","Stuttgart",null,null,null,null,null,null,null,null,0,365,307,357,304,336,325]
["54634","Bitburg","-14 °C","Trier",null,null,null,null,null,null,null,null,1,384,370,471,352,363,337]
["54634","Bitburg","-14 °C","Trier",null,null,null,null,null,null,null,null,2,344,345,426,381,326,345]
["72160","Bittelbronn","-16 °C","Stuttgart",null,null,null,null,null,null,null,null,3,325,312,375,338,332,282]
["72401","Bittelbronn","-16 °C","Stuttgart",null,null,null,null,null,null,null,null,4,319,310,346,335,332,310]
["72505","Bittelschieß","-14 °C","Stuttgart",null,null,null,null,null,null,null,null,5,305,345,301,334,290,281]
["71336","Bittenfeld","-12 °C","Stuttgart",null,null,null,null,null,null,null,null,6,249,304,295,287,324,262]
["06749","Bitterfeld","-14 °C","Leipzig",null,null,null,null,null,null,null,null,7,298,297,282,288,273,250]
["72475","Bitz","-18 °C","Stuttgart",null,null,null,null,null,null,null,null,8,247,291,287,279,256,277]
["57539","Bitzen","-12 °C","Nürburg-Barweiler",null,null,null,null,null,null,null,null,9,291,287,263,276,270,282]
["88094","Bitzenhofen","-14 °C","Konstanz",null,null,null,null,null,null,null,null,10,312,290,263,310,251,272]
["74626","Bitzfeld","-14 °C","Stuttgart",null,null,null,null,null,null,null,null,11,295,291,315,324,305,283]
["93476","Blaibach","-18 °C","Straubing",null,null,null,null,null,null,null,null,12,323,280,322,302,315,298]
["38889","Blankenburg/Harz","-14 °C","Magdeburg",null,null,null,null,null,null,null,null,13,305,304,305,289,322,275]
["15827","Blankenfelde","-14 °C","Lindenberg",null,null,null,null,null,null,null,null,14,328,292,322,261,343,311]
["99444","Blankenhain","-14 °C","Erfurt",null,null,null,null,null,null,null,null,15,297,348,339,304,296,316]
["53945","Blankenheim","-14 °C","Nürburg-Barweiler",null,null,null,null,null,null,null,null,16,296,304,342,279,336,324]
["53945","Blankenheimerdorf","-14 °C","Nürburg-Barweiler",null,null,null,null,null,null,null,null,17,303,265,341,260,282,267]
["56865","Blankenrath","-14 °C","Nürburg-Barweiler",null,null,null,null,null,null,null,null,18,261,246,283,265,270,247]
["45527","Blankenstein","-12 °C","Düsseldorf",null,null,null,null,null,null,null,null,19,186,236,297,210,210,222]
["79588","Blansingen","-12 °C","Karlsruhe",null,null,null,null,null,null,null,null,20,204,186,213,217,185,210]
["79859","Blasiwald","-16 °C","Stuttgart",null,null,null,null,null,null,null,null,">20",617,645,485,578,517,595]
["66869","Blaubach","-14 °C","Saarbrücken"]
["89143","Blaubeuren","-16 °C","Augsburg"]
["74572","Blaufelden","-16 °C","Stuttgart"]
["89134","Blaustein","-14 °C","Augsburg"]
["79261","Bleibach","-16 °C","Stuttgart",null,null,null,null,null,null,null,null,"Italien"]
["53894","Bleibuir","-14 °C","Nürburg-Barweiler",null,null,null,null,null,null,null,null,"Außentemp","Bari","Bergamo","Bologna","Brescia","Firenze","Genova","Mesina","Milano","Napoli","Padova","Palermo","Parma","Perugia","Pescara","Piacenza","Pisa","Rimini","Roma","Torino","Trieste","Udine","Venezia","Verona"]
["99752","Bleicherode","-14 °C","Erfurt",null,null,null,null,null,null,null,null,"°C","h/a","h/a","h/a","h/a","h/a","h/a","h/a","h/a","h/a","h/a","h/a","h/a","h/a","h/a","h/a","h/a","h/a","h/a","h/a","h/a","h/a","h/a","h/a"]
["72813","Bleichstetten","-18 °C","Stuttgart",null,null,null,null,null,null,null,null,"<-20",0,0,0,0,0,0,0,0,0,0,0,0,0,0,0,0,0,0,0,0,0,0,0]
["65232","Bleidenstadt","-14 °C","Nürburg-Barweiler",null,null,null,null,null,null,null,null,-20,0,0,0,0,0,0,0,0,0,0,0,0,0,0,0,0,0,0,0,0,0,0,0]
["24327","Blekendorf","-10 °C","Schleswig",null,null,null,null,null,null,null,null,-19,0,0,0,0,0,0,0,0,0,0,0,0,0,0,0,0,0,0,0,0,0,0,0]
["27337","Blender","-12 °C","Bremen",null,null,null,null,null,null,null,null,-18,0,0,0,0,0,0,0,0,0,0,0,0,0,0,0,0,0,0,0,0,0,0,0]
["35796","Blessenbach","-14 °C","Fritzlar",null,null,null,null,null,null,null,null,-17,0,0,0,0,0,0,0,0,0,0,0,0,0,0,0,0,0,0,0,0,0,0,0]
["21640","Bliedersdorf","-12 °C","Hamburg",null,null,null,null,null,null,null,null,-16,0,0,0,0,0,0,0,0,0,0,0,0,0,0,0,0,0,0,0,0,0,0,0]
["66440","Blieskastel","-12 °C","Saarbrücken",null,null,null,null,null,null,null,null,-15,0,0,0,0,0,0,0,0,0,0,0,0,0,0,0,0,0,0,0,0,0,0,0]
["89434","Blindheim","-16 °C","Augsburg",null,null,null,null,null,null,null,null,-14,0,0,0,0,0,0,0,0,0,0,0,0,0,0,0,0,0,0,0,0,0,0,0]
["88273","Blitzenreute","-14 °C","Stuttgart",null,null,null,null,null,null,null,null,-13,0,0,0,0,0,0,0,0,0,0,0,0,0,0,0,0,0,0,0,0,0,0,0]
["88512","Blochingen","-14 °C","Stuttgart",null,null,null,null,null,null,null,null,-12,0,0,0,0,0,0,0,0,0,0,0,0,0,0,0,0,0,0,0,0,0,0,0]
["01561","Blochwitz","-16 °C","Dresden",null,null,null,null,null,null,null,null,-11,0,0,0,0,0,0,0,0,0,0,0,0,0,0,0,0,0,0,0,0,0,0,0]
["32825","Blomberg","-14 °C","Fritzlar",null,null,null,null,null,null,null,null,-10,0,0,0,0,0,0,0,0,0,0,0,0,0,0,0,0,0,0,0,0,0,0,0]
["04886","Blumberg","-16 °C","Leipzig",null,null,null,null,null,null,null,null,-9,0,0,0,0,0,0,0,0,0,0,0,0,0,0,0,0,0,0,0,0,0,0,0]
["78176","Blumberg","-16 °C","Stuttgart",null,null,null,null,null,null,null,null,-8,0,0,0,0,0,0,0,0,0,0,0,0,0,0,0,0,0,0,0,0,0,0,0]
["31515","Blumenau","-14 °C","Hannover",null,null,null,null,null,null,null,null,-7,0,0,0,0,0,0,0,0,0,16,0,0,0,0,0,0,0,0,0,0,0,0,0]
["02979","Bluno","-16 °C","Görlitz",null,null,null,null,null,null,null,null,-6,0,4,0,5,0,0,0,0,0,12,0,2,0,0,1,0,0,0,17,0,5,0,12]
["76891","Bobenthal","-12 °C","Saarbrücken",null,null,null,null,null,null,null,null,-5,0,23,1,23,0,0,0,5,0,12,0,16,3,0,14,0,0,0,23,0,20,1,14]
["86399","Bobingen","-16 °C","Augsburg",null,null,null,null,null,null,null,null,-4,0,32,33,28,10,0,0,32,0,39,0,29,16,0,12,0,18,0,51,0,40,19,33]
["73560","Böbingen","-16 °C","Stuttgart",null,null,null,null,null,null,null,null,-3,0,30,55,69,27,0,0,34,0,62,0,48,33,0,64,4,31,0,92,0,54,43,66]
["7103.","Böblingen","-14 °C","Stuttgart",null,null,null,null,null,null,null,null,-2,0,71,54,137,34,0,0,60,0,112,0,74,35,2,71,18,38,0,109,1,81,52,106]
["03222","Boblitz","-16 °C","Lindenberg",null,null,null,null,null,null,null,null,-1,0,147,85,156,58,0,0,86,0,118,0,143,72,25,152,32,78,3,191,31,114,116,137]
["78727","Bochingen","-16 °C","Stuttgart",null,null,null,null,null,null,null,null,0,0,170,186,217,70,0,0,142,0,132,0,183,66,51,168,70,101,7,211,30,167,138,163]
["463..","Bocholt","-10 °C","Dortmund",null,null,null,null,null,null,null,null,1,16,227,250,284,107,2,0,208,17,215,0,286,144,70,206,90,169,26,253,34,208,230,235]
["14913","Bochow","-14 °C","Potsdam",null,null,null,null,null,null,null,null,2,30,265,251,284,182,37,0,294,17,240,0,266,236,103,271,117,216,46,227,81,251,258,304]
["44...","Bochum","-10 °C","Dortmund",null,null,null,null,null,null,null,null,3,72,313,322,322,158,47,0,316,36,268,0,260,278,147,265,179,266,63,291,100,234,287,348]
["44879","Bochum - Linden","-12 °C","Dortmund",null,null,null,null,null,null,null,null,4,98,306,315,255,248,101,0,289,62,299,0,275,250,173,347,273,314,122,294,196,299,280,298]
["08324","Bockau","-16 °C","Meiningen",null,null,null,null,null,null,null,null,5,181,332,283,277,289,143,1,297,104,321,2,284,252,245,372,265,392,128,304,299,306,324,294]
["04703","Bockelwitz","-14 °C","Leipzig",null,null,null,null,null,null,null,null,6,280,327,319,292,269,168,16,288,186,325,25,364,278,310,358,263,314,186,330,310,310,335,306]
["31167","Bockenem","-14 °C","Hannover",null,null,null,null,null,null,null,null,7,282,336,307,298,296,263,43,322,224,360,42,354,315,330,294,298,349,233,296,382,315,313,276]
["26345","Bockhorn","-12 °C","Emden",null,null,null,null,null,null,null,null,8,328,332,288,314,303,305,61,297,262,295,64,295,369,359,270,378,326,294,315,388,334,328,288]
["590..","Bockum-Hövel","-12 °C","Nürburg-Barweiler",null,null,null,null,null,null,null,null,9,363,296,278,283,371,353,115,274,355,294,129,275,382,340,282,368,316,367,346,472,352,346,293]
["57392","Bödefeld","-16 °C","Nürburg-Barweiler",null,null,null,null,null,null,null,null,10,412,280,259,267,376,406,171,293,406,256,204,273,373,377,255,375,311,368,317,426,371,326,285]
["72411","Bodelshausen","-16 °C","Stuttgart",null,null,null,null,null,null,null,null,11,424,332,264,289,407,380,248,303,401,267,356,288,329,391,284,394,330,402,312,433,341,271,284]
["53539","Bodenbach","-14 °C","Nürburg-Barweiler",null,null,null,null,null,null,null,null,12,413,321,298,285,377,511,443,286,411,284,455,266,329,412,299,388,314,391,332,413,339,267,260]
["55294","Bodenheim","-12 °C","Trier",null,null,null,null,null,null,null,null,13,480,319,299,299,353,516,519,310,426,301,511,302,353,409,288,366,308,401,332,322,346,331,314]
["84155","Bodenkirchen","-16 °C","Straubing",null,null,null,null,null,null,null,null,14,419,321,306,308,303,409,560,282,463,323,493,296,363,404,291,408,330,399,354,320,330,310,318]
["94249","Bodenmais","-18 °C","Straubing",null,null,null,null,null,null,null,null,15,437,302,285,316,327,404,531,322,404,339,484,299,376,393,342,419,303,379,330,344,330,319,301]
["37308","Bodenrode","-16 °C","Fritzlar",null,null,null,null,null,null,null,null,16,409,304,341,355,378,404,564,321,417,302,487,329,399,400,297,397,374,409,332,330,316,333,306]
["37619","Bodenwerder","-12 °C","Fritzlar",null,null,null,null,null,null,null,null,17,391,319,290,323,381,417,499,308,399,293,508,326,332,386,269,409,353,420,334,325,322,361,304]
["92439","Bodenwöhr","-16 °C","Nürnberg",null,null,null,null,null,null,null,null,18,403,309,324,314,356,403,454,322,419,322,445,324,341,371,292,362,334,418,336,343,334,348,298]
["77694","Bodersweier","-12 °C","Karlsruhe",null,null,null,null,null,null,null,null,19,374,326,356,272,309,363,414,309,426,304,499,293,308,398,303,335,304,364,307,432,318,335,314]
["37671","Bödexen","-14 °C","Fritzlar",null,null,null,null,null,null,null,null,20,372,323,328,285,328,401,383,291,457,302,451,274,298,364,293,358,329,359,311,395,313,349,311]
["78351","Bodman","-12 °C","Konstanz",null,null,null,null,null,null,null,null,">20",2576,2093,2383,2203,2443,2727,3738,2469,2868,2347,3605,2336,2230,2300,2400,2194,2242,2975,1813,2353,2010,2140,2292]
["88285","Bodnegg","-14 °C","Stuttgart"]
["88131","Bodolz","-12 °C","Konstanz"]
["37691","Boffzen","-14 °C","Fritzlar"]
["04564","Böhlen","-14 °C","Leipzig"]
["04808","Böhlitz","-14 °C","Leipzig",null,null,null,null,null,null,null,null,"Belgien"]
["89558","Böhmenkirch","-16 °C","Augsburg",null,null,null,null,null,null,null,null,"Außentemp","Antwerpen","Brugge","Bruxelles","Charleroi","Genk","Gent","Kortrijk","La Louvière","Liège","Mons","Namur","Oostende"]
["16348","Böhmerheide","-14 °C","Neuruppin",null,null,null,null,null,null,null,null,"°C","h/a","h/a","h/a","h/a","h/a","h/a","h/a","h/a","h/a","h/a","h/a","h/a"]
["72587","Böhringen","-18 °C","Stuttgart",null,null,null,null,null,null,null,null,"<-20",0,0,0,0,0,0,0,0,0,0,0,0]
["03130","Bohsdorf","-16 °C","Lindenberg",null,null,null,null,null,null,null,null,-20,0,0,0,0,0,0,0,0,0,0,0,0]
["17268","Boitzenburg","-12 °C","Greifswald",null,null,null,null,null,null,null,null,-19,0,0,0,0,0,0,0,0,0,0,0,0]
["19258","Boizenburg","-12 °C","Schwerin",null,null,null,null,null,null,null,null,-18,0,0,0,0,0,0,0,0,0,0,0,0]
["33034","Bökendorf","-14 °C","Fritzlar",null,null,null,null,null,null,null,null,-17,0,0,0,0,0,0,0,0,0,0,0,0]
["02627","Bolbritz","-16 °C","Görlitz",null,null,null,null,null,null,null,null,-16,0,0,0,0,0,0,0,0,0,0,0,0]
["19077","Boldela","-12 °C","Schwerin",null,null,null,null,null,null,null,null,-15,0,0,0,0,0,0,0,0,0,0,0,0]
["89542","Bolheim","-16 °C","Augsburg",null,null,null,null,null,null,null,null,-14,0,0,0,0,0,0,0,0,0,0,0,0]
["72379","Boll","-16 °C","Stuttgart",null,null,null,null,null,null,null,null,-13,0,0,0,0,0,0,0,0,0,0,0,0]
["73087","Boll","-16 °C","Stuttgart",null,null,null,null,null,null,null,null,-12,0,0,0,0,0,0,0,0,0,0,0,0]
["89160","Bollingen","-16 °C","Augsburg",null,null,null,null,null,null,null,null,-11,1,0,0,0,3,0,0,0,0,0,0,0]
["39517","Bölsdorf","-14 °C","Magdeburg",null,null,null,null,null,null,null,null,-10,4,0,0,0,3,0,0,0,1,0,0,0]
["23946","Boltenhagen","-10 °C","Schwerin",null,null,null,null,null,null,null,null,-9,8,0,1,0,7,0,0,6,4,0,13,0]
["79341","Bombach","-12 °C","Karlsruhe",null,null,null,null,null,null,null,null,-8,8,0,8,7,8,0,1,6,7,0,3,0]
["04938","Bomsdorf","-16 °C","Leipzig",null,null,null,null,null,null,null,null,-7,19,0,17,22,16,4,7,11,11,2,9,4]
["71149","Bondorf","-16 °C","Stuttgart",null,null,null,null,null,null,null,null,-6,32,16,33,33,41,6,9,13,31,26,15,12]
["56579","Bonefeld","-14 °C","Nürburg-Barweiler",null,null,null,null,null,null,null,null,-5,37,33,34,22,29,22,20,37,22,37,24,14]
["59199","Bönen","-12 °C","Nürburg-Barweiler",null,null,null,null,null,null,null,null,-4,93,26,46,49,48,35,44,51,67,28,62,29]
["74906","Bonfeld","-12 °C","Stuttgart",null,null,null,null,null,null,null,null,-3,94,36,89,76,70,54,45,58,69,63,76,39]
["53...","Bonn","-10 °C","Nürburg-Barweiler",null,null,null,null,null,null,null,null,-2,118,74,111,111,91,55,69,60,100,64,100,46]
["53...","Bonn - Beuel","-10 °C","Nürburg-Barweiler",null,null,null,null,null,null,null,null,-1,190,78,200,139,161,87,101,140,172,128,194,106]
["53123","Bonn - Duisdorf","-12 °C","Nürburg-Barweiler",null,null,null,null,null,null,null,null,0,186,144,209,194,206,123,182,188,182,228,199,109]
["53175","Bonn - Friesdorf","-12 °C","Nürburg-Barweiler",null,null,null,null,null,null,null,null,1,251,189,254,254,281,200,229,234,238,256,221,197]
["53...","Bonn - Hoholz","-12 °C","Nürburg-Barweiler",null,null,null,null,null,null,null,null,2,272,249,323,295,264,241,213,278,332,256,249,267]
["53229","Bonn - Holzlar","-12 °C","Nürburg-Barweiler",null,null,null,null,null,null,null,null,3,281,299,352,328,252,253,321,334,309,291,334,308]
["79848","Bonndorf","-16 °C","Stuttgart",null,null,null,null,null,null,null,null,4,333,355,394,352,332,341,328,375,329,322,362,282]
["01796","Bonnewitz","-14 °C","Dresden",null,null,null,null,null,null,null,null,5,413,394,389,360,393,431,377,391,343,412,372,397]
["01827","Bonnewitz","-14 °C","Dresden",null,null,null,null,null,null,null,null,6,423,426,424,413,432,448,402,375,397,424,406,451]
["46519","Bönninghardt","-10 °C","Düsseldorf",null,null,null,null,null,null,null,null,7,536,462,505,458,449,406,463,425,437,429,441,515]
["25474","Bönningstedt","-12 °C","Schleswig",null,null,null,null,null,null,null,null,8,471,488,405,451,418,441,511,453,470,457,451,544]
["61194","Bönstadt","-12 °C","Fritzlar",null,null,null,null,null,null,null,null,9,469,479,479,473,463,464,538,433,416,434,505,544]
["73441","Bopfingen","-16 °C","Stuttgart",null,null,null,null,null,null,null,null,10,466,481,485,475,447,471,454,455,447,512,454,536]
["56154","Boppard","-14 °C","Nürburg-Barweiler",null,null,null,null,null,null,null,null,11,501,445,427,436,419,519,397,512,423,430,396,443]
["45355","Borbeck","-10 °C","Düsseldorf",null,null,null,null,null,null,null,null,12,432,445,459,442,423,445,413,488,454,459,421,396]
["33178","Borchen","-14 °C","Fritzlar",null,null,null,null,null,null,null,null,13,420,472,453,437,427,416,426,456,436,467,407,479]
["31535","Bordenau","-14 °C","Hannover",null,null,null,null,null,null,null,null,14,399,482,408,434,412,447,403,436,394,440,420,470]
["34434","Borgentreich","-14 °C","Fritzlar",null,null,null,null,null,null,null,null,15,430,479,400,394,368,431,468,366,389,352,409,431]
["48565","Borghorst","-12 °C","Hannover",null,null,null,null,null,null,null,null,16,333,467,364,327,381,414,432,356,381,395,382,456]
["16556","Borgsdorf","-14 °C","Neuruppin",null,null,null,null,null,null,null,null,17,307,399,328,345,349,363,390,308,366,371,367,415]
["24857","Borgwedel","-10 °C","Schleswig",null,null,null,null,null,null,null,null,18,277,329,241,269,270,341,384,290,346,317,304,374]
["59379","Bork","-14 °C","Nürburg-Barweiler",null,null,null,null,null,null,null,null,19,242,272,226,260,248,310,296,261,304,284,274,326]
["46325","Borken","-10 °C","Düsseldorf",null,null,null,null,null,null,null,null,20,172,259,183,223,212,251,216,264,194,207,195,183]
["14822","Borkheide","-14 °C","Potsdam",null,null,null,null,null,null,null,null,">20",542,482,513,681,837,741,621,700,689,669,695,387]
["26757","Borkum","-10 °C","Emden"]
["14822","Borkwalde","-14 °C","Potsdam",null,null,null,null,null,null,null,null,null,-11,-6,-9,-8,-11,-7,-8,-9,-10,-7,-9,-7]
["41379","Born","-10 °C","Düsseldorf"]
["18375","Born(Darß)","-10 °C","Rostock"]
["09114","Borna","-14 °C","Erfurt",null,null,null,null,null,null,null,null,"Ungarn"]
["04758","Borna","-14 °C","Leipzig",null,null,null,null,null,null,null,null,"Außentemp","Budapest","Deprecen","Győr","Kecskemét","Miskolc","Nyíregyháza","Pécs","Szeged","Székesfehérvár"]
["04552","Borna, b. Leipzig","-14 °C","Leipzig",null,null,null,null,null,null,null,null,"°C","h/a","h/a","h/a","h/a","h/a","h/a","h/a","h/a","h/a","h/a","h/a","h/a","h/a","h/a"]
["76879","Bornheim","-12 °C","Karlsruhe",null,null,null,null,null,null,null,null,"<-20",0,0,0,0,0,0,0,0,0,0,0]
["53332","Bornheim","-12 °C","Nürburg-Barweiler",null,null,null,null,null,null,null,null,-20,0,0,0,0,0,0,0,0,0,0,0]
["06295","Bornstedt","-14 °C","Leipzig",null,null,null,null,null,null,null,null,-19,0,0,0,0,0,0,0,0,0,0,0]
["04451","Borsdorf","-14 °C","Leipzig",null,null,null,null,null,null,null,null,-18,0,0,0,0,0,0,0,0,0,0,0]
["31749","Borstel","-14 °C","Hannover",null,null,null,null,null,null,null,null,-17,0,0,0,0,0,0,0,0,0,0,0]
["09579","Borstendorf","-16 °C","Meiningen",null,null,null,null,null,null,null,null,-16,0,0,0,0,0,0,0,0,0,0,0]
["73104","Börtlingen","-16 °C","Stuttgart",null,null,null,null,null,null,null,null,-15,0,0,0,3,0,0,0,0,0,0,0]
["39359","Bösdorf","-14 °C","Magdeburg",null,null,null,null,null,null,null,null,-14,0,2,0,4,0,1,0,2,0,0,0]
["72285","Bösingen","-16 °C","Stuttgart",null,null,null,null,null,null,null,null,-13,0,12,0,13,1,19,1,10,1,0,0]
["37671","Bosseborn","-14 °C","Fritzlar",null,null,null,null,null,null,null,null,-12,2,35,5,27,27,16,5,23,14,0,0]
["74336","Botenheim","-14 °C","Stuttgart",null,null,null,null,null,null,null,null,-11,24,35,24,43,9,25,16,34,17,0,0]
["77704","Bottenau","-14 °C","Karlsruhe",null,null,null,null,null,null,null,null,-10,32,28,39,44,32,59,31,29,32,0,0]
["91637","Bottenweiler","-16 °C","Nürnberg",null,null,null,null,null,null,null,null,-9,25,32,47,29,38,75,33,42,48,0,0]
["06571","Bottenweiler,Post Zumhaus ","-16 °C","Leipzig",null,null,null,null,null,null,null,null,-8,40,46,31,47,70,63,60,34,51,0,0]
["462..","Bottrop","-10 °C","Dortmund",null,null,null,null,null,null,null,null,-7,80,55,35,71,87,54,54,43,65,0,0]
["79268","Bötzingen","-12 °C","Karlsruhe",null,null,null,null,null,null,null,null,-6,69,113,60,94,87,97,49,85,62,0,0]
["16727","Bötzow","-14 °C","Neuruppin",null,null,null,null,null,null,null,null,-5,83,141,105,116,134,148,66,104,110,0,0]
["37120","Bovenden","-16 °C","Fritzlar",null,null,null,null,null,null,null,null,-4,151,172,157,173,183,176,160,139,171,0,0]
["44388","Bövinghausen","-12 °C","Düsseldorf",null,null,null,null,null,null,null,null,-3,189,201,182,201,244,226,193,233,200,0,0]
["02943","Boxberg","-16 °C","Görlitz",null,null,null,null,null,null,null,null,-2,215,277,222,173,215,233,190,217,204,0,0]
["97944","Boxberg","-16 °C","Würzburg",null,null,null,null,null,null,null,null,-1,234,225,203,224,235,225,247,229,215,0,0]
["74336","Brackenheim","-12 °C","Stuttgart",null,null,null,null,null,null,null,null,0,264,202,226,236,237,249,203,229,213,0,0]
["74336","Brackenheim - Meimsheim ","-12 °C","Stuttgart",null,null,null,null,null,null,null,null,1,278,284,282,248,286,259,272,235,252,0,0]
["74336","Brackenheim - Stockheim","-12 °C","Stuttgart",null,null,null,null,null,null,null,null,2,284,270,324,273,295,304,267,268,256,0,0]
["33...","Brackwede","-12 °C","Fritzlar",null,null,null,null,null,null,null,null,3,245,275,349,283,315,307,292,256,297]
["73574","Brainkofen","-16 °C","Stuttgart",null,null,null,null,null,null,null,null,4,283,255,289,310,264,279,258,281,296]
["26919","Brake","-10 °C","Emden",null,null,null,null,null,null,null,null,5,297,280,269,301,245,265,273,299,272]
["33729","Brake","-12 °C","Fritzlar",null,null,null,null,null,null,null,null,6,273,253,252,265,261,231,282,305,299]
["33034","Brakel","-14 °C","Fritzlar",null,null,null,null,null,null,null,null,7,278,268,247,261,254,232,269,270,292]
["32816","Brakelsiek (Schieder-Schwalenbg.)","-14 °C","Fritzlar",null,null,null,null,null,null,null,null,8,252,221,254,267,240,233,268,238,307]
["27211","Bramstedt","-12 °C","Bremen",null,null,null,null,null,null,null,null,9,280,242,267,258,260,274,287,265,224]
["27628","Bramstedt","-12 °C","Bremen",null,null,null,null,null,null,null,null,10,288,285,336,277,296,263,281,289,229]
["52078","Brand","-12 °C","Aachen",null,null,null,null,null,null,null,null,11,299,274,307,304,295,295,272,286,274]
["08060","Brand","-14 °C","Erfurt",null,null,null,null,null,null,null,null,12,287,284,335,293,289,318,334,312,325]
["95682","Brand","-18 °C","Hof",null,null,null,null,null,null,null,null,13,292,308,343,329,305,350,331,291,318]
["1477.","Brandenburg/Havel","-14 °C","Potsdam",null,null,null,null,null,null,null,null,14,327,326,363,334,353,322,307,331,369]
["09614","Brand-Erbisdorf","-16 °C","Erfurt",null,null,null,null,null,null,null,null,15,328,337,329,311,331,303,322,309,319]
["06785","Brandhorst","-14 °C","Leipzig",null,null,null,null,null,null,null,null,16,287,346,323,310,289,312,318,311,328]
["04821","Brandis","-14 °C","Leipzig",null,null,null,null,null,null,null,null,17,310,303,310,300,317,344,330,305,292]
["35647","Brandoberndorf","-14 °C","Fritzlar",null,null,null,null,null,null,null,null,18,305,308,279,297,285,296,312,298,301]
["83098","Brannenburg","-18 °C","Hohenpeißenberg",null,null,null,null,null,null,null,null,19,312,292,287,284,303,281,298,305,302]
["01920","Brauna","-16 °C","Dresden",null,null,null,null,null,null,null,null,20,266,254,270,269,264,236,306,265,314]
["95186","Braunersgrün","-18 °C","Hof",null,null,null,null,null,null,null,null,">20",1581,1519,1409,1488,1414,1390,1573,1588,1491]
["35619","Braunfels","-12 °C","Fritzlar"]
["35619","Braunfels - Tiefenbach","-12 °C","Fritzlar"]
["38700","Braunlage","-16 °C","Magdeburg"]
["381..","Braunschweig","-14 °C","Magdeburg"]
["09577","Braunsdorf","-14 °C","Erfurt",null,null,null,null,null,null,null,null,"Norwegen"]
["09603","Bräunsdorf","-16 °C","Erfurt",null,null,null,null,null,null,null,null,"Außentemp","Ålesund","Asker","Bærum","Bergen","Bodø","Drammen","Florø","Hammerfest","Kristiansand","Oslo","Sandnes","Sarpsborg","Skien","Stavanger","Tromsø","Trondheim","Vardo"]
["52538","Breberen","-10 °C","Aachen",null,null,null,null,null,null,null,null,"°C","h/a","h/a","h/a","h/a","h/a","h/a","h/a","h/a","h/a","h/a","h/a","h/a","h/a","h/a","h/a","h/a","h/a"]
["58339","Breckerfeld","-12 °C","Nürburg-Barweiler",null,null,null,null,null,null,null,null,"<-20",0,0,0,0,0,0,0,0,0,0,0,0,0,0,0,0,0]
["30974","Bredenbeck","-14 °C","Hannover",null,null,null,null,null,null,null,null,-20,0,0,0,0,0,0,0,0,0,0,0,0,0,0,0,0,0]
["37697","Bredenborn","-14 °C","Fritzlar",null,null,null,null,null,null,null,null,-19,0,0,0,0,0,0,0,0,0,0,0,0,0,0,0,0,0]
["25821","Bredstedt","-10 °C","Schleswig",null,null,null,null,null,null,null,null,-18,0,0,0,0,0,0,0,0,0,0,0,0,0,0,0,0,0]
["29451","Breese in der Marsch","-12 °C","Hannover",null,null,null,null,null,null,null,null,-17,0,0,0,0,0,0,0,0,0,0,0,0,0,0,0,0,0]
["37339","Brehme","-16 °C","Fritzlar",null,null,null,null,null,null,null,null,-16,0,0,0,0,0,0,0,0,0,0,0,0,0,0,0,0,0]
["06796","Brehna","-14 °C","Leipzig",null,null,null,null,null,null,null,null,-15,0,0,0,0,0,0,0,0,0,0,0,0,0,0,0,0,2]
["53797","Breidt","-12 °C","Nürburg-Barweiler",null,null,null,null,null,null,null,null,-14,0,2,0,0,0,0,0,0,2,0,1,0,0,0,0,0,45]
["79206","Breisach","-12 °C","Karlsruhe",null,null,null,null,null,null,null,null,-13,0,47,0,0,0,0,0,0,26,0,36,0,0,32,0,2,28]
["83254","Breitbrunn","-16 °C","Hohenpeißenberg",null,null,null,null,null,null,null,null,-12,0,39,0,0,0,0,0,0,39,16,16,1,1,30,0,15,21]
["82211","Breitbrunn","-16 °C","Kempten",null,null,null,null,null,null,null,null,-11,0,32,0,0,0,0,6,0,54,16,36,28,28,42,0,28,24]
["66916","Breitenbach","-12 °C","Saarbrücken",null,null,null,null,null,null,null,null,-10,0,38,0,0,0,5,54,0,91,28,59,29,29,30,0,59,27]
["75389","Breitenberg","-16 °C","Stuttgart",null,null,null,null,null,null,null,null,-9,6,61,6,0,0,33,39,0,111,32,72,29,29,22,1,52,42]
["63584","Breitenborn","-14 °C","Würzburg",null,null,null,null,null,null,null,null,-8,20,88,20,0,0,23,85,0,150,34,74,29,29,100,12,83,75]
["63599","Breitenborn","-14 °C","Würzburg",null,null,null,null,null,null,null,null,-7,12,111,12,0,0,32,93,0,216,56,124,51,51,125,19,161,72]
["91238","Breitenbrunn","-16 °C","Nürnberg",null,null,null,null,null,null,null,null,-6,26,182,26,0,2,42,104,1,233,73,116,69,69,103,48,233,100]
["72119","Breitenholz","-16 °C","Stuttgart",null,null,null,null,null,null,null,null,-5,77,208,77,0,45,73,188,22,329,91,139,98,98,141,29,235,124]
["37619","Breitenkamp","-14 °C","Fritzlar",null,null,null,null,null,null,null,null,-4,83,260,83,28,71,56,164,43,329,130,224,135,135,219,45,258,175]
["06547","Breitenstein","-16 °C","Leipzig",null,null,null,null,null,null,null,null,-3,115,277,115,67,63,109,159,46,430,165,222,124,124,211,96,313,204]
["89183","Breitingen","-16 °C","Augsburg",null,null,null,null,null,null,null,null,-2,156,292,156,85,100,201,323,88,445,225,282,213,213,237,124,389,244]
["35767","Breitscheid","-14 °C","Fritzlar",null,null,null,null,null,null,null,null,-1,233,360,233,105,126,202,327,178,490,268,331,281,281,342,168,413,266]
["98597","Breitungen","-16 °C","Meiningen",null,null,null,null,null,null,null,null,0,213,359,213,190,196,180,395,191,429,265,299,263,263,321,222,420,341]
["72525","Bremelau","-16 °C","Stuttgart",null,null,null,null,null,null,null,null,1,290,420,290,340,294,304,435,337,461,338,346,308,308,362,290,572,434]
["59469","Bremen","-12 °C","Nürburg-Barweiler",null,null,null,null,null,null,null,null,2,348,414,348,350,383,351,518,342,467,382,391,436,436,383,316,516,436]
["275..","Bremerhaven","-10 °C","Bremen",null,null,null,null,null,null,null,null,3,344,356,344,411,431,439,428,477,526,357,414,450,450,427,434,460,430]
["27432","Bremervörde","-12 °C","Bremen",null,null,null,null,null,null,null,null,4,366,293,366,572,488,460,480,546,451,393,378,415,415,385,462,475,426]
["65817","Bremsthal","-14 °C","Nürburg-Barweiler",null,null,null,null,null,null,null,null,5,331,319,331,586,580,462,451,574,415,425,313,443,443,383,462,516,402]
["53332","Brenig","-12 °C","Nürburg-Barweiler",null,null,null,null,null,null,null,null,6,339,328,339,598,534,472,510,545,431,428,347,442,442,343,532,429,427]
["37671","Brenkhausen","-14 °C","Fritzlar",null,null,null,null,null,null,null,null,7,347,356,347,599,584,480,546,556,442,434,307,367,367,334,514,479,409]
["93179","Brennberg","-18 °C","Straubing",null,null,null,null,null,null,null,null,8,355,283,355,576,529,487,476,561,398,405,311,419,419,319,528,457,454]
["64395","Brensbach","-14 °C","Würzburg",null,null,null,null,null,null,null,null,9,348,308,348,546,548,439,455,514,340,416,363,385,385,312,554,422,460]
["19294","Bresegard","-14 °C","Schwerin",null,null,null,null,null,null,null,null,10,388,333,388,600,538,439,483,493,312,426,353,352,352,299,544,345,385]
["01900","Bretnig","-16 °C","Dresden",null,null,null,null,null,null,null,null,11,363,280,363,566,479,477,341,449,220,382,341,374,374,313,451,336,381]
["74243","Brettach","-14 °C","Stuttgart",null,null,null,null,null,null,null,null,12,358,315,358,545,469,464,328,490,168,343,335,395,395,314,472,297,346]
["75015","Bretten","-12 °C","Stuttgart",null,null,null,null,null,null,null,null,13,302,352,302,456,410,425,328,494,135,335,306,422,422,302,417,225,351]
["39307","Brettin","-14 °C","Magdeburg",null,null,null,null,null,null,null,null,14,322,371,322,434,370,433,279,402,175,335,299,411,411,307,399,183,360]
["55128","Bretzenheim","-12 °C","Karlsruhe",null,null,null,null,null,null,null,null,15,342,369,342,388,403,391,225,331,145,350,325,389,389,330,367,168,291]
["74626","Bretzfeld","-14 °C","Stuttgart",null,null,null,null,null,null,null,null,16,330,322,330,280,302,352,200,262,103,352,272,340,340,341,364,108,236]
["56321","Brey","-12 °C","Nürburg-Barweiler",null,null,null,null,null,null,null,null,17,344,291,344,162,224,265,111,288,55,308,291,272,272,342,325,54,203]
["14778","Brielow","-14 °C","Potsdam",null,null,null,null,null,null,null,null,18,321,225,321,138,173,225,69,186,56,248,242,232,232,271,198,34,138]
["14656","Brieselang","-14 °C","Potsdam",null,null,null,null,null,null,null,null,19,303,141,303,51,133,171,62,129,30,203,208,190,190,210,122,14,126]
["01968","Brieske","-16 °C","Dresden",null,null,null,null,null,null,null,null,20,271,135,271,44,107,95,33,82,20,162,211,140,140,151,92,2,95]
["78086","Brigachtal","-18 °C","Stuttgart",null,null,null,null,null,null,null,null,">20",1107,193,1107,43,178,173,65,133,36,339,376,228,228,377,153,7,180]
["59929","Brilon","-14 °C","Nürburg-Barweiler"]
["18055","Brinckmansdorf","-10 °C","Rostock"]
["04509","Brinnis","-14 °C","Leipzig"]
["79379","Britzingen","-14 °C","Karlsruhe"]
["37115","Brochthausen","-16 °C","Fritzlar"]
["27386","Brockel, Kr. Rotenburg","-16 °C","Bremen"]
["59510","Brockhausen","-12 °C","Nürburg-Barweiler"]
["17034","Broda","-14 °C","Greifswald"]
["04509","Brodau","-14 °C","Leipzig"]
["16230","Brodowin","-14 °C","Neuruppin"]
["91522","Brodswinden","-16 °C","Nürnberg"]
["56656","Brohl - Lützing","-12 °C","Nürburg-Barweiler"]
["14822","Brokheide","-14 °C","Potsdam"]
["64753","Brombachtal","-14 °C","Würzburg"]
["59969","Bromskirchen","-16 °C","Nürburg-Barweiler"]
["91257","Bronn","-16 °C","Nürnberg"]
["88480","Bronnen","-16 °C","Stuttgart"]
["72770","Bronnweiler","-16 °C","Stuttgart"]
["98599","Brotterode","-16 °C","Meiningen"]
["57539","Bruchertseifen","-12 °C","Nürburg-Barweiler"]
["27305","Bruchhausen-Vilsen","-12 °C","Bremen"]
["66424","Bruchhof","-12 °C","Saarbrücken"]
["63486","Bruchköbel","-12 °C","Würzburg"]
["66892","Bruchmühltal","-12 °C","Saarbrücken"]
["76646","Bruchsal","-12 °C","Stuttgart"]
["14822","Brück","-14 °C","Potsdam"]
["84079","Bruckberg","-16 °C","Straubing"]
["46569","Bruckhausen","-10 °C","Düsseldorf"]
["83052","Bruckmühl","-16 °C","Hohenpeißenberg"]
["09548","Brüderwiese","-16 °C","Meiningen"]
["52525","Brüggelchen","-10 °C","Aachen"]
["41379","Brüggen","-10 °C","Düsseldorf"]
["50169","Brüggen","-12 °C","Düsseldorf"]
["31033","Brüggen","-14 °C","Hannover"]
["50321","Brühl , Rheinl.","-10 °C","Düsseldorf"]
["46499","Brünen","-10 °C","Düsseldorf"]
["17039","Brunn","-14 °C","Greifswald"]
["31863","Brünnighausen","-14 °C","Hannover"]
["22946","Brunsbek","-12 °C","Hamburg"]
["23883","Brunsmark","-12 °C","Schwerin"]
["17509","Brünzow","-12 °C","Greifswald"]
["19209","Brüsewitz","-12 °C","Schwerin"]
["17326","Brüssow","-14 °C","Greifswald"]
["91088","Bubenreuth","-16 °C","Nürnberg"]
["67742","Buborn","-14 °C","Saarbrücken"]
["89171","Buch","-16 °C","Augsburg"]
["89290","Buch","-16 °C","Augsburg"]
["73492","Buch","-16 °C","Stuttgart"]
["79774","Buch","-12 °C","Stuttgart"]
["85656","Buch am Buchrain","-16 °C","München"]
["84172","Buch am Erlbach","-16 °C","Straubing"]
["91592","Buch am Wald","-16 °C","Nürnberg"]
["07334","Bucha","-14 °C","Erfurt"]
["56823","Büchel","-14 °C","Nürburg-Barweiler"]
["74722","Buchen, Odenw.","-14 °C","Stuttgart"]
["76646","Büchenau","-12 °C","Stuttgart"]
["79256","Buchenbach","-18 °C","Stuttgart"]
["75180","Büchenbronn","-14 °C","Stuttgart"]
["79232","Buchheim","-12 °C","Karlsruhe"]
["88637","Buchheim","-16 °C","Stuttgart"]
["31710","Buchholz","-14 °C","Hannover"]
["53567","Buchholz","-12 °C","Nürburg-Barweiler"]
["21244","Buchholz in der Nordheide","-12 °C","Hamburg"]
["94124","Büchlberg","-16 °C","Straubing"]
["86807","Buchloe","-16 °C","Kempten"]
["90574","Buchschwabach","-16 °C","Nürnberg"]
["75175","Buckenberg","-14 °C","Stuttgart"]
["03205","Buckow","-16 °C","Lindenberg"]
["55257","Budenheim","-12 °C","Trier"]
["46487","Büderich","-10 °C","Düsseldorf"]
["61137","Büdesheim","-12 °C","Fritzlar"]
["63654","Büdingen","-14 °C","Würzburg"]
["99869","Bufleben","-14 °C","Erfurt"]
["86657","Buggenhofen","-16 °C","Augsburg"]
["79426","Buggingen","-14 °C","Karlsruhe"]
["89346","Bühl","-16 °C","Augsburg"]
["77815","Bühl","-12 °C","Karlsruhe"]
["77830","Bühlertal","-14 °C","Karlsruhe"]
["74424","Bühlertann","-16 °C","Stuttgart"]
["50170","Buir","-12 °C","Düsseldorf"]
["21782","Bülkau","-10 °C","Hamburg"]
["56859","Bullay","-12 °C","Nürburg-Barweiler"]
["01936","Bulleritz","-16 °C","Dresden"]
["18276","Bülower Burg b. Güstrow","-12 °C","Rostock"]
["32257","Bünde","-12 °C","Fritzlar"]
["24613","Bünzen","-12 °C","Schleswig"]
["33142","Büren","-14 °C","Fritzlar"]
["03096","Burg","-16 °C","Lindenberg"]
["91320","Burg - Gaillenreuth","-16 °C","Nürnberg"]
["39288","Burg b. Magdeburg","-14 °C","Magdeburg"]
["17094","Burg Stargard","-14 °C","Greifswald"]
["45289","Burgaltendorf","-10 °C","Düsseldorf"]
["89331","Burgau","-16 °C","Augsburg"]
["78126","Burgberg","-16 °C","Stuttgart"]
["91593","Burgbernheim","-16 °C","Nürnberg"]
["31303","Burgdorf","-14 °C","Hannover"]
["89429","Burghagel","-16 °C","Augsburg"]
["96152","Burghaslach","-16 °C","Bamberg"]
["76327","Burghausen","-12 °C","Stuttgart"]
["86666","Burgheim","-16 °C","Augsburg"]
["93133","Burglengenfeld","-16 °C","Straubing"]
["97496","Burgpreppach","-16 °C","Würzburg"]
["88483","Burgrieden","-16 °C","Stuttgart"]
["06295","Burgsdorf","-14 °C","Leipzig"]
["35606","Burgsolms","-12 °C","Fritzlar"]
["09217","Burgstädt","-14 °C","Erfurt"]
["31171","Burgstemmen","-14 °C","Hannover"]
["71576","Burgstetten","-14 °C","Stuttgart"]
["90559","Burgthann","-16 °C","Nürnberg"]
["37318","Burgwalde","-16 °C","Fritzlar"]
["30938","Burgwedel","-14 °C","Hannover"]
["96154","Burgwindheim","-16 °C","Bamberg"]
["26969","Burhave","-10 °C","Emden"]
["97705","Burkardroth","-16 °C","Würzburg"]
["04603","Burkersdorf","-14 °C","Leipzig"]
["63679","Burkhards","-14 °C","Würzburg"]
["09235","Burkhardtsdorf","-14 °C","Erfurt"]
["08318","Burkhardtsgrün","-16 °C","Meiningen"]
["72393","Burladingen","-18 °C","Stuttgart"]
["17089","Burow","-14 °C","Greifswald"]
["51399","Burscheid","-12 °C","Nürburg-Barweiler"]
["68642","Bürstadt","-12 °C","Karlsruhe"]
["89349","Burtenbach","-16 °C","Augsburg"]
["53913","Buschhoven","-14 °C","Nürburg-Barweiler"]
["50129","Büsdorf","-12 °C","Düsseldorf"]
["35418","Buseck","-12 °C","Fritzlar"]
["76337","Busenbach","-14 °C","Stuttgart"]
["76891","Busenberg","-12 °C","Saarbrücken"]
["25719","Busenwurth","-10 °C","Schleswig"]
["78266","Büsingen","-12 °C","Konstanz"]
["99198","Büßleben","-14 °C","Erfurt"]
["26969","Butjadingen","-10 °C","Emden"]
["77764","Butschbach","-14 °C","Karlsruhe"]
["64572","Büttelborn","-12 °C","Würzburg"]
["99439","Buttelstedt","-14 °C","Erfurt"]
["96155","Buttenheim","-16 °C","Bamberg"]
["86647","Buttenwiesen","-16 °C","Augsburg"]
["86647","Buttenwiesen-Frauenstetten","-16 °C","Augsburg"]
["41564","Büttgen","-10 °C","Düsseldorf"]
["35510","Butzbach","-14 °C","Fritzlar"]
["21683","Bützfleth","-10 °C","Hamburg"]
["54309","Butzweiler","-14 °C","Trier"]
["87700","Buxach","-16 °C","Augsburg"]
["21614","Buxtehude","-12 °C","Hamburg"]
["90556","Cadolzburg","-16 °C","Nürnberg"]
["39240","Calbe","-14 °C","Magdeburg"]
["38547","Calberlah","-14 °C","Magdeburg"]
["75323","Calmbach","-16 °C","Stuttgart"]
["75365","Calw","-14 °C","Stuttgart"]
["19246","Camin","-12 °C","Schwerin"]
["17094","Cammin","-14 °C","Greifswald"]
["04685","Cannewitz","-14 °C","Leipzig"]
["59379","Cappenberg","-12 °C","Nürburg-Barweiler"]
["59379","Cappenberg","-12 °C","Nürburg-Barweiler"]
["14548","Caputh","-14 °C","Potsdam"]
["67316","Carlsberg","-12 °C","Saarbrücken"]
["02708","Carlsbrunn","-16 °C","Görlitz"]
["95138","Carlsgrün","-18 °C","Hof"]
["17291","Carmzow","-14 °C","Greifswald"]
["17219","Carolinenhof","-14 °C","Greifswald"]
["02699","Caßlau","-16 °C","Görlitz"]
["445..","Castrop-Rauxel","-10 °C","Dortmund"]
["04758","Cavertitz","-16 °C","Leipzig"]
["292..","Celle","-12 °C","Hannover"]
["93413","Cham","-18 °C","Straubing"]
["93466","Chamerau","-18 °C","Straubing"]
["56379","Charlottenberg","-12 °C","Nürburg-Barweiler"]
["0911.","Chemnitz","-14 °C","Erfurt"]
["83339","Chieming","-16 °C","Hohenpeißenberg"]
["04720","Choren","-14 °C","Leipzig"]
["16230","Chorin","-14 °C","Neuruppin"]
["09236","Claußnitz","-14 °C","Erfurt"]
["38678","Clausthal-Zellerfeld","-14 °C","Magdeburg"]
["74196","Cleversulzbach","-14 °C","Stuttgart"]
["99718","Clingen","-14 °C","Erfurt"]
["49661","Cloppenburg","-12 °C","Hannover"]
["96450","Coburg","-14 °C","Bamberg"]
["56812","Cochem","-10 °C","Nürburg-Barweiler"]
["06449","Cochstedt","-14 °C","Leipzig"]
["48653","Coesfeld","-10 °C","Hannover"]
["04680","Colditz","-14 °C","Leipzig"]
["91598","Colmberg","-16 °C","Nürnberg"]
["01738","Colmnitz","-16 °C","Dresden"]
["04680","Commichau","-14 °C","Leipzig"]
["09633","Conradsdorf","-16 °C","Erfurt"]
["75334","Conweiler","-14 °C","Stuttgart"]
["31863","Coppenbrügge","-14 °C","Hannover"]
["01640","Coswig","-14 °C","Dresden"]
["06869","Coswig","-14 °C","Leipzig"]
["01796","Cotta B","-14 °C","Dresden"]
["030..","Cottbus","-16 °C","Lindenberg"]
["74564","Crailsheim","-16 °C","Stuttgart"]
["65558","Cramberg","-12 °C","Nürburg-Barweiler"]
["08340","Crandorf","-16 °C","Meiningen"]
["09465","Cranzahl","-16 °C","Meiningen"]
["38162","Cremlingen","-14 °C","Magdeburg"]
["72178","Cresbach","-16 °C","Stuttgart"]
["16306","Criewen","-16 °C","Neuruppin"]
["08451","Crimmitschau","-14 °C","Erfurt"]
["19089","Crivitz","-12 °C","Schwerin"]
["19089","Crivitz","-12 °C","Schwerin"]
["08129","Crossen","-14 °C","Erfurt"]
["09306","Crossen","-14 °C","Erfurt"]
["02681","Crostau","-16 °C","Görlitz"]
["09474","Crottendorf","-16 °C","Meiningen"]
["19322","Cumlosen","-14 °C","Schwerin"]
["09456","Cunersdorf","-16 °C","Meiningen"]
["02733","Cunewalde","-16 °C","Görlitz"]
["01824","Cunnersdorf b. Königstein","-16 °C","Dresden"]
["274..","Cuxhaven","-10 °C","Bremen"]
["85221","Dachau","-16 °C","München"]
["91462","Dachsbach","-16 °C","Nürnberg"]
["79875","Dachsberg","-16 °C","Stuttgart"]
["71134","Dachtel","-16 °C","Stuttgart"]
["99100","Dachwig","-14 °C","Erfurt"]
["33100","Dahl","-14 °C","Fritzlar"]
["53949","Dahlem","-14 °C","Nürburg-Barweiler"]
["39326","Dahlenwarsleben","-14 °C","Magdeburg"]
["42477","Dahlerau","-12 °C","Düsseldorf"]
["15366","Dahlwitz-Hoppegarten","-14 °C","Lindenberg"]
["66994","Dahn","-12 °C","Saarbrücken"]
["88718","Daisendorf","-12 °C","Konstanz"]
["19071","Dalberg","-12 °C","Schwerin"]
["73492","Dalkingen","-16 °C","Stuttgart"]
["74834","Dallau","-14 °C","Stuttgart"]
["14624","Dallgow","-14 °C","Potsdam"]
["67592","Dalsheim","-12 °C","Saarbrücken"]
["23738","Damlos","-10 °C","Schwerin"]
["17291","Damme","-14 °C","Greifswald"]
["24351","Damp","-10 °C","Schleswig"]
["15936","Damsdorf","-14 °C","Lindenberg"]
["23948","Damshagen","-10 °C","Schwerin"]
["06493","Dankerode","-16 °C","Leipzig"]
["38461","Danndorf","-14 °C","Magdeburg"]
["38524","Dannenbüttel","-14 °C","Magdeburg"]
["67814","Dannenfels","-12 °C","Saarbrücken"]
["39245","Dannigkow","-14 °C","Magdeburg"]
["67661","Dansenberg","-12 °C","Saarbrücken"]
["38836","Dardesheim","-14 °C","Magdeburg"]
["17498","Dargelin","-12 °C","Greifswald"]
["38871","Darlingerode","-16 °C","Magdeburg"]
["71063","Darmsheim","-16 °C","Stuttgart"]
["642..","Darmstadt","-12 °C","Würzburg"]
["54552","Darscheid","-14 °C","Trier"]
["86453","Dasing","-16 °C","Augsburg"]
["37586","Dassel","-14 °C","Fritzlar"]
["37574","Dassensen","-16 °C","Fritzlar"]
["92358","Daßwangen","-16 °C","Nürnberg"]
["45711","Datteln","-12 °C","Düsseldorf"]
["79379","Dattingen","-14 °C","Karlsruhe"]
["71120","Dätzingen","-16 °C","Stuttgart"]
["56412","Daubach","-14 °C","Nürburg-Barweiler"]
["02906","Dauban","-16 °C","Görlitz"]
["54550","Daun","-14 °C","Trier"]
["91522","Dautenwinden","-16 °C","Nürnberg"]
["04886","Dautzschen","-16 °C","Leipzig"]
["76185","Daxlanden","-12 °C","Karlsruhe"]
["27607","Debstedt","-10 °C","Bremen"]
["18317","Dechowshof","-10 °C","Rostock"]
["75392","Deckenpfronn","-16 °C","Stuttgart"]
["30926","Dedensen","-14 °C","Hannover"]
["37627","Deensen","-14 °C","Fritzlar"]
["88456","Degernau","-16 °C","Stuttgart"]
["72762","Degerschlacht","-16 °C","Stuttgart"]
["94469","Deggenau","-18 °C","Straubing"]
["94469","Deggendorf","-18 °C","Straubing"]
["88693","Deggenhausental","-14 °C","Stuttgart"]
["73326","Deggingen","-16 °C","Stuttgart"]
["08538","Dehles","-18 °C","Meiningen"]
["67146","Deidesheim","-12 °C","Saarbrücken"]
["78586","Deilingen","-18 °C","Stuttgart"]
["92364","Deining","-16 °C","Nürnberg"]
["86738","Deiningen","-16 °C","Augsburg"]
["33129","Delbrück","-12 °C","Fritzlar"]
["04509","Delitzsch","-14 °C","Leipzig"]
["31073","Delligsen","-14 °C","Hannover"]
["89155","Dellmensingen","-14 °C","Augsburg"]
["277..","Delmenhorst","-12 °C","Bremen"]
["19089","Demen","-12 °C","Schwerin"]
["01877","Demitz - Thumitz","-16 °C","Dresden"]
["85098","Demling","-18 °C","München"]
["17109","Demmin","-12 °C","Greifswald"]
["73770","Denkendorf","-14 °C","Stuttgart"]
["88630","Denkingen","-14 °C","Stuttgart"]
["14913","Dennewitz","-14 °C","Potsdam"]
["79207","Denzlingen","-14 °C","Stuttgart"]
["79211","Denzlingen","-14 °C","Stuttgart"]
["39317","Derben","-14 °C","Magdeburg"]
["38895","Derenburg","-14 °C","Magdeburg"]
["37691","Derental","-14 °C","Fritzlar"]
["53507","Dernau","-14 °C","Nürburg-Barweiler"]
["56428","Dernbach","-14 °C","Nürburg-Barweiler"]
["76857","Dernbach","-12 °C","Saarbrücken"]
["31188","Derneburg","-14 °C","Hannover"]
["0684.","Dessau","-14 °C","Leipzig"]
["327..","Detmold","-12 °C","Fritzlar"]
["72135","Dettenhausen","-16 °C","Stuttgart"]
["76706","Dettenheim","-12 °C","Karlsruhe"]
["86911","Dettenschwang","-16 °C","Kempten"]
["89547","Dettingen","-16 °C","Augsburg"]
["89584","Dettingen","-14 °C","Augsburg"]
["72108","Dettingen","-16 °C","Stuttgart"]
["72160","Dettingen","-16 °C","Stuttgart"]
["73265","Dettingen","-16 °C","Stuttgart"]
["88451","Dettingen","-16 °C","Stuttgart"]
["72581","Dettingen an der Erms","-16 °C","Stuttgart"]
["18320","Dettmannsdorf","-12 °C","Rostock"]
["71134","Deufringen","-16 °C","Stuttgart"]
["54411","Deuselbach","-12 °C","Trier"]
["84166","Deutenkofen","-16 °C","Straubing"]
["09548","Deutscheinsiedel","-16 °C","Meiningen"]
["09548","Deutschkatharinenberg","-16 °C","Meiningen"]
["09548","Deutschneudorf","-16 °C","Meiningen"]
["78355","Deutwang","-14 °C","Konstanz"]
["04574","Deutzen","-14 °C","Leipzig"]
["18439","Devin","-10 °C","Rostock"]
["55278","Dexheim","-12 °C","Trier"]
["38530","Didderse","-14 °C","Magdeburg"]
["91583","Diebach","-16 °C","Nürnberg"]
["56332","Dieblich","-12 °C","Nürburg-Barweiler"]
["64807","Dieburg","-14 °C","Würzburg"]
["75015","Diedelsheim","-12 °C","Stuttgart"]
["67434","Diedesfeld","-12 °C","Saarbrücken"]
["86420","Diedorf","-16 °C","Augsburg"]
["18119","Diedrichshagen","-10 °C","Rostock"]
["31199","Diekholzen","-14 °C","Hannover"]
["69234","Dielheim","-12 °C","Würzburg"]
["86657","Diemantstein","-16 °C","Augsburg"]
["34519","Diemelsee","-16 °C","Fritzlar"]
["34474","Diemelstadt","-14 °C","Fritzlar"]
["15864","Diensdorf","-14 °C","Lindenberg"]
["97941","Dienstadt","-14 °C","Würzburg"]
["31603","Diepenau","-12 °C","Hannover"]
["91227","Diepersdorf","-16 °C","Nürnberg"]
["01665","Diera","-14 °C","Dresden"]
["77749","Diersburg","-12 °C","Karlsruhe"]
["77866","Diersheim","-12 °C","Karlsruhe"]
["06184","Dieshau","-14 °C","Leipzig"]
["91456","Diespeck","-16 °C","Nürnberg"]
["86911","Dießen","-16 °C","Kempten"]
["89165","Dietenheim","-16 °C","Augsburg"]
["90599","Dietenhofen","-16 °C","Nürnberg"]
["88524","Dieterskirch","-14 °C","Stuttgart"]
["75210","Dietlingen","-14 °C","Stuttgart"]
["88410","Dietmanns","-16 °C","Stuttgart"]
["87463","Dietmannsried","-16 °C","Kempten"]
["63128","Dietzenbach","-12 °C","Würzburg"]
["35716","Dietzhölztal","-14 °C","Fritzlar"]
["65582","Diez","-12 °C","Nürburg-Barweiler"]
["71034","Diezenhalde","-14 °C","Stuttgart"]
["35683","Dillenburg","-12 °C","Fritzlar"]
["89407","Dillingen/Donau","-16 °C","Augsburg"]
["66763","Dillingen-Diefflen","-12 °C","Saarbrücken"]
["46499","Dingden","-10 °C","Düsseldorf"]
["78465","Dingelsdorf","-12 °C","Konstanz"]
["37351","Dingelstädt","-16 °C","Fritzlar"]
["38838","Dingelstedt","-14 °C","Magdeburg"]
["84130","Dingolfing","-18 °C","Straubing"]
["84130","Dingolfingen","-16 °C","Straubing"]
["91550","Dinkelsbühl","-16 °C","Nürnberg"]
["86424","Dinkelscherben","-16 °C","Augsburg"]
["59514","Dinker","-12 °C","Nürburg-Barweiler"]
["49413","Dinklage","-12 °C","Hannover"]
["4653.","Dinslaken","-10 °C","Düsseldorf"]
["01744","Dippoldiswalde","-14 °C","Dresden"]
["27412","Dipshorn","-12 °C","Bremen"]
["87742","Dirlewang","-16 °C","Augsburg"]
["89561","Dischingen","-16 °C","Augsburg"]
["49201","Dissen","-12 °C","Hannover"]
["03052","Dissenchen","-16 °C","Lindenberg"]
["06484","Ditfurt","-14 °C","Leipzig"]
["67596","Dittelsheim - Heßloch","-12 °C","Saarbrücken"]
["91723","Dittenheim","-16 °C","Nürnberg"]
["01768","Dittersbach","-16 °C","Dresden"]
["09669","Dittersbach","-16 °C","Erfurt"]
["02748","Dittersbach auf dem Eigen","-16 °C","Görlitz"]
["09629","Dittmannsdorf","-14 °C","Erfurt"]
["09573","Dittmannsdorf","-14 °C","Meiningen"]
["71254","Ditzingen","-14 °C","Stuttgart"]
["75335","Dobel","-16 °C","Stuttgart"]
["04720","Döbeln","-14 °C","Leipzig"]
["04874","Döbeltitz","-16 °C","Leipzig"]
["03253","Doberlug","-16 °C","Lindenberg"]
["04860","Döbern","-16 °C","Leipzig"]
["03159","Döbern","-16 °C","Lindenberg"]
["02699","Doberschütz","-16 °C","Görlitz"]
["04838","Doberschütz","-14 °C","Leipzig"]
["04703","Doberschwitz","-14 °C","Leipzig"]
["04626","Dobitschen","-14 °C","Leipzig"]
["06729","Döbitzschen","-14 °C","Leipzig"]
["01561","Dobra","-16 °C","Dresden"]
["01833","Dobra","-14 °C","Dresden"]
["04924","Dobra","-16 °C","Leipzig"]
["54552","Dockweiler","-14 °C","Trier"]
["54518","Dodenburg","-14 °C","Trier"]
["04509","Doebernitz","-14 °C","Leipzig"]
["71120","Döffingen","-16 °C","Stuttgart"]
["79804","Dogern","-12 °C","Stuttgart"]
["95182","Döhlau","-18 °C","Hof"]
["01796","Dohma","-14 °C","Dresden"]
["01809","Dohna","-14 °C","Dresden"]
["06120","Dölau","-14 °C","Leipzig"]
["06184","Dölbau","-14 °C","Leipzig"]
["03238","Dollenchen","-16 °C","Lindenberg"]
["24989","Dollerup","-10 °C","Schleswig"]
["99100","Döllstädt","-14 °C","Erfurt"]
["92364","Döllwang","-16 °C","Nürnberg"]
["19303","Dömitz","-12 °C","Schwerin"]
["04880","Dommitsch","-16 °C","Leipzig"]
["04880","Dommitzsch","-16 °C","Leipzig"]
["04924","Domsdorf","-16 °C","Leipzig"]
["19374","Domsühl","-14 °C","Schwerin"]
["78166","Donaueschingen","-18 °C","Stuttgart"]
["86609","Donauwörth","-16 °C","Augsburg"]
["06571","Donndorf","-14 °C","Leipzig"]
["27612","Donnern","-12 °C","Bremen"]
["72587","Donnstetten","-18 °C","Stuttgart"]
["73072","Donzdorf","-16 °C","Stuttgart"]
["54528","Dörbach","-14 °C","Trier"]
["32694","Dörentrup","-14 °C","Fritzlar"]
["18311","Dorf Körkwitz","-10 °C","Rostock"]
["23972","Dorf Mecklenburg","-10 °C","Schwerin"]
["29683","Dorfmark","-14 °C","Hannover"]
["97904","Dorfprozelten","-14 °C","Würzburg"]
["02979","Dörgenhausen","-16 °C","Görlitz"]
["61169","Dorheim","-12 °C","Fritzlar"]
["77978","Dörlinbach","-14 °C","Stuttgart"]
["41542","Dormagen","-10 °C","Düsseldorf"]
["72358","Dormettingen","-16 °C","Stuttgart"]
["72124","Dörnach","-16 °C","Stuttgart"]
["89186","Dorndorf","-16 °C","Augsburg"]
["67585","Dorn-Dürkheim","-12 °C","Saarbrücken"]
["72175","Dornhan","-16 °C","Stuttgart"]
["89160","Dornstadt","-16 °C","Augsburg"]
["72280","Dornstetten","-16 °C","Stuttgart"]
["09509","Dörnthal","-16 °C","Meiningen"]
["56370","Dörsdorf","-14 °C","Nürburg-Barweiler"]
["4628.","Dorsten","-10 °C","Düsseldorf"]
["44388","Dortmund - Bövinghausen","-12 °C","Dortmund"]
["44309","Dortmund - Brackel","-12 °C","Dortmund"]
["44369","Dortmund - Deusen","-12 °C","Dortmund"]
["44329","Dortmund - Grevel","-12 °C","Dortmund"]
["44263","Dortmund - Hörde","-12 °C","Dortmund"]
["44149","Dortmund - Kley","-12 °C","Dortmund"]
["44229","Dortmund - Lücklemberg","-12 °C","Dortmund"]
["44...","Dortmund - Oespel","-12 °C","Dortmund"]
["44269","Dortmund - Schüren","-12 °C","Dortmund"]
["44265","Dortmund - Wichlinghofen","-12 °C","Dortmund"]
["27632","Dorum","-10 °C","Bremen"]
["74677","Dörzbach","-14 °C","Stuttgart"]
["04720","Döschütz","-14 °C","Leipzig"]
["79739","Dossenbach","-12 °C","Stuttgart"]
["69221","Dossenheim","-12 °C","Würzburg"]
["72359","Dotternhausen","-18 °C","Stuttgart"]
["79282","Dottingen","-14 °C","Karlsruhe"]
["72525","Dottingen","-18 °C","Stuttgart"]
["56729","Döttingen","-14 °C","Nürburg-Barweiler"]
["94256","Drachselsried","-18 °C","Straubing"]
["73345","Drackenstein","-18 °C","Stuttgart"]
["55127","Drais","-12 °C","Karlsruhe"]
["31623","Drakenburg","-12 °C","Hannover"]
["37127","Dransfeld","-14 °C","Fritzlar"]
["04938","Drasdo","-16 °C","Leipzig"]
["56330","Dreckenach","-14 °C","Nürburg-Barweiler"]
["53520","Drees","-14 °C","Nürburg-Barweiler"]
["63303","Dreieich","-12 °C","Würzburg"]
["54518","Dreis","-14 °C","Trier"]
["54552","Dreis-Brück","-14 °C","Trier"]
["48317","Drensteinfurt","-12 °C","Hannover"]
["01108","Dresden - Weixdorf","-14 °C","Dresden"]
["33014","Dringenberg","-14 °C","Fritzlar"]
["19069","Drispeth","-12 °C","Schwerin"]
["21706","Drochtersen","-10 °C","Hamburg"]
["08606","Dröda","-18 °C","Meiningen"]
["21386","Drögennindorf","-14 °C","Hamburg"]
["57489","Drolshagen","-12 °C","Nürburg-Barweiler"]
["91238","Drosberg","-16 °C","Nürnberg"]
["52372","Drove","-14 °C","Aachen"]
["06722","Droyßig","-14 °C","Leipzig"]
["55585","Duchroth","-12 °C","Trier"]
["63654","Düdelsheim","-12 °C","Würzburg"]
["63110","Dudenhofen","-12 °C","Würzburg"]
["37115","Duderstadt","-16 °C","Fritzlar"]
["66125","Dudweiler / Saar","-12 °C","Saarbrücken"]
["74889","Dühren","-12 °C","Stuttgart"]
["31089","Duingen","-14 °C","Hannover"]
["47...","Duisburg","-10 °C","Dortmund"]
["41751","Dülken","-10 °C","Düsseldorf"]
["48249","Dülmen","-12 °C","Hannover"]
["19073","Dümmer","-12 °C","Schwerin"]
["19073","Dümmerhütte","-12 °C","Schwerin"]
["19073","Dümmerstück-Hof","-12 °C","Schwerin"]
["53520","Dümpelfeld","-14 °C","Nürburg-Barweiler"]
["77743","Dundenheim","-12 °C","Karlsruhe"]
["31226","Dungelbeck","-14 °C","Hannover"]
["56761","Düngenheim","-14 °C","Nürburg-Barweiler"]
["78655","Dunningen","-16 °C","Stuttgart"]
["74582","Dünsbach","-16 °C","Stuttgart"]
["27243","Dünsen","-14 °C","Bremen"]
["54597","Duppach","-14 °C","Trier"]
["77770","Durbach","-12 °C","Karlsruhe"]
["78589","Dürbheim","-18 °C","Stuttgart"]
["523..","Düren","-12 °C","Aachen"]
["73568","Durlangen","-16 °C","Stuttgart"]
["88525","Dürmentingen","-14 °C","Stuttgart"]
["76448","Durmersheim","-12 °C","Karlsruhe"]
["73105","Dürnau","-16 °C","Stuttgart"]
["88422","Dürnau","-14 °C","Stuttgart"]
["72172","Dürrenmettstetten","-16 °C","Stuttgart"]
["72525","Dürrenstetten (Münsingen)","-16 °C","Stuttgart"]
["08396","Dürrenuhlsdorf","-14 °C","Erfurt"]
["02708","Dürrhennersdorf","-16 °C","Görlitz"]
["89350","Dürrlauingen","-16 °C","Augsburg"]
["75248","Dürrn","-14 °C","Stuttgart"]
["01833","Dürröhrsdorf","-14 °C","Dresden"]
["72285","Durrweiler","-16 °C","Stuttgart"]
["04668","Dürrweitzschen","-14 °C","Leipzig"]
["04720","Dürrweitzschen","-14 °C","Leipzig"]
["51515","Dürscheid","-12 °C","Nürburg-Barweiler"]
["29664","Düshorn","-12 °C","Hannover"]
["72144","Dußlingen","-16 °C","Stuttgart"]
["35582","Dutenhofen","-12 °C","Fritzlar"]
["19205","Dutzow","-12 °C","Schwerin"]
["39179","Ebendorf","-14 °C","Magdeburg"]
["87640","Ebenhofen","-16 °C","Kempten"]
["96250","Ebensfeld","-16 °C","Bamberg"]
["88370","Ebenweiler","-14 °C","Stuttgart"]
["69412","Eberbach a.N.","-12 °C","Würzburg"]
["71735","Eberdingen","-14 °C","Stuttgart"]
["88436","Eberhardzell","-16 °C","Stuttgart"]
["31079","Eberholzen","-14 °C","Hannover"]
["91320","Ebermannstadt","-16 °C","Nürnberg"]
["01561","Ebersbach","-16 °C","Dresden"]
["02730","Ebersbach","-16 °C","Görlitz"]
["04720","Ebersbach","-14 °C","Leipzig"]
["88371","Ebersbach","-14 °C","Stuttgart"]
["73061","Ebersbach an der Fils","-16 °C","Stuttgart"]
["85560","Ebersberg","-16 °C","München"]
["08144","Ebersbrunn","-14 °C","Erfurt"]
["34388","Eberschütz","-14 °C","Fritzlar"]
["27432","Ebersdorf","-12 °C","Bremen"]
["091..","Ebersdorf","-14 °C","Erfurt"]
["02708","Ebersdorf","-16 °C","Görlitz"]
["72224","Ebershardt","-16 °C","Stuttgart"]
["74246","Eberstadt","-14 °C","Stuttgart"]
["74653","Eberstal","-14 °C","Stuttgart"]
["16227","Eberswalde","-14 °C","Neuruppin"]
["16225","Eberswalde / Finow","-14 °C","Neuruppin"]
["67280","Ebertsheim","-12 °C","Saarbrücken"]
["72224","Ebhausen","-16 °C","Stuttgart"]
["72458","Ebingen (Albstadt)","-18 °C","Stuttgart"]
["08626","Ebmath","-18 °C","Meiningen"]
["79117","Ebnet","-16 °C","Karlsruhe"]
["73667","Ebni-Kaiserbach","-16 °C","Stuttgart"]
["79285","Ebringen","-14 °C","Stuttgart"]
["89423","Echenbrunn","-16 °C","Augsburg"]
["82279","Eching am Ammersee","-16 °C","Kempten"]
["77731","Eckartsweier","-12 °C","Karlsruhe"]
["90542","Eckental","-16 °C","Nürnberg"]
["72108","Eckenweiler","-16 °C","Stuttgart"]
["24340","Eckernförde","-10 °C","Schleswig"]
["37339","Ecklingerode","-16 °C","Fritzlar"]
["14913","Eckmannsdorf","-14 °C","Potsdam"]
["99195","Eckstedt","-14 °C","Erfurt"]
["97215","Eckwarhofen","-16 °C","Würzburg"]
["29575","Eddelstorf","-12 °C","Hannover"]
["06388","Edderitz","-14 °C","Leipzig"]
["88453","Edelbeuren","-16 °C","Stuttgart"]
["72285","Edelweiler","-16 °C","Stuttgart"]
["31234","Edemissen","-14 °C","Hannover"]
["88416","Edenbachen","-16 °C","Stuttgart"]
["67480","Edenkoben","-12 °C","Saarbrücken"]
["34295","Edermünde","-14 °C","Fritzlar"]
["26188","Edewecht","-12 °C","Emden"]
["26169","Edewechterdamm/Friesoythe","-12 °C","Emden"]
["06420","Edlau","-14 °C","Leipzig"]
["83533","Edling","-16 °C","Hohenpeißenberg"]
["41849","Effeld","-10 °C","Düsseldorf"]
["50354","Efferen","-12 °C","Düsseldorf"]
["72218","Effringen","-16 °C","Stuttgart"]
["79588","Efringen-Kirchen","-12 °C","Karlsruhe"]
["88048","Efrizweiler","-12 °C","Konstanz"]
["39435","Egeln","-14 °C","Magdeburg"]
["63329","Egelsbach","-12 °C","Würzburg"]
["72227","Egenhausen","-16 °C","Stuttgart"]
["91238","Egensbach","-16 °C","Nürnberg"]
["78592","Egesheim","-18 °C","Stuttgart"]
["31848","Egestorf a. Süntel","-14 °C","Hannover"]
["86698","Eggelstetten","-16 °C","Augsburg"]
["84307","Eggenfelden","-16 °C","Straubing"]
["73479","Eggenrot","-16 °C","Stuttgart"]
["76344","Eggenstein","-12 °C","Karlsruhe"]
["49577","Eggermühlen","-12 °C","Hannover"]
["89079","Eggingen","-14 °C","Augsburg"]
["79805","Eggingen","-14 °C","Stuttgart"]
["84385","Egglham","-16 °C","Straubing"]
["88410","Eggmannsried","-16 °C","Stuttgart"]
["91330","Eggolsheim","-16 °C","Nürnberg"]
["83125","Eggstätt","-16 °C","Hohenpeißenberg"]
["94535","Eging a. See","-18 °C","Straubing"]
["86492","Egling a.d. Paar","-16 °C","Augsburg"]
["89561","Eglingen","-16 °C","Augsburg"]
["71634","Eglosheim","-12 °C","Stuttgart"]
["79588","Egringen","-12 °C","Karlsruhe"]
["86676","Ehekirchen","-16 °C","Augsburg"]
["72534","Ehestetten","-16 °C","Stuttgart"]
["89584","Ehingen","-14 °C","Augsburg"]
["91725","Ehingen","-16 °C","Nürnberg"]
["31303","Ehlershausen","-14 °C","Hannover"]
["38442","Ehmen","-14 °C","Magdeburg"]
["71139","Ehningen","-16 °C","Stuttgart"]
["04430","Ehrenberg","-14 °C","Leipzig"]
["04603","Ehrenberg","-14 °C","Leipzig"]
["27248","Ehrenburg","-12 °C","Bremen"]
["79238","Ehrenkirchen","-14 °C","Karlsruhe"]
["35630","Ehringhausen","-12 °C","Fritzlar"]
["35630","Ehringshausen","-12 °C","Fritzlar"]
["02739","Eibau","-16 °C","Görlitz"]
["35713","Eibelshausen","-14 °C","Fritzlar"]
["08309","Eibenstock","-16 °C","Meiningen"]
["67575","Eich","-12 °C","Saarbrücken"]
["04720","Eichardt","-14 °C","Leipzig"]
["76684","Eichelberg","-12 °C","Stuttgart"]
["57632","Eichen","-14 °C","Nürburg-Barweiler"]
["82223","Eichenau","-16 °C","Kempten"]
["39167","Eichenbarleben","-14 °C","Magdeburg"]
["94428","Eichendorf","-16 °C","Straubing"]
["36148","Eichenried","-14 °C","Fritzlar"]
["36124","Eichenzell","-14 °C","Fritzlar"]
["85464","Eicherloh","-16 °C","München"]
["52152","Eicherscheid","-14 °C","Aachen"]
["79618","Eichsel","-12 °C","Stuttgart"]
["85072","Eichstätt","-16 °C","München"]
["39596","Eichstedt","-14 °C","Magdeburg"]
["79356","Eichstetten","-12 °C","Karlsruhe"]
["15732","Eichwalde","-14 °C","Lindenberg"]
["39221","Eickendorf","-14 °C","Magdeburg"]
["35713","Eiershausen","-14 °C","Fritzlar"]
["04838","Eilenburg","-14 °C","Leipzig"]
["38838","Eilenstedt","-14 °C","Magdeburg"]
["31535","Eilvese","-14 °C","Hannover"]
["31036","Eime","-14 °C","Hannover"]
["79591","Eimeldingen","-12 °C","Stuttgart"]
["37632","Eimen","-14 °C","Fritzlar"]
["39943","Eimersleben","-14 °C","Magdeburg"]
["37574","Einbeck","-16 °C","Fritzlar"]
["88356","Einhart","-14 °C","Stuttgart"]
["64683","Einhausen","-12 °C","Karlsruhe"]
["66424","Einöd","-12 °C","Saarbrücken"]
["85254","Einsbach","-16 °C","München"]
["89079","Einsingen","-14 °C","Augsburg"]
["27337","Einste","-12 °C","Bremen"]
["83549","Eiselfing","-16 °C","Hohenpeißenberg"]
["99817","Eisenach","-16 °C","Meiningen"]
["87637","Eisenberg","-18 °C","Kempten"]
["88260","Eisenharz","-16 °C","Stuttgart"]
["97247","Eisenheim","-14 °C","Würzburg"]
["15890","Eisenhüttenstadt","-16 °C","Lindenberg"]
["77815","Eisental","-12 °C","Karlsruhe"]
["98673","Eisfeld","-16 °C","Meiningen"]
["75239","Eisingen","-14 °C","Stuttgart"]
["86447","Eisingersdorf","-16 °C","Augsburg"]
["06295","Eisleben","-14 °C","Leipzig"]
["73054","Eislingen","-16 °C","Stuttgart"]
["56337","Eitelborn","-12 °C","Nürburg-Barweiler"]
["85117","Eitensheim","-16 °C","München"]
["53783","Eitorf","-12 °C","Nürburg-Barweiler"]
["85462","Eitting","-16 °C","München"]
["31035","Eitzum","-14 °C","Hannover"]
["38170","Eitzum","-14 °C","Magdeburg"]
["57482","Elben","-14 °C","Nürburg-Barweiler"]
["39326","Elbeu","-14 °C","Magdeburg"]
["04651","Elbisbach","-14 °C","Leipzig"]
["76477","Elchesheim","-12 °C","Karlsruhe"]
["19294","Eldena","-14 °C","Schwerin"]
["77656","Elgersweier","-12 °C","Karlsruhe"]
["59955","Elkeringhausen","-16 °C","Nürburg-Barweiler"]
["85567","Elkofen","-16 °C","München"]
["08236","Ellefeld","-16 °C","Meiningen"]
["73488","Ellenberg","-16 °C","Stuttgart"]
["40625","Eller","-10 °C","Düsseldorf"]
["25479","Ellerau","-12 °C","Schleswig"]
["35110","Ellershausen","-14 °C","Fritzlar"]
["86679","Ellgau","-16 °C","Augsburg"]
["74248","Ellhofen ","-14 °C","Stuttgart"]
["91792","Ellingen","-16 °C","Nürnberg"]
["75210","Ellmendingen","-14 °C","Stuttgart"]
["99755","Ellrich","-16 °C","Erfurt"]
["88430","Ellwangen","-16 °C","Stuttgart"]
["73479","Ellwangen / Jagst","-16 °C","Stuttgart"]
["89352","Ellzee","-16 °C","Augsburg"]
["18107","Elmenhorst","-10 °C","Rostock"]
["41372","Elmpt","-10 °C","Düsseldorf"]
["2533.","Elmshorn","-12 °C","Schleswig"]
["67471","Elmstein","-12 °C","Saarbrücken"]
["35041","Elnhausen","-14 °C","Fritzlar"]
["97990","Elpersheim","-16 °C","Würzburg"]
["50189","Elsdorf / Rheinl.","-12 °C","Düsseldorf"]
["33106","Elsen","-12 °C","Fritzlar"]
["63820","Elsenfeld","-12 °C","Würzburg"]
["75031","Elsenz","-14 °C","Stuttgart"]
["26931","Elsfleth","-10 °C","Emden"]
["57368","Elspe","-14 °C","Nürburg-Barweiler"]
["06918","Elster","-14 °C","Leipzig"]
["04910","Elsterwerda","-16 °C","Leipzig"]
["01920","Elstra","-16 °C","Dresden"]
["46446","Elten","-10 °C","Düsseldorf"]
["97483","Eltmann","-16 °C","Würzburg"]
["37269","Eltmannshausen","-14 °C","Fritzlar"]
["65346","Eltville","-12 °C","Nürburg-Barweiler"]
["31311","Eltze","-14 °C","Hannover"]
["65604","Elz (Westerwald)","-14 °C","Nürburg-Barweiler"]
["79215","Elzach","-16 °C","Stuttgart"]
["79215","Elzach-Yach","-16 °C","Stuttgart"]
["31008","Elze","-14 °C","Hannover"]
["74834","Elztal","-14 °C","Stuttgart"]
["21409","Embsen","-12 °C","Hamburg"]
["2672.","Emden","-10 °C","Emden"]
["88499","Emeringen","-16 °C","Stuttgart"]
["86494","Emersacker","-16 °C","Augsburg"]
["72535","Emmabäuren","-18 °C","Stuttgart"]
["56281","Emmelshausen","-14 °C","Nürburg-Barweiler"]
["79312","Emmendingen","-14 °C","Karlsruhe"]
["46446","Emmerich","-10 °C","Dortmund"]
["31180","Emmerke","-14 °C","Hannover"]
["31860","Emmern","-12 °C","Hannover"]
["31860","Emmerthal","-12 °C","Hannover"]
["69126","Emmertsgrund","-12 °C","Würzburg"]
["72202","Emmingen","-16 °C","Stuttgart"]
["78576","Emmingen-Liptingen","-16 °C","Stuttgart"]
["30952","Empelde","-14 °C","Hannover"]
["72186","Empfingen","-16 °C","Stuttgart"]
["72186","Empfingen-Dommelsberg","-16 °C","Stuttgart"]
["48488","Emsbüren","-10 °C","Hannover"]
["48282","Emsdetten","-12 °C","Hannover"]
["91448","Emskirchen","-16 °C","Nürnberg"]
["95233","Enchenreuth","-18 °C","Hof"]
["71384","Endersbach","-14 °C","Stuttgart"]
["79346","Endingen","-12 °C","Karlsruhe"]
["06333","Endorf","-14 °C","Leipzig"]
["30855","Engelbostel","-14 °C","Hannover"]
["08606","Engelhartsgrün","-18 °C","Meiningen"]
["27305","Engeln","-12 °C","Bremen"]
["56729","Engeln","-14 °C","Nürburg-Barweiler"]
["75331","Engelsbrand","-14 °C","Stuttgart"]
["04439","Engelsdorf","-14 °C","Leipzig"]
["51766","Engelskirchen","-10 °C","Nürburg-Barweiler"]
["55270","Engelstadt","-12 °C","Trier"]
["91238","Engelthal","-16 °C","Nürnberg"]
["65527","Engenhahn","-14 °C","Nürburg-Barweiler"]
["30938","Engensen","-14 °C","Hannover"]
["32130","Enger","-12 °C","Fritzlar"]
["04618","Engertsdorf","-14 °C","Leipzig"]
["94530","Engolling","-18 °C","Straubing"]
["72829","Engstingen","-18 °C","Stuttgart"]
["72339","Engstlatt","-16 °C","Stuttgart"]
["72800","Eningen","-16 °C","Stuttgart"]
["58256","Ennepetal","-12 °C","Nürburg-Barweiler"]
["57439","Ennest","-14 °C","Nürburg-Barweiler"]
["88512","Ennetach","-14 °C","Stuttgart"]
["59320","Ennigerloh","-12 °C","Nürburg-Barweiler"]
["66806","Ensdorf","-12 °C","Saarbrücken"]
["59469","Ense","-12 °C","Nürburg-Barweiler"]
["55232","Ensheim","-12 °C","Trier"]
["71665","Ensingen","-14 °C","Stuttgart"]
["72119","Entringen","-16 °C","Stuttgart"]
["75417","Enzberg","-14 °C","Stuttgart"]
["75337","Enzklösterle","-16 °C","Stuttgart"]
["71665","Enzweihingen","-14 °C","Stuttgart"]
["86920","Epfach","-16 °C","Kempten"]
["74925","Epfenbach","-12 °C","Stuttgart"]
["78736","Epfendorf","-16 °C","Stuttgart"]
["66571","Eppelborn","-12 °C","Saarbrücken"]
["69214","Eppelheim","-12 °C","Würzburg"]
["66957","Eppenbrunn","-12 °C","Saarbrücken"]
["09575","Eppendorf","-16 °C","Meiningen"]
["94536","Eppenschlag","-18 °C","Straubing"]
["75031","Eppingen","-14 °C","Stuttgart"]
["65817","Eppstein","-14 °C","Nürburg-Barweiler"]
["89155","Erbach","-14 °C","Augsburg"]
["65346","Erbach","-12 °C","Nürburg-Barweiler"]
["64711","Erbach","-14 °C","Würzburg"]
["65205","Erbenheim","-12 °C","Nürburg-Barweiler"]
["21365","Erbstorf","-12 °C","Hamburg"]
["32689","Erder","-12 °C","Fritzlar"]
["85435","Erding","-16 °C","München"]
["71729","Erdmannhausen","-12 °C","Stuttgart"]
["09573","Erdmannsdorf","-14 °C","Meiningen"]
["85253","Erdweg","-16 °C","München"]
["86922","Eresing","-16 °C","Kempten"]
["50374","Erftstadt","-12 °C","Düsseldorf"]
["990..","Erfurt","-14 °C","Erfurt"]
["66996","Erfweiler","-12 °C","Saarbrücken"]
["72108","Ergenzingen","-16 °C","Stuttgart"]
["84030","Ergolding","-16 °C","Straubing"]
["84061","Ergoldsbach","-18 °C","Straubing"]
["58239","Ergste","-12 °C","Nürburg-Barweiler"]
["88097","Eriskirch","-12 °C","Konstanz"]
["41812","Erkelenz","-10 °C","Düsseldorf"]
["33034","Erkeln","-14 °C","Fritzlar"]
["73268","Erkenbrechtsweiler","-16 °C","Stuttgart"]
["15537","Erkner","-14 °C","Lindenberg"]
["40699","Erkrath","-10 °C","Düsseldorf"]
["97250","Erlabrunn","-14 °C","Würzburg"]
["77871","Erlach","-12 °C","Karlsruhe"]
["9105.","Erlangen","-16 °C","Nürnberg"]
["09326","Erlbach","-14 °C","Erfurt"]
["08265","Erlbach","-18 °C","Meiningen"]
["46348","Erle","-10 °C","Düsseldorf"]
["74235","Erlenbach","-12 °C","Stuttgart"]
["97837","Erlenbach b.Marktheidenfeld","-12 °C","Würzburg"]
["88416","Erlenmoos","-16 °C","Stuttgart"]
["63526","Erlensee","-12 °C","Würzburg"]
["74391","Erligheim","-12 °C","Stuttgart"]
["86405","Erlingen","-16 °C","Augsburg"]
["87487","Ermengerst","-16 °C","Kempten"]
["89081","Ermingen","-14 °C","Augsburg"]
["06463","Ermsleben","-14 °C","Leipzig"]
["85119","Ernsgaden","-18 °C","München"]
["35099","Ernsthausen","-14 °C","Fritzlar"]
["75365","Ernstmühl","-14 °C","Stuttgart"]
["88453","Erolzheim","-16 °C","Stuttgart"]
["72820","Erpfingen","-18 °C","Stuttgart"]
["67167","Erpolzheim","-12 °C","Saarbrücken"]
["89155","Ersingen","-14 °C","Augsburg"]
["75236","Ersingen","-14 °C","Stuttgart"]
["88521","Ertingen","-14 °C","Stuttgart"]
["59597","Erwitte","-12 °C","Nürburg-Barweiler"]
["33039","Erwitzen","-14 °C","Fritzlar"]
["39343","Erxleben","-14 °C","Magdeburg"]
["72297","Erzgrube","-16 °C","Stuttgart"]
["72336","Erzingen","-18 °C","Stuttgart"]
["54585","Esch","-14 °C","Trier"]
["73569","Eschach","-16 °C","Stuttgart"]
["61250","Eschbach","-14 °C","Fritzlar"]
["79427","Eschbach","-12 °C","Karlsruhe"]
["65760","Eschborn","-12 °C","Nürburg-Barweiler"]
["78664","Eschbronn","-16 °C","Stuttgart"]
["85283","Eschelbach","-18 °C","München"]
["90542","Eschenau","-16 °C","Nürnberg"]
["92676","Eschenbach","-16 °C","Nürnberg"]
["73107","Eschenbach","-16 °C","Stuttgart"]
["97483","Eschenbach","-16 °C","Würzburg"]
["99869","Eschenberg","-14 °C","Erfurt"]
["35713","Eschenburg","-14 °C","Fritzlar"]
["92295","Eschenfelden","-16 °C","Nürnberg"]
["63679","Eschenrod","-14 °C","Würzburg"]
["37632","Eschershausen","-14 °C","Fritzlar"]
["93458","Eschlkam","-18 °C","Straubing"]
["53840","Eschmar","-12 °C","Nürburg-Barweiler"]
["37269","Eschwege","-14 °C","Fritzlar"]
["52249","Eschweiler / Rheinl.","-12 °C","Aachen"]
["88271","Esenhausen","-14 °C","Stuttgart"]
["53804","Esinghausen","-12 °C","Nürburg-Barweiler"]
["59889","Eslohe","-14 °C","Nürburg-Barweiler"]
["32339","Espelkamp","-12 °C","Fritzlar"]
["65391","Espenschied","-14 °C","Nürburg-Barweiler"]
["24887","Esperstoft","-12 °C","Schleswig"]
["97839","Esselbach","-14 °C","Würzburg"]
["49632","Essen","-12 °C","Hannover"]
["45...","Essen - Burgaltenburg","-12 °C","Dortmund"]
["45239","Essen - Fischlaken","-10 °C","Dortmund"]
["45239","Essen - Heidhausen","-10 °C","Dortmund"]
["45259","Essen - Heisingen","-10 °C","Dortmund"]
["45219","Essen - Kettwig","-10 °C","Dortmund"]
["45359","Essen - Schönebeck","-10 °C","Dortmund"]
["45141","Essen - Stoppenberg","-10 °C","Dortmund"]
["45277","Essen - Überruhr-Hinsel","-10 °C","Dortmund"]
["45277","Essen - Überruhr-Holthausen","-10 °C","Dortmund"]
["45239","Essen - Werden","-10 °C","Dortmund"]
["84051","Essenbach","-16 °C","Straubing"]
["55270","Essenheim","-12 °C","Trier"]
["73457","Essingen","-16 °C","Stuttgart"]
["97440","Eßleben","-14 °C","Würzburg"]
["78532","Eßlingen","-16 °C","Stuttgart"]
["737..","Esslingen am Neckar","-14 °C","Stuttgart"]
["97230","Estenfeld","-14 °C","Würzburg"]
["26897","Esterwegen","-12 °C","Emden"]
["31629","Estorf","-12 °C","Hannover"]
["27299","Etelsen","-12 °C","Bremen"]
["66871","Etschberg","-12 °C","Saarbrücken"]
["33178","Etteln","-14 °C","Fritzlar"]
["89358","Ettenbeuren","-16 °C","Augsburg"]
["77955","Ettenheim","-12 °C","Karlsruhe"]
["77955","Ettenheimmünster","-14 °C","Karlsruhe"]
["88048","Ettenkirch","-14 °C","Konstanz"]
["82237","Etterschlag","-16 °C","Kempten"]
["86641","Etting","-16 °C","Augsburg"]
["76275","Ettlingen","-12 °C","Karlsruhe"]
["76275","Ettlingenweier","-12 °C","Karlsruhe"]
["72226","Ettmannsweiler","-16 °C","Stuttgart"]
["26446","Etzel","-10 °C","Emden"]
["92268","Etzelwang","-16 °C","Nürnberg"]
["76337","Etzenrot","-14 °C","Stuttgart"]
["09128","Euba","-14 °C","Erfurt"]
["74744","Eubigheim","-16 °C","Stuttgart"]
["53879","Euenheim","-14 °C","Nürburg-Barweiler"]
["04651","Eulatal","-14 °C","Leipzig"]
["01623","Eulitz","-14 °C","Dresden"]
["03149","Eulo","-16 °C","Lindenberg"]
["82547","Eurasburg","-18 °C","Kempten"]
["538..","Euskirchen","-12 °C","Nürburg-Barweiler"]
["97776","Eussenheim","-16 °C","Würzburg"]
["23701","Eutin","-10 °C","Schwerin"]
["72184","Eutingen","-16 °C","Stuttgart"]
["29379","Eutzen","-14 °C","Hannover"]
["83552","Evenhausen","-16 °C","Hohenpeißenberg"]
["31085","Everode","-16 °C","Hannover"]
["29303","Eversen","-14 °C","Hannover"]
["18055","Evershagen","-10 °C","Rostock"]
["48351","Everswinkel","-12 °C","Hannover"]
["32699","Extertal","-14 °C","Fritzlar"]
["72184","Eyach","-16 °C","Stuttgart"]
["73312","Eybach","-16 °C","Stuttgart"]
["21376","Eyendorf","-14 °C","Hamburg"]
["56133","Fachbach","-12 °C","Nürburg-Barweiler"]
["73434","Fachsenfeld","-16 °C","Stuttgart"]
["23999","Fährdorf","-10 °C","Schwerin"]
["74864","Fahrenbach","-14 °C","Stuttgart"]
["14476","Fahrland","-14 °C","Potsdam"]
["79868","Falkau","-18 °C","Stuttgart"]
["34590","Falkenberg","-14 °C","Fritzlar"]
["04880","Falkenberg","-16 °C","Leipzig"]
["04895","Falkenberg","-16 °C","Leipzig"]
["39615","Falkenberg","-14 °C","Magdeburg"]
["84326","Falkenberg","-16 °C","Straubing"]
["01776","Falkenhain","-16 °C","Dresden"]
["14612","Falkensee","-14 °C","Potsdam"]
["93167","Falkenstein/Oberpf.","-18 °C","Straubing"]
["29683","Fallingbostel","-12 °C","Hannover"]
["29328","Faßberg","-14 °C","Hannover"]
["73035","Faurndau","-16 °C","Stuttgart"]
["77855","Fautenbach","-12 °C","Karlsruhe"]
["78628","Feckenheim","-18 °C","Stuttgart"]
["64625","Fehlheim","-12 °C","Würzburg"]
["49733","Fehndorf","-10 °C","Hannover"]
["03096","Fehrow","-16 °C","Lindenberg"]
["36325","Feldatal","-14 °C","Fritzlar"]
["17258","Feldberg","-14 °C","Greifswald"]
["79868","Feldberg / Schwarzwald","-18 °C","Stuttgart"]
["61389","Feldberg/Taunus","-16 °C","Fritzlar"]
["46244","Feldhausen","-10 °C","Düsseldorf"]
["72501","Feldhausen","-16 °C","Stuttgart"]
["79258","Feldkirch","-12 °C","Karlsruhe"]
["85622","Feldkirchen","-16 °C","München"]
["83620","Feldkirchen-Westerham","-18 °C","Hohenpeißenberg"]
["46483","Feldmark","-18 °C","Düsseldorf"]
["80995","Feldmoching","-16 °C","München"]
["75334","Feldrennach","-14 °C","Stuttgart"]
["7073.","Fellbach / Württ.","-12 °C","Stuttgart"]
["72181","Felldorf","-16 °C","Stuttgart"]
["87748","Fellheim","-16 °C","Augsburg"]
["34587","Felsberg","-14 °C","Fritzlar"]
["92269","Fensterbach","-16 °C","Nürnberg"]
["53577","Fernthal","-14 °C","Nürburg-Barweiler"]
["77654","Fessenbach","-12 °C","Karlsruhe"]
["90537","Feucht","-16 °C","Nürnberg"]
["79400","Feuerbach","-14 °C","Karlsruhe"]
["70...","Feuerbach","-12 °C","Stuttgart"]
["54584","Feusdorf","-14 °C","Trier"]
["95686","Fichtelberg / Oberfr.","-16 °C","Hof"]
["74579","Fichtenau","-16 °C","Stuttgart"]
["04931","Fichtenberg","-16 °C","Leipzig"]
["74427","Fichtenberg","-16 °C","Stuttgart"]
["14547","Fichtenwalde","-14 °C","Potsdam"]
["94405","Fichtheim","-18 °C","Straubing"]
["70794","Filderstadt","-14 °C","Stuttgart"]
["89281","Filzingen","-16 °C","Augsburg"]
["64757","Finkenbach","-14 °C","Würzburg"]
["21129","Finkenwerder/Hamburg","-12 °C","Hamburg"]
["57413","Finnentrop","-14 °C","Nürburg-Barweiler"]
["86923","Finning","-16 °C","Kempten"]
["89435","Finningen","-16 °C","Augsburg"]
["89233","Finningen ( Neu Ulm )","-14 °C","Augsburg"]
["16244","Finowfurt","-14 °C","Neuruppin"]
["85464","Finsing","-16 °C","München"]
["03238","Finsterwalde","-16 °C","Lindenberg"]
["65779","Fischbach","-14 °C","Nürburg-Barweiler"]
["83730","Fischbachau","-18 °C","Hohenpeißenberg"]
["64405","Fischbachtal","-14 °C","Würzburg"]
["31840","Fischbeck","-14 °C","Hannover"]
["47807","Fischeln","-10 °C","Düsseldorf"]
["50354","Fischenich","-12 °C","Düsseldorf"]
["77716","Fischerbach","-14 °C","Stuttgart"]
["72172","Fischingen","-16 °C","Stuttgart"]
["79592","Fischingen","-12 °C","Stuttgart"]
["91604","Flachslanden","-16 °C","Nürnberg"]
["53879","Flamersheim","-14 °C","Nürburg-Barweiler"]
["75038","Flehingen","-14 °C","Stuttgart"]
["74223","Flein","-12 °C","Stuttgart"]
["88373","Fleischwangen","-14 °C","Stuttgart"]
["16306","Flemsdorf","-16 °C","Neuruppin"]
["249..","Flensburg","-10 °C","Schleswig"]
["38539","Flettmar","-14 °C","Magdeburg"]
["36103","Flieden","-14 °C","Fritzlar"]
["24220","Flintbek","-10 °C","Schleswig"]
["83126","Flintsbach","-18 °C","Hohenpeißenberg"]
["98593","Floh","-16 °C","Meiningen"]
["09557","Flöha","-14 °C","Erfurt"]
["98593","Floh-Seligenthal","-16 °C","Meiningen"]
["61197","Florstadt","-12 °C","Fritzlar"]
["04651","Flößberg","-14 °C","Leipzig"]
["92696","Flossenbürg","-18 °C","Hof"]
["52499","Floverich","-12 °C","Aachen"]
["78658","Flözlingen","-16 °C","Stuttgart"]
["24787","Fockbek","-12 °C","Schleswig"]
["37603","Fohlenplacken","-14 °C","Fritzlar"]
["31061","Föhrste","-16 °C","Hannover"]
["68200","Folgensbourg / Frankreich","-12 °C","Karlsruhe"]
["76596","Forbach","-16 °C","Karlsruhe"]
["79362","Forchheim / Breisgau","-12 °C","Karlsruhe"]
["09509","Forchheim / Erzgebirge","-16 °C","Meiningen"]
["91301","Forchheim / Oberfr.","-16 °C","Nürnberg"]
["71540","Fornsbach","-16 °C","Stuttgart"]
["76694","Forst","-12 °C","Karlsruhe"]
["03149","Forst/Lausitz","-16 °C","Lindenberg"]
["81476","Forstenried","-16 °C","München"]
["85659","Forstern","-16 °C","München"]
["04668","Förstgen","-14 °C","Leipzig"]
["94550","Forsthart","-18 °C","Straubing"]
["85661","Forstinning","-16 °C","München"]
["90542","Forth","-16 °C","Nürnberg"]
["17091","Fouquettin","-14 °C","Greifswald"]
["97833","Frammersbach","-14 °C","Würzburg"]
["35110","Frankenau","-14 °C","Fritzlar"]
["09669","Frankenberg","-16 °C","Erfurt"]
["35066","Frankenberg","-14 °C","Fritzlar"]
["93179","Frankenberg","-18 °C","Straubing"]
["99441","Frankendorf","-14 °C","Erfurt"]
["15926","Frankendorf","-16 °C","Lindenberg"]
["04430","Frankenheim","-14 °C","Leipzig"]
["98634","Frankenheim","-16 °C","Meiningen"]
["89584","Frankenhofen","-16 °C","Augsburg"]
["92726","Frankenreuth","-18 °C","Hof"]
["67227","Frankenthal / Pfalz","-12 °C","Saarbrücken"]
["1523.","Frankfurt / Oder","-16 °C","Lindenberg"]
["65934","Frankfurt / Main","-12 °C","Frankfurt am Main"]
["94258","Frauenau","-18 °C","Straubing"]
["91056","Frauenaurach","-16 °C","Nürnberg"]
["93339","Frauenberghausen","-16 °C","Straubing"]
["04643","Frauendorf","-14 °C","Leipzig"]
["01609","Frauenhain","-16 °C","Dresden"]
["83553","Frauenneuharting","-16 °C","Hohenpeißenberg"]
["09623","Frauenstein","-16 °C","Meiningen"]
["98711","Frauenwald","-16 °C","Meiningen"]
["08427","Fraureuth","-16 °C","Erfurt"]
["50226","Frechen","-10 °C","Düsseldorf"]
["39317","Frechland","-14 °C","Magdeburg"]
["48231","Freckenhorst","-12 °C","Hannover"]
["31084","Freden","-16 °C","Hannover"]
["15370","Fredersdorf b.Berlin","-14 °C","Lindenberg"]
["17440","Freest","-12 °C","Greifswald"]
["79348","Freiamt","-14 °C","Stuttgart"]
["09599","Freiberg","-16 °C","Erfurt"]
["71691","Freiberg","-12 °C","Stuttgart"]
["79...","Freiburg i. Br.","-12 °C","Karlsruhe"]
["16515","Freienhagen","-14 °C","Neuruppin"]
["59872","Freienohl","-14 °C","Nürburg-Barweiler"]
["35321","Freienseen","-14 °C","Fritzlar"]
["36399","Freiensteinau","-14 °C","Fritzlar"]
["24991","Freienwill","-10 °C","Schleswig"]
["63579","Freigericht","-12 °C","Würzburg"]
["55234","Freimersheim","-12 °C","Trier"]
["66629","Freisen","-14 °C","Saarbrücken"]
["53505","Freisheim","-14 °C","Nürburg-Barweiler"]
["8535.","Freising","-16 °C","München"]
["27259","Freistatt","-12 °C","Bremen"]
["77866","Freistett","-12 °C","Karlsruhe"]
["01705","Freital","-14 °C","Dresden"]
["45127","Freital","-14 °C","Düsseldorf"]
["15910","Freiwalde","-16 °C","Lindenberg"]
["04685","Fremdiswalde","-14 °C","Leipzig"]
["96158","Frensdorf","-16 °C","Bamberg"]
["57413","Fretter","-14 °C","Nürburg-Barweiler"]
["57258","Freudenberg","-12 °C","Nürburg-Barweiler"]
["92272","Freudenberg","-16 °C","Nürnberg"]
["97896","Freudenberg","-14 °C","Würzburg"]
["72250","Freudenstadt","-16 °C","Stuttgart"]
["75438","Freudenstein","-14 °C","Stuttgart"]
["74392","Freudental","-12 °C","Stuttgart"]
["72419","Freudenweiler","-18 °C","Stuttgart"]
["92342","Freystadt","-16 °C","Nürnberg"]
["94078","Freyung","-18 °C","Straubing"]
["72636","Frickenhausen","-16 °C","Stuttgart"]
["97252","Frickenhausen","-14 °C","Würzburg"]
["88699","Frickingen","-14 °C","Stuttgart"]
["78567","Fridingen","-16 °C","Stuttgart"]
["78567","Fridingen an der Donau","-16 °C","Stuttgart"]
["86316","Friedberg","-16 °C","Augsburg"]
["61169","Friedberg","-12 °C","Fritzlar"]
["95688","Friedenfels","-18 °C","Hof"]
["79877","Friedenweiler","-18 °C","Stuttgart"]
["24327","Friederikental","-10 °C","Schleswig"]
["02829","Friedersdorf","-16 °C","Görlitz"]
["15306","Friedersdorf","-14 °C","Lindenberg"]
["15754","Friedersdorf","-14 °C","Lindenberg"]
["32469","Friedewalde","-12 °C","Fritzlar"]
["78224","Friedingen","-14 °C","Konstanz"]
["37133","Friedland","-16 °C","Fritzlar"]
["17098","Friedland","-14 °C","Greifswald"]
["15848","Friedland","-16 °C","Lindenberg"]
["06507","Friedrichsbrunn","-16 °C","Leipzig"]
["08149","Friedrichsgrün","-14 °C","Erfurt"]
["8804.","Friedrichshafen","-12 °C","Konstanz"]
["15754","Friedrichshof","-14 °C","Lindenberg"]
["85049","Friedrichshofen","-16 °C","München"]
["74639","Friedrichsruhe","-14 °C","Stuttgart"]
["56112","Friedrichssegen","-12 °C","Nürburg-Barweiler"]
["16306","Friedrichsthal","-14 °C","Neuruppin"]
["16247","Friedrichswalde","-14 °C","Neuruppin"]
["30826","Frielingen (Garbsen 8)","-14 °C","Hannover"]
["51789","Frielingsdorf","-12 °C","Nürburg-Barweiler"]
["96317","Friesen","-16 °C","Bamberg"]
["51598","Friesenhagen","-12 °C","Nürburg-Barweiler"]
["77948","Friesenheim","-12 °C","Karlsruhe"]
["93092","Friesheim","-18 °C","Straubing"]
["26169","Friesoythe","-12 °C","Emden"]
["71292","Friolzheim","-16 °C","Stuttgart"]
["78665","Frittlingen","-18 °C","Stuttgart"]
["53343","Fritzdorf","-14 °C","Nürburg-Barweiler"]
["90542","Frohnhof","-16 °C","Nürnberg"]
["92256","Frohnhof","-16 °C","Nürnberg"]
["72510","Frohnstetten","-16 °C","Stuttgart"]
["58730","Fröndenberg","-12 °C","Nürburg-Barweiler"]
["86657","Fronhofen","-16 °C","Augsburg"]
["88273","Fronhofen","-14 °C","Stuttgart"]
["88273","Fronreute","-14 °C","Stuttgart"]
["84160","Frontenhausen","-16 °C","Straubing"]
["06464","Frose","-14 °C","Leipzig"]
["85646","Frotzhofen","-16 °C","München"]
["86925","Fuchstal-Leeder","-16 °C","Kempten"]
["50769","Fühlingen","-10 °C","Düsseldorf"]
["30938","Fuhrberg","-12 °C","Hannover"]
["360..","Fulda","-14 °C","Fritzlar"]
["34277","Fuldabrück","-14 °C","Fritzlar"]
["88348","Fulgenstadt","-14 °C","Stuttgart"]
["38304","Fümmelse","-14 °C","Magdeburg"]
["88436","Füramoos","-16 °C","Stuttgart"]
["74906","Fürfeld","-14 °C","Stuttgart"]
["55546","Fürfeld","-12 °C","Trier"]
["92262","Fürnried","-16 °C","Nürnberg"]
["37671","Fürstenau","-14 °C","Fritzlar"]
["49584","Fürstenau","-12 °C","Hannover"]
["33181","Fürstenberg","-14 °C","Fritzlar"]
["37699","Fürstenberg","-14 °C","Fritzlar"]
["16798","Fürstenberg Havel","-14 °C","Neuruppin"]
["82256","Fürstenfeldbruck","-16 °C","Kempten"]
["17235","Fürstensee","-14 °C","Greifswald"]
["94538","Fürstenstein","-18 °C","Straubing"]
["15517","Fürstenwalde / Spree","-14 °C","Lindenberg"]
["17291","Fürstenwerder","-14 °C","Greifswald"]
["94081","Fürstenzell","-16 °C","Straubing"]
["03246","Fürstlich Drehna","-16 °C","Lindenberg"]
["84095","Furth","-16 °C","Straubing"]
["9076.","Fürth / Bay.","-16 °C","Nürnberg"]
["93437","Furth im Wald","-18 °C","Straubing"]
["77723","Fußbach","-14 °C","Karlsruhe"]
["53909","Füssenich","-14 °C","Nürburg-Barweiler"]
["67136","Fussgönheim","-12 °C","Saarbrücken"]
["24327","Futterkamp","-10 °C","Schleswig"]
["02953","Gablenz","-16 °C","Görlitz"]
["86456","Gablingen","-16 °C","Augsburg"]
["55288","Gabsheim","-12 °C","Trier"]
["82813","Gächingen","-18 °C","Kempten"]
["56412","Gackenbach","-12 °C","Nürburg-Barweiler"]
["19089","Gädebehn","-12 °C","Schwerin"]
["19205","Gadebusch","-12 °C","Schwerin"]
["31246","Gadenstedt","-14 °C","Hannover"]
["64686","Gadernheim","-14 °C","Würzburg"]
["04720","Gadewitz","-14 °C","Leipzig"]
["23968","Gägelow","-10 °C","Schwerin"]
["76571","Gaggenau","-14 °C","Karlsruhe"]
["74592","Gaggstatt","-16 °C","Stuttgart"]
["09569","Gahlenz","-16 °C","Erfurt"]
["04618","Gähsnitz","-14 °C","Leipzig"]
["69251","Gaiberg","-12 °C","Würzburg"]
["78343","Gaienhofen","-12 °C","Konstanz"]
["63743","Gailbach (Aschaffenburg)","-12 °C","Würzburg"]
["74405","Gaildorf","-16 °C","Stuttgart"]
["74523","Gailenkirchen","-16 °C","Stuttgart"]
["30891","Gailhof","-14 °C","Hannover"]
["78262","Gailingen","-12 °C","Konstanz"]
["85080","Gaimersheim","-16 °C","München"]
["74653","Gaisbach","-12 °C","Stuttgart"]
["88339","Gaisbeuren","-16 °C","Stuttgart"]
["83674","Gaißach","-18 °C","Hohenpeißenberg"]
["92539","Gaisthal","-18 °C","Hof"]
["79423","Gallenweiler","-14 °C","Karlsruhe"]
["03058","Gallinchen (Cottbus)","-16 °C","Lindenberg"]
["04720","Gallschütz","-14 °C","Leipzig"]
["19230","Gammelin","-12 °C","Schwerin"]
["85408","Gammelsdorf","-16 °C","München"]
["73108","Gammelshausen","-16 °C","Stuttgart"]
["72501","Gammertingen","-16 °C","Stuttgart"]
["74572","Gammesfeld","-16 °C","Stuttgart"]
["77855","Gamshurst","-12 °C","Karlsruhe"]
["99192","Gamstädt","-14 °C","Erfurt"]
["19309","Gandow","-14 °C","Schwerin"]
["52538","Gangelt","-10 °C","Aachen"]
["84140","Gangkofen","-16 °C","Straubing"]
["18276","Ganschow","-12 °C","Rostock"]
["19205","Ganzow","-12 °C","Schwerin"]
["30826","Garbsen","-14 °C","Hannover"]
["04618","Garbus","-14 °C","Leipzig"]
["84518","Garching","-16 °C","Straubing"]
["39638","Gardelegen","-14 °C","Magdeburg"]
["27711","Garlstedt","-12 °C","Bremen"]
["92245","Gärmersdorf","-16 °C","Nürnberg"]
["82467","Garmisch-Partenkirchen","-18 °C","Kempten"]
["06571","Garnbach","-14 °C","Leipzig"]
["09238","Garnsdorf","-14 °C","Erfurt"]
["49681","Garrel","-12 °C","Hannover"]
["71116","Gärtringen","-16 °C","Stuttgart"]
["16307","Gartz","-14 °C","Neuruppin"]
["06466","Gatersleben","-14 °C","Leipzig"]
["14089","Gatow","-14 °C","Potsdam"]
["95185","Gattendorf","-18 °C","Hof"]
["55435","Gau-Algesheim","-12 °C","Trier"]
["69181","Gauangelloch","-12 °C","Würzburg"]
["55599","Gau-Bickelheim","-12 °C","Trier"]
["55296","Gau-Bischofsheim","-12 °C","Trier"]
["04769","Gaudlitz","-14 °C","Leipzig"]
["71126","Gäufelden","-16 °C","Stuttgart"]
["97285","Gaukönigshofen","-14 °C","Würzburg"]
["72393","Gauselfingen","-18 °C","Stuttgart"]
["82131","Gauting","-16 °C","Kempten"]
["86444","Gebenhofen","-16 °C","Augsburg"]
["71229","Gebersheim","-14 °C","Stuttgart"]
["99189","Gebesee","-14 °C","Erfurt"]
["88299","Gebrazhofen","-16 °C","Stuttgart"]
["91607","Gebsattel","-16 °C","Nürnberg"]
["75391","Gechingen","-16 °C","Stuttgart"]
["21502","Geesthacht","-12 °C","Hamburg"]
["17375","Gegensee","-12 °C","Greifswald"]
["32312","Gehlenbeck","-12 °C","Fritzlar"]
["26169","Gehlenberg","-12 °C","Emden"]
["49596","Gehrde","-12 °C","Hannover"]
["33034","Gehrden","-14 °C","Fritzlar"]
["30989","Gehrden","-14 °C","Hannover"]
["98708","Gehren","-16 °C","Meiningen"]
["73642","Gehren","-16 °C","Stuttgart"]
["53909","Geich","-14 °C","Nürburg-Barweiler"]
["52511","Geilenkirchen","-12 °C","Aachen"]
["56379","Geilnau","-12 °C","Nürburg-Barweiler"]
["08538","Geilsdorf","-18 °C","Meiningen"]
["36419","Geisa","-16 °C","Fritzlar"]
["58239","Geisecke","-12 °C","Nürburg-Barweiler"]
["82140","Geiselbullach","-16 °C","Kempten"]
["84144","Geisenhausen","-16 °C","Straubing"]
["65366","Geisenheim","-12 °C","Nürburg-Barweiler"]
["01778","Geising","-16 °C","Dresden"]
["78187","Geisingen","-16 °C","Stuttgart"]
["72351","Geislingen","-16 °C","Stuttgart"]
["73312","Geislingen / Steige","-16 °C","Stuttgart"]
["04643","Geithain","-14 °C","Leipzig"]
["18182","Gelbensande","-10 °C","Rostock"]
["97255","Gelchsheim","-16 °C","Würzburg"]
["47608","Geldern","-10 °C","Düsseldorf"]
["97505","Geldersheim","-16 °C","Würzburg"]
["63571","Gelnhausen","-12 °C","Würzburg"]
["63571","Gelnhausen-Hailer","-14 °C","Würzburg"]
["458..","Gelsenkirchen","-10 °C","Dortmund"]
["45889","Gelsenkirchen-Bismarck","-10 °C","Dortmund"]
["45857","Gelsenkirchen-Buer","-10 °C","Dortmund"]
["45883","Gelsenkirchen-Heßler","-10 °C","Dortmund"]
["45881","Gelsenkirchen-Schalke-Nord","-10 °C","Dortmund"]
["45897","Gelsenkirchen-Scheffrath","-10 °C","Dortmund"]
["82269","Geltendorf","-16 °C","Kempten"]
["01877","Gemitz - Thumitz","-16 °C","Dresden"]
["75050","Gemmingen","-14 °C","Stuttgart"]
["74376","Gemmrigheim","-12 °C","Stuttgart"]
["74376","Gemmringheim","-12 °C","Stuttgart"]
["35329","Gemünden","-14 °C","Fritzlar"]
["55490","Gemünden","-14 °C","Trier"]
["97737","Gemünden a. Main","-14 °C","Würzburg"]
["86682","Genderkingen","-16 °C","Augsburg"]
["77723","Gengenbach","-12 °C","Karlsruhe"]
["72820","Genkingen","-18 °C","Stuttgart"]
["86853","Gennach","-16 °C","Kempten"]
["55457","Gensingen","-12 °C","Trier"]
["39307","Genthin","-14 °C","Magdeburg"]
["65388","Georgenborn","-14 °C","Nürburg-Barweiler"]
["91166","Georgensgmünd","-16 °C","Nürnberg"]
["075..","Gera","-14 °C","Erfurt"]
["98716","Geraberg","-16 °C","Meiningen"]
["74582","Gerabronn","-16 °C","Stuttgart"]
["37318","Gerbershausen","-16 °C","Fritzlar"]
["41812","Gerderath","-10 °C","Düsseldorf"]
["86947","Geretshausen","-16 °C","Kempten"]
["82538","Geretsried","-16 °C","Kempten"]
["04827","Gerichshain","-14 °C","Leipzig"]
["97950","Gerichsheim","-14 °C","Würzburg"]
["74736","Gerichtstetten","-16 °C","Stuttgart"]
["56751","Gering","-14 °C","Nürburg-Barweiler"]
["09326","Geringswalde","-14 °C","Erfurt"]
["97922","Gerlachsheim (Lauda-Königshofen, Baden )","-14 °C","Würzburg"]
["89223","Gerlenhofen","-16 °C","Augsburg"]
["57482","Gerlingen","-14 °C","Nürburg-Barweiler"]
["70839","Gerlingen","-14 °C","Stuttgart"]
["94051","Germannsdorf","-18 °C","Straubing"]
["82110","Germering","-16 °C","Kempten"]
["37339","Gernrode","-16 °C","Fritzlar"]
["76593","Gernsbach","-14 °C","Karlsruhe"]
["64579","Gernsheim","-12 °C","Karlsruhe"]
["97779","Geroda","-16 °C","Würzburg"]
["37345","Gerode","-16 °C","Fritzlar"]
["97447","Gerolzhofen","-16 °C","Würzburg"]
["01920","Gersdorf","-16 °C","Dresden"]
["09355","Gersdorf","-14 °C","Erfurt"]
["09661","Gersdorf","-14 °C","Erfurt"]
["02829","Gersdorf","-16 °C","Görlitz"]
["36129","Gersfeld","-16 °C","Fritzlar"]
["66453","Gersheim","-14 °C","Saarbrücken"]
["04617","Gerstenberg","-14 °C","Leipzig"]
["89547","Gerstetten","-16 °C","Augsburg"]
["86368","Gersthofen","-16 °C","Augsburg"]
["99834","Gerstungen","-16 °C","Meiningen"]
["17268","Gerswalde","-14 °C","Greifswald"]
["48712","Gescher","-10 °C","Hannover"]
["79674","Geschwend","-16 °C","Stuttgart"]
["28857","Gessel","-12 °C","Bremen"]
["04552","Gestewitz","-14 °C","Leipzig"]
["58285","Gevelsberg","-12 °C","Nürburg-Barweiler"]
["09456","Geyersdorf","-16 °C","Meiningen"]
["37434","Gieboldehausen","-16 °C","Fritzlar"]
["89537","Giengen a.d. Brenz","-16 °C","Augsburg"]
["41363","Gierath","-10 °C","Düsseldorf"]
["65558","Giershausen","-14 °C","Nürburg-Barweiler"]
["99100","Gierstädt","-14 °C","Erfurt"]
["353..","Gießen","-12 °C","Fritzlar"]
["38518","Gifhorn","-14 °C","Magdeburg"]
["82205","Gilching","-16 °C","Kempten"]
["54558","Gillenfeld","-14 °C","Trier"]
["52511","Gillrath","-12 °C","Aachen"]
["34630","Gilserberg","-14 °C","Fritzlar"]
["29690","Gilten","-12 °C","Hannover"]
["48268","Gimbte","-12 °C","Hannover"]
["55767","Gimbweiler","-14 °C","Trier"]
["67435","Gimmeldingen","-12 °C","Saarbrücken"]
["53343","Gimmersdorf","-14 °C","Nürburg-Barweiler"]
["46487","Ginderich","-10 °C","Düsseldorf"]
["73333","Gingen","-16 °C","Stuttgart"]
["54584","Glaadt","-14 °C","Trier"]
["4596.","Gladbeck / Westf.","-10 °C","Düsseldorf"]
["37181","Gladebeck","-16 °C","Fritzlar"]
["66887","Glanbrücken","-14 °C","Saarbrücken"]
["49219","Glandorf","-12 °C","Hannover"]
["66907","Glan-Münchweiler","-12 °C","Saarbrücken"]
["74731","Glashofen","-14 °C","Stuttgart"]
["01768","Glashütte","-14 °C","Dresden"]
["31195","Glashütte","-16 °C","Hannover"]
["61479","Glashütten/Taunus","-14 °C","Fritzlar"]
["72172","Glatt","-16 °C","Stuttgart"]
["72293","Glatten","-16 °C","Stuttgart"]
["08371","Glauchau","-14 °C","Erfurt"]
["56653","Glees","-14 °C","Nürburg-Barweiler"]
["41352","Glehn","-10 °C","Düsseldorf"]
["37130","Gleichen","-16 °C","Fritzlar"]
["93339","Gleislhof","-16 °C","Straubing"]
["93477","Gleißenberg","-18 °C","Straubing"]
["72555","Glems","-16 °C","Stuttgart"]
["04435","Glesien","-14 °C","Leipzig"]
["04509","Glesien","-14 °C","Leipzig"]
["50129","Glessen","-12 °C","Düsseldorf"]
["19306","Glewe","-14 °C","Schwerin"]
["15806","Glienick","-14 °C","Lindenberg"]
["16548","Glienicke","-14 °C","Neuruppin"]
["21509","Glinde","-12 °C","Hamburg"]
["39248","Glinde","-14 °C","Magdeburg"]
["39326","Glindenberg","-14 °C","Magdeburg"]
["56588","Glockscheid","-12 °C","Nürburg-Barweiler"]
["04769","Glossen","-14 °C","Leipzig"]
["79286","Glottertal","-14 °C","Stuttgart"]
["18551","Glowe","-10 °C","Rostock"]
["25348","Glückstadt","-10 °C","Schleswig"]
["27442","Gnarrenburg","-12 °C","Bremen"]
["02692","Gnaschwitz","-16 °C","Görlitz"]
["19065","Gneven","-12 °C","Schwerin"]
["07616","Gniebsdorf","-14 °C","Erfurt"]
["24622","Gnutz","-12 °C","Schleswig"]
["47574","Goch","-10 °C","Düsseldorf"]
["97469","Gochsheim","-14 °C","Würzburg"]
["02633","Göda","-16 °C","Görlitz"]
["37671","Godelheim","-14 °C","Fritzlar"]
["31061","Godenau","-14 °C","Hannover"]
["54310","Godendorf","-12 °C","Trier"]
["19065","Godern","-12 °C","Schwerin"]
["39264","Gödnitz","-14 °C","Magdeburg"]
["31157","Gödringen","-14 °C","Hannover"]
["88527","Göffingen","-14 °C","Stuttgart"]
["86199","Göggingen","-16 °C","Augsburg"]
["72505","Göggingen","-14 °C","Stuttgart"]
["73571","Göggingen","-16 °C","Stuttgart"]
["04420","Göhrenz","-14 °C","Leipzig"]
["01824","Gohrisch","-14 °C","Dresden"]
["01824","Gohrisch","-16 °C","Dresden"]
["85399","Goldach","-16 °C","München"]
["39596","Goldbeck","-14 °C","Magdeburg"]
["04720","Göldnitz","-14 °C","Leipzig"]
["86657","Göllingen","-16 °C","Augsburg"]
["06567","Göllingen","-14 °C","Leipzig"]
["04509","Gollmenz","-14 °C","Leipzig"]
["17291","Gollmitz","-14 °C","Greifswald"]
["37640","Golmbach","-14 °C","Fritzlar"]
["07751","Golmsdorf","-14 °C","Erfurt"]
["14913","Gölsdorf","-14 °C","Potsdam"]
["75015","Gölshausen","-12 °C","Stuttgart"]
["06785","Goltewitz","-14 °C","Leipzig"]
["04668","Golzern","-14 °C","Leipzig"]
["52399","Golzheim","-12 °C","Aachen"]
["72532","Gomadingen","-18 °C","Stuttgart"]
["72810","Gomaringen","-16 °C","Stuttgart"]
["39245","Gommern","-14 °C","Magdeburg"]
["14822","Gömnigk","-14 °C","Potsdam"]
["75053","Gondelsheim","-12 °C","Stuttgart"]
["54584","Gönnersdorf","-14 °C","Trier"]
["72770","Gönningen","-16 °C","Stuttgart"]
["35315","Gontershausen","-14 °C","Fritzlar"]
["7303.","Göppingen","-14 °C","Stuttgart"]
["73035","Göppingen-Bezgenriet","-16 °C","Stuttgart"]
["73037","Göppingen-Hohenstaufen","-16 °C","Stuttgart"]
["73037","Göppingen-Holzheim","-16 °C","Stuttgart"]
["73037","Göppingen-Maitis","-16 °C","Stuttgart"]
["17291","Göritz","-14 °C","Greifswald"]
["01809","Gorknitz","-14 °C","Dresden"]
["0282.","Görlitz","-16 °C","Görlitz"]
["17121","Görmin","-12 °C","Greifswald"]
["09405","Gornau","-16 °C","Meiningen"]
["04703","Gorschmitz","-14 °C","Leipzig"]
["06577","Gorsleben","-14 °C","Leipzig"]
["79733","Görwihl","-14 °C","Stuttgart"]
["73342","Gosbach","-18 °C","Stuttgart"]
["04720","Goselitz","-14 °C","Leipzig"]
["78559","Gosheim","-18 °C","Stuttgart"]
["3864.","Goslar","-14 °C","Magdeburg"]
["08427","Gospersgrün","-16 °C","Erfurt"]
["19249","Gößlow","-12 °C","Schwerin"]
["04639","Gößnitz","-14 °C","Leipzig"]
["91327","Gössweinstein","-16 °C","Nürnberg"]
["99867","Gotha","-14 °C","Erfurt"]
["04838","Gotha","-14 °C","Leipzig"]
["72297","Göttelfingen","-16 °C","Stuttgart"]
["79288","Gottenheim","-12 °C","Karlsruhe"]
["19209","Gottesgabe","-12 °C","Schwerin"]
["94239","Gotteszell","-18 °C","Straubing"]
["84177","Gottfrieding","-18 °C","Straubing"]
["3707.","Göttingen","-16 °C","Fritzlar"]
["84166","Göttlkofen","-16 °C","Straubing"]
["78244","Gottmadingen","-12 °C","Konstanz"]
["94107","Gottsdorf","-18 °C","Straubing"]
["14778","Götz","-14 °C","Potsdam"]
["18181","Graal-Müritz","-10 °C","Rostock"]
["71577","Grab","-16 °C","Stuttgart"]
["76676","Graben Neudorf","-12 °C","Karlsruhe"]
["72582","Grabenstetten","-16 °C","Stuttgart"]
["14823","Grabow","-14 °C","Potsdam"]
["19300","Grabow","-14 °C","Schwerin"]
["04886","Graditz","-16 °C","Leipzig"]
["49626","Grafeld","-12 °C","Hannover"]
["31079","Grafelde","-16 °C","Hannover"]
["82166","Gräfelfing","-16 °C","Kempten"]
["94481","Grafenau","-18 °C","Straubing"]
["71120","Grafenau","-16 °C","Stuttgart"]
["72661","Grafenberg","-16 °C","Stuttgart"]
["91322","Gräfenberg","-16 °C","Nürnberg"]
["04916","Gräfendorf","-16 °C","Leipzig"]
["72532","Grafeneck an der Lauter","-18 °C","Stuttgart"]
["06773","Gräfenhainichen","-14 °C","Leipzig"]
["77966","Grafenhausen","-12 °C","Karlsruhe"]
["77966","Grafenhausen","-12 °C","Karlsruhe"]
["79865","Grafenhausen","-16 °C","Stuttgart"]
["75217","Gräfenhausen","-14 °C","Stuttgart"]
["99330","Gräfenroda","-16 °C","Meiningen"]
["93479","Grafenwiesen","-18 °C","Straubing"]
["92655","Grafenwöhr","-16 °C","Nürnberg"]
["89264","Grafertshofen","-16 °C","Augsburg"]
["85567","Grafing","-16 °C","München"]
["82284","Grafrath","-16 °C","Kempten"]
["53501","Grafschaft","-14 °C","Nürburg-Barweiler"]
["82491","Grainau","-18 °C","Kempten"]
["83122","Grainbach","-18 °C","Hohenpeißenberg"]
["17375","Grambin","-12 °C","Greifswald"]
["17375","Grambin-Zeltplatz","-12 °C","Greifswald"]
["23968","Gramkow","-10 °C","Schwerin"]
["17291","Gramzow","-14 °C","Greifswald"]
["89584","Granheim","-16 °C","Augsburg"]
["41812","Granterath","-12 °C","Düsseldorf"]
["28879","Grasberg","-12 °C","Bremen"]
["31188","Grasdorf","-14 °C","Hannover"]
["64689","Grasellenbach","-14 °C","Würzburg"]
["39579","Grassau","-14 °C","Magdeburg"]
["94541","Grattersdorf","-18 °C","Straubing"]
["01796","Graupa","-14 °C","Dresden"]
["01827","Graupa","-14 °C","Dresden"]
["37647","Grave","-12 °C","Fritzlar"]
["61279","Grävenwiesbach","-14 °C","Fritzlar"]
["17419","Graz","-12 °C","Greifswald"]
["19374","Grebbin","-14 °C","Schwerin"]
["04509","Grebehna","-14 °C","Leipzig"]
["37276","Grebendorf","-16 °C","Fritzlar"]
["34393","Grebenstein","-14 °C","Fritzlar"]
["91171","Greding","-16 °C","Nürnberg"]
["77836","Greffern","-12 °C","Karlsruhe"]
["86926","Greifenberg","-16 °C","Kempten"]
["09661","Greifendorf","-14 °C","Erfurt"]
["03116","Greifenhain","-16 °C","Lindenberg"]
["35753","Greifenstein","-14 °C","Fritzlar"]
["174..","Greifswald","-12 °C","Greifswald"]
["87755","Greimeltshofen","-16 °C","Augsburg"]
["07973","Greiz","-16 °C","Erfurt"]
["24975","Gremmerup","-10 °C","Schleswig"]
["79639","Grenzach - Wyhlen","-12 °C","Stuttgart"]
["48268","Greven / Westf.","-12 °C","Hannover"]
["4151.","Grevenbroich","-10 °C","Düsseldorf"]
["23936","Grevesmühlen","-10 °C","Schwerin"]
["79206","Grezhausen","-12 °C","Karlsruhe"]
["18516","Griebenow","-12 °C","Rostock"]
["94086","Griesbach","-16 °C","Straubing"]
["77740","Griesbach","-16 °C","Stuttgart"]
["06786","Griesen","-14 °C","Leipzig"]
["64347","Griesheim","-12 °C","Karlsruhe"]
["77652","Griesheim","-12 °C","Karlsruhe"]
["89608","Griesingen","-14 °C","Augsburg"]
["09112","Griffen / Österreich","-18 °C","Erfurt"]
["04668","Grimma","-14 °C","Leipzig"]
["18507","Grimmen","-12 °C","Rostock"]
["79395","Grißheim","-12 °C","Karlsruhe"]
["17498","Gristow","-12 °C","Greifswald"]
["08538","Grobau","-16 °C","Meiningen"]
["82194","Gröbenzell","-16 °C","Kempten"]
["06184","Gröbers","-14 °C","Leipzig"]
["01609","Gröditz","-16 °C","Dresden"]
["02627","Gröditz","-16 °C","Görlitz"]
["88456","Grodt","-16 °C","Stuttgart"]
["31860","Grohnde","-12 °C","Hannover"]
["04539","Groitzsch","-14 °C","Leipzig"]
["04838","Groitzsch","-14 °C","Leipzig"]
["74906","Grombach","-12 °C","Stuttgart"]
["72294","Grömbach","-16 °C","Stuttgart"]
["31028","Gronau","-14 °C","Hannover"]
["71720","Gronau","-14 °C","Stuttgart"]
["48599","Gronau / Westf.","-10 °C","Hannover"]
["39397","Gröningen","-14 °C","Magdeburg"]
["95701","Groschlattengrün","-18 °C","Hof"]
["19258","Groß Bengerstorf","-12 °C","Schwerin"]
["31855","Groß Berkel","-14 °C","Hannover"]
["38319","Groß Biewende","-14 °C","Magdeburg"]
["39435","Groß Börnecke","-14 °C","Magdeburg"]
["69509","Groß Breitenbach","-14 °C","Würzburg"]
["31171","Groß Escherde","-14 °C","Hannover"]
["64521","Gross Gerau","-12 °C","Würzburg"]
["18442","Groß Kordshagen","-10 °C","Rostock"]
["15746","Groß Köris","-14 °C","Lindenberg"]
["23966","Groß Krankow","-12 °C","Schwerin"]
["19288","Groß Laasch","-14 °C","Schwerin"]
["31246","Groß Lafferde","-14 °C","Hannover"]
["15913","Groß Leine","-16 °C","Lindenberg"]
["19336","Groß Lüben","-14 °C","Schwerin"]
["18445","Groß Mohrdorf","-10 °C","Rostock"]
["19217","Groß Molzahn","-12 °C","Schwerin"]
["03058","Groß Oßnig","-16 °C","Lindenberg"]
["17489","Groß Petershagen","-12 °C","Greifswald"]
["68649","Groß Rohrheim","-12 °C","Karlsruhe"]
["39240","Groß Rosenburg","-14 °C","Magdeburg"]
["23627","Groß Sarau","-12 °C","Schwerin"]
["02999","Groß Särchen","-16 °C","Görlitz"]
["16348","Groß Schönebeck","-14 °C","Neuruppin"]
["15806","Groß Schulzendorf","-14 °C","Lindenberg"]
["39579","Groß Schwechten","-14 °C","Magdeburg"]
["23972","Groß Stieten","-12 °C","Schwerin"]
["64823","Groß Umstadt","-14 °C","Würzburg"]
["24802","Groß Vollstedt","-12 °C","Schleswig"]
["17166","Groß Wokern","-12 °C","Greifswald"]
["64846","Groß Zimmern","-14 °C","Würzburg"]
["86845","Großaiting","-16 °C","Kempten"]
["86845","Großaitingen","-16 °C","Kempten"]
["63457","Grossauheim","-12 °C","Würzburg"]
["14979","Großbeeren","-14 °C","Potsdam"]
["72663","Großbettlingen","-16 °C","Stuttgart"]
["64401","Groß-Bieberau","-14 °C","Würzburg"]
["71723","Großbottwar","-14 °C","Stuttgart"]
["30938","Großburgwedel","-14 °C","Hannover"]
["04460","Großdalzig","-14 °C","Leipzig"]
["73527","Großdeinbach","-16 °C","Stuttgart"]
["01665","Großdobritz","-16 °C","Dresden"]
["97633","Großeibstsdt","-16 °C","Würzburg"]
["72415","Grosselfingen","-16 °C","Stuttgart"]
["31812","Großenberg","-14 °C","Hannover"]
["34582","Großenenglis","-14 °C","Fritzlar"]
["99991","Großengottern","-14 °C","Erfurt"]
["01558","Großenhain","-16 °C","Dresden"]
["31515","Grossenheidorn","-14 °C","Hannover"]
["71577","Großenlach","-16 °C","Stuttgart"]
["91091","Großenseebach","-16 °C","Nürnberg"]
["01454","Großerkmannsdorf","-14 °C","Dresden"]
["99100","Großfahner","-14 °C","Erfurt"]
["08541","Großfriesen","-16 °C","Meiningen"]
["99706","Großfurra","-14 °C","Erfurt"]
["75417","Großglattbach","-14 °C","Stuttgart"]
["06686","Großgörschen","-14 °C","Leipzig"]
["02994","Großgrabe","-16 °C","Görlitz"]
["06246","Großgräfendorf","-14 °C","Leipzig"]
["90427","Großgründlach","-16 °C","Nürnberg"]
["90613","Großhabersdorf","-16 °C","Nürnberg"]
["01906","Großhänchen","-16 °C","Dresden"]
["01909","Großharthau","-14 °C","Dresden"]
["09618","Großhartmannsdorf","-16 °C","Erfurt"]
["83607","Großhartpenning","-18 °C","Hohenpeißenberg"]
["96269","Großheirath","-16 °C","Bamberg"]
["02747","Großhennersdorf","-16 °C","Görlitz"]
["63920","Großheubach","-14 °C","Würzburg"]
["85244","Großinzemoos","-16 °C","München"]
["83109","Großkarolinenfeld","-16 °C","Hohenpeißenberg"]
["01990","Großkmehlen","-16 °C","Dresden"]
["07407","Großkochberg","-14 °C","Erfurt"]
["89359","Grosskötz","-16 °C","Augsburg"]
["89518","Großkuchen","-16 °C","Augsburg"]
["04420","Großlehna","-14 °C","Leipzig"]
["15907","Groß-Lubolz","-16 °C","Lindenberg"]
["56276","Großmaischeid","-14 °C","Nürburg-Barweiler"]
["85098","Großmehring","-18 °C","München"]
["39221","Großmühlingen","-14 °C","Magdeburg"]
["01936","Großnaundorf","-14 °C","Dresden"]
["67259","Großniedesheim","-12 °C","Saarbrücken"]
["63762","Großostheim","-12 °C","Würzburg"]
["04463","Großpösna","-14 °C","Leipzig"]
["02692","Großpostwitz","-16 °C","Görlitz"]
["04539","Großprießligk","-14 °C","Leipzig"]
["01983","Großräschen","-16 °C","Dresden"]
["97950","Großrinderfeld","-14 °C","Würzburg"]
["01825","Großröhrsdorf","-14 °C","Dresden"]
["01900","Großröhsdorf","-14 °C","Dresden"]
["04895","Großrössen","-16 °C","Leipzig"]
["99195","Großrudestedt","-14 °C","Erfurt"]
["39517","Groß-Schwarzlosen","-14 °C","Magdeburg"]
["02708","Großschweidnitz","-16 °C","Görlitz"]
["04668","Großsteinberg","-14 °C","Leipzig"]
["04932","Großthiemig","-16 °C","Leipzig"]
["09575","Großwaltersdorf","-16 °C","Meiningen"]
["91174","Großweingarten","-16 °C","Nürnberg"]
["04720","Großweitzschen","-14 °C","Leipzig"]
["04860","Großwig","-16 °C","Leipzig"]
["06905","Großwig","-14 °C","Leipzig"]
["39319","Großwulkow","-14 °C","Magdeburg"]
["08538","Großzöbern","-18 °C","Meiningen"]
["06632","Gröst","-14 °C","Leipzig"]
["52511","Grotenrath","-12 °C","Aachen"]
["09474","Grottendorf","-16 °C","Meiningen"]
["50181","Grottenherten","-12 °C","Düsseldorf"]
["72631","Grötzingen","-14 °C","Stuttgart"]
["96271","Grub am Forst","-16 °C","Bamberg"]
["73344","Gruibingen","-16 °C","Stuttgart"]
["09224","Grüna","-14 °C","Erfurt"]
["08223","Grünbach","-16 °C","Meiningen"]
["35305","Grünberg","-14 °C","Fritzlar"]
["63584","Gründau","-14 °C","Würzburg"]
["23948","Grundshagen","-10 °C","Schwerin"]
["89613","Grundsheim","-16 °C","Augsburg"]
["31073","Grünenplan","-14 °C","Hannover"]
["79219","Grunern","-14 °C","Karlsruhe"]
["01945","Grünewald","-16 °C","Dresden"]
["39218","Grünewalde","-14 °C","Magdeburg"]
["08358","Grünhain","-16 °C","Meiningen"]
["09579","Grünhainichen","-16 °C","Meiningen"]
["88287","Grünkraut","-14 °C","Stuttgart"]
["09661","Grünlichtenberg","-14 °C","Erfurt"]
["72160","Grünmettstetten","-16 °C","Stuttgart"]
["17291","Grünow","-14 °C","Greifswald"]
["97947","Grünsfeld","-16 °C","Würzburg"]
["97947","Grünsfeldhausen","-14 °C","Würzburg"]
["76228","Grünwettersbach","-12 °C","Karlsruhe"]
["72401","Gruol","-16 °C","Stuttgart"]
["74417","Gschwend b. Gaildorf","-16 °C","Stuttgart"]
["83257","Gstadt an Chiemsee","-16 °C","Hohenpeißenberg"]
["03172","Guben","-16 °C","Lindenberg"]
["74363","Güglingen","-14 °C","Stuttgart"]
["15913","Guhlen","-16 °C","Lindenberg"]
["55452","Guldental","-12 °C","Trier"]
["72218","Gültlingen","-16 °C","Stuttgart"]
["71083","Gültstein","-16 °C","Stuttgart"]
["17089","Gültz","-14 °C","Greifswald"]
["5164.","Gummersbach","-12 °C","Nürburg-Barweiler"]
["07751","Gumperda","-14 °C","Erfurt"]
["71665","Gündelbach","-14 °C","Stuttgart"]
["89423","Gundelfingen","-16 °C","Augsburg"]
["79194","Gundelfingen","-14 °C","Karlsruhe"]
["74831","Gundelsheim","-12 °C","Stuttgart"]
["64380","Gundernhausen","-14 °C","Würzburg"]
["79206","Gündlingen","-12 °C","Karlsruhe"]
["89355","Gundremmingen","-16 °C","Augsburg"]
["59519","Günne","-12 °C","Nürburg-Barweiler"]
["91224","Guntersrieth","-16 °C","Nürnberg"]
["89312","Günzburg","-16 °C","Augsburg"]
["91710","Gunzenhausen","-16 °C","Nürnberg"]
["79761","Gurtweil","-12 °C","Stuttgart"]
["39317","Güsen","-14 °C","Magdeburg"]
["54413","Gusenburg","-14 °C","Trier"]
["17509","Gustebin","-12 °C","Greifswald"]
["39439","Güsten","-14 °C","Magdeburg"]
["91189","Gustenfelden","-16 °C","Nürnberg"]
["21514","Güster","-12 °C","Hamburg"]
["19205","Güstow","-12 °C","Schwerin"]
["18273","Güstrow","-12 °C","Rostock"]
["77793","Gutach","-16 °C","Stuttgart"]
["79261","Gutach","-14 °C","Stuttgart"]
["01945","Guteborn","-16 °C","Dresden"]
["86869","Gutenberg","-16 °C","Kempten"]
["72488","Gutenstein","-16 °C","Stuttgart"]
["88484","Gutenzell","-16 °C","Stuttgart"]
["3333.","Gütersloh","-12 °C","Fritzlar"]
["78187","Gutmadingen","-16 °C","Stuttgart"]
["17506","Gützkow","-12 °C","Greifswald"]
["50374","Gymnich","-12 °C","Düsseldorf"]
["85410","Haag","-16 °C","München"]
["91126","Haag","-16 °C","Nürnberg"]
["04758","Haage","-14 °C","Leipzig"]
["42781","Haan","-10 °C","Düsseldorf"]
["85540","Haar","-16 °C","München"]
["94542","Haarbach","-16 °C","Straubing"]
["97720","Haard","-14 °C","Würzburg"]
["19336","Haaren","-14 °C","Schwerin"]
["03058","Haasow","-16 °C","Lindenberg"]
["82392","Habach","-16 °C","Kempten"]
["99706","Hachelbich","-14 °C","Erfurt"]
["57627","Hachenburg","-14 °C","Nürburg-Barweiler"]
["31188","Hackenstedt","-14 °C","Hannover"]
["65589","Hadamar (Westerwald)","-14 °C","Nürburg-Barweiler"]
["29693","Hademstorf","-12 °C","Hannover"]
["89356","Hafenhofen","-16 °C","Augsburg"]
["74343","Häfnerhaslach","-14 °C","Stuttgart"]
["76889","Haftelhof","-12 °C","Saarbrücken"]
["79685","Häg-Ehrsberg","-16 °C","Stuttgart"]
["93095","Hagelstadt","-18 °C","Straubing"]
["27628","Hagen","-10 °C","Bremen"]
["29378","Hagen","-14 °C","Hannover"]
["58...","Hagen","-12 °C","Nürburg-Barweiler"]
["76767","Hagenbach","-12 °C","Karlsruhe"]
["91469","Hagenbüchbach","-16 °C","Nürnberg"]
["31558","Hagenburg","-14 °C","Hannover"]
["17194","Hagenow","-12 °C","Greifswald"]
["19230","Hagenow","-12 °C","Schwerin"]
["88709","Hagnau/Bodensee","-12 °C","Konstanz"]
["64319","Hahn","-12 °C","Würzburg"]
["92256","Hahnbach","-16 °C","Nürnberg"]
["38640","Hahndorf","-14 °C","Magdeburg"]
["55278","Hahnheim","-12 °C","Trier"]
["94353","Haibach","-18 °C","Straubing"]
["63808","Haibach","-12 °C","Würzburg"]
["04910","Haida","-16 °C","Leipzig"]
["07926","Haidefeld","-18 °C","Meiningen"]
["03130","Haidemühl","-16 °C","Lindenberg"]
["94501","Haidenburg","-16 °C","Straubing"]
["88410","Haidgau","-16 °C","Stuttgart"]
["93142","Haidhof","-16 °C","Straubing"]
["94522","Haidlfing","-18 °C","Straubing"]
["35708","Haiger","-14 °C","Fritzlar"]
["72401","Haigerloch","-16 °C","Stuttgart"]
["35708","Haigerseelbach","-14 °C","Fritzlar"]
["72108","Hailfingen","-16 °C","Stuttgart"]
["88525","Hailtingen","-14 °C","Stuttgart"]
["31319","Haimar","-14 °C","Hannover"]
["02779","Hainewalde","-16 °C","Görlitz"]
["76835","Hainfeld","-12 °C","Saarbrücken"]
["09661","Hainichen","-14 °C","Erfurt"]
["04567","Hainichen","-14 °C","Leipzig"]
["99735","Hainrode","-14 °C","Erfurt"]
["86744","Hainsfarth","-16 °C","Augsburg"]
["63512","Hainstadt","-12 °C","Würzburg"]
["72221","Haiterbach","-16 °C","Stuttgart"]
["63571","Haitz","-14 °C","Würzburg"]
["38820","Halberstadt","-14 °C","Magdeburg"]
["57489","Halbhusten","-12 °C","Nürburg-Barweiler"]
["32351","Haldem","-12 °C","Fritzlar"]
["39340","Haldensleben","-14 °C","Magdeburg"]
["89356","Haldenwang","-16 °C","Augsburg"]
["46459","Haldern","-10 °C","Düsseldorf"]
["83128","Halfing","-16 °C","Hohenpeißenberg"]
["06116","Halle","-14 °C","Leipzig"]
["061..","Halle / Kröllwitz","-14 °C","Leipzig"]
["33790","Halle / Westf. ","-12 °C","Fritzlar"]
["59969","Hallenberg","-16 °C","Nürburg-Barweiler"]
["91352","Hallerndorf","-16 °C","Nürnberg"]
["67826","Hallgarten","-12 °C","Saarbrücken"]
["96103","Hallstadt","-16 °C","Bamberg"]
["09633","Halsbrücke","-16 °C","Erfurt"]
["56283","Halsenbach","-14 °C","Nürburg-Barweiler"]
["45721","Haltern","-10 °C","Düsseldorf"]
["79576","Haltingen","-12 °C","Karlsruhe"]
["58553","Halver","-12 °C","Nürburg-Barweiler"]
["97456","Hambach","-16 °C","Würzburg"]
["75242","Hamberg","-14 °C","Stuttgart"]
["23619","Hamberge","-12 °C","Schwerin"]
["27729","Hambergen","-12 °C","Bremen"]
["76707","Hambrücken","-12 °C","Karlsruhe"]
["56761","Hambuch","-14 °C","Nürburg-Barweiler"]
["29313","Hambühren","-12 °C","Hannover"]
["21037","Hamburg - Reitbrook","-12 °C","Hamburg"]
["3178.","Hameln","-12 °C","Hannover"]
["590..","Hamm / Westf.","-12 °C","Nürburg-Barweiler"]
["97762","Hammelburg","-14 °C","Würzburg"]
["52152","Hammer","-14 °C","Aachen"]
["16559","Hammer","-14 °C","Neuruppin"]
["04849","Hammermühle","-14 °C","Leipzig"]
["99441","Hammerstedt","-14 °C","Erfurt"]
["46499","Hamminkeln","-10 °C","Düsseldorf"]
["22929","Hammoor","-12 °C","Hamburg"]
["6345.","Hanau","-12 °C","Würzburg"]
["48157","Handorf","-12 °C","Hannover"]
["15537","Hangelsberg","-14 °C","Lindenberg"]
["31311","Hänigsen","-14 °C","Hannover"]
["29386","Hankensbüttel","-14 °C","Hannover"]
["34346","Hann.- Münden","-12 °C","Fritzlar"]
["29582","Hanstedt","-14 °C","Hannover"]
["86655","Harburg","-16 °C","Augsburg"]
["74736","Hardheim","-14 °C","Stuttgart"]
["78739","Hardt","-16 °C","Stuttgart"]
["49733","Haren","-10 °C","Hannover"]
["55595","Hargesheim","-12 °C","Trier"]
["79713","Harpolingen","-12 °C","Stuttgart"]
["27243","Harpstedt","-12 °C","Bremen"]
["21698","Harsefeld","-12 °C","Hamburg"]
["33428","Harsewinkel","-12 °C","Fritzlar"]
["38829","Harsleben","-14 °C","Magdeburg"]
["31177","Harsum","-14 °C","Hannover"]
["72401","Hart","-16 °C","Stuttgart"]
["08134","Härtensdorf","-14 °C","Erfurt"]
["08118","Hartenstein","-16 °C","Erfurt"]
["91235","Hartenstein","-16 °C","Nürnberg"]
["09569","Hartha","-14 °C","Erfurt"]
["04746","Hartha","-14 °C","Leipzig"]
["86316","Harthausen","-16 °C","Augsburg"]
["67376","Harthausen","-12 °C","Saarbrücken"]
["72501","Harthausen","-16 °C","Stuttgart"]
["79258","Hartheim","-12 °C","Karlsruhe"]
["56459","Härtlingen","-14 °C","Nürburg-Barweiler"]
["08107","Hartmannsdorf","-16 °C","Erfurt"]
["09232","Hartmannsdorf","-14 °C","Erfurt"]
["08468","Hartmannsgrün","-16 °C","Erfurt"]
["91224","Hartmannshof","-16 °C","Nürnberg"]
["06493","Harzgerode","-16 °C","Leipzig"]
["49205","Hasbergen","-12 °C","Hannover"]
["79686","Hasel","-14 °C","Stuttgart"]
["09509","Haselbach","-14 °C","Meiningen"]
["49740","Haselünne","-12 °C","Hannover"]
["71083","Haslach","-16 °C","Stuttgart"]
["77716","Haslach","-16 °C","Stuttgart"]
["88430","Haslach","-16 °C","Stuttgart"]
["01920","Häslich","-16 °C","Dresden"]
["25474","Hasloh","-12 °C","Schleswig"]
["82285","Haspelmoor","-16 °C","Kempten"]
["38899","Hasselfelde","-16 °C","Magdeburg"]
["08112","Haßlau","-14 °C","Erfurt"]
["17291","Haßleben","-14 °C","Greifswald"]
["74855","Haßmersheim","-12 °C","Stuttgart"]
["31559","Haste","-14 °C","Hannover"]
["88416","Hattenburg","-16 °C","Stuttgart"]
["65347","Hattenheim","-12 °C","Nürburg-Barweiler"]
["82285","Hattenhofen","-16 °C","Kempten"]
["73110","Hattenhofen","-16 °C","Stuttgart"]
["65795","Hattersheim","-12 °C","Karlsruhe"]
["78194","Hattingen","-16 °C","Stuttgart"]
["4552.","Hattingen / Ruhr","-12 °C","Dortmund"]
["37197","Hattorf","-16 °C","Fritzlar"]
["25856","Hattstedt","-10 °C","Schleswig"]
["76846","Hauenstein","-12 °C","Saarbrücken"]
["79725","Hauenstein","-12 °C","Stuttgart"]
["88410","Hauerz","-16 °C","Stuttgart"]
["91729","Haundorf","-16 °C","Nürnberg"]
["91249","Haunritz","-16 °C","Nürnberg"]
["89437","Haunsheim","-16 °C","Augsburg"]
["86179","Haunstetten","-16 °C","Augsburg"]
["08468","Hauptmannsgrün","-16 °C","Erfurt"]
["34626","Hauptschwenda","-14 °C","Fritzlar"]
["94481","Haus im Wald","-18 °C","Straubing"]
["77756","Hausach","-16 °C","Stuttgart"]
["35415","Hausen","-14 °C","Fritzlar"]
["36280","Hausen","-16 °C","Fritzlar"]
["91353","Hausen","-16 °C","Nürnberg"]
["71263","Hausen","-16 °C","Stuttgart"]
["72393","Hausen","-18 °C","Stuttgart"]
["79688","Hausen","-14 °C","Stuttgart"]
["63840","Hausen","-14 °C","Würzburg"]
["97262","Hausen","-14 °C","Würzburg"]
["89604","Hausen ob Allmendingen","-14 °C","Augsburg"]
["78595","Hausen ob Verena","-18 °C","Stuttgart"]
["78183","Hausen vor Wald","-16 °C","Stuttgart"]
["79837","Häusern","-16 °C","Stuttgart"]
["83734","Hausham","-18 °C","Hohenpeißenberg"]
["01900","Hauswalde","-14 °C","Dresden"]
["06577","Hauteroda","-14 °C","Leipzig"]
["94051","Hauzenberg","-18 °C","Straubing"]
["39539","Havelberg","-14 °C","Magdeburg"]
["38275","Haverlah","-14 °C","Magdeburg"]
["48329","Havixbeck","-12 °C","Hannover"]
["72534","Hayingen","-16 °C","Stuttgart"]
["37339","Haynrode","-16 °C","Fritzlar"]
["95168","Hebanz","-18 °C","Hof"]
["84332","Hebertsfelden","-16 °C","Straubing"]
["82229","Hechendorf","-16 °C","Kempten"]
["06571","Hechendorf","-14 °C","Leipzig"]
["72379","Hechingen","-16 °C","Stuttgart"]
["21755","Hechthausen","-12 °C","Hamburg"]
["55129","Hechtsheim","-12 °C","Karlsruhe"]
["54518","Heckenmünster","-14 °C","Trier"]
["65614","Heckholzhausen","-14 °C","Nürburg-Barweiler"]
["79341","Hecklingen ","-12 °C","Karlsruhe"]
["36275","Heddersdorf","-14 °C","Fritzlar"]
["68542","Heddersheim","-12 °C","Karlsruhe"]
["56564","Heddesdorf","-12 °C","Nürburg-Barweiler"]
["33719","Heepen","-12 °C","Fritzlar"]
["01833","Heeselicht","-14 °C","Dresden"]
["27404","Heeslingen","-12 °C","Bremen"]
["31707","Heeßen","-14 °C","Hannover"]
["65510","Heftrich","-14 °C","Nürburg-Barweiler"]
["73669","Hegenlohe","-16 °C","Stuttgart"]
["57413","Heggen","-14 °C","Nürburg-Barweiler"]
["71334","Hegnach","-12 °C","Stuttgart"]
["16559","Heidchen","-14 °C","Neuruppin"]
["19294","Heiddorf","-12 °C","Schwerin"]
["53797","Heide","-12 °C","Nürburg-Barweiler"]
["25746","Heide / Holst.","-10 °C","Schleswig"]
["91180","Heideck","-16 °C","Nürnberg"]
["691..","Heidelberg","-10 °C","Würzburg"]
["76646","Heidelsheim","-12 °C","Stuttgart"]
["46359","Heiden","-10 °C","Düsseldorf"]
["01809","Heidenau","-14 °C","Dresden"]
["54426","Heidenburg","-12 °C","Trier"]
["55262","Heidenfahrt","-12 °C","Trier"]
["895..","Heidenheim / Brenz","-16 °C","Augsburg"]
["65321","Heidenrod","-14 °C","Nürburg-Barweiler"]
["55262","Heidesheim","-12 °C","Trier"]
["54518","Heidweiler","-12 °C","Trier"]
["740..","Heilbronn / Neckar","-12 °C","Stuttgart"]
["88633","Heiligenberg","-14 °C","Stuttgart"]
["78731","Heiligenbronn","-16 °C","Stuttgart"]
["42579","Heiligenhaus b. Velbert","-12 °C","Düsseldorf"]
["37308","Heiligenstadt","-16 °C","Fritzlar"]
["06347","Heiligenthal","-14 °C","Leipzig"]
["77948","Heiligenzell","-12 °C","Karlsruhe"]
["72348","Heiligenzimmern","-16 °C","Stuttgart"]
["69253","Heiligkreuzsteinach","-12 °C","Würzburg"]
["91560","Heilsbronn","-16 °C","Nürnberg"]
["79331","Heimbach","-12 °C","Karlsruhe"]
["53474","Heimersheim","-14 °C","Nürburg-Barweiler"]
["71296","Heimsheim","-16 °C","Stuttgart"]
["37627","Heinade","-14 °C","Fritzlar"]
["73092","Heiningen","-16 °C","Stuttgart"]
["52525","Heinsberg","-10 °C","Aachen"]
["08468","Heinsdorfergrund","-16 °C","Erfurt"]
["37649","Heinsen","-12 °C","Fritzlar"]
["74906","Heinsheim","-12 °C","Stuttgart"]
["67742","Heinzenhausen","-12 °C","Saarbrücken"]
["54497","Heinzerath","-14 °C","Trier"]
["87493","Heising","-16 °C","Kempten"]
["85276","Heißmanning","-16 °C","München"]
["25492","Heist","-10 °C","Schleswig"]
["53639","Heisterbacherrott","-12 °C","Nürburg-Barweiler"]
["79423","Heitersheim","-14 °C","Karlsruhe"]
["06311","Helbra","-14 °C","Leipzig"]
["85414","Helfenbrunn","-16 °C","München"]
["56244","Helferskirchen","-14 °C","Nürburg-Barweiler"]
["37627","Hellental","-14 °C","Fritzlar"]
["53940","Hellenthal","-14 °C","Nürburg-Barweiler"]
["95233","Helmbrechts","-18 °C","Hof"]
["77866","Helmlingen","-12 °C","Karlsruhe"]
["17498","Helmshagen","-12 °C","Greifswald"]
["74921","Helmstadt","-12 °C","Stuttgart"]
["97264","Helmstadt","-14 °C","Würzburg"]
["38350","Helmstedt","-14 °C","Magdeburg"]
["34298","Helsa","-14 °C","Fritzlar"]
["31535","Helstorf","-14 °C","Hannover"]
["33034","Hembsen","-14 °C","Fritzlar"]
["58675","Hemer","-12 °C","Nürburg-Barweiler"]
["91334","Hemhofen","-16 °C","Nürnberg"]
["72108","Hemmendorf","-16 °C","Stuttgart"]
["97258","Hemmersheim","-16 °C","Würzburg"]
["71282","Hemmingen","-14 °C","Stuttgart"]
["30966","Hemmingen ","-14 °C","Hannover"]
["92353","Heng","-16 °C","Nürnberg"]
["72574","Hengen","-18 °C","Stuttgart"]
["94491","Hengersberg","-18 °C","Straubing"]
["53773","Hennef","-12 °C","Nürburg-Barweiler"]
["53773","Hennef/Sieg","-12 °C","Nürburg-Barweiler"]
["16761","Hennigsdorf","-14 °C","Neuruppin"]
["16761","Henningsdorf b. Berlin","-14 °C","Neuruppin"]
["67551","Heppenheim","-12 °C","Saarbrücken"]
["64646","Heppenheim","-12 °C","Würzburg"]
["73235","Hepsisau","-16 °C","Stuttgart"]
["88518","Herbertingen","-14 °C","Stuttgart"]
["85241","Herbertshausen","-16 °C","München"]
["86405","Herbertshofen","-16 °C","Augsburg"]
["79336","Herbolzheim","-12 °C","Karlsruhe"]
["91478","Herbolzheim","-16 °C","Nürnberg"]
["74861","Herbolzheim","-12 °C","Stuttgart"]
["35745","Herborn","-14 °C","Fritzlar"]
["89542","Herbrechtingen","-16 °C","Augsburg"]
["99955","Herbsleben","-14 °C","Erfurt"]
["97980","Herbsthausen","-16 °C","Würzburg"]
["36355","Herchenhain","-14 °C","Fritzlar"]
["58313","Herdecke","-12 °C","Nürburg-Barweiler"]
["88634","Herdwangen","-14 °C","Stuttgart"]
["320..","Herford","-12 °C","Fritzlar"]
["36318","Hergersdorf","-14 °C","Fritzlar"]
["06313","Hergisdorf","-14 °C","Leipzig"]
["97534","Hergolshausen","-14 °C","Würzburg"]
["36266","Heringen/Werra","-14 °C","Fritzlar"]
["23777","Heringsdorf","-10 °C","Schwerin"]
["37293","Herleshausen","-14 °C","Fritzlar"]
["73527","Herlikofen","-16 °C","Stuttgart"]
["29320","Hermannsburg","-14 °C","Hannover"]
["66919","Hermersberg","-12 °C","Saarbrücken"]
["01776","Hermsdorf","-16 °C","Dresden"]
["01945","Hermsdorf","-16 °C","Dresden"]
["07629","Hermsdorf","-14 °C","Erfurt"]
["446..","Herne","-10 °C","Dortmund"]
["72535","Heroldstatt","-16 °C","Stuttgart"]
["71083","Herrenberg","-16 °C","Stuttgart"]
["09217","Herrenhaide","-14 °C","Erfurt"]
["78662","Herrenzimmern","-16 °C","Stuttgart"]
["56729","Herresbach","-14 °C","Nürburg-Barweiler"]
["50374","Herrig","-12 °C","Düsseldorf"]
["79737","Herrischried","-14 °C","Stuttgart"]
["23923","Herrnburg","-10 °C","Schwerin"]
["02747","Herrnhut","-16 °C","Görlitz"]
["67550","Herrnsheim","-12 °C","Saarbrücken"]
["82211","Herrsching am Ammersee","-16 °C","Kempten"]
["02899","Hersbach","-16 °C","Görlitz"]
["91217","Hersbruck","-16 °C","Nürnberg"]
["58849","Herscheid","-14 °C","Nürburg-Barweiler"]
["53332","Hersel","-12 °C","Nürburg-Barweiler"]
["45...","Herten / Westf.","-10 °C","Düsseldorf"]
["79415","Hertingen","-12 °C","Karlsruhe"]
["71364","Hertmannsweiler","-14 °C","Stuttgart"]
["67273","Herxheim am Berg","-12 °C","Saarbrücken"]
["91074","Herzogenaurach","-16 °C","Nürnberg"]
["52134","Herzogenrath","-12 °C","Aachen"]
["72336","Heselwangen","-18 °C","Stuttgart"]
["35085","Heskem","-12 °C","Fritzlar"]
["91093","Heßdorf","-16 °C","Nürnberg"]
["63607","Hesseldorf","-14 °C","Würzburg"]
["38835","Hessen","-14 °C","Magdeburg"]
["74394","Hessigheim","-12 °C","Stuttgart"]
["37235","Hessisch Lichtenau","-14 °C","Fritzlar"]
["31840","Hessisch Oldendorf","-12 °C","Hannover"]
["74722","Hettigenbeuern","-16 °C","Stuttgart"]
["06333","Hettstedt","-14 °C","Leipzig"]
["41812","Hetzerath","-12 °C","Düsseldorf"]
["54523","Hetzerath","-10 °C","Trier"]
["91077","Hetzlers","-16 °C","Nürnberg"]
["91077","Hetzles","-16 °C","Nürnberg"]
["73540","Heubach","-16 °C","Stuttgart"]
["72589","Heuberg","-18 °C","Stuttgart"]
["89547","Heuchlingen","-16 °C","Augsburg"]
["73572","Heuchlingen","-16 °C","Stuttgart"]
["78253","Heudorf im Hegau","-14 °C","Konstanz"]
["83052","Heufeld","-16 °C","Hohenpeißenberg"]
["97618","Heustreu","-14 °C","Würzburg"]
["66265","Heusweiler","-12 °C","Saarbrücken"]
["79194","Heuweiler","-14 °C","Karlsruhe"]
["93336","Hexenagger","-16 °C","Straubing"]
["31171","Heyersum","-14 °C","Hannover"]
["32120","Hiddenhausen","-12 °C","Fritzlar"]
["59457","Hilbeck","-12 °C","Nürburg-Barweiler"]
["09627","Hilbersdorf","-16 °C","Erfurt"]
["02894","Hilbersdorf","-16 °C","Görlitz"]
["57271","Hilchenbach","-14 °C","Nürburg-Barweiler"]
["98646","Hildburghausen","-16 °C","Meiningen"]
["4072.","Hilden","-10 °C","Düsseldorf"]
["311..","Hildesheim","-14 °C","Hannover"]
["71157","Hildrizhausen","-16 °C","Stuttgart"]
["57612","Hilgenroth/Westerw.","-12 °C","Nürburg-Barweiler"]
["32479","Hille","-12 °C","Fritzlar"]
["32694","Hillentrup","-14 °C","Fritzlar"]
["54576","Hillesheim","-14 °C","Trier"]
["56204","Hillscheid","-12 °C","Nürburg-Barweiler"]
["91161","Hilpoltstein","-16 °C","Nürnberg"]
["74889","Hilsbach","-12 °C","Stuttgart"]
["91355","Hiltpoltstein","-16 °C","Nürnberg"]
["78247","Hilzingen","-12 °C","Konstanz"]
["39596","Hindenburg","-14 °C","Magdeburg"]
["06386","Hinsdorf","-14 °C","Leipzig"]
["01855","Hinterhermsdorf","-16 °C","Dresden"]
["98553","Hinternah","-16 °C","Meiningen"]
["17375","Hintersee","-12 °C","Greifswald"]
["36396","Hintersteinau","-14 °C","Fritzlar"]
["79856","Hinterzarten","-18 °C","Stuttgart"]
["27432","Hipstedt","-12 °C","Bremen"]
["72145","Hirrlingen","-16 °C","Stuttgart"]
["75365","Hirsau ","-16 °C","Stuttgart"]
["96114","Hirschaid","-16 °C","Bamberg"]
["72070","Hirschau","-16 °C","Stuttgart"]
["07927","Hirschberg","-18 °C","Meiningen"]
["09526","Hirschberg","-16 °C","Meiningen"]
["69493","Hirschberg","-12 °C","Würzburg"]
["18311","Hirschburg","-10 °C","Rostock"]
["98678","Hirschendorf","-16 °C","Meiningen"]
["04932","Hirschfeld","-16 °C","Leipzig"]
["37235","Hirschhagen","-14 °C","Fritzlar"]
["57635","Hirzbach","-14 °C","Nürburg-Barweiler"]
["63697","Hirzenhain","-14 °C","Würzburg"]
["21522","Hittbergen","-12 °C","Hamburg"]
["39279","Hobeck","-14 °C","Magdeburg"]
["88348","Hochberg","-14 °C","Stuttgart"]
["71686","Hochdorf","-14 °C","Stuttgart"]
["71735","Hochdorf","-14 °C","Stuttgart"]
["72202","Hochdorf","-16 °C","Stuttgart"]
["72297","Hochdorf","-16 °C","Stuttgart"]
["73269","Hochdorf","-16 °C","Stuttgart"]
["88454","Hochdorf","-16 °C","Stuttgart"]
["72151","Hochdorf bei Horb / Neckar","-16 °C","Stuttgart"]
["79862","Höchenschwand","-16 °C","Stuttgart"]
["02627","Hochkirch","-16 °C","Görlitz"]
["41363","Hochneukirch","-10 °C","Düsseldorf"]
["64739","Höchst","-14 °C","Würzburg"]
["95186","Höchstädt","-18 °C","Hof"]
["76351","Hochstetten","-12 °C","Karlsruhe"]
["79206","Hochstetten","-12 °C","Karlsruhe"]
["55606","Hochstetten-Dhaun","-14 °C","Trier"]
["86163","Hochzoll","-16 °C","Augsburg"]
["68766","Hockenheim","-12 °C","Karlsruhe"]
["88662","Hödingen (Überlingen)","-12 °C","Konstanz"]
["56472","Hof","-14 °C","Nürburg-Barweiler"]
["950..","Hof, Saale","-18 °C","Hof"]
["36145","Hofbieber","-16 °C","Fritzlar"]
["84152","Hofdorf","-18 °C","Straubing"]
["90431","Höfen","-16 °C","Nürnberg"]
["92342","Höfen","-16 °C","Nürnberg"]
["75339","Höfen","-16 °C","Stuttgart"]
["74889","Hoffenheim","-12 °C","Stuttgart"]
["51503","Hoffnungsthal","-12 °C","Nürburg-Barweiler"]
["34369","Hofgeismar","-14 °C","Fritzlar"]
["04668","Höfgen","-14 °C","Leipzig"]
["65719","Hofheim","-12 °C","Nürburg-Barweiler"]
["97461","Hofheim / Unterfr.","-14 °C","Würzburg"]
["71229","Höfingen","-14 °C","Stuttgart"]
["84082","Hofkirchen","-18 °C","Straubing"]
["94544","Hofkirchen","-18 °C","Straubing"]
["86928","Hofstetten","-16 °C","Kempten"]
["86928","Hofstetten","-16 °C","Kempten"]
["77749","Hofweier","-12 °C","Karlsruhe"]
["77749","Hohberg","-12 °C","Karlsruhe"]
["04808","Hohburg","-14 °C","Leipzig"]
["38700","Hohegeiß","-16 °C","Magdeburg"]
["16540","Hohen Neuendorf","-14 °C","Neuruppin"]
["23996","Hohen Viecheln","-12 °C","Schwerin"]
["83670","Hohenbirken","-14 °C","Hohenpeißenberg"]
["18445","Hohendorf","-10 °C","Rostock"]
["31185","Hoheneggelsen","-14 °C","Hannover"]
["16306","Hohenfelde ","-14 °C","Neuruppin"]
["73666","Hohengehren","-14 °C","Stuttgart"]
["31249","Hohenhameln","-14 °C","Hannover"]
["74420","Hohenhardtsweiler","-16 °C","Stuttgart"]
["74343","Hohenhaslach","-12 °C","Stuttgart"]
["04448","Hohenheida","-14 °C","Leipzig"]
["26434","Hohenkirchen","-10 °C","Emden"]
["07958","Hohenleiben","-16 °C","Erfurt"]
["04934","Hohenleipisch","-16 °C","Leipzig"]
["58119","Hohenlimburg","-12 °C","Nürburg-Barweiler"]
["06773","Hohenlubast","-14 °C","Leipzig"]
["89537","Hohenmemmingen","-16 °C","Augsburg"]
["82383","Hohenpeißenberg","-16 °C","Kempten"]
["82335","Höhenrain","-16 °C","Kempten"]
["86637","Hohenreichen","-16 °C","Augsburg"]
["16307","Hohenreinkendorf","-14 °C","Neuruppin"]
["36284","Hohenroda","-14 °C","Fritzlar"]
["16248","Hohensaaten","-14 °C","Neuruppin"]
["82069","Hohenschäftlarn","-16 °C","Kempten"]
["87645","Hohenschwangau","-18 °C","Kempten"]
["73453","Hohenstadt","-16 °C","Stuttgart"]
["65329","Hohenstein","-14 °C","Nürburg-Barweiler"]
["72531","Hohenstein","-18 °C","Stuttgart"]
["09337","Hohenstein-Ernstthal","-14 °C","Erfurt"]
["79801","Hohentengen","-12 °C","Stuttgart"]
["88367","Hohentengen","-14 °C","Stuttgart"]
["83104","Hohenthann","-16 °C","Hohenpeißenberg"]
["75181","Hohenwart","-14 °C","Stuttgart"]
["93480","Hohenwarth","-18 °C","Straubing"]
["39291","Hohenwarthe","-14 °C","Magdeburg"]
["06179","Hohenweiden","-14 °C","Leipzig"]
["24594","Hohenwestedt","-12 °C","Schleswig"]
["01561","Hohndorf","-16 °C","Dresden"]
["07985","Hohndorf","-16 °C","Erfurt"]
["09434","Hohndorf","-14 °C","Meiningen"]
["29362","Hohne","-14 °C","Hannover"]
["31559","Hohnhorst","-14 °C","Hannover"]
["77694","Hohnhurst","-12 °C","Karlsruhe"]
["06179","Höhnstedt","-14 °C","Leipzig"]
["42655","Höhscheid","-12 °C","Düsseldorf"]
["41469","Hoisten","-10 °C","Düsseldorf"]
["49451","Holdorf","-12 °C","Hannover"]
["49584","Hollenstede","-12 °C","Hannover"]
["37154","Hollenstedt","-16 °C","Fritzlar"]
["21279","Hollenstedt","-12 °C","Hamburg"]
["83098","Höllenstein","-18 °C","Hohenpeißenberg"]
["53940","Hollerath","-14 °C","Nürburg-Barweiler"]
["21723","Hollern-Twielenfleth","-10 °C","Hamburg"]
["96142","Hollfeld","-16 °C","Bamberg"]
["32257","Holsen","-12 °C","Fritzlar"]
["41069","Holt ","-10 °C","Düsseldorf"]
["46147","Holten","-10 °C","Düsseldorf"]
["31787","Holtensen","-12 °C","Hannover"]
["26629","Holtrop","-10 °C","Emden"]
["41363","Holz","-12 °C","Düsseldorf"]
["66265","Holz","-12 °C","Saarbrücken"]
["56379","Holzappel","-12 °C","Nürburg-Barweiler"]
["09623","Holzau","-16 °C","Meiningen"]
["75365","Holzbronn","-14 °C","Stuttgart"]
["06926","Holzdorf","-16 °C","Leipzig"]
["72805","Holzelfingen","-18 °C","Stuttgart"]
["37632","Holzen","-14 °C","Fritzlar"]
["79400","Holzen","-12 °C","Karlsruhe"]
["71088","Holzgerlingen","-16 °C","Stuttgart"]
["32457","Holzhausen","-12 °C","Fritzlar"]
["35753","Holzhausen","-14 °C","Fritzlar"]
["77866","Holzhausen","-12 °C","Karlsruhe"]
["79232","Holzhausen","-12 °C","Karlsruhe"]
["04454","Holzhausen","-14 °C","Leipzig"]
["86919","Holzhausen a. Ammersee","-16 °C","Kempten"]
["32805","Holzhausen-Externsteine","-14 °C","Fritzlar"]
["89438","Holzheim","-16 °C","Augsburg"]
["41472","Holzheim","-10 °C","Düsseldorf"]
["90453","Holzheim","-16 °C","Nürnberg"]
["83607","Holzkirchen ","-18 °C","Hohenpeißenberg"]
["73271","Holzmaden","-16 °C","Stuttgart"]
["37603","Holzminden","-12 °C","Fritzlar"]
["53501","Holzweiler","-14 °C","Nürburg-Barweiler"]
["06808","Holzweißig","-14 °C","Leipzig"]
["59439","Holzwickede","-12 °C","Nürburg-Barweiler"]
["34576","Homberg","-14 °C","Fritzlar"]
["67744","Homberg","-14 °C","Saarbrücken"]
["47...","Homberg / Niederrh.","-10 °C","Düsseldorf"]
["40882","Homberg-Meiersberg","-10 °C","Düsseldorf"]
["44227","Hombruch","-12 °C","Düsseldorf"]
["66424","Homburg / Saar","-12 °C","Saarbrücken"]
["31177","Hönnersum","-14 °C","Hannover"]
["15366","Hönow","-14 °C","Lindenberg"]
["59737","Honrath","-12 °C","Nürburg-Barweiler"]
["44869","Höntrop","-12 °C","Düsseldorf"]
["66606","Hoof","-12 °C","Saarbrücken"]
["49846","Hoogstede","-10 °C","Hannover"]
["72172","Hopfau","-16 °C","Stuttgart"]
["71711","Höpfigheim","-12 °C","Stuttgart"]
["74746","Höpfingen","-14 °C","Stuttgart"]
["14641","Hoppenrade","-14 °C","Potsdam"]
["48496","Hopsten","-12 °C","Hannover"]
["72160","Horb","-16 °C","Stuttgart"]
["56412","Horbach","-12 °C","Nürburg-Barweiler"]
["35745","Hörbach","-14 °C","Fritzlar"]
["79289","Horben","-16 °C","Stuttgart"]
["76771","Hördt","-12 °C","Karlsruhe"]
["88477","Hörenhausen","-16 °C","Stuttgart"]
["86497","Horgau","-16 °C","Augsburg"]
["88263","Horgenzell","-14 °C","Stuttgart"]
["85413","Hörgertshausen","-16 °C","München"]
["79793","Horheim","-12 °C","Stuttgart"]
["74417","Horlachen","-16 °C","Stuttgart"]
["01986","Hörlitz","-16 °C","Dresden"]
["32805","Horn-Bad Meinberg","-14 °C","Fritzlar"]
["02763","Hörnitz","-16 °C","Görlitz"]
["03130","Hornow","-16 °C","Lindenberg"]
["71665","Horrheim","-14 °C","Stuttgart"]
["55457","Horrweiler","-12 °C","Trier"]
["96231","Horsdorf","-16 °C","Bamberg"]
["99976","Horsmar","-16 °C","Erfurt"]
["45899","Horst","-10 °C","Düsseldorf"]
["21220","Horst","-12 °C","Hamburg"]
["06785","Horstdorf","-14 °C","Leipzig"]
["63755","Hörstein","-12 °C","Würzburg"]
["48477","Hörstel","-12 °C","Hannover"]
["63768","Hösbach","-14 °C","Würzburg"]
["01996","Hosena","-16 °C","Dresden"]
["88374","Hoßkirch","-14 °C","Stuttgart"]
["88374","Hoßkirch","-14 °C","Stuttgart"]
["73663","Hößlinswart","-14 °C","Stuttgart"]
["79736","Hottingen","-14 °C","Stuttgart"]
["53902","Houverath","-14 °C","Nürburg-Barweiler"]
["33161","Hövelhof","-12 °C","Fritzlar"]
["37671","Höxter","-12 °C","Fritzlar"]
["27318","Hoyerhagen","-12 °C","Bremen"]
["31093","Hoyershausen","-14 °C","Hannover"]
["02977","Hoyerswerda","-16 °C","Görlitz"]
["06308","Hübitz","-14 °C","Leipzig"]
["75181","Huchenfeld","-14 °C","Stuttgart"]
["32609","Huchzen","-12 °C","Fritzlar"]
["41836","Hückelhoven","-10 °C","Düsseldorf"]
["47259","Huckingen","-10 °C","Düsseldorf"]
["31177","Hüddessum","-14 °C","Hannover"]
["27798","Hude","-12 °C","Bremen"]
["74928","Hüffenhardt","-12 °C","Stuttgart"]
["78183","Hüfingen","-16 °C","Stuttgart"]
["76549","Hügelsheim","-12 °C","Karlsruhe"]
["82386","Huglfing","-16 °C","Kempten"]
["79232","Hugstetten","-12 °C","Karlsruhe"]
["77933","Hugsweier","-12 °C","Karlsruhe"]
["47551","Huisberden","-10 °C","Düsseldorf"]
["72584","Hülben","-16 °C","Stuttgart"]
["32609","Hüllhorst","-12 °C","Fritzlar"]
["31867","Hülsede","-14 °C","Hannover"]
["66773","Hülzweiler","-12 °C","Saarbrücken"]
["32676","Hummersen","-14 °C","Fritzlar"]
["98634","Hümpfershausen","-16 °C","Meiningen"]
["94336","Hunderdorf","-18 °C","Straubing"]
["88518","Hundersingen","-14 °C","Stuttgart"]
["67749","Hundheim","-14 °C","Saarbrücken"]
["97900","Hundheim","-14 °C","Würzburg"]
["39343","Hundisburg","-14 °C","Magdeburg"]
["36088","Hünfeld","-14 °C","Fritzlar"]
["35410","Hungen","-12 °C","Fritzlar"]
["65510","Hünstetten","-14 °C","Nürburg-Barweiler"]
["46569","Hünxe","-10 °C","Düsseldorf"]
["54518","Hupperath","-14 °C","Trier"]
["52393","Hürtgenwald","-14 °C","Aachen"]
["52393","Hürtgenwald-Gey","-14 °C","Aachen"]
["50354","Hürth","-10 °C","Düsseldorf"]
["24850","Hüsby","-12 °C","Schleswig"]
["39579","Hüselitz","-14 °C","Magdeburg"]
["31632","Husum","-12 °C","Hannover"]
["25813","Husum / Nordsee","-10 °C","Schleswig"]
["66882","Hütschenhausen","-12 °C","Saarbrücken"]
["35625","Hüttenberg","-14 °C","Fritzlar"]
["76661","Huttenheim","-12 °C","Karlsruhe"]
["84152","Hüttenkofen","-18 °C","Straubing"]
["38889","Hüttenrode","-16 °C","Magdeburg"]
["54636","Hüttingen/Kyll","-14 °C","Trier"]
["73460","Hüttlingen","-16 °C","Stuttgart"]
["36110","Hutzdorf","-14 °C","Fritzlar"]
["29646","Hützel","-14 °C","Hannover"]
["79837","Ibach-Mutterslehen","-16 °C","Stuttgart"]
["4947.","Ibbenbüren","-12 °C","Hannover"]
["89335","Ichenhausen","-16 °C","Augsburg"]
["77743","Ichenheim","-12 °C","Karlsruhe"]
["99334","Ichtershausen","-14 °C","Erfurt"]
["55743","Idar-Oberstein","-12 °C","Trier"]
["65510","Idstein","-14 °C","Nürburg-Barweiler"]
["76473","Iffezheim","-12 °C","Karlsruhe"]
["91338","Igensdorf","-16 °C","Nürnberg"]
["97999","Igersheim","-16 °C","Würzburg"]
["67471","Iggelbach","-12 °C","Saarbrücken"]
["94547","Iggensbach","-18 °C","Straubing"]
["73574","Iggingen","-16 °C","Stuttgart"]
["86859","Igling","-16 °C","Kempten"]
["72160","Ihlingen","-16 °C","Stuttgart"]
["79241","Ihringen","-12 °C","Karlsruhe"]
["93346","Ihrlerstein","-16 °C","Straubing"]
["38723","Ildehausen","-16 °C","Magdeburg"]
["99958","Illeben","-14 °C","Erfurt"]
["89269","Illerberg","-16 °C","Augsburg"]
["89281","Illereichen","-16 °C","Augsburg"]
["89171","Illerkirchberg","-16 °C","Augsburg"]
["89186","Illerrieden","-16 °C","Augsburg"]
["89257","Illertissen","-16 °C","Augsburg"]
["76477","Illingen","-12 °C","Karlsruhe"]
["75428","Illingen","-14 °C","Stuttgart"]
["88636","Illmensee","-14 °C","Stuttgart"]
["98693","Ilmenau","-16 °C","Meiningen"]
["99326","Ilmtal","-14 °C","Erfurt"]
["31241","Ilsede","-14 °C","Hannover"]
["38871","Ilsenburg","-16 °C","Magdeburg"]
["74360","Ilsfeld","-12 °C","Stuttgart"]
["74532","Ilshofen","-16 °C","Stuttgart"]
["68549","Ilvesheim","-12 °C","Karlsruhe"]
["78194","Immendingen","-16 °C","Stuttgart"]
["56077","Immendorf","-12 °C","Nürburg-Barweiler"]
["34376","Immenhausen","-14 °C","Fritzlar"]
["72127","Immenhausen","-16 °C","Stuttgart"]
["73463","Immenhofen","-16 °C","Stuttgart"]
["95505","Immenreuth","-18 °C","Hof"]
["31275","Immensen","-14 °C","Hannover"]
["88090","Immenstaad","-12 °C","Konstanz"]
["87509","Immenstadt","-18 °C","Kempten"]
["72534","Indelhausen","-16 °C","Stuttgart"]
["94428","Indersbach","-16 °C","Straubing"]
["74653","Ingelfingen","-14 °C","Stuttgart"]
["55218","Ingelheim","-12 °C","Trier"]
["88456","Ingoldingen","-16 °C","Stuttgart"]
["850..","Ingolstadt","-16 °C","München"]
["35410","Inheiden","-12 °C","Fritzlar"]
["72513","Inneringen","-16 °C","Stuttgart"]
["94548","Innernzell","-18 °C","Straubing"]
["24613","Innien","-12 °C","Schleswig"]
["98599","Inselsberg","-16 °C","Meiningen"]
["53520","Insul","-14 °C","Nürburg-Barweiler"]
["72514","Inzigkofen","-14 °C","Stuttgart"]
["97258","Ippesheim","-16 °C","Würzburg"]
["91472","Ipsheim","-16 °C","Nürnberg"]
["75446","Iptingen","-14 °C","Stuttgart"]
["08485","Irfersgrün","-16 °C","Erfurt"]
["85049","Irgertsheim","-16 °C","München"]
["52388","Irresheim","-12 °C","Aachen"]
["83737","Irschenberg","-18 °C","Hohenpeißenberg"]
["39167","Irxleben","-14 °C","Magdeburg"]
["5863.","Iserlohn","-12 °C","Nürburg-Barweiler"]
["30916","Isernhagen","-14 °C","Hannover"]
["85737","Ismaning","-16 °C","München"]
["88316","Isny","-16 °C","Stuttgart"]
["75228","Ispringen","-14 °C","Stuttgart"]
["54338","Issel","-10 °C","Trier"]
["65558","Isselbach","-14 °C","Nürburg-Barweiler"]
["46419","Isselburg","-10 °C","Düsseldorf"]
["47661","Issum","-10 °C","Düsseldorf"]
["88677","Ittendorf","-12 °C","Stuttgart"]
["49847","Itterbeck","-10 °C","Hannover"]
["76307","Ittersbach","-14 °C","Stuttgart"]
["88048","Ittingen","-12 °C","Konstanz"]
["88515","Ittingen","-16 °C","Stuttgart"]
["74930","Ittlingen","-14 °C","Stuttgart"]
["25524","Izehoe","-12 °C","Schleswig"]
["15236","Jacobsdorf","-16 °C","Lindenberg"]
["26349","Jade","-10 °C","Emden"]
["07768","Jägersdorf","-14 °C","Erfurt"]
["74249","Jagsthausen","-14 °C","Stuttgart"]
["73489","Jagstzell","-16 °C","Stuttgart"]
["37688","Jakobsberg","-14 °C","Fritzlar"]
["03130","Jämlitz","-16 °C","Lindenberg"]
["02906","Jänkendorf","-16 °C","Görlitz"]
["01945","Jannowitz","-16 °C","Dresden"]
["17126","Jarmen","-12 °C","Greifswald"]
["73035","Jebenhausen","-16 °C","Stuttgart"]
["79361","Jechtingen","-12 °C","Karlsruhe"]
["89257","Jedesheim","-16 °C","Augsburg"]
["0774.","Jena","-14 °C","Erfurt"]
["39319","Jerichow","-14 °C","Magdeburg"]
["03159","Jerischke","-16 °C","Lindenberg"]
["04838","Jesewitz","-14 °C","Leipzig"]
["73230","Jesingen","-16 °C","Stuttgart"]
["01689","Jessen","-16 °C","Dresden"]
["02699","Jeßnitz","-16 °C","Görlitz"]
["04720","Jeßnitz","-14 °C","Leipzig"]
["21266","Jesteburg","-12 °C","Hamburg"]
["98708","Jesuborn","-16 °C","Meiningen"]
["72127","Jettenburg","-16 °C","Stuttgart"]
["71131","Jettingen","-16 °C","Stuttgart"]
["89343","Jettingen-Scheppach","-16 °C","Augsburg"]
["08543","Jocketa","-16 °C","Meiningen"]
["08349","Johanngeorgenstadt","-18 °C","Meiningen"]
["96328","Johannisthal","-16 °C","Bamberg"]
["75045","Jöhlingen","-12 °C","Stuttgart"]
["01768","Johnsbach","-16 °C","Dresden"]
["33739","Jöllenbeck","-12 °C","Fritzlar"]
["02796","Jonsdorf","-16 °C","Görlitz"]
["41363","Jüchen","-10 °C","Düsseldorf"]
["37127","Jühnde","-14 °C","Fritzlar"]
["52428","Jülich","-12 °C","Aachen"]
["72417","Jungingen","-18 °C","Stuttgart"]
["54584","Jünkerath","-14 °C","Trier"]
["17214","Jürgenshof","-12 °C","Greifswald"]
["17153","Jürgenstorf","-14 °C","Greifswald"]
["14913","Jüterbog","-14 °C","Potsdam"]
["37345","Jützenbach","-16 °C","Fritzlar"]
["41564","Kaarst","-10 °C","Düsseldorf"]
["79790","Kadelburg","-12 °C","Stuttgart"]
["89284","Kadeltshofen","-16 °C","Augsburg"]
["56337","Kadenbach","-12 °C","Nürburg-Barweiler"]
["04668","Kaditzsch","-14 °C","Leipzig"]
["63796","Kahl am Main","-12 °C","Würzburg"]
["72479","Kaiseringen","-16 °C","Stuttgart"]
["73667","Kaisersbach","-16 °C","Stuttgart"]
["56759","Kaisersesch","-14 °C","Nürburg-Barweiler"]
["676..","Kaiserslautern","-12 °C","Saarbrücken"]
["86687","Kaisheim","-16 °C","Augsburg"]
["06785","Kakau","-14 °C","Leipzig"]
["60437","Kalbach","-12 °C","Frankfurt am Main"]
["36148","Kalbach","-14 °C","Fritzlar"]
["91720","Kalbensteinberg","-16 °C","Nürnberg"]
["63755","Kälberau","-12 °C","Würzburg"]
["90562","Kalchreuth","-16 °C","Nürnberg"]
["23942","Kalkhorst","-10 °C","Schwerin"]
["78355","Kalkofen","-14 °C","Konstanz"]
["88356","Kalkreute","-14 °C","Stuttgart"]
["01561","Kalkreuth","-16 °C","Dresden"]
["53925","Kall","-14 °C","Nürburg-Barweiler"]
["32689","Kalldorf ","-12 °C","Fritzlar"]
["59602","Kallenhardt","-14 °C","Nürburg-Barweiler"]
["32689","Kalletal","-14 °C","Fritzlar"]
["56294","Kalt","-14 °C","Nürburg-Barweiler"]
["82269","Kaltenberg","-16 °C","Kempten"]
["82269","Kalteneck","-16 °C","Kempten"]
["87662","Kaltental","-16 °C","Kempten"]
["98634","Kaltenwestheim","-16 °C","Meiningen"]
["52156","Kalterherberg ","-14 °C","Aachen"]
["09661","Kaltofen","-14 °C","Erfurt"]
["59174","Kamen / Westf.","-12 °C","Nürburg-Barweiler"]
["01917","Kamenz","-16 °C","Dresden"]
["39524","Kamern","-14 °C","Magdeburg"]
["04886","Kamitz","-16 °C","Leipzig"]
["83278","Kammer","-16 °C","Hohenpeißenberg"]
["91126","Kammerstein","-16 °C","Nürnberg"]
["26169","Kampe","-12 °C","Emden"]
["75236","Kämpfelbach","-14 °C","Stuttgart"]
["47475","Kamp-Lintfort","-10 °C","Düsseldorf"]
["18516","Kandelin","-12 °C","Rostock"]
["79400","Kandern","-14 °C","Karlsruhe"]
["79400","Kandern","-14 °C","Karlsruhe"]
["18299","Kankel","-12 °C","Rostock"]
["88422","Kanzach","-14 °C","Stuttgart"]
["41516","Kapellen","-10 °C","Düsseldorf"]
["99510","Kapellendorf","-14 °C","Erfurt"]
["75339","Kapfenhardt","-14 °C","Stuttgart"]
["84186","Kapfing","-16 °C","Straubing"]
["77966","Kappel","-12 °C","Karlsruhe"]
["91355","Kappel","-16 °C","Nürnberg"]
["79853","Kappel","-18 °C","Stuttgart"]
["88263","Kappel","-14 °C","Stuttgart"]
["24376","Kappeln","-10 °C","Schleswig"]
["77876","Kappelrodeck","-14 °C","Karlsruhe"]
["61184","Karben","-12 °C","Fritzlar"]
["52525","Karken","-10 °C","Aachen"]
["76307","Karlsbad","-14 °C","Stuttgart"]
["17495","Karlsburg","-12 °C","Greifswald"]
["76689","Karlsdorf","-12 °C","Karlsruhe"]
["17449","Karlshagen","-12 °C","Greifswald"]
["27442","Karlshöfen","-12 °C","Bremen"]
["86668","Karlshuld","-16 °C","Augsburg"]
["76...","Karlsruhe","-12 °C","Karlsruhe"]
["97753","Karlstadt","-14 °C","Würzburg"]
["23966","Karow","-10 °C","Schwerin"]
["94094","Karpfham","-16 °C","Straubing"]
["17498","Karrendorf","-12 °C","Greifswald"]
["17440","Karrin","-12 °C","Greifswald"]
["79618","Karsau","-12 °C","Stuttgart"]
["19357","Karstädt","-14 °C","Schwerin"]
["341..","Kassel","-12 °C","Fritzlar"]
["95506","Kastl","-16 °C","Hof"]
["92280","Kastl","-16 °C","Nürnberg"]
["84556","Kastl","-16 °C","Straubing"]
["31311","Katensen","-14 °C","Hannover"]
["37191","Katlenburg","-16 °C","Fritzlar"]
["49536","Kattenvenne","-14 °C","Hannover"]
["04749","Kattwitz","-14 °C","Leipzig"]
["35630","Katzenfurt","-14 °C","Fritzlar"]
["79297","Katzenmoos","-16 °C","Stuttgart"]
["17509","Katzow","-12 °C","Greifswald"]
["04886","Kaucklitz","-16 °C","Leipzig"]
["06231","Kauern","-14 °C","Leipzig"]
["87600","Kaufbeuren","-16 °C","Kempten"]
["86916","Kaufering","-16 °C","Kempten"]
["71083","Kayh","-16 °C","Stuttgart"]
["18513","Keffenbrink","-12 °C","Rostock"]
["77694","Kehl","-12 °C","Karlsruhe"]
["88074","Kehlen","-14 °C","Konstanz"]
["65779","Kelkheim","-14 °C","Nürburg-Barweiler"]
["89293","Kellmünz","-16 °C","Augsburg"]
["65451","Kelsterbach","-14 °C","Karlsruhe"]
["75210","Keltern","-14 °C","Stuttgart"]
["06901","Kemberg","-14 °C","Leipzig"]
["88212","Kemmerlang","-14 °C","Konstanz"]
["73760","Kemnat","-14 °C","Stuttgart"]
["95478","Kemnath","-16 °C","Hof"]
["17509","Kemnitz","-12 °C","Greifswald"]
["08538","Kemnitz","-18 °C","Meiningen"]
["17509","Kemnitzerhagen","-12 °C","Greifswald"]
["56746","Kempenich","-14 °C","Nürburg-Barweiler"]
["8743.","Kempten / Allgäu","-16 °C","Kempten"]
["54344","Kenn","-10 °C","Trier"]
["79341","Kenzingen","-12 °C","Karlsruhe"]
["47647","Kerken","-10 °C","Düsseldorf"]
["03172","Kerkwitz","-16 °C","Lindenberg"]
["71394","Kernen","-14 °C","Stuttgart"]
["50171","Kerpen","-12 °C","Düsseldorf"]
["54589","Kerschenbach","-14 °C","Trier"]
["08373","Kertzsch","-14 °C","Erfurt"]
["16845","Kerzlin","-14 °C","Neuruppin"]
["65510","Kesselbach","-14 °C","Nürburg-Barweiler"]
["52152","Kesternich","-14 °C","Aachen"]
["36325","Kestrich","-14 °C","Fritzlar"]
["68775","Ketsch","-12 °C","Karlsruhe"]
["72501","Kettenacker","-16 °C","Stuttgart"]
["49577","Kettenkamp","-12 °C","Hannover"]
["86498","Kettershausen","-16 °C","Augsburg"]
["14669","Ketzin","-14 °C","Potsdam"]
["99713","Keula","-14 °C","Erfurt"]
["47623","Kevelaer","-10 °C","Düsseldorf"]
["89407","Kicklingen","-16 °C","Augsburg"]
["72108","Kiebingen","-16 °C","Stuttgart"]
["04720","Kiebitz","-14 °C","Leipzig"]
["04720","Kiebitz","-14 °C","Leipzig"]
["03058","Kiekebusch","-16 °C","Lindenberg"]
["241..","Kiel","-10 °C","Schleswig"]
["02899","Kiesdorf","-16 °C","Görlitz"]
["36460","Kieselbach","-16 °C","Fritzlar"]
["75249","Kieselbronn","-14 °C","Stuttgart"]
["72072","Kilchberg","-16 °C","Stuttgart"]
["61137","Kilianstädten","-12 °C","Fritzlar"]
["73667","Killenhof","-16 °C","Stuttgart"]
["72393","Killer","-18 °C","Stuttgart"]
["87452","Kimratshofen","-16 °C","Kempten"]
["48159","Kinderhaus","-12 °C","Hannover"]
["66862","Kindsbach","-12 °C","Saarbrücken"]
["52249","Kinzweiler","-12 °C","Aachen"]
["77971","Kippenheim","-12 °C","Karlsruhe"]
["74912","Kirchardt","-14 °C","Stuttgart"]
["88486","Kirchberg","-16 °C","Stuttgart"]
["08107","Kirchberg / Sachsen","-16 °C","Erfurt"]
["74592","Kirchberg a.d. Jagst","-16 °C","Stuttgart"]
["71737","Kirchberg an der Murr","-14 °C","Stuttgart"]
["29664","Kirchboitzen","-12 °C","Hannover"]
["37619","Kirchbrak","-14 °C","Fritzlar"]
["93348","Kirchdorf","-18 °C","Straubing"]
["78086","Kirchdorf","-18 °C","Stuttgart"]
["88457","Kirchdorf","-16 °C","Stuttgart"]
["94261","Kirchdorf i. Wald","-18 °C","Straubing"]
["91356","Kirchehrenbach","-16 °C","Nürnberg"]
["57548","Kirchen","-12 °C","Nürburg-Barweiler"]
["95158","Kirchenlamitz","-18 °C","Hof"]
["91241","Kirchensittenbach","-16 °C","Nürnberg"]
["72138","Kirchentellinsfurt","-16 °C","Stuttgart"]
["91281","Kirchenthumbach","-16 °C","Nürnberg"]
["21394","Kirchgellersen","-12 °C","Hamburg"]
["99334","Kirchheim","-14 °C","Erfurt"]
["73230","Kirchheim / Teck","-16 °C","Stuttgart"]
["74366","Kirchheim am Neckar","-12 °C","Stuttgart"]
["67292","Kirchheimbolanden","-12 °C","Saarbrücken"]
["46244","Kirchhellen","-10 °C","Dortmund"]
["50181","Kirchherten","-12 °C","Düsseldorf"]
["79238","Kirchhofen","-14 °C","Karlsruhe"]
["52525","Kirchhoven","-10 °C","Aachen"]
["32278","Kirchlengern","-12 °C","Fritzlar"]
["27308","Kirchlinteln","-12 °C","Bremen"]
["27412","Kirchtimke","-12 °C","Bremen"]
["57368","Kirchveischede","-14 °C","Nürburg-Barweiler"]
["56729","Kirchwald","-14 °C","Nürburg-Barweiler"]
["21037","Kirchwerder","-12 °C","Hamburg"]
["79199","Kirchzarten","-16 °C","Stuttgart"]
["77756","Kirnbach","-16 °C","Stuttgart"]
["68753","Kirrlach","-12 °C","Karlsruhe"]
["64646","Kirschhausen","-14 °C","Würzburg"]
["07919","Kirschkau","-16 °C","Meiningen"]
["86438","Kissing","-16 °C","Augsburg"]
["04460","Kitzen","-14 °C","Leipzig"]
["97318","Kitzingen","-14 °C","Würzburg"]
["04567","Kitzscher","-14 °C","Leipzig"]
["39579","Kläden","-14 °C","Magdeburg"]
["17087","Klatzow","-14 °C","Greifswald"]
["18445","Klausdorf","-10 °C","Rostock"]
["16766","Klein - Ziethen","-14 °C","Neuruppin"]
["31789","Klein Berkel","-12 °C","Hannover"]
["31171","Klein Escherde","-14 °C","Hannover"]
["19348","Klein Gottschow","-14 °C","Schwerin"]
["85293","Klein Gurnibach","-16 °C","München"]
["15746","Klein Köris","-14 °C","Lindenberg"]
["37130","Klein Legden","-16 °C","Fritzlar"]
["37130","Klein Lengden","-16 °C","Fritzlar"]
["31319","Klein Lobke","-14 °C","Hannover"]
["03130","Klein Loitz","-16 °C","Lindenberg"]
["18445","Klein Mohrdorf","-10 °C","Rostock"]
["23948","Klein Pravtshagen","-10 °C","Schwerin"]
["23942","Klein Schwansee","-10 °C","Schwerin"]
["19069","Klein Trebbow","-12 °C","Schwerin"]
["18276","Klein Upahl","-12 °C","Rostock"]
["23992","Klein Warin","-12 °C","Schwerin"]
["86507","Kleinaitingen","-16 °C","Augsburg"]
["02627","Kleinbautzen","-16 °C","Görlitz"]
["66271","Kleinblittersdorf","-12 °C","Saarbrücken"]
["04668","Kleinbothen","-14 °C","Leipzig"]
["30938","Kleinburgwedel","-14 °C","Hannover"]
["02708","Kleindehsa","-16 °C","Görlitz"]
["73527","Kleindeinbach","-16 °C","Stuttgart"]
["72829","Kleinengstingen","-18 °C","Stuttgart"]
["67483","Kleinfischlingen","-12 °C","Saarbrücken"]
["99735","Kleinfurra","-14 °C","Erfurt"]
["06686","Kleingörschen","-14 °C","Leipzig"]
["09575","Kleinhartmannsdorf","-16 °C","Meiningen"]
["01824","Kleinhennersdorf","-16 °C","Dresden"]
["63924","Kleinheubach","-14 °C","Würzburg"]
["91177","Kleinhöbing 2","-16 °C","Nürnberg"]
["79588","Kleinkems","-12 °C","Karlsruhe"]
["01990","Kleinkmehlen","-16 °C","Dresden"]
["06926","Kleinkorga","-14 °C","Leipzig"]
["06184","Kleinkugel","-14 °C","Leipzig"]
["91235","Kleinmeinfeld","-16 °C","Nürnberg"]
["39221","Kleinmühlingen","-14 °C","Magdeburg"]
["01516","Kleinnaundorf","-16 °C","Dresden"]
["39167","Klein-Rodensleben","-14 °C","Magdeburg"]
["01900","Kleinröhrsdorf","-14 °C","Dresden"]
["02694","Kleinsaubernitz","-16 °C","Görlitz"]
["01259","Kleinschachwitz","-14 °C","Dresden"]
["17291","Klein-Sperrenwalde","-14 °C","Greifswald"]
["76327","Kleinsteinbach","-12 °C","Stuttgart"]
["01561","Kleinthiemig","-16 °C","Dresden"]
["63839","Kleinwallstadt","-12 °C","Würzburg"]
["02627","Kleinwelka","-16 °C","Görlitz"]
["24969","Kleinwiehe","-10 °C","Schleswig"]
["75378","Kleinwildbad","-16 °C","Stuttgart"]
["64846","Klein-Zimmern","-14 °C","Würzburg"]
["08538","Kleinzöbern","-18 °C","Meiningen"]
["99102","Klettbach","-14 °C","Erfurt"]
["01998","Klettwitz","-16 °C","Dresden"]
["47533","Kleve","-10 °C","Düsseldorf"]
["18516","Klevenow","-12 °C","Rostock"]
["39524","Klietz","-14 °C","Magdeburg"]
["04668","Klinga","-14 °C","Leipzig"]
["86551","Klingen","-16 °C","Augsburg"]
["63911","Klingenberg","-14 °C","Würzburg"]
["74246","Klingenhof","-14 °C","Stuttgart"]
["08248","Klingenthal","-18 °C","Meiningen"]
["78588","Klippeneck","-18 °C","Stuttgart"]
["01665","Klipphausen","-14 °C","Dresden"]
["18311","Klockenhagen","-10 °C","Rostock"]
["08527","Kloschwitz","-16 °C","Meiningen"]
["06308","Klostermansfeld","-14 °C","Leipzig"]
["72270","Klosterreichenbach","-16 °C","Stuttgart"]
["88048","Kluftern","-12 °C","Konstanz"]
["23948","Klütz","-10 °C","Schwerin"]
["02977","Knappenrode","-16 °C","Görlitz"]
["04420","Knautnaundorf","-14 °C","Leipzig"]
["29379","Knesebeck","-14 °C","Hannover"]
["97478","Knetzgau","-16 °C","Würzburg"]
["75438","Knittlingen","-14 °C","Stuttgart"]
["34593","Knüllwald","-14 °C","Fritzlar"]
["23881","Koberg","-12 °C","Schwerin"]
["56330","Kobern-Gondorf","-12 °C","Nürburg-Barweiler"]
["02999","Koblenz","-16 °C","Görlitz"]
["5607.","Koblenz","-12 °C","Nürburg-Barweiler"]
["39517","Köckte","-14 °C","Magdeburg"]
["39649","Köckte","-14 °C","Magdeburg"]
["02923","Kodersdorf","-16 °C","Görlitz"]
["02924","Kodersdorf-Bahnhof","-16 °C","Görlitz"]
["95189","Köditz","-18 °C","Hof"]
["72664","Kohlberg","-16 °C","Stuttgart"]
["27624","Köhlen","-12 °C","Bremen"]
["52134","Kohlscheid","-12 °C","Aachen"]
["72829","Kohlstetten","-18 °C","Stuttgart"]
["04683","Köhra","-14 °C","Leipzig"]
["83059","Kolbermoor","-16 °C","Hohenpeißenberg"]
["78600","Kolbingen","-16 °C","Stuttgart"]
["56459","Kölbingen","-14 °C","Nürburg-Barweiler"]
["31515","Kolenfeld","-14 °C","Hannover"]
["03099","Kolkwitz","-16 °C","Lindenberg"]
["99625","Kölleda","-14 °C","Erfurt"]
["37696","Kollerbeck","-14 °C","Fritzlar"]
["04886","Köllitsch","-16 °C","Leipzig"]
["79312","Kollmarsreute","-14 °C","Karlsruhe"]
["79183","Kollnau","-14 °C","Stuttgart"]
["94262","Kollnburg","-18 °C","Straubing"]
["50769","Köln-Fühlingen","-10 °C","Düsseldorf"]
["50737","Köln-Longerich","-10 °C","Düsseldorf"]
["50769","Köln-Seeberg","-10 °C","Düsseldorf"]
["50858","Köln-Weiden","-10 °C","Düsseldorf"]
["50737","Köln-Weidenpesch","-10 °C","Düsseldorf"]
["04509","Kölsa","-14 °C","Leipzig"]
["04579","Kömmlitz","-14 °C","Leipzig"]
["79331","Köndringen","-12 °C","Karlsruhe"]
["54329","Könen","-10 °C","Trier"]
["73257","Köngen","-14 °C","Stuttgart"]
["06493","Königerode","-16 °C","Leipzig"]
["97953","Königheim","-16 °C","Würzburg"]
["15711","Königs Wusterhausen","-14 °C","Lindenberg"]
["75203","Königsbach-Stein","-14 °C","Stuttgart"]
["39175","Königsborn","-14 °C","Magdeburg"]
["89551","Königsbronn","-16 °C","Augsburg"]
["89551","Königsbronn - Zang","-16 °C","Augsburg"]
["01936","Königsbrück","-16 °C","Dresden"]
["86343","Königsbrunn","-16 °C","Augsburg"]
["79346","Königschaffhausen","-12 °C","Karlsruhe"]
["82549","Königsdorf","-18 °C","Kempten"]
["78126","Königsfeld","-16 °C","Stuttgart"]
["09306","Königshain","-14 °C","Erfurt"]
["02829","Königshain","-16 °C","Görlitz"]
["38154","Königslutter","-14 °C","Magdeburg"]
["83471","Königssee","-18 °C","Hohenpeißenberg"]
["01824","Königstein","-14 °C","Dresden"]
["01824","Königstein / OT Ebenheit","-14 °C","Dresden"]
["61462","Königstein/Taunus","-12 °C","Fritzlar"]
["08412","Königswalde","-14 °C","Erfurt"]
["53639","Königswinter","-12 °C","Nürburg-Barweiler"]
["07336","Könitz","-14 °C","Erfurt"]
["86872","Konradshofen","-16 °C","Kempten"]
["95176","Konradsreuth","-18 °C","Hof"]
["7846.","Konstanz","-12 °C","Konstanz"]
["54329","Konz","-10 °C","Trier"]
["52156","Konzen","-14 °C","Aachen"]
["71404","Korb","-14 °C","Stuttgart"]
["34497","Korbach","-14 °C","Fritzlar"]
["59519","Körbecke","-12 °C","Nürburg-Barweiler"]
["39175","Körbelitz","-14 °C","Magdeburg"]
["06905","Korgau","-14 °C","Leipzig"]
["77694","Kork","-12 °C","Karlsruhe"]
["34327","Körle","-12 °C","Fritzlar"]
["96317","Kornach","-16 °C","Bamberg"]
["04808","Kornhain","-14 °C","Leipzig"]
["70825","Korntal","-14 °C","Stuttgart"]
["70806","Kornwestheim","-12 °C","Stuttgart"]
["41352","Korschenbroich","-10 °C","Dortmund"]
["85092","Kösching","-18 °C","München"]
["24354","Kosel","-10 °C","Schleswig"]
["01609","Koselitz","-16 °C","Dresden"]
["17459","Koserow","-12 °C","Greifswald"]
["52428","Koslar","-12 °C","Aachen"]
["04603","Kosma","-14 °C","Leipzig"]
["04895","Koßdorf","-16 °C","Leipzig"]
["04668","Kössern","-14 °C","Leipzig"]
["03226","Koßwig","-16 °C","Lindenberg"]
["06366","Köthen / Anhalt","-14 °C","Leipzig"]
["09249","Köthensdorf","-14 °C","Erfurt"]
["02627","Kotitz","-16 °C","Görlitz"]
["08223","Kottengrün","-16 °C","Meiningen"]
["91189","Kottensdorf","-16 °C","Nürnberg"]
["01809","Köttewitz","-14 °C","Dresden"]
["82284","Kottgeisering","-16 °C","Kempten"]
["02730","Kottmarsdorf","-16 °C","Görlitz"]
["93444","Kötzting","-18 °C","Straubing"]
["54340","Köwerich","-10 °C","Trier"]
["19077","Kraak","-12 °C","Schwerin"]
["19243","Kraft","-12 °C","Schwerin"]
["07586","Kraftsdorf","-14 °C","Erfurt"]
["53797","Krahwinkel","-12 °C","Nürburg-Barweiler"]
["76703","Kraichtal","-12 °C","Stuttgart"]
["47559","Kranenburg","-10 °C","Düsseldorf"]
["04889","Kranichau","-16 °C","Leipzig"]
["99195","Kranichborn","-14 °C","Erfurt"]
["99448","Kranichfeld","-14 °C","Erfurt"]
["85402","Kranzberg","-16 °C","München"]
["72505","Krauchenwies","-14 °C","Stuttgart"]
["02957","Krauschwitz","-16 °C","Görlitz"]
["52355","Krauthausen","-12 °C","Aachen"]
["54673","Krautscheid","-14 °C","Trier"]
["08538","Krebes","-18 °C","Meiningen"]
["97839","Kredenbach","-14 °C","Würzburg"]
["88637","Kreenheinstetten","-16 °C","Stuttgart"]
["47...","Krefeld","-10 °C","Düsseldorf"]
["37547","Kreiensen","-16 °C","Fritzlar"]
["01731","Kreischa","-14 °C","Dresden"]
["79761","Krenkingen","-14 °C","Stuttgart"]
["04509","Krensitz","-14 °C","Leipzig"]
["19288","Krenzliner Hütte","-12 °C","Schwerin"]
["88079","Kressbronn","-12 °C","Konstanz"]
["52372","Kreuzau","-12 °C","Aachen"]
["16559","Kreuzbruch","-14 °C","Neuruppin"]
["16559","Kreuzthal","-14 °C","Neuruppin"]
["17094","Krickow","-14 °C","Greifswald"]
["04617","Kriebitzsch","-14 °C","Leipzig"]
["17391","Krien","-12 °C","Greifswald"]
["65830","Kriftel","-12 °C","Nürburg-Barweiler"]
["18198","Kritzmow","-10 °C","Rostock"]
["65510","Kroftel","-14 °C","Nürburg-Barweiler"]
["06237","Kröllwitz","-14 °C","Leipzig"]
["63829","Krombach","-14 °C","Würzburg"]
["96317","Kronach","-16 °C","Bamberg"]
["76709","Kronau","-12 °C","Stuttgart"]
["61476","Kronberg","-14 °C","Fritzlar"]
["39397","Kroppenstedt","-14 °C","Magdeburg"]
["17440","Kröslin","-12 °C","Greifswald"]
["04509","Krostitz","-14 °C","Leipzig"]
["54536","Kröv","-10 °C","Trier"]
["56642","Kruft","-14 °C","Nürburg-Barweiler"]
["86381","Krumbach","-16 °C","Augsburg"]
["09633","Krummenhennersdorf","-16 °C","Erfurt"]
["92703","Krummennaab","-16 °C","Nürnberg"]
["23974","Krusenhagen","-10 °C","Schwerin"]
["01920","Kuchau","-16 °C","Dresden"]
["73329","Kuchen","-16 °C","Stuttgart"]
["86556","Kühbach","-16 °C","Augsburg"]
["39524","Kuhlhausen","-14 °C","Magdeburg"]
["18225","Kühlungsborn","-10 °C","Rostock"]
["04420","Kulkwitz","-14 °C","Leipzig"]
["95508","Kulmain","-18 °C","Hof"]
["95326","Kulmbach","-16 °C","Hof"]
["97900","Külsheim","-14 °C","Würzburg"]
["92245","Kümmersbruck","-16 °C","Nürnberg"]
["02829","Kunnersdorf","-16 °C","Görlitz"]
["07922","Künsdorf","-16 °C","Meiningen"]
["74653","Künzelsau","-14 °C","Stuttgart"]
["94550","Künzing","-18 °C","Straubing"]
["74635","Kupferzell","-16 °C","Stuttgart"]
["76456","Kuppenheim","-12 °C","Karlsruhe"]
["71083","Kuppingen","-16 °C","Stuttgart"]
["96328","Küps","-16 °C","Bamberg"]
["75057","Kürnbach","-14 °C","Stuttgart"]
["88427","Kürnbach","-16 °C","Stuttgart"]
["01737","Kurort Hartha","-14 °C","Dresden"]
["09484","Kurort Oberwiesental","-18 °C","Meiningen"]
["09548","Kurort Seiffen","-18 °C","Meiningen"]
["06543","Kurort Wippra","-16 °C","Leipzig"]
["53773","Kurscheid","-12 °C","Nürburg-Barweiler"]
["51515","Kürten","-12 °C","Nürburg-Barweiler"]
["77974","Kürzell","-12 °C","Karlsruhe"]
["91802","Kurzenaltheim","-16 °C","Nürnberg"]
["66869","Kusel","-14 °C","Saarbrücken"]
["72127","Kusterdingen","-16 °C","Stuttgart"]
["97490","Kützberg","-16 °C","Würzburg"]
["86500","Kutzenhausen","-16 °C","Augsburg"]
["99955","Kutzleben","-14 °C","Erfurt"]
["54655","Kyllberg","-14 °C","Trier"]
["16866","Kyritz","-14 °C","Neuruppin"]
["67610","La Wantzenau","-12 °C","Saarbrücken"]
["93164","Laaber","-16 °C","Straubing"]
["03205","Laasow","-16 °C","Lindenberg"]
["30880","Laatzen","-14 °C","Hannover"]
["47665","Labbeck","-10 °C","Düsseldorf"]
["23898","Labenz","-12 °C","Schwerin"]
["84082","Laberweinting","-18 °C","Straubing"]
["29331","Lachendorf","-14 °C","Hannover"]
["78655","Lackendorf","-16 °C","Stuttgart"]
["49549","Ladbergen","-12 °C","Hannover"]
["16321","Ladeburg","-14 °C","Neuruppin"]
["68526","Ladenburg","-12 °C","Karlsruhe"]
["48366","Laer","-12 °C","Hannover"]
["32791","Lage","-12 °C","Fritzlar"]
["35633","Lahnau","-12 °C","Fritzlar"]
["56112","Lahnstein","-12 °C","Nürburg-Barweiler"]
["77933","Lahr / Schwarzwald","-12 °C","Karlsruhe"]
["77933","Lahrsulz","-12 °C","Karlsruhe"]
["31246","Lahstedt","-14 °C","Hannover"]
["89150","Laichingen","-18 °C","Augsburg"]
["88069","Laimnau","-14 °C","Konstanz"]
["93462","Lam","-18 °C","Straubing"]
["52152","Lammersdorf","-14 °C","Aachen"]
["68623","Lampertheim","-12 °C","Karlsruhe"]
["01561","Lampertswalde","-16 °C","Dresden"]
["04758","Lampertswalde","-14 °C","Leipzig"]
["31195","Lamspringe","-16 °C","Hannover"]
["94405","Landau / Isar","-18 °C","Straubing"]
["76829","Landau / Pfalz","-12 °C","Karlsruhe"]
["89361","Landensberg","-16 °C","Augsburg"]
["52379","Landerwehe","-12 °C","Aachen"]
["31628","Landesbergen","-12 °C","Hannover"]
["56814","Landkern","-14 °C","Nürburg-Barweiler"]
["37136","Landolfshausen","-16 °C","Fritzlar"]
["06188","Landsberg","-14 °C","Leipzig"]
["86899","Landsberg am Lech","-16 °C","Kempten"]
["840..","Landshut / Bay.","-16 °C","Straubing"]
["79...","Landwasser","-16 °C","Karlsruhe"]
["31087","Landwehr","-16 °C","Hannover"]
["52538","Langbroich","-10 °C","Aachen"]
["01844","Langburkersdorf","-14 °C","Dresden"]
["33014","Langeland","-14 °C","Fritzlar"]
["38871","Langeln","-14 °C","Magdeburg"]
["38685","Langelsheim","-14 °C","Magdeburg"]
["27607","Langen","-10 °C","Bremen"]
["49838","Langen","-12 °C","Hannover"]
["63225","Langen / Hessen","-12 °C","Würzburg"]
["75334","Langenalb","-14 °C","Stuttgart"]
["88085","Langenargen","-12 °C","Konstanz"]
["79650","Langenau","-12 °C","Stuttgart"]
["89129","Langenau/Württ.","-16 °C","Augsburg"]
["35708","Langenaubach","-14 °C","Fritzlar"]
["33449","Langenberg","-12 °C","Fritzlar"]
["08428","Langenbernsdorf","-14 °C","Erfurt"]
["74243","Langenbeutingen","-14 °C","Stuttgart"]
["75328","Langenbrand","-16 °C","Stuttgart"]
["74243","Langenbrettach","-14 °C","Stuttgart"]
["74595","Langenburg","-16 °C","Stuttgart"]
["06667","Langendorf","-14 °C","Leipzig"]
["06729","Langendorf","-14 °C","Leipzig"]
["44894","Langendreer","-12 °C","Düsseldorf"]
["57368","Langenei","-14 °C","Nürburg-Barweiler"]
["06268","Langeneichstädt","-14 °C","Leipzig"]
["88515","Langenenslingen","-14 °C","Stuttgart"]
["91474","Langenfeld","-16 °C","Nürnberg"]
["40764","Langenfeld / Rheinl.","-10 °C","Düsseldorf"]
["3085.","Langenhagen / Han.","-14 °C","Hannover"]
["56459","Langenhahn","-14 °C","Nürburg-Barweiler"]
["01819","Langenhennersdorf","-14 °C","Dresden"]
["08439","Langenhessen","-14 °C","Erfurt"]
["01849","Langenheunersdorf","-14 °C","Dresden"]
["37154","Langenholtensen","-16 °C","Fritzlar"]
["32689","Langenholzhausen","-14 °C","Fritzlar"]
["25842","Langenhorn","-10 °C","Schleswig"]
["55450","Langenlonsheim","-12 °C","Trier"]
["85465","Langenpreising","-16 °C","München"]
["97737","Langenprozelten","-14 °C","Würzburg"]
["08439","Langenreinsdorf","-14 °C","Erfurt"]
["06571","Langenroda","-14 °C","Leipzig"]
["07407","Langenschade","-14 °C","Erfurt"]
["65558","Langenscheid","-12 °C","Nürburg-Barweiler"]
["78112","Langenschiltach","-16 °C","Stuttgart"]
["63505","Langenselbold","-12 °C","Würzburg"]
["88515","Langenslingen","-14 °C","Stuttgart"]
["38895","Langenstein","-14 °C","Magdeburg"]
["09569","Langenstriegis","-14 °C","Erfurt"]
["39171","Langenweddingen","-14 °C","Magdeburg"]
["90579","Langenzenn","-16 °C","Nürnberg"]
["26465","Langeoog","-10 °C","Emden"]
["86853","Langerringen","-16 °C","Kempten"]
["52379","Langerwehe","-12 °C","Aachen"]
["98704","Langewiesen","-16 °C","Meiningen"]
["29364","Langlingen","-14 °C","Hannover"]
["84085","Langquaid","-18 °C","Straubing"]
["30890","Langreder","-14 °C","Hannover"]
["27299","Langwedel","-12 °C","Bremen"]
["86462","Langweid","-16 °C","Augsburg"]
["81249","Langwied","-16 °C","München"]
["66894","Langwieden","-12 °C","Saarbrücken"]
["19053","Lankow","-12 °C","Schwerin"]
["19057","Lankow","-12 °C","Schwerin"]
["19309","Lanz","-14 °C","Schwerin"]
["93138","Lappersdorf","-16 °C","Straubing"]
["19246","Lassahn","-12 °C","Schwerin"]
["49688","Lastrup","-12 °C","Hannover"]
["30926","Lathwehren","-14 °C","Hannover"]
["73453","Laubach","-16 °C","Stuttgart"]
["88416","Laubach","-16 °C","Stuttgart"]
["87493","Lauben","-16 °C","Kempten"]
["90579","Laubendorf","-16 °C","Nürnberg"]
["01979","Lauchhammer","-16 °C","Dresden"]
["01979","Lauchhammer - Ost","-16 °C","Dresden"]
["73466","Lauchheim","-16 °C","Stuttgart"]
["79787","Lauchringen","-12 °C","Stuttgart"]
["97922","Lauda-Königshofen","-16 °C","Würzburg"]
["63925","Laudenbach","-14 °C","Würzburg"]
["69514","Laudenbach","-12 °C","Würzburg"]
["31867","Lauenau","-14 °C","Hannover"]
["37697","Lauenförde","-12 °C","Fritzlar"]
["01778","Lauenstein","-16 °C","Dresden"]
["31020","Lauenstein","-14 °C","Hannover"]
["77886","Lauf","-14 °C","Karlsruhe"]
["91207","Lauf","-16 °C","Nürnberg"]
["54533","Laufeld","-14 °C","Trier"]
["83410","Laufen","-16 °C","Hohenpeißenberg"]
["79295","Laufen","-14 °C","Karlsruhe"]
["79725","Laufenburg","-12 °C","Stuttgart"]
["74348","Lauffen a. N.","-12 °C","Stuttgart"]
["89415","Lauingen","-16 °C","Augsburg"]
["88437","Laupertshausen","-16 °C","Stuttgart"]
["88471","Laupheim","-16 °C","Stuttgart"]
["56379","Laurenburg","-12 °C","Nürburg-Barweiler"]
["08491","Lauschgrün","-16 °C","Erfurt"]
["79780","Lausheim","-16 °C","Stuttgart"]
["02627","Lauske","-16 °C","Görlitz"]
["01936","Laußnitz","-16 °C","Dresden"]
["02991","Lauta","-16 °C","Görlitz"]
["08312","Lauter","-16 °C","Meiningen"]
["89584","Lauterach","-14 °C","Augsburg"]
["01561","Lauterbach","-16 °C","Dresden"]
["09496","Lauterbach","-16 °C","Meiningen"]
["78730","Lauterbach","-16 °C","Stuttgart"]
["85232","Lauterbach","-16 °C","München"]
["86465","Lauterbrunn","-16 °C","Augsburg"]
["67742","Lauterecken","-12 °C","Saarbrücken"]
["92283","Lauterhofen","-16 °C","Nürnberg"]
["53501","Lautershofen","-14 °C","Nürburg-Barweiler"]
["73111","Lauterstein","-16 °C","Stuttgart"]
["56355","Lautert","-12 °C","Nürburg-Barweiler"]
["64686","Lautertal-Elmshausen","-14 °C","Würzburg"]
["72459","Lautlingen","-18 °C","Stuttgart"]
["02708","Lawalde","-16 °C","Görlitz"]
["66822","Lebach","-12 °C","Saarbrücken"]
["17091","Lebbin","-14 °C","Greifswald"]
["50374","Lechenich","-12 °C","Düsseldorf"]
["86169","Lechhausen","-16 °C","Augsburg"]
["49134","Lechtingen","-12 °C","Hannover"]
["64560","Leeheim","-12 °C","Karlsruhe"]
["26789","Leer / Ostfriesland","-10 °C","Emden"]
["90596","Leerstetten","-16 °C","Nürnberg"]
["28844","Leeste","-12 °C","Bremen"]
["19067","Leezen","-12 °C","Schwerin"]
["87764","Legau","-16 °C","Augsburg"]
["99438","Legefeld","-14 °C","Erfurt"]
["77731","Legelhurst","-12 °C","Karlsruhe"]
["07349","Lehesten","-18 °C","Meiningen"]
["86732","Lehmingen","-16 °C","Augsburg"]
["01920","Lehndorf","-16 °C","Dresden"]
["16565","Lehnitz","-14 °C","Neuruppin"]
["31275","Lehrte","-14 °C","Hannover"]
["76547","Leiberstung","-12 °C","Karlsruhe"]
["88637","Leibertingen","-16 °C","Stuttgart"]
["94339","Leiblfing","-18 °C","Straubing"]
["42799","Leichlingen","-10 °C","Düsseldorf"]
["63849","Leidersbach","-14 °C","Würzburg"]
["72348","Leidringen","-16 °C","Stuttgart"]
["38542","Leiferde","-14 °C","Magdeburg"]
["23715","leiferdeBosau","-12 °C","Schwerin"]
["69181","Leimen","-12 °C","Würzburg"]
["53501","Leimersdorf","-14 °C","Nürburg-Barweiler"]
["97274","Leinach","-14 °C","Würzburg"]
["91227","Leinburg","-16 °C","Nürnberg"]
["70771","Leinfelden-Echterdingen","-14 °C","Stuttgart"]
["76829","Leinsweiler","-12 °C","Karlsruhe"]
["73575","Leinzell","-16 °C","Stuttgart"]
["78187","Leipferdingen","-16 °C","Stuttgart"]
["89340","Leipheim","-16 °C","Augsburg"]
["02991","Leippe","-16 °C","Görlitz"]
["04277","Leipzig-Connewitz","-14 °C","Leipzig"]
["04207","Leipzig-Grünau","-14 °C","Leipzig"]
["04357","Leipzig-Mockau","-14 °C","Leipzig"]
["04703","Leisnig","-14 °C","Leipzig"]
["15848","Leißnitz","-16 °C","Lindenberg"]
["86391","Leitershofen","-16 °C","Augsburg"]
["39279","Leitzkau","-14 °C","Magdeburg"]
["54340","Leiwen","-10 °C","Trier"]
["16866","Lellichow","-14 °C","Neuruppin"]
["32657","Lemgo","-12 °C","Fritzlar"]
["23769","Lemkenhafen","-10 °C","Westermakelsdorf"]
["07819","Lemnitz","-14 °C","Erfurt"]
["04519","Lemsel","-14 °C","Leipzig"]
["27809","Lemwerder","-12 °C","Bremen"]
["52355","Lendersdorf","-12 °C","Aachen"]
["09514","Lengefeld","-16 °C","Meiningen"]
["27419","Lengenborstel","-12 °C","Bremen"]
["08485","Lengenfeld","-16 °C","Erfurt"]
["86869","Lengenfeld","-16 °C","Kempten"]
["86932","Lengenfeld","-16 °C","Kempten"]
["49525","Lengerich / Westf.","-12 °C","Hannover"]
["36266","Lengers","-14 °C","Fritzlar"]
["83661","Lenggries","-18 °C","Hohenpeißenberg"]
["37627","Lenne","-14 °C","Fritzlar"]
["42897","Lennep","-12 °C","Düsseldorf"]
["57368","Lennestadt","-14 °C","Nürburg-Barweiler"]
["73252","Lenningen","-16 °C","Stuttgart"]
["23738","Lensahn","-10 °C","Schwerin"]
["85101","Lenting","-18 °C","München"]
["19309","Lenzen","-14 °C","Schwerin"]
["79853","Lenzkirch","-18 °C","Stuttgart"]
["95666","Leonberg","-18 °C","Hof"]
["71229","Leonberg","-12 °C","Stuttgart"]
["76344","Leopoldshafen","-12 °C","Karlsruhe"]
["33818","Leopoldshöhe","-12 °C","Fritzlar"]
["39264","Leps","-14 °C","Magdeburg"]
["04720","Leschen","-14 °C","Leipzig"]
["38228","Lesse","-14 °C","Magdeburg"]
["58642","Letmathe","-12 °C","Nürburg-Barweiler"]
["08539","Leubnitz","-16 °C","Meiningen"]
["09573","Leubsdorf","-16 °C","Meiningen"]
["92705","Leuchtenberg","-16 °C","Nürnberg"]
["26180","Leuchtenburg","-12 °C","Emden"]
["06237","Leuna","-14 °C","Leipzig"]
["95191","Leupoldsgrün","-18 °C","Hof"]
["88239","Leupolz","-16 °C","Stuttgart"]
["51570","Leuscheid","-12 °C","Nürburg-Barweiler"]
["71397","Leutenbach","-14 °C","Stuttgart"]
["02794","Leutersdorf","-16 °C","Görlitz"]
["69493","Leutershausen","-12 °C","Würzburg"]
["77694","Leutersheim","-12 °C","Karlsruhe"]
["56559","Leutesdorf","-12 °C","Nürburg-Barweiler"]
["88299","Leutkirch","-16 °C","Stuttgart"]
["513..","Leverkusen","-10 °C","Nürburg-Barweiler"]
["51371","Leverkusen - Rheindorf","-10 °C","Nürburg-Barweiler"]
["51375","Leverkusen - Schlebusch","-10 °C","Nürburg-Barweiler"]
["88356","Levertsweiler","-14 °C","Stuttgart"]
["35423","Lich","-14 °C","Fritzlar"]
["77839","Lichtenau / Ulm","-12 °C","Karlsruhe"]
["09638","Lichtenberg","-16 °C","Erfurt"]
["96215","Lichtenfels","-16 °C","Bamberg"]
["09350","Lichtenstein","-14 °C","Erfurt"]
["72805","Lichtenstein","-18 °C","Stuttgart"]
["08115","Lichtentanne","-16 °C","Erfurt"]
["73669","Lichtenwald","-16 °C","Stuttgart"]
["09577","Lichtenwalde","-14 °C","Erfurt"]
["16230","Lichterfelde","-14 °C","Neuruppin"]
["31618","Liebenau","-12 °C","Hannover"]
["38704","Liebenburg","-14 °C","Magdeburg"]
["16559","Liebenwalde","-14 °C","Neuruppin"]
["04445","Liebertwolkwitz","-14 °C","Leipzig"]
["63584","Lieblos","-14 °C","Würzburg"]
["65835","Liederbach am Taunus","-14 °C","Nürburg-Barweiler"]
["76706","Liedolsheim","-12 °C","Karlsruhe"]
["01465","Liegau-Augustusbad","-14 °C","Dresden"]
["79801","Lienheim","-12 °C","Stuttgart"]
["75417","Lienzingen","-14 °C","Stuttgart"]
["03238","Lieskau","-16 °C","Lindenberg"]
["01920","Lieske","-16 °C","Dresden"]
["28865","Lilienthal","-12 °C","Bremen"]
["01723","Limbach","-14 °C","Dresden"]
["74838","Limbach","-14 °C","Stuttgart"]
["09212","Limbach-Oberfrohna","-14 °C","Erfurt"]
["655...","Limburg a.d.Lahn","-12 °C","Nürburg-Barweiler"]
["67117","Limburgerhof","-12 °C","Saarbrücken"]
["88677","Limpach","-14 °C","Stuttgart"]
["73527","Lindach","-16 °C","Stuttgart"]
["88131","Lindau / Bodensee","-12 °C","Konstanz"]
["94227","Lindberg","-18 °C","Straubing"]
["90592","Lindelburg","-16 °C","Nürnberg"]
["91459","Linden","-16 °C","Nürnberg"]
["17111","Lindenberg","-14 °C","Greifswald"]
["65551","Lindenholzhausen","-12 °C","Nürburg-Barweiler"]
["04158","Lindenthal","-14 °C","Leipzig"]
["04466","Lindenthal","-14 °C","Leipzig"]
["31698","Lindhorst","-14 °C","Hannover"]
["39326","Lindhorst","-14 °C","Magdeburg"]
["51789","Lindlar","-12 °C","Nürburg-Barweiler"]
["29690","Lindwedel","-12 °C","Hannover"]
["498..","Lingen / Ems","-10 °C","Hannover"]
["56291","Lingerhahn","-14 °C","Nürburg-Barweiler"]
["56317","Linkenbach","-14 °C","Nürburg-Barweiler"]
["76347","Linkenheim","-12 °C","Karlsruhe"]
["76351","Linkenheim","-12 °C","Karlsruhe"]
["37627","Linnenkamp","-14 °C","Fritzlar"]
["52441","Linnich","-12 °C","Aachen"]
["31636","Linsburg","-12 °C","Hannover"]
["63589","Linsengericht","-14 °C","Würzburg"]
["72636","Linsenhofen","-16 °C","Stuttgart"]
["92272","Lintach","-16 °C","Nürnberg"]
["01561","Linz","-16 °C","Dresden"]
["73463","Lippach","-16 °C","Stuttgart"]
["09509","Lippersdorf","-16 °C","Meiningen"]
["59510","Lippetal","-12 °C","Nürburg-Barweiler"]
["33129","Lippling","-12 °C","Fritzlar"]
["5955.","Lippstadt","-12 °C","Nürburg-Barweiler"]
["78576","Liptingen","-16 °C","Stuttgart"]
["54587","Lissendorf","-14 °C","Trier"]
["25992","List auf Sylt","-10 °C","List auf Sylt"]
["02999","Litschen","-16 °C","Görlitz"]
["35719","Lixfeld","-14 °C","Fritzlar"]
["37639","Lobach","-14 °C","Fritzlar"]
["02708","Löbau","-16 °C","Görlitz"]
["74931","Lobbach","-12 °C","Stuttgart"]
["06780","Löberitz","-14 °C","Leipzig"]
["04509","Löbnitz","-14 °C","Leipzig"]
["04685","Lobschütz","-14 °C","Leipzig"]
["39279","Loburg","-14 °C","Magdeburg"]
["31547","Loccum","-12 °C","Hannover"]
["06184","Lochau","-14 °C","Leipzig"]
["74369","Löchgau","-12 °C","Stuttgart"]
["81249","Lochhausen","-16 °C","München"]
["17321","Löcknitz","-14 °C","Greifswald"]
["14806","Locktow","-14 °C","Potsdam"]
["23923","Lockwisch","-10 °C","Schwerin"]
["39240","Lödderitz","-14 °C","Magdeburg"]
["39446","Löderburg","-14 °C","Magdeburg"]
["37139","Lödingsen","-14 °C","Fritzlar"]
["76597","Loffenau","-14 °C","Karlsruhe"]
["79843","Löffingen","-16 °C","Stuttgart"]
["93470","Lohberg","-18 °C","Straubing"]
["85716","Lohhof","-16 °C","München"]
["16845","Lohm","-14 °C","Neuruppin"]
["07907","Löhma ü. Schleiz","-16 °C","Meiningen"]
["53797","Lohmar","-12 °C","Nürburg-Barweiler"]
["01847","Lohmen","-14 °C","Dresden"]
["49393","Lohne","-12 °C","Hannover"]
["32584","Löhne","-12 °C","Fritzlar"]
["67727","Lohnsfeld","-12 °C","Saarbrücken"]
["97816","Lohr","-14 °C","Würzburg"]
["02999","Lohsa","-16 °C","Görlitz"]
["04895","Löhsten","-16 °C","Leipzig"]
["17509","Loissin","-12 °C","Greifswald"]
["39326","Loitsche","-14 °C","Magdeburg"]
["17121","Loitz","-12 °C","Greifswald"]
["01623","Lommatzsch","-14 °C","Dresden"]
["53945","Lommersdorf ","-14 °C","Nürburg-Barweiler"]
["53919","Lommersum","-14 °C","Nürburg-Barweiler"]
["01454","Lomnitz","-14 °C","Dresden"]
["02699","Lomske","-16 °C","Görlitz"]
["54338","Longen","-10 °C","Trier"]
["54340","Longuich","-10 °C","Trier"]
["49624","Löningen","-12 °C","Hannover"]
["91475","Lonnerstadt","-16 °C","Nürnberg"]
["56295","Lonnig","-14 °C","Nürburg-Barweiler"]
["89173","Lonsee","-16 °C","Augsburg"]
["82813","Lonsingen","-18 °C","Kempten"]
["86720","Löpsingen","-16 °C","Augsburg"]
["73547","Lorch","-16 °C","Stuttgart"]
["65391","Lorch/Rheingau","-12 °C","Nürburg-Barweiler"]
["795..","Lörrach","-12 °C","Stuttgart"]
["64653","Lorsch","-12 °C","Karlsruhe"]
["55296","Lörzweiler","-12 °C","Trier"]
["01326","Loschwitz","-14 °C","Dresden"]
["66679","Losheim am See","-12 °C","Saarbrücken"]
["58644","Lössel","-12 °C","Nürburg-Barweiler"]
["08294","Lößnitz","-16 °C","Meiningen"]
["04889","Loßwig","-16 °C","Leipzig"]
["01665","Löthain","-14 °C","Dresden"]
["32816","Lothe","-14 °C","Fritzlar"]
["79807","Lottstetten","-12 °C","Stuttgart"]
["50859","Lövenich b. Frechen","-10 °C","Düsseldorf"]
["37696","Löwendorf","-14 °C","Fritzlar"]
["14959","Löwendorf","-14 °C","Potsdam"]
["74245","Löwenstein","-14 °C","Stuttgart"]
["27612","Loxstedt","-10 °C","Bremen"]
["32312","Lübbecke","-12 °C","Fritzlar"]
["15907","Lübben","-16 °C","Lindenberg"]
["03222","Lübbenau / Spreewald","-16 °C","Lindenberg"]
["23992","Lübberstorf","-12 °C","Schwerin"]
["235..","Lübeck","-10 °C","Schwerin"]
["17509","Lubmin","-12 °C","Greifswald"]
["23972","Lübow","-10 °C","Schwerin"]
["19386","Lübz","-14 °C","Schwerin"]
["37671","Lüchtringen","-12 °C","Fritzlar"]
["04613","Lucka","-14 °C","Leipzig"]
["03229","Luckaitz","-16 °C","Lindenberg"]
["15926","Luckau","-16 °C","Lindenberg"]
["57629","Luckenbach","-14 °C","Nürburg-Barweiler"]
["02797","Lückendorf","-16 °C","Görlitz"]
["14943","Luckenwalde","-14 °C","Potsdam"]
["01920","Lückersdorf-Gelenau","-16 °C","Dresden"]
["44229","Lücklemberg","-12 °C","Düsseldorf"]
["17375","Luckow","-12 °C","Greifswald"]
["19243","Luckwitz","-12 °C","Schwerin"]
["585..","Lüdenscheid","-12 °C","Nürburg-Barweiler"]
["39517","Lüderitz","-14 °C","Magdeburg"]
["23992","Lüdersdorf","-12 °C","Schwerin"]
["23992","Lüderstorf","-12 °C","Schwerin"]
["59348","Lüdinghausen","-12 °C","Nürburg-Barweiler"]
["36251","Ludwigsau","-14 °C","Fritzlar"]
["716..","Ludwigsburg/Württ.","-12 °C","Stuttgart"]
["02829","Ludwigsdorf","-14 °C","Görlitz"]
["14974","Ludwigsfelde","-14 °C","Potsdam"]
["670..","Ludwigshafen am Rhein","-12 °C","Saarbrücken"]
["19288","Ludwigslust","-14 °C","Schwerin"]
["66996","Ludwigswinkel","-12 °C","Saarbrücken"]
["37635","Lüerdissen","-14 °C","Fritzlar"]
["09385","Lugau","-14 °C","Erfurt"]
["03253","Lugau","-16 °C","Lindenberg"]
["32676","Lügde","-14 °C","Fritzlar"]
["31711","Luhden","-14 °C","Hannover"]
["92706","Luhe","-16 °C","Nürnberg"]
["17495","Lühmannsdorf","-12 °C","Greifswald"]
["24816","Luhnstedt","-12 °C","Schleswig"]
["85235","Lukka","-16 °C","München"]
["06869","Luko","-14 °C","Leipzig"]
["2133.","Lüneburg","-12 °C","Bremen"]
["4453.","Lünen","-12 °C","Düsseldorf"]
["44532","Lünen - Horstmar","-12 °C","Düsseldorf"]
["59427","Lünern","-12 °C","Nürburg-Barweiler"]
["48480","Lünne","-12 °C","Hannover"]
["09328","Lunzenau","-14 °C","Erfurt"]
["41065","Lürrip","-10 °C","Düsseldorf"]
["24850","Lürschau","-12 °C","Schleswig"]
["14806","Lüsse","-14 °C","Potsdam"]
["17506","Lüssow","-12 °C","Greifswald"]
["24321","Lütjenburg","-10 °C","Schleswig"]
["22952","Lütjensee","-12 °C","Hamburg"]
["37671","Lütmarsen","-14 °C","Fritzlar"]
["17258","Lüttenhagen","-14 °C","Greifswald"]
["37318","Lutter","-16 °C","Fritzlar"]
["38729","Lutter am Barenberg","-14 °C","Magdeburg"]
["34355","Lutterberg","-12 °C","Fritzlar"]
["04721","Lüttewitz","-14 °C","Leipzig"]
["79725","Luttingen","-12 °C","Stuttgart"]
["46509","Lüttingen","-10 °C","Düsseldorf"]
["04769","Lüttnitz","-14 °C","Leipzig"]
["02627","Luttowizt","-16 °C","Görlitz"]
["42899","Lüttringhausen","-12 °C","Düsseldorf"]
["86456","Lützelburg","-16 °C","Augsburg"]
["35398","Lützellinden","-14 °C","Fritzlar"]
["06686","Lützen","-14 °C","Leipzig"]
["72178","Lützenhardt","-16 °C","Stuttgart"]
["56826","Lutzerath","-14 °C","Nürburg-Barweiler"]
["89440","Lutzingen","-16 °C","Augsburg"]
["04159","Lützschena","-14 °C","Leipzig"]
["04469","Lützschena","-16 °C","Leipzig"]
["56729","Luxem","-14 °C","Nürburg-Barweiler"]
["17279","Lychen","-14 °C","Greifswald"]
["24404","Maasholm-Bad","-10 °C","Schleswig"]
["04827","Machern","-14 °C","Leipzig"]
["89150","Machtolsheim ","-18 °C","Augsburg"]
["31177","Machtsum","-14 °C","Hannover"]
["67686","Mackenbach","-12 °C","Saarbrücken"]
["37318","Mackenrode","-16 °C","Fritzlar"]
["55758","Mackenrodt","-14 °C","Trier"]
["37586","Mackensen","-14 °C","Fritzlar"]
["3912.","Magdeburg","-14 °C","Magdeburg"]
["06493","Mägdesprung","-16 °C","Leipzig"]
["72818","Mägerkingen","-18 °C","Stuttgart"]
["71106","Magstadt","-16 °C","Stuttgart"]
["94508","Mahd","-18 °C","Straubing"]
["04874","Mahitschen","-16 °C","Leipzig"]
["15831","Mahlow","-14 °C","Lindenberg"]
["39517","Mahlwinkel","-14 °C","Magdeburg"]
["89081","Mähringen","-16 °C","Augsburg"]
["35510","Maibach","-14 °C","Fritzlar"]
["71069","Maichingen","-16 °C","Stuttgart"]
["86747","Maihingen","-16 °C","Augsburg"]
["84048","Mainburg","-18 °C","Straubing"]
["74535","Mainhardt","-16 °C","Stuttgart"]
["95336","Mainleus","-16 °C","Hof"]
["63477","Maintal","-12 °C","Würzburg"]
["551..","Mainz","-12 °C","Karlsruhe"]
["55246","Mainz-Kostheim","-12 °C","Karlsruhe"]
["82216","Maisach","-16 °C","Kempten"]
["75378","Maisenbach","-16 °C","Stuttgart"]
["73037","Maitis","-16 °C","Stuttgart"]
["17213","Malchow","-14 °C","Greifswald"]
["84066","Mallersdorf","-18 °C","Straubing"]
["19294","Malliß","-12 °C","Schwerin"]
["71272","Malmsheim","-16 °C","Stuttgart"]
["76316","Malsch","-12 °C","Karlsruhe"]
["69254","Malsch","-12 °C","Würzburg"]
["02694","Malschwitz","-16 °C","Görlitz"]
["79364","Malterdingen","-12 °C","Karlsruhe"]
["02627","Maltitz","-16 °C","Görlitz"]
["57636","Mammelzen","-14 °C","Nürburg-Barweiler"]
["82291","Mammendorf","-16 °C","Kempten"]
["94437","Mamming","-18 °C","Straubing"]
["35716","Mandeln","-14 °C","Fritzlar"]
["31535","Mandelsloh","-12 °C","Hannover"]
["54531","Manderscheid","-14 °C","Trier"]
["68...","Mannheim","-12 °C","Karlsruhe"]
["96257","Mannsgereuth","-16 °C","Bamberg"]
["06343","Mansfeld","-14 °C","Leipzig"]
["79588","Mappach","-12 °C","Karlsruhe"]
["09661","Marbach","-14 °C","Erfurt"]
["94536","Marbach","-18 °C","Straubing"]
["71672","Marbach","-12 °C","Stuttgart"]
["72532","Marbach","-18 °C","Stuttgart"]
["78056","Marbach","-18 °C","Stuttgart"]
["3503.","Marburg/Lahn","-12 °C","Fritzlar"]
["31535","Mardorf","-14 °C","Hannover"]
["85447","Maria Thalheim","-16 °C","München"]
["94424","Mariakirchen","-16 °C","Straubing"]
["31863","Marienau","-14 °C","Hannover"]
["09496","Marienberg","-16 °C","Meiningen"]
["97828","Marienbrunn","-14 °C","Würzburg"]
["34516","Marienhagen","-14 °C","Fritzlar"]
["31094","Marienhagen","-14 °C","Hannover"]
["51709","Marienheide","-12 °C","Nürburg-Barweiler"]
["37696","Marienmünster","-14 °C","Fritzlar"]
["54484","Maring-Noviand","-12 °C","Trier"]
["88677","Markdorf","-14 °C","Stuttgart"]
["97980","Markelsheim","-16 °C","Würzburg"]
["09236","Markersdorf","-14 °C","Erfurt"]
["15528","Markgrafpieske","-14 °C","Lindenberg"]
["71706","Markgröningen","-12 °C","Stuttgart"]
["04416","Markkleeberg","-14 °C","Leipzig"]
["31608","Marklohe","-12 °C","Hannover"]
["08258","Markneukirchen","-18 °C","Meiningen"]
["04420","Markranstädt","-14 °C","Leipzig"]
["79576","Märkt","-12 °C","Karlsruhe"]
["91801","Markt Berolzheim","-16 °C","Nürnberg"]
["91459","Markt Erlbach","-16 °C","Nürnberg"]
["85229","Markt Indersdorf","-16 °C","München"]
["85570","Markt Schwaben","-16 °C","München"]
["91613","Marktbergel","-16 °C","Nürnberg"]
["91477","Markt-Bibart","-16 °C","Nürnberg"]
["96257","Marktgraitz","-16 °C","Bamberg"]
["97828","Marktheidenfeld","-14 °C","Würzburg"]
["95352","Marktleugast","-16 °C","Hof"]
["95168","Marktleuthen","-18 °C","Hof"]
["87616","Marktoberdorf","-16 °C","Kempten"]
["95615","Marktredwitz","-18 °C","Hof"]
["83487","Marktschellenberg","-18 °C","Hohenpeißenberg"]
["95509","Marktschorgast","-16 °C","Hof"]
["457..","Marl","-10 °C","Düsseldorf"]
["77694","Marlen","-12 °C","Karlsruhe"]
["18337","Marlow","-12 °C","Rostock"]
["53947","Marmagen","-14 °C","Nürburg-Barweiler"]
["21077","Marmstorf/Hamburg","-12 °C","Hamburg"]
["82362","Marnbach","-16 °C","Kempten"]
["66646","Marpingen","-12 °C","Saarbrücken"]
["83250","Marquartstein","-18 °C","Hohenpeißenberg"]
["97340","Martinsheim","-16 °C","Würzburg"]
["75387","Martinsmoos","-16 °C","Stuttgart"]
["16727","Marwitz","-14 °C","Neuruppin"]
["86688","Marxheim","-16 °C","Augsburg"]
["76359","Marxzell","-14 °C","Stuttgart"]
["88437","Maselheim","-16 °C","Stuttgart"]
["92242","Massenricht","-16 °C","Nürnberg"]
["84323","Massing","-16 °C","Straubing"]
["23972","Maßlow","-10 °C","Schwerin"]
["56869","Mastershausen","-14 °C","Nürburg-Barweiler"]
["66909","Matzenbach","-12 °C","Saarbrücken"]
["67067","Maudach","-12 °C","Saarbrücken"]
["69256","Mauer","-12 °C","Würzburg"]
["75181","Mauerach","-14 °C","Stuttgart"]
["75181","Mauerach","-14 °C","Stuttgart"]
["85419","Mauern","-16 °C","München"]
["75433","Maulbronn","-14 °C","Stuttgart"]
["79689","Maulburg","-12 °C","Stuttgart"]
["57635","Maulsbach","-14 °C","Nürburg-Barweiler"]
["67133","Maxdorf","-12 °C","Saarbrücken"]
["01809","Maxen","-14 °C","Dresden"]
["93142","Maxhütte","-16 °C","Straubing"]
["56727","Mayen","-14 °C","Nürburg-Barweiler"]
["53508","Mayschoß","-14 °C","Nürburg-Barweiler"]
["29416","Mechau","-14 °C","Hannover"]
["08541","Mechelgrün","-16 °C","Meiningen"]
["53894","Mechernich","-14 °C","Nürburg-Barweiler"]
["16866","Mechow","-14 °C","Neuruppin"]
["67354","Mechtersheim","-12 °C","Saarbrücken"]
["88074","Meckenbeuren","-14 °C","Konstanz"]
["53340","Meckenheim","-14 °C","Nürburg-Barweiler"]
["74909","Meckesheim","-12 °C","Stuttgart"]
["67744","Medard","-12 °C","Saarbrücken"]
["59964","Medebach","-16 °C","Nürburg-Barweiler"]
["35767","Medenbach","-14 °C","Fritzlar"]
["01458","Medingen","-14 °C","Dresden"]
["08393","Meerane","-14 °C","Erfurt"]
["31715","Meerbeck","-14 °C","Hannover"]
["40667","Meerbusch","-10 °C","Düsseldorf"]
["88709","Meersburg/Bodensee","-12 °C","Konstanz"]
["24799","Meggerdorf","-12 °C","Schleswig"]
["04889","Mehderitzsch","-16 °C","Leipzig"]
["67735","Mehlbach","-12 °C","Saarbrücken"]
["08539","Mehlteuer","-16 °C","Meiningen"]
["46499","Mehrhoog","-10 °C","Düsseldorf"]
["54346","Mehring","-10 °C","Trier"]
["16356","Mehrow","-14 °C","Neuruppin"]
["46562","Mehrum","-10 °C","Düsseldorf"]
["31249","Mehrum","-14 °C","Hannover"]
["72531","Meidelstetten","-18 °C","Stuttgart"]
["38527","Meine","-14 °C","Magdeburg"]
["34497","Meineringhausen","-14 °C","Fritzlar"]
["09390","Meinersdorf","-14 °C","Meiningen"]
["58540","Meinerzhagen","-12 °C","Nürburg-Barweiler"]
["37276","Meinhard","-16 °C","Fritzlar"]
["91802","Meinheim","-16 °C","Nürnberg"]
["98617","Meiningen","-16 °C","Meiningen"]
["06862","Meinsdorf","-14 °C","Leipzig"]
["55590","Meisenheim","-12 °C","Trier"]
["01662","Meißen","-14 °C","Dresden"]
["77974","Meißenheim","-12 °C","Karlsruhe"]
["37290","Meißner","-14 °C","Fritzlar"]
["59602","Meiste","-14 °C","Nürburg-Barweiler"]
["75323","Meistern","-16 °C","Stuttgart"]
["86405","Meitingen","-16 °C","Augsburg"]
["21406","Melbeck","-12 °C","Hamburg"]
["99097","Melchendorf","-14 °C","Erfurt"]
["72393","Melchingen","-18 °C","Stuttgart"]
["88145","Mellatz","-16 °C","Konstanz"]
["49324","Melle","-12 °C","Hannover"]
["27249","Mellinghausen","-12 °C","Bremen"]
["97638","Mellrichstadt","-16 °C","Würzburg"]
["04860","Melpitz","-16 °C","Leipzig"]
["34212","Melsungen","-12 °C","Fritzlar"]
["96117","Memmelsdorf","-16 °C","Bamberg"]
["87700","Memmingen","-16 °C","Augsburg"]
["87766","Memmingerberg","-16 °C","Augsburg"]
["77866","Memprechtshofen","-12 °C","Karlsruhe"]
["58708","Menden/Sauerland","-12 °C","Nürburg-Barweiler"]
["02894","Mengelsdorf","-16 °C","Görlitz"]
["88512","Mengen","-14 °C","Stuttgart"]
["88512","Mengen-Ennetach","-14 °C","Stuttgart"]
["84152","Mengkofen","-18 °C","Straubing"]
["49637","Menslage","-12 °C","Hannover"]
["49716","Meppen","-10 °C","Hannover"]
["86504","Merching","-16 °C","Augsburg"]
["74747","Merchingen","-14 °C","Stuttgart"]
["35799","Merenberg","-12 °C","Fritzlar"]
["89522","Mergelstetten","-16 °C","Augsburg"]
["86415","Mering","-16 °C","Augsburg"]
["96117","Merkendorf","-16 °C","Bamberg"]
["89188","Merklingen","-16 °C","Augsburg"]
["71263","Merklingen","-16 °C","Stuttgart"]
["52134","Merkstein","-12 °C","Aachen"]
["04639","Merlach","-14 °C","Leipzig"]
["06217","Merseburg/Saale","-14 °C","Leipzig"]
["54318","Mertesdorf","-12 °C","Trier"]
["67271","Mertesheim","-12 °C","Saarbrücken"]
["55627","Merxheim","-12 °C","Trier"]
["52399","Merzenich","-12 °C","Aachen"]
["79249","Merzhausen","-14 °C","Karlsruhe"]
["66663","Merzig","-12 °C","Saarbrücken"]
["59872","Meschede","-14 °C","Nürburg-Barweiler"]
["17498","Mesekenhagen","-12 °C","Greifswald"]
["08527","Meßbach","-16 °C","Meiningen"]
["64409","Messel","-12 °C","Würzburg"]
["88605","Meßkirch","-14 °C","Stuttgart"]
["72469","Meßstetten","-18 °C","Stuttgart"]
["23972","Metelsdorf","-10 °C","Schwerin"]
["94526","Metten/Niederbay.","-18 °C","Straubing"]
["66693","Mettlach","-12 °C","Saarbrücken"]
["40822","Mettmann","-12 °C","Dortmund"]
["55777","Mettweiler","-14 °C","Trier"]
["72555","Metzingen","-16 °C","Stuttgart"]
["06686","Meuchen","-14 °C","Leipzig"]
["01994","Meuro","-16 °C","Dresden"]
["06217","Meuschau","-14 °C","Leipzig"]
["16306","Meyenburg","-16 °C","Neuruppin"]
["02979","Michacken","-16 °C","Görlitz"]
["96247","Michelau","-16 °C","Bamberg"]
["97782","Michelau","-14 °C","Würzburg"]
["74858","Michelbach","-12 °C","Stuttgart"]
["74613","Michelbach am Wald","-14 °C","Stuttgart"]
["74544","Michelbach an der Bilz","-16 °C","Stuttgart"]
["74545","Michelfeld","-16 °C","Stuttgart"]
["74918","Michelfeld","-12 °C","Stuttgart"]
["88339","Michelwinnaden","-16 °C","Stuttgart"]
["12051","Michendorf","-14 °C","Berlin"]
["86866","Mickhausen","-14 °C","Kempten"]
["83714","Miesbach","-18 °C","Hohenpeißenberg"]
["77933","Mietersheim","-12 °C","Karlsruhe"]
["88487","Mietingen","-16 °C","Stuttgart"]
["52538","Millen","-10 °C","Aachen"]
["93468","Miltach","-18 °C","Straubing"]
["17091","Miltitzwalde","-14 °C","Greifswald"]
["89350","Mindelaltheim","-16 °C","Augsburg"]
["87719","Mindelheim","-16 °C","Augsburg"]
["86513","Mindelzell","-16 °C","Augsburg"]
["3242.","Minden/Westf.","-12 °C","Fritzlar"]
["76872","Minfeld","-12 °C","Karlsruhe"]
["19079","Mirow","-12 °C","Schwerin"]
["30629","Misburg","-14 °C","Hannover"]
["91785","Mischelbach","-16 °C","Nürnberg"]
["04720","Mischütz","-14 °C","Leipzig"]
["27632","Misselwarden","-10 °C","Bremen"]
["95490","Mistelgau","-16 °C","Hof"]
["56729","Mittelbaar","-14 °C","Nürburg-Barweiler"]
["87466","Mittelberg b. Oy","-18 °C","Kempten"]
["88441","Mittelbiberach","-16 °C","Stuttgart"]
["88416","Mittelbuch","-16 °C","Stuttgart"]
["91734","Mitteleschenbach","-16 °C","Nürnberg"]
["99195","Mittelhausen","-14 °C","Erfurt"]
["02763","Mittelherwigsdorf","-16 °C","Görlitz"]
["86868","Mittelneufnach","-16 °C","Kempten"]
["88682","Mittelstenweiler","-14 °C","Stuttgart"]
["72270","Mitteltal","-16 °C","Stuttgart"]
["35756","Mittenaar","-12 °C","Fritzlar"]
["82481","Mittenwald","-16 °C","Kempten"]
["94360","Mitterfels","-18 °C","Straubing"]
["95666","Mitterteich","-18 °C","Hof"]
["09648","Mittweida","-14 °C","Erfurt"]
["96268","Mitwitz","-16 °C","Bamberg"]
["09661","Mobendorf","-14 °C","Erfurt"]
["04720","Möbertitz","-14 °C","Leipzig"]
["04720","Mochau","-14 °C","Leipzig"]
["06888","Mochau","-14 °C","Leipzig"]
["74219","Möckmühl","-14 °C","Stuttgart"]
["04838","Mockrehna","-14 °C","Leipzig"]
["04720","Mockritz","-14 °C","Leipzig"]
["04860","Mockritz","-16 °C","Leipzig"]
["06193","Möderau","-14 °C","Leipzig"]
["19374","Möderitz","-14 °C","Schwerin"]
["89426","Mödingen","-16 °C","Augsburg"]
["4744.","Moers","-10 °C","Düsseldorf"]
["73563","Mögglingen","-16 °C","Stuttgart"]
["59519","Möhnesee","-12 °C","Nürburg-Barweiler"]
["86498","Mohrenhausen","-16 °C","Augsburg"]
["70567","Möhringen","-14 °C","Stuttgart"]
["23560","Moisling","-12 °C","Schwerin"]
["49696","Molbergen","-12 °C","Hannover"]
["04579","Mölbis","-14 °C","Leipzig"]
["04838","Mölbitz","-14 °C","Leipzig"]
["04457","Mölkau","-14 °C","Leipzig"]
["17237","Möllenbeck","-14 °C","Greifswald"]
["17091","Mölln","-14 °C","Greifswald"]
["23879","Mölln","-12 °C","Schwerin"]
["57482","Möllnicke","-14 °C","Nürburg-Barweiler"]
["99869","Molschleben","-14 °C","Erfurt"]
["18246","Moltenow","-12 °C","Rostock"]
["55278","Mommenheim","-12 °C","Trier"]
["75378","Monakam","-14 °C","Stuttgart"]
["71083","Mönchberg","-16 °C","Stuttgart"]
["4106.","Mönchengladbach","-10 °C","Düsseldorf"]
["78087","Mönchweiler","-18 °C","Stuttgart"]
["53859","Mondorf","-12 °C","Nürburg-Barweiler"]
["86653","Monheim","-16 °C","Augsburg"]
["40789","Monheim/Rheinl.","-10 °C","Düsseldorf"]
["17375","Mönkebude","-12 °C","Greifswald"]
["52156","Monschau","-14 °C","Aachen"]
["67590","Monsheim","-12 °C","Saarbrücken"]
["71297","Mönsheim","-14 °C","Stuttgart"]
["82271","Moorenweis","-16 °C","Kempten"]
["77815","Moos","-12 °C","Karlsruhe"]
["87493","Moos","-16 °C","Kempten"]
["94554","Moos","-18 °C","Straubing"]
["89613","Moosbeuren","-16 °C","Augsburg"]
["76571","Moosbronn","-14 °C","Karlsruhe"]
["85368","Moosburg/Isar","-16 °C","München"]
["84164","Moosthenning","-18 °C","Straubing"]
["67700","Morbach","-12 °C","Saarbrücken"]
["71577","Morbach","-16 °C","Stuttgart"]
["54497","Morbach","-14 °C","Trier"]
["99735","Mörbach","-14 °C","Erfurt"]
["53913","Morenhoven","-14 °C","Nürburg-Barweiler"]
["64546","Mörfelden-Walldorf","-12 °C","Würzburg"]
["08262","Morgenröthe","-18 °C","Meiningen"]
["37186","Moringen","-16 °C","Fritzlar"]
["01468","Moritzburg","-14 °C","Dresden"]
["06193","Morl","-14 °C","Leipzig"]
["61161","Mörlach","-16 °C","Fritzlar"]
["69509","Mörlenbach","-12 °C","Würzburg"]
["91804","Mörnsheim","-16 °C","Nürnberg"]
["51597","Morsbach","-12 °C","Nürburg-Barweiler"]
["76287","Mörsch","-12 °C","Karlsruhe"]
["55758","Mörschied","-14 °C","Trier"]
["04838","Mörtitz","-14 °C","Leipzig"]
["02999","Mortka","-16 °C","Görlitz"]
["14806","Mörz","-14 °C","Potsdam"]
["76829","Mörzheim","-12 °C","Karlsruhe"]
["74821","Mosbach","-12 °C","Stuttgart"]
["07973","Moschwitz","-16 °C","Erfurt"]
["56073","Moselweiß","-14 °C","Nürburg-Barweiler"]
["39291","Möser/Magdeburg","-14 °C","Magdeburg"]
["72116","Mössingen","-18 °C","Stuttgart"]
["14715","Möthlow","-14 °C","Potsdam"]
["86753","Möttingen","-16 °C","Augsburg"]
["75378","Möttlingen","-16 °C","Stuttgart"]
["71159","Mötzingen","-16 °C","Stuttgart"]
["07381","Moxa","-14 °C","Erfurt"]
["53804","Much","-12 °C","Nürburg-Barweiler"]
["35325","Mücke","-14 °C","Fritzlar"]
["69427","Mudau","-16 °C","Würzburg"]
["19063","Mueß","-12 °C","Schwerin"]
["04769","Mügeln","-14 °C","Leipzig"]
["79674","Muggenbrunn","-18 °C","Stuttgart"]
["91346","Muggendorf","-16 °C","Nürnberg"]
["76461","Muggensturm","-12 °C","Karlsruhe"]
["75417","Mühlacker","-14 °C","Stuttgart"]
["09241","Mühlau","-14 °C","Erfurt"]
["09557","Mühlbach","-14 °C","Erfurt"]
["75031","Mühlbach","-14 °C","Stuttgart"]
["99869","Mühlberg","-14 °C","Erfurt"]
["04931","Mühlberg","-16 °C","Leipzig"]
["84453","Mühldorf","-16 °C","Straubing"]
["77796","Mühlenbach","-16 °C","Stuttgart"]
["16567","Mühlenbeck","-14 °C","Neuruppin"]
["86444","Mühlhausen","-16 °C","Augsburg"]
["99974","Mühlhausen","-14 °C","Erfurt"]
["08626","Mühlhausen","-18 °C","Meiningen"]
["92360","Mühlhausen","-16 °C","Nürnberg"]
["78056","Mühlhausen","-18 °C","Stuttgart"]
["69242","Mühlhausen","-12 °C","Würzburg"]
["73347","Mühlhausen im Täle","-16 °C","Stuttgart"]
["72172","Mühlheim","-16 °C","Stuttgart"]
["78570","Mühlheim / Donau","-16 °C","Stuttgart"]
["63165","Mühlheim/Main","-12 °C","Würzburg"]
["90453","Mühlhof","-16 °C","Nürnberg"]
["07919","Mühltroff","-16 °C","Meiningen"]
["91735","Muhr am See","-16 °C","Nürnberg"]
["09619","Mulda","-16 °C","Meiningen"]
["08269","Muldenberg","-18 °C","Meiningen"]
["53945","Mülheim","-14 °C","Nürburg-Barweiler"]
["4547.","Mülheim/Ruhr","-10 °C","Düsseldorf"]
["79379","Müllheim","-12 °C","Karlsruhe"]
["15299","Müllrose","-16 °C","Lindenberg"]
["08132","Mülsen bei St. Jacob","-14 °C","Erfurt"]
["95213","Münchberg","-18 °C","Hof"]
["15748","Münchehofe","-14 °C","Lindenberg"]
["35759","Münchhausen","-14 °C","Fritzlar"]
["70825","Münchingen","-14 °C","Stuttgart"]
["84034","Münchnerau","-16 °C","Straubing"]
["41516","Münchrath","-10 °C","Düsseldorf"]
["94439","Münchsdorf","-16 °C","Straubing"]
["77955","Münchweier","-12 °C","Karlsruhe"]
["66981","Münchweiler","-12 °C","Saarbrücken"]
["78183","Mundelfingen","-16 °C","Stuttgart"]
["74395","Mundelsheim","-12 °C","Stuttgart"]
["89597","Munderkingen","-14 °C","Augsburg"]
["79312","Mundingen","-12 °C","Karlsruhe"]
["50933","Müngersdorf","-12 °C","Düsseldorf"]
["82541","Münsing","-16 °C","Kempten"]
["72525","Münsingen/Württ.","-16 °C","Stuttgart"]
["29633","Munster","-14 °C","Hannover"]
["481..","Münster","-12 °C","Hannover"]
["65618","Münster","-14 °C","Nürburg-Barweiler"]
["86692","Münster/Lech","-16 °C","Augsburg"]
["56294","Münstermaifeld","-12 °C","Nürburg-Barweiler"]
["79244","Münstertal","-18 °C","Karlsruhe"]
["35516","Münzenberg","-14 °C","Fritzlar"]
["76703","Münzesheim","-12 °C","Stuttgart"]
["86757","Munzingen","-16 °C","Augsburg"]
["79730","Murg","-12 °C","Stuttgart"]
["82418","Murnau","-16 °C","Kempten"]
["71711","Murr","-12 °C","Stuttgart"]
["71540","Murrhardt","-16 °C","Stuttgart"]
["09228","Murschnitz","-14 °C","Erfurt"]
["88371","Musbach","-14 °C","Stuttgart"]
["70771","Musberg","-14 °C","Stuttgart"]
["06679","Muschwitz","-14 °C","Leipzig"]
["46395","Mussum","-10 °C","Düsseldorf"]
["73557","Mutlangen","-16 °C","Stuttgart"]
["76307","Mutschelbach","-14 °C","Stuttgart"]
["88456","Muttensweiler","-16 °C","Stuttgart"]
["67112","Mutterstadt","-12 °C","Saarbrücken"]
["14823","Mützdorf","-14 °C","Potsdam"]
["39307","Mützel","-14 °C","Magdeburg"]
["54608","Mützenich","-14 °C","Trier"]
["04688","Mutzschen","-14 °C","Leipzig"]
["41849","Myhl","-10 °C","Düsseldorf"]
["08499","Mylau","-16 °C","Erfurt"]
["73230","Nabern","-16 °C","Stuttgart"]
["55299","Nackenheim","-12 °C","Trier"]
["06785","Naderkau","-14 °C","Leipzig"]
["72202","Nagold","-16 °C","Stuttgart"]
["86720","Nähermemmingen","-16 °C","Augsburg"]
["07973","Naitschau","-16 °C","Erfurt"]
["66809","Nalbach","-12 °C","Saarbrücken"]
["85405","Nandlstadt","-16 °C","München"]
["02979","Nardt","-16 °C","Görlitz"]
["04657","Narsdorf","-14 °C","Leipzig"]
["27404","Nartum","-12 °C","Bremen"]
["23936","Naschendorf","-10 °C","Schwerin"]
["04758","Nasenberg","-14 °C","Leipzig"]
["29857","Natendorf","-14 °C","Hannover"]
["89564","Nattheim","-16 °C","Augsburg"]
["14641","Nauen","-14 °C","Potsdam"]
["64569","Nauheim","-12 °C","Karlsruhe"]
["34311","Naumburg","-14 °C","Fritzlar"]
["06618","Naumburg","-14 °C","Leipzig"]
["01796","Naundorf","-14 °C","Dresden"]
["04683","Naunhof","-14 °C","Leipzig"]
["04703","Naunhof","-14 °C","Leipzig"]
["56237","Nauort","-14 °C","Nürburg-Barweiler"]
["65207","Naurod","-14 °C","Nürburg-Barweiler"]
["06571","Nausitz","-14 °C","Leipzig"]
["01920","Naußlitz","-16 °C","Dresden"]
["71126","Nebringen","-16 °C","Stuttgart"]
["74924","Neckarbischofsheim","-12 °C","Stuttgart"]
["69151","Neckargemünd","-12 °C","Würzburg"]
["69437","Neckargerach","-12 °C","Würzburg"]
["72622","Neckarhausen","-14 °C","Stuttgart"]
["71686","Neckarrems","-12 °C","Stuttgart"]
["74172","Neckarsulm","-12 °C","Stuttgart"]
["72666","Neckartailfingen","-14 °C","Stuttgart"]
["72654","Neckartenzlingen","-16 °C","Stuttgart"]
["74382","Neckarwestheim","-12 °C","Stuttgart"]
["74865","Neckarzimmern","-12 °C","Stuttgart"]
["17039","Neddemin","-14 °C","Greifswald"]
["26802","Neermoor","-10 °C","Emden"]
["21398","Neetze","-12 °C","Hamburg"]
["37643","Negenborn","-14 °C","Fritzlar"]
["597..","Neheim-Hüsten","-12 °C","Nürburg-Barweiler"]
["06193","Nehlitz","-14 °C","Leipzig"]
["72147","Nehren","-16 °C","Stuttgart"]
["73272","Neidlingen","-16 °C","Stuttgart"]
["74336","Neipperg","-12 °C","Stuttgart"]
["57638","Neitersen","-14 °C","Nürburg-Barweiler"]
["89191","Nellingen","-18 °C","Augsburg"]
["73760","Nellingen","-14 °C","Stuttgart"]
["72149","Nellingsheim","-16 °C","Stuttgart"]
["71397","Nellmersbach","-14 °C","Stuttgart"]
["06268","Nemsdorf","-14 °C","Leipzig"]
["78532","Nendingen","-16 °C","Stuttgart"]
["56412","Nentershausen","-14 °C","Nürburg-Barweiler"]
["04828","Nepperwitz","-16 °C","Leipzig"]
["04685","Nerchau","-14 °C","Leipzig"]
["54570","Neroth","-14 °C","Trier"]
["14806","Neschholz","-14 °C","Potsdam"]
["02699","Neschwitz","-16 °C","Görlitz"]
["27612","Nesse","-10 °C","Bremen"]
["77767","Nesselried","-12 °C","Karlsruhe"]
["57250","Netphen","-14 °C","Nürburg-Barweiler"]
["53947","Nettersheim","-14 °C","Nürburg-Barweiler"]
["41334","Nettetal","-10 °C","Düsseldorf"]
["31185","Nettlingen","-14 °C","Hannover"]
["31099","Netze","-16 °C","Hannover"]
["17440","Netzelkow","-12 °C","Greifswald"]
["08491","Netzschkau","-16 °C","Erfurt"]
["61267","Neu Anspach","-14 °C","Fritzlar"]
["55546","Neu Bamberg","-12 °C","Trier"]
["02699","Neu Jeßnitz","-16 °C","Görlitz"]
["17348","Neu Käbelich","-14 °C","Greifswald"]
["06449","Neu Königsaue","-14 °C","Leipzig"]
["02829","Neu Krauscha","-16 °C","Görlitz"]
["18586","Neu Reddevitz","-10 °C","Rostock"]
["21629","Neu Wulmsdorf","-12 °C","Bremen"]
["24879","Neuberend","-10 °C","Schleswig"]
["83115","Neubeuern","-18 °C","Hohenpeißenberg"]
["1703.","Neubrandenburg","-14 °C","Greifswald"]
["73453","Neubronn","-16 °C","Stuttgart"]
["75387","Neubulach","-16 °C","Stuttgart"]
["76776","Neuburg","-12 °C","Karlsruhe"]
["74861","Neudenau","-12 °C","Stuttgart"]
["78166","Neudingen","-16 °C","Stuttgart"]
["76676","Neudorf","-12 °C","Karlsruhe"]
["01920","Neudörfel","-16 °C","Dresden"]
["08543","Neudörfel","-16 °C","Meiningen"]
["02739","Neueibau","-16 °C","Görlitz"]
["33100","Neuenbeken","-14 °C","Fritzlar"]
["75305","Neuenbürg","-14 °C","Stuttgart"]
["7939.","Neuenburg am Rhein","-12 °C","Karlsruhe"]
["18516","Neuendorf","-12 °C","Rostock"]
["15518","Neuendorf im Sande","-14 °C","Lindenberg"]
["15366","Neuenhagen","-14 °C","Lindenberg"]
["72631","Neuenhaus","-14 °C","Stuttgart"]
["39345","Neuenhofe","-14 °C","Magdeburg"]
["28790","Neuenkirchen","-10 °C","Bremen"]
["17498","Neuenkirchen","-12 °C","Greifswald"]
["29643","Neuenkirchen","-12 °C","Hannover"]
["48485","Neuenkirchen","-12 °C","Hannover"]
["49434","Neuenkirchen","-12 °C","Hannover"]
["18445","Neuenpleen","-10 °C","Rostock"]
["08451","Neuensalz","-16 °C","Erfurt"]
["74196","Neuenstadt","-12 °C","Stuttgart"]
["36286","Neuenstein","-16 °C","Fritzlar"]
["85375","Neufahrn","-18 °C","München"]
["84088","Neufahrn","-18 °C","Straubing"]
["72639","Neuffen","-16 °C","Stuttgart"]
["85464","Neufinsing","-16 °C","München"]
["72419","Neufra","-16 °C","Stuttgart"]
["88499","Neufra","-14 °C","Stuttgart"]
["88682","Neufrach","-14 °C","Stuttgart"]
["84181","Neufraunhofen","-16 °C","Straubing"]
["02727","Neugersdorf","-16 °C","Görlitz"]
["85659","Neuharting","-16 °C","München"]
["37603","Neuhaus","-14 °C","Fritzlar"]
["91284","Neuhaus","-16 °C","Nürnberg"]
["19273","Neuhaus","-12 °C","Schwerin"]
["89291","Neuhausen","-16 °C","Augsburg"]
["67547","Neuhausen","-12 °C","Saarbrücken"]
["72555","Neuhausen","-16 °C","Stuttgart"]
["73765","Neuhausen","-14 °C","Stuttgart"]
["75242","Neuhausen","-14 °C","Stuttgart"]
["75382","Neuhengstett","-14 °C","Stuttgart"]
["01920","Neuhof","-16 °C","Dresden"]
["90616","Neuhof a. d. Zenn","-16 °C","Nürnberg"]
["67141","Neuhofen","-12 °C","Saarbrücken"]
["16515","Neuholland","-14 °C","Neuruppin"]
["63263","Neu-Isenburg","-12 °C","Würzburg"]
["02699","Neu-Jessnitz","-16 °C","Görlitz"]
["01904","Neukirch","-16 °C","Dresden"]
["01936","Neukirch","-16 °C","Dresden"]
["88099","Neukirch","-14 °C","Konstanz"]
["08459","Neukirchen","-14 °C","Erfurt"]
["92259","Neukirchen","-16 °C","Nürnberg"]
["23779","Neukirchen","-10 °C","Schwerin"]
["93453","Neukirchen","-18 °C","Straubing"]
["94127","Neukirchen","-16 °C","Straubing"]
["94362","Neukirchen","-18 °C","Straubing"]
["94154","Neukirchen v. W.","-16 °C","Straubing"]
["47506","Neukirchen-Vluyn","-10 °C","Düsseldorf"]
["23992","Neukloster","-12 °C","Schwerin"]
["21710","Neuland, Kr. Stade","-10 °C","Hamburg"]
["98744","Neu-Leibis","-16 °C","Meiningen"]
["73491","Neuler","-16 °C","Stuttgart"]
["75245","Neulingen","-14 °C","Stuttgart"]
["68809","Neulußheim","-12 °C","Karlsruhe"]
["54347","Neumagen","-10 °C","Trier"]
["15306","Neu-Mahlisch","-16 °C","Lindenberg"]
["92318","Neumarkt","-16 °C","Nürnberg"]
["2453.","Neumünster","-12 °C","Schleswig"]
["39418","Neundorf","-14 °C","Magdeburg"]
["08527","Neundorf","-16 °C","Meiningen"]
["73479","Neunheim","-16 °C","Stuttgart"]
["57520","Neunkhausen","-14 °C","Nürburg-Barweiler"]
["53819","Neunkirchen","-12 °C","Nürburg-Barweiler"]
["57290","Neunkirchen","-14 °C","Nürburg-Barweiler"]
["91233","Neunkirchen","-16 °C","Nürnberg"]
["74867","Neunkirchen","-12 °C","Stuttgart"]
["91077","Neunkirchen a.B.","-16 °C","Nürnberg"]
["665..","Neunkirchen/Saar","-12 °C","Saarbrücken"]
["91567","Neunstetten","-16 °C","Nürnberg"]
["84524","Neuötting","-16 °C","Straubing"]
["06333","Neuplatendorf","-14 °C","Leipzig"]
["02699","Neupuschwitz","-16 °C","Görlitz"]
["41517","Neurath","-12 °C","Düsseldorf"]
["76149","Neureut","-12 °C","Karlsruhe"]
["77743","Neuried","-12 °C","Karlsruhe"]
["16816","Neuruppin","-14 °C","Neuruppin"]
["02742","Neusalza-Spremberg","-16 °C","Görlitz"]
["86356","Neusäß","-16 °C","Augsburg"]
["91330","Neuses","-16 °C","Nürnberg"]
["91616","Neusitz","-16 °C","Nürnberg"]
["95700","Neusorg","-18 °C","Hof"]
["41363","Neu-Spenrath","-12 °C","Düsseldorf"]
["4146.","Neuss","-10 °C","Düsseldorf"]
["41472","Neuss - Grefrath","-10 °C","Düsseldorf"]
["41470","Neuss - Rosellen","-10 °C","Düsseldorf"]
["01844","Neustadt","-14 °C","Dresden"]
["53577","Neustadt","-14 °C","Nürburg-Barweiler"]
["92660","Neustadt","-16 °C","Nürnberg"]
["71336","Neustadt","-14 °C","Stuttgart"]
["19306","Neustadt - Glewe","-14 °C","Schwerin"]
["35279","Neustadt (Hessen)","-14 °C","Fritzlar"]
["95514","Neustadt a. Kulm","-16 °C","Hof"]
["31535","Neustadt am Rübenberge","-14 °C","Hannover"]
["91413","Neustadt an der Aisch","-16 °C","Nürnberg"]
["96465","Neustadt bei Coburg","-16 °C","Bamberg"]
["93333","Neustadt/Donau","-18 °C","Straubing"]
["07806","Neustadt/Orla","-14 °C","Erfurt"]
["67433","Neustadt/Weinstraße","-10 °C","Saarbrücken"]
["72149","Neustetten","-16 °C","Stuttgart"]
["17235","Neustrelitz","-14 °C","Greifswald"]
["17268","Neu-Temmen","-14 °C","Greifswald"]
["76689","Neuthard","-12 °C","Karlsruhe"]
["93073","Neutraubling","-16 °C","Straubing"]
["15320","Neutrebbin","-14 °C","Lindenberg"]
["8923.","Neu-Ulm","-14 °C","Augsburg"]
["30916","Neuwarmbüchen","-14 °C","Hannover"]
["39393","Neuwegersleben","-14 °C","Magdeburg"]
["76534","Neuweier","-14 °C","Karlsruhe"]
["71093","Neuweiler","-16 °C","Stuttgart"]
["75389","Neuweiler","-16 °C","Stuttgart"]
["04828","Neuweißenborn","-14 °C","Leipzig"]
["41066","Neuwerk","-10 °C","Düsseldorf"]
["5656.","Neuwied","-12 °C","Nürburg-Barweiler"]
["23816","Neversdorf","-12 °C","Schwerin"]
["4254.","Neviges","-12 °C","Düsseldorf"]
["54309","Newel","-14 °C","Trier"]
["03253","Nexdorf","-16 °C","Lindenberg"]
["56645","Nickenich","-14 °C","Nürburg-Barweiler"]
["04703","Nicollschwitz","-14 °C","Leipzig"]
["63667","Nidda","-12 °C","Würzburg"]
["61194","Niddatal","-12 °C","Fritzlar"]
["61130","Nidderau-Windecken","-12 °C","Fritzlar"]
["52385","Nideggen","-14 °C","Aachen"]
["75210","Niebelsbach","-14 °C","Stuttgart"]
["07580","Niebra","-14 °C","Erfurt"]
["65934","Nied","-12 °C","Frankfurt am Main"]
["34305","Niedenstein","-14 °C","Fritzlar"]
["02906","Nieder Seifersdorf","-16 °C","Görlitz"]
["56729","Niederbaar","-14 °C","Nürburg-Barweiler"]
["53343","Niederbachem","-14 °C","Nürburg-Barweiler"]
["09627","Niederbobritzsch","-16 °C","Erfurt"]
["65611","Niederbrechen","-12 °C","Nürburg-Barweiler"]
["02708","Niedercunnersdorf","-16 °C","Görlitz"]
["33739","Niederdornberg","-12 °C","Fritzlar"]
["56651","Niederdürenbach","-14 °C","Nürburg-Barweiler"]
["56412","Niederelbert","-14 °C","Nürburg-Barweiler"]
["60437","Nieder-Erlenbach","-14 °C","Frankfurt am Main"]
["78078","Niedereschach","-16 °C","Stuttgart"]
["67592","Nieder-Flörsheim","-12 °C","Saarbrücken"]
["09243","Niederfrohna","-14 °C","Erfurt"]
["04618","Niederhain","-14 °C","Leipzig"]
["65760","Niederhöchstadt","-12 °C","Nürburg-Barweiler"]
["79730","Niederhof","-12 °C","Stuttgart"]
["89604","Niederhofen","-14 °C","Augsburg"]
["37269","Niederhone","-14 °C","Fritzlar"]
["53501","Niederich","-14 °C","Nürburg-Barweiler"]
["63486","Niederissigheim","-12 °C","Würzburg"]
["65817","Niederjosbach","-10 °C","Nürburg-Barweiler"]
["53859","Niederkassel","-12 °C","Nürburg-Barweiler"]
["41372","Niederkrüchten","-10 °C","Düsseldorf"]
["15751","Niederlehme","-14 °C","Lindenberg"]
["39264","Niederlepte","-14 °C","Magdeburg"]
["56556","Niederlützingen","-12 °C","Nürburg-Barweiler"]
["08138","Niedermülsen","-14 °C","Erfurt"]
["92545","Niedermurach","-18 °C","Nürnberg"]
["39167","Niederndodeleben","-14 °C","Magdeburg"]
["74676","Niedernhall","-14 °C","Stuttgart"]
["65527","Niedernhausen","-14 °C","Nürburg-Barweiler"]
["37133","Niedernjesa","-16 °C","Fritzlar"]
["27432","Nieder-Ochtenhausen","-12 °C","Bremen"]
["02791","Niederoderwitz","-16 °C","Görlitz"]
["35325","Nieder-Ohmen","-14 °C","Fritzlar"]
["35325","Nieder-Ohmen","-14 °C","Fritzlar"]
["86381","Niederraunau","-16 °C","Augsburg"]
["87767","Niederrieden","-16 °C","Augsburg"]
["08393","Niederschindmaas","-14 °C","Erfurt"]
["34497","Niederschleidern","-16 °C","Fritzlar"]
["77749","Niederschopfheim","-12 °C","Karlsruhe"]
["54570","Niederstadtfeld","-14 °C","Trier"]
["89168","Niederstotzingen","-16 °C","Augsburg"]
["84494","Niedertaufkirchen","-16 °C","Straubing"]
["35274","Niederwald","-12 °C","Fritzlar"]
["56357","Niederwallmenach","-12 °C","Nürburg-Barweiler"]
["79379","Niederweiler","-14 °C","Karlsruhe"]
["08396","Niederwiera","-14 °C","Erfurt"]
["79733","Niederwihl","-14 °C","Stuttgart"]
["79297","Niederwinden","-16 °C","Stuttgart"]
["55758","Niederworresbach","-14 °C","Trier"]
["66440","Niederwürzbach","-12 °C","Saarbrücken"]
["52382","Niederzier","-12 °C","Aachen"]
["56651","Niederzissen","-14 °C","Nürburg-Barweiler"]
["75223","Niefern","-14 °C","Stuttgart"]
["67308","Niefernheim","-12 °C","Saarbrücken"]
["01561","Niegeroda","-16 °C","Dresden"]
["33039","Nieheim","-14 °C","Fritzlar"]
["19258","Nieklitz","-12 °C","Schwerin"]
["01968","Niemtsch","-16 °C","Dresden"]
["31582","Nienburg/Weser","-12 °C","Hannover"]
["29690","Nienhagen","-12 °C","Hannover"]
["29364","Nienhof","-14 °C","Hannover"]
["19017","Nienmark","-12 °C","Schwerin"]
["31688","Nienstädt","-14 °C","Hannover"]
["31035","Nienstedt","-14 °C","Hannover"]
["31848","Nienstedt","-14 °C","Hannover"]
["01609","Nieska","-16 °C","Dresden"]
["02906","Niesky","-16 °C","Görlitz"]
["79331","Nimburg","-12 °C","Karlsruhe"]
["04626","Nischwitz","-14 °C","Leipzig"]
["04808","Nischwitz","-14 °C","Leipzig"]
["54453","Nittel","-12 °C","Trier"]
["93152","Nittendorf","-16 °C","Straubing"]
["56729","Nitz","-14 °C","Nürburg-Barweiler"]
["39539","Nitzow","-14 °C","Magdeburg"]
["04639","Nitzschka","-14 °C","Leipzig"]
["66625","Nohfelden","-14 °C","Saarbrücken"]
["54579","Nollenbach","-14 °C","Trier"]
["53639","Nonnenberg","-12 °C","Nürburg-Barweiler"]
["77963","Nonnenweier","-12 °C","Karlsruhe"]
["66620","Nonnweiler","-14 °C","Saarbrücken"]
["24811","Norby","-12 °C","Schleswig"]
["26954","Nordenham","-10 °C","Emden"]
["26548","Norderney","-10 °C","Emden"]
["22851","Norderstedt","-12 °C","Hamburg"]
["96365","Nordhalden","-18 °C","Bamberg"]
["99734","Nordhausen","-14 °C","Erfurt"]
["74226","Nordhausen","-12 °C","Stuttgart"]
["27637","Nordholz","-10 °C","Bremen"]
["4852.","Nordhorn","-10 °C","Hannover"]
["86720","Nördlingen","-16 °C","Augsburg"]
["77787","Nordrach","-14 °C","Stuttgart"]
["34132","Nordshausen/Kassel","-14 °C","Fritzlar"]
["31171","Nordstemmen","-14 °C","Hannover"]
["72160","Nordstetten","-16 °C","Stuttgart"]
["25845","Nordstrand","-10 °C","List auf Sylt"]
["79341","Nordweil","-12 °C","Karlsruhe"]
["27211","Nordwohlde","-12 °C","Bremen"]
["89312","Nornheim","-16 °C","Augsburg"]
["37176","Nörten-Hardenberg","-16 °C","Fritzlar"]
["37154","Northeim","-16 °C","Fritzlar"]
["52388","Nörvenich","-12 °C","Aachen"]
["04749","Noschkowitz","-14 °C","Leipzig"]
["02627","Nostitz","-16 °C","Görlitz"]
["53902","Nöthen","-14 °C","Nürburg-Barweiler"]
["79254","Notschrei","-18 °C","Stuttgart"]
["75196","Nöttingen","-14 °C","Stuttgart"]
["48301","Nottuln","-12 °C","Hannover"]
["73274","Notzingen","-16 °C","Stuttgart"]
["97720","Nüdlingen","-14 °C","Würzburg"]
["71154","Nufringen","-16 °C","Stuttgart"]
["51588","Nümbrecht","-12 °C","Nürburg-Barweiler"]
["66687","Nunkirchen","-12 °C","Saarbrücken"]
["53520","Nürburg","-14 °C","Nürburg-Barweiler"]
["72622","Nürtingen","-14 °C","Stuttgart"]
["54675","Nusbaum","-14 °C","Trier"]
["77704","Nußbach","-12 °C","Karlsruhe"]
["83131","Nußdorf","-18 °C","Hohenpeißenberg"]
["71735","Nussdorf","-14 °C","Stuttgart"]
["69226","Nußloch","-12 °C","Würzburg"]
["36088","Nüst","-14 °C","Fritzlar"]
["76703","Oberacker","-12 °C","Stuttgart"]
["70771","Oberaichen","-14 °C","Stuttgart"]
["79761","Oberalpfen","-14 °C","Stuttgart"]
["82487","Oberammergau","-18 °C","Kempten"]
["04618","Oberarnsdorf","-14 °C","Leipzig"]
["82496","Oberau","-18 °C","Kempten"]
["83080","Oberaudorf","-18 °C","Hohenpeißenberg"]
["56729","Oberbaar","-14 °C","Nürburg-Barweiler"]
["97772","Oberbach","-16 °C","Würzburg"]
["78073","Oberbaldingen","-16 °C","Stuttgart"]
["79235","Oberbergen","-12 °C","Karlsruhe"]
["72644","Oberboihingen","-14 °C","Stuttgart"]
["65611","Oberbrechen","-12 °C","Nürburg-Barweiler"]
["36284","Oberbreitzbach","-14 °C","Fritzlar"]
["52525","Oberbruch","-10 °C","Aachen"]
["01762","Obercarsdorf","-14 °C","Dresden"]
["08147","Obercrinitz","-16 °C","Erfurt"]
["02708","Obercunnersdorf","-16 °C","Görlitz"]
["75038","Oberderdingen","-14 °C","Stuttgart"]
["69429","Oberdielbach","-14 °C","Würzburg"]
["88085","Oberdorf","-12 °C","Konstanz"]
["73441","Oberdorf","-16 °C","Stuttgart"]
["88348","Obereggatsweiler","-16 °C","Stuttgart"]
["79418","Obereggenen","-14 °C","Karlsruhe"]
["97247","Obereisenheim","-14 °C","Würzburg"]
["56412","Oberelbert","-14 °C","Nürburg-Barweiler"]
["99819","Oberellen","-16 °C","Meiningen"]
["61352","Ober-Erlenbach","-14 °C","Fritzlar"]
["88436","Oberessendorf","-16 °C","Stuttgart"]
["90559","Oberferrieden (Burgthann)","-16 °C","Nürnberg"]
["01762","Oberfrauendorf","-14 °C","Dresden"]
["53894","Obergartzem","-14 °C","Nürburg-Barweiler"]
["94486","Obergessenbach","-18 °C","Straubing"]
["74831","Obergriesheim","-12 °C","Stuttgart"]
["76646","Obergrombach","-12 °C","Stuttgart"]
["73569","Obergröningen","-16 °C","Stuttgart"]
["82041","Oberhaching","-16 °C","Kempten"]
["18239","Oberhagen","-12 °C","Rostock"]
["96173","Oberhaid","-16 °C","Bamberg"]
["77784","Oberharmersbach","-14 °C","Stuttgart"]
["75387","Oberhaugstett","-16 °C","Stuttgart"]
["86154","Oberhausen","-16 °C","Augsburg"]
["46147","Oberhausen","-10 °C","Dortmund"]
["68794","Oberhausen","-12 °C","Karlsruhe"]
["82386","Oberhausen","-16 °C","Kempten"]
["76887","Oberhausen","-12 °C","Saarbrücken"]
["68794","Oberhausen-Rheinhausen","-12 °C","Karlsruhe"]
["08468","Oberheinsdorf","-16 °C","Erfurt"]
["98559","Oberhof","-16 °C","Meiningen"]
["23948","Oberhof","-10 °C","Schwerin"]
["88447","Oberhöfen","-16 °C","Stuttgart"]
["84503","Oberholzhausen","-16 °C","Straubing"]
["88480","Oberholzheim","-16 °C","Stuttgart"]
["97258","Oberickelsheim","-16 °C","Würzburg"]
["72296","Oberiflingen","-16 °C","Stuttgart"]
["71083","Oberjesingen","-16 °C","Stuttgart"]
["71131","Oberjettingen","-16 °C","Stuttgart"]
["77704","Oberkirch","-14 °C","Karlsruhe"]
["31683","Oberkirchen","-14 °C","Hannover"]
["57392","Oberkirchen","-14 °C","Nürburg-Barweiler"]
["73447","Oberkochen","-16 °C","Stuttgart"]
["75394","Oberkollbach","-16 °C","Stuttgart"]
["07922","Oberkoskau","-16 °C","Meiningen"]
["97488","Oberlauringen","-16 °C","Würzburg"]
["07356","Oberlemnitz","-18 °C","Meiningen"]
["75328","Oberlengenhardt","-16 °C","Stuttgart"]
["08527","Oberlosa","-16 °C","Meiningen"]
["32479","Oberlübbe","-12 °C","Fritzlar"]
["89611","Obermarchtal","-14 °C","Augsburg"]
["86836","Obermeitingen","-16 °C","Kempten"]
["90587","Obermichelbach","-16 °C","Nürnberg"]
["61239","Ober-Mörlen","-14 °C","Fritzlar"]
["67823","Obermoschel","-12 °C","Saarbrücken"]
["63785","Obernburg","-12 °C","Würzburg"]
["86698","Oberndorf","-16 °C","Augsburg"]
["99310","Oberndorf","-14 °C","Erfurt"]
["35606","Oberndorf","-12 °C","Fritzlar"]
["84107","Oberndorf","-16 °C","Straubing"]
["72108","Oberndorf","-16 °C","Stuttgart"]
["78727","Oberndorf/Neckar","-16 °C","Stuttgart"]
["75217","Obernhausen","-14 °C","Stuttgart"]
["72364","Obernheim","-18 °C","Stuttgart"]
["37124","Obernjesa","-16 °C","Fritzlar"]
["94130","Obernzell","-16 °C","Straubing"]
["02744","Oberoderwitz","-16 °C","Görlitz"]
["86869","Oberostendorf","-16 °C","Kempten"]
["76889","Oberotterbach","-12 °C","Saarbrücken"]
["86507","Oberottmarshausen","-16 °C","Augsburg"]
["76703","Oberöwisheim","-12 °C","Stuttgart"]
["53639","Oberpleis","-12 °C","Nürburg-Barweiler"]
["94562","Oberpöring","-18 °C","Straubing"]
["79215","Oberprechtal","-16 °C","Stuttgart"]
["35641","Oberquembach","-14 °C","Fritzlar"]
["64372","Ober-Ramstadt","-14 °C","Würzburg"]
["04720","Oberranschütz","-14 °C","Leipzig"]
["91097","Oberreichenbach","-16 °C","Nürnberg"]
["75394","Oberreichenbach","-16 °C","Stuttgart"]
["61389","Oberreifenberg","-16 °C","Fritzlar"]
["79254","Oberried","-18 °C","Stuttgart"]
["71739","Oberriexingen","-12 °C","Stuttgart"]
["79206","Oberrimsingen","-12 °C","Karlsruhe"]
["06528","Oberröblingen","-14 °C","Leipzig"]
["36041","Oberrode","-14 °C","Fritzlar"]
["74420","Oberrot","-16 °C","Stuttgart"]
["79233","Oberrotweil","-12 °C","Stuttgart"]
["91483","Oberscheinfeld","-16 °C","Nürnberg"]
["76889","Oberschlettenbach","-12 °C","Saarbrücken"]
["73485","Oberschneidheim","-16 °C","Stuttgart"]
["94363","Oberschneiding","-18 °C","Straubing"]
["09600","Oberschöna","-16 °C","Erfurt"]
["77948","Oberschopfheim","-12 °C","Karlsruhe"]
["72221","Oberschwandorf","-16 °C","Stuttgart"]
["97478","Oberschwappach","-16 °C","Würzburg"]
["88410","Oberschwarzach","-16 °C","Stuttgart"]
["02763","Oberseifersdorf","-16 °C","Görlitz"]
["65520","Oberselters","-14 °C","Nürburg-Barweiler"]
["57078","Obersetzen","-14 °C","Nürburg-Barweiler"]
["38173","Obersickte","-14 °C","Magdeburg"]
["66957","Obersimten","-12 °C","Saarbrücken"]
["74423","Obersontheim","-16 °C","Stuttgart"]
["97509","Oberspiesheim","-14 °C","Würzburg"]
["89613","Oberstadion","-14 °C","Augsburg"]
["54570","Oberstadtfeld","-14 °C","Trier"]
["8752.","Oberstaufen","-18 °C","Kempten"]
["71720","Oberstenfeld","-14 °C","Stuttgart"]
["72531","Oberstetten","-18 °C","Stuttgart"]
["88416","Oberstetten ","-16 °C","Stuttgart"]
["97640","Oberstreu","-14 °C","Würzburg"]
["74182","Obersulm","-14 °C","Stuttgart"]
["88471","Obersulmetingen","-16 °C","Stuttgart"]
["84101","Obersüßbach","-16 °C","Straubing"]
["99444","Obersynderstedt","-14 °C","Erfurt"]
["88094","Oberteuringen","-14 °C","Konstanz"]
["97723","Oberthulba","-14 °C","Würzburg"]
["73656","Oberurbach","-16 °C","Stuttgart"]
["61440","Oberursel/Taunus","-12 °C","Fritzlar"]
["92526","Oberviechtach","-16 °C","Nürnberg"]
["34281","Obervorschütz","-14 °C","Fritzlar"]
["89349","Oberwaldbach","-16 °C","Augsburg"]
["79780","Oberwangen","-14 °C","Stuttgart"]
["77948","Oberweier","-12 °C","Karlsruhe"]
["72226","Oberweiler","-16 °C","Stuttgart"]
["71554","Oberweissach","-14 °C","Stuttgart"]
["79862","Oberweschnegg","-16 °C","Stuttgart"]
["55430","Oberwesel","-14 °C","Trier"]
["34399","Oberweser","-12 °C","Fritzlar"]
["08396","Oberwiera","-14 °C","Erfurt"]
["92355","Oberwiesenacker","-16 °C","Nürnberg"]
["86519","Oberwiesenbach","-16 °C","Augsburg"]
["79733","Oberwihl","-12 °C","Stuttgart"]
["74747","Oberwittstadt","-14 °C","Stuttgart"]
["77709","Oberwolfach","-14 °C","Stuttgart"]
["56651","Oberzissen","-14 °C","Nürburg-Barweiler"]
["83119","Obing","-16 °C","Hohenpeißenberg"]
["53506","Obliers","-14 °C","Nürburg-Barweiler"]
["46485","Obrighoven","-10 °C","Düsseldorf"]
["97199","Ochsenfurt","-14 °C","Würzburg"]
["88416","Ochsenhausen","-16 °C","Stuttgart"]
["88418","Ochsenhausen","-16 °C","Stuttgart"]
["31134","Ochtersum","-14 °C","Hannover"]
["61169","Ockstadt","-14 °C","Fritzlar"]
["85235","Odelzhausen","-16 °C","München"]
["41199","Odenkirchen","-10 °C","Düsseldorf"]
["72531","Ödenwaldstetten","-18 °C","Stuttgart"]
["55571","Odernheim","-12 °C","Trier"]
["02791","Oderwitz","-16 °C","Görlitz"]
["21775","Odisheim","-12 °C","Hamburg"]
["36404","Oechsen","-16 °C","Fritzlar"]
["91249","Oed","-16 °C","Nürnberg"]
["34399","Oedelsheim","-12 °C","Fritzlar"]
["09569","Oederan","-14 °C","Erfurt"]
["74229","Oedheim","-12 °C","Stuttgart"]
["02625","Oehna","-16 °C","Görlitz"]
["98704","Oehrenstock","-16 °C","Meiningen"]
["38271","Oelber a. weißen Wege","-14 °C","Magdeburg"]
["59302","Oelde","-12 °C","Nürburg-Barweiler"]
["09376","Oelsnitz","-14 °C","Erfurt"]
["08606","Oelsnitz","-16 °C","Meiningen"]
["45739","Oer-Erkenschwick","-10 °C","Dortmund"]
["65375","Oestrich-Winkel","-12 °C","Nürburg-Barweiler"]
["86732","Oettingen","-16 °C","Augsburg"]
["5975.","Oeventrop","-14 °C","Nürburg-Barweiler"]
["53501","Oeverich","-14 °C","Nürburg-Barweiler"]
["52477","Ofden","-12 °C","Aachen"]
["74254","Offenau","-12 °C","Stuttgart"]
["76877","Offenbach","-12 °C","Karlsruhe"]
["6307.","Offenbach/Main","-12 °C","Würzburg"]
["67749","Offenbach-Hundheim","-14 °C","Saarbrücken"]
["7765.","Offenburg","-12 °C","Karlsruhe"]
["91238","Offenhausen","-16 °C","Nürnberg"]
["65555","Offheim","-12 °C","Nürburg-Barweiler"]
["89362","Offingen","-16 °C","Augsburg"]
["79664","Öflingen","-12 °C","Stuttgart"]
["72131","Ofterdingen","-16 °C","Stuttgart"]
["68723","Oftersheim","-12 °C","Karlsruhe"]
["88448","Oggelsbeuren","-16 °C","Stuttgart"]
["88422","Oggelshausen","-16 °C","Stuttgart"]
["89522","Oggenhausen","-16 °C","Augsburg"]
["21220","Ohlendorf","-12 °C","Hamburg"]
["77797","Ohlsbach","-12 °C","Karlsruhe"]
["73275","Ohmden","-16 °C","Stuttgart"]
["72770","Ohmenhausen","-16 °C","Stuttgart"]
["72813","Ohnastetten","-18 °C","Stuttgart"]
["01896","Ohorn","-14 °C","Dresden"]
["74613","Öhringen","-14 °C","Stuttgart"]
["74613","Ohrnberg","-14 °C","Stuttgart"]
["49626","Ohrtermersch","-12 °C","Hannover"]
["27337","Oiste","-12 °C","Bremen"]
["65795","Okriftel","-12 °C","Karlsruhe"]
["01458","Okrilla","-14 °C","Dresden"]
["09526","Olbernhau","-16 °C","Meiningen"]
["02785","Olbersdorf","-16 °C","Görlitz"]
["09432","Olbersdorf","-16 °C","Meiningen"]
["75248","Ölbronn-Dürrn","-14 °C","Stuttgart"]
["82140","Olching","-16 °C","Kempten"]
["29313","Oldau","-12 °C","Hannover"]
["2613.","Oldenburg/Oldb.","-10 °C","Emden"]
["29320","Oldendorf","-14 °C","Hannover"]
["33719","Oldentrup","-12 °C","Fritzlar"]
["26802","Oldersum","-10 °C","Emden"]
["53937","Olef","-14 °C","Nürburg-Barweiler"]
["59399","Olfen","-12 °C","Nürburg-Barweiler"]
["37635","Ölkassen","-14 °C","Fritzlar"]
["74249","Olnhausen","-14 °C","Stuttgart"]
["57462","Olpe","-14 °C","Nürburg-Barweiler"]
["88427","Olzreute","-16 °C","Stuttgart"]
["77855","Önsbach","-12 °C","Karlsruhe"]
["72458","Onstmettingen","-18 °C","Stuttgart"]
["88145","Opfenbach","-16 °C","Konstanz"]
["97241","Opferbaum","-14 °C","Würzburg"]
["79112","Opfingen","-12 °C","Karlsruhe"]
["79...","Opfingen","-12 °C","Karlsruhe"]
["89614","Öpfingen","-14 °C","Augsburg"]
["513..","Opladen","-10 °C","Nürburg-Barweiler"]
["02736","Oppach","-16 °C","Görlitz"]
["77728","Oppenau","-16 °C","Stuttgart"]
["71570","Oppenweiler","-14 °C","Stuttgart"]
["06785","Oranienbaum","-14 °C","Leipzig"]
["16515","Oranienburg","-14 °C","Neuruppin"]
["54298","Orenhofen","-14 °C","Trier"]
["34474","Orpethal","-14 °C","Fritzlar"]
["77972","Orschweier","-12 °C","Karlsruhe"]
["88477","Orsenhausen","-16 °C","Stuttgart"]
["78359","Orsingen-Nenzingen","-14 °C","Konstanz"]
["95233","Ort","-18 °C","Hof"]
["77799","Ortenberg","-12 °C","Karlsruhe"]
["63683","Ortenberg","-12 °C","Würzburg"]
["94496","Ortenburg","-16 °C","Straubing"]
["86647","Ortlfingen","-16 °C","Augsburg"]
["86678","Ortlfingen","-16 °C","Augsburg"]
["01990","Ortrand","-16 °C","Dresden"]
["31167","Ortshausen","-14 °C","Hannover"]
["04758","Oschatz","-14 °C","Leipzig"]
["71126","Öschelbronn","-16 °C","Stuttgart"]
["75223","Öschelbronn","-14 °C","Stuttgart"]
["72116","Öschingen","-18 °C","Stuttgart"]
["06184","Osmünde","-14 °C","Leipzig"]
["4908.","Osnabrück","-12 °C","Hannover"]
["99510","Oßmannstedt","-14 °C","Erfurt"]
["48346","Ostbevern","-12 °C","Hannover"]
["72336","Ostdorf","-16 °C","Stuttgart"]
["75395","Ostelsheim","-16 °C","Stuttgart"]
["39606","Osterburg","-14 °C","Magdeburg"]
["74706","Osterburken","-14 °C","Stuttgart"]
["94486","Osterhofen","-18 °C","Straubing"]
["83104","Ostermünchen","-16 °C","Hohenpeißenberg"]
["37520","Osterode/Harz","-16 °C","Fritzlar"]
["31020","Osterwald","-14 °C","Hannover"]
["39171","Osterweddingen","-14 °C","Magdeburg"]
["87662","Osterzell","-16 °C","Kempten"]
["73760","Ostfildern","-14 °C","Stuttgart"]
["67574","Osthofen","-12 °C","Saarbrücken"]
["39343","Ostingersleben","-14 °C","Magdeburg"]
["59510","Östinghausen","-12 °C","Nürburg-Barweiler"]
["88356","Ostrach","-14 °C","Stuttgart"]
["04749","Ostrau","-14 °C","Leipzig"]
["76684","Östringen","-12 °C","Stuttgart"]
["02899","Ostritz","-16 °C","Görlitz"]
["18375","Ostseebad Prerow","-10 °C","Rostock"]
["76470","Ötigheim","-12 °C","Karlsruhe"]
["75443","Ötisheim","-14 °C","Stuttgart"]
["37671","Ottbergen","-14 °C","Fritzlar"]
["73113","Ottenbach","-16 °C","Stuttgart"]
["75382","Ottenbronn","-14 °C","Stuttgart"]
["75382","Ottenbronn","-16 °C","Stuttgart"]
["09648","Ottendorf","-14 °C","Erfurt"]
["02708","Ottenhain","-16 °C","Görlitz"]
["75334","Ottenhausen","-14 °C","Stuttgart"]
["77963","Ottenheim","-12 °C","Karlsruhe"]
["77883","Ottenhöfen","-14 °C","Stuttgart"]
["31868","Ottenstein","-14 °C","Hannover"]
["48683","Ottenstein","-10 °C","Hannover"]
["67697","Otterberg","-12 °C","Saarbrücken"]
["83624","Otterfing","-16 °C","Hohenpeißenberg"]
["21762","Otterndorf","-10 °C","Hamburg"]
["31535","Otternhagen","-14 °C","Hannover"]
["28870","Ottersberg","-12 °C","Bremen"]
["85652","Ottersberg","-16 °C","München"]
["68723","Ottersheim","-12 °C","Karlsruhe"]
["28870","Otterstedt","-12 °C","Bremen"]
["88427","Otterswang","-16 °C","Stuttgart"]
["77833","Ottersweier","-14 °C","Karlsruhe"]
["04668","Otterwisch","-14 °C","Leipzig"]
["04720","Ottewig","-14 °C","Leipzig"]
["86316","Ottmaring","-16 °C","Augsburg"]
["94533","Ottmaring","-18 °C","Straubing"]
["48308","Ottmarsbocholt","-12 °C","Hannover"]
["86536","Ottmarshausen","-16 °C","Augsburg"]
["87724","Ottobeuren","-16 °C","Augsburg"]
["85521","Ottobrunn","-16 °C","München"]
["66564","Ottweiler","-12 °C","Saarbrücken"]
["41363","Otzenrath","-10 °C","Düsseldorf"]
["94563","Otzing","-18 °C","Straubing"]
["29313","Ovelgönne","-12 °C","Hannover"]
["37671","Ovenhausen","-14 °C","Fritzlar"]
["51491","Overath","-12 °C","Nürburg-Barweiler"]
["51491","Overrath","-12 °C","Nürburg-Barweiler"]
["73277","Owen","-16 °C","Stuttgart"]
["72401","Owingen","-16 °C","Stuttgart"]
["88696","Owingen","-12 °C","Stuttgart"]
["24811","Owschlag","-12 °C","Schleswig"]
["89335","Oxenbronn","-16 °C","Augsburg"]
["28876","Oyten - Bassen","-12 °C","Bremen"]
["38836","Pabstorf","-14 °C","Magdeburg"]
["04886","Packisch","-16 °C","Leipzig"]
["3310.","Paderborn","-12 °C","Fritzlar"]
["04603","Pähnitz","-14 °C","Leipzig"]
["07580","Paitzdorf","-14 °C","Erfurt"]
["76133","Palmbach","-14 °C","Karlsruhe"]
["54439","Palzem","-12 °C","Trier"]
["19075","Pampow","-12 °C","Schwerin"]
["04451","Panitzsch","-14 °C","Leipzig"]
["16341","Panketal","-14 °C","Neuruppin"]
["01920","Panschwitz","-16 °C","Dresden"]
["54531","Pantenburg","-14 °C","Trier"]
["37696","Papenhöfen","-14 °C","Fritzlar"]
["89136","Pappelau","-14 °C","Augsburg"]
["09661","Pappendorf","-14 °C","Erfurt"]
["39291","Parchau","-14 °C","Magdeburg"]
["19370","Parchim","-14 °C","Schwerin"]
["14669","Paretz","-14 °C","Potsdam"]
["39317","Parey","-14 °C","Magdeburg"]
["92331","Parsberg/Oberfr.","-16 °C","Nürnberg"]
["85599","Parsdorf","-16 °C","München"]
["55288","Partenheim","-12 °C","Trier"]
["19073","Parum","-12 °C","Schwerin"]
["19243","Parum","-12 °C","Schwerin"]
["04769","Paschkowitz","-14 °C","Leipzig"]
["17309","Pasewalk","-14 °C","Greifswald"]
["9403.","Passau","-14 °C","Straubing"]
["18184","Pastow","-10 °C","Rostock"]
["30982","Pattensen","-14 °C","Hannover"]
["85307","Paunzhausen","-16 °C","München"]
["07952","Pausa","-16 °C","Erfurt"]
["01616","Paußnitz","-16 °C","Dresden"]
["91352","Pautzfeld","-16 °C","Nürnberg"]
["95701","Pechbrunn","-18 °C","Hof"]
["08485","Pechtelsgrün","-16 °C","Erfurt"]
["34439","Peckelsheim","-14 °C","Fritzlar"]
["04523","Pegau","-14 °C","Leipzig"]
["91257","Pegnitz","-16 °C","Nürnberg"]
["01945","Peickwitz","-16 °C","Dresden"]
["3122.","Peine","-14 °C","Hannover"]
["04460","Peißen","-14 °C","Leipzig"]
["82380","Peißenberg","-16 °C","Kempten"]
["03185","Peitz","-16 °C","Lindenberg"]
["54331","Pellingen","-12 °C","Trier"]
["25849","Pellworm","-10 °C","List auf Sylt"]
["93482","Pemfling","-18 °C","Straubing"]
["17328","Penkun","-14 °C","Greifswald"]
["82377","Penzberg","-18 °C","Kempten"]
["91126","Penzendorf","-16 °C","Nürnberg"]
["86929","Penzing","-16 °C","Kempten"]
["94366","Perasdorf","-18 °C","Straubing"]
["82319","Perchting","-16 °C","Kempten"]
["66706","Perl","-12 °C","Saarbrücken"]
["71277","Perouse","-16 °C","Stuttgart"]
["91580","Petersaurach","-16 °C","Nürnberg"]
["17268","Petersdorf","-14 °C","Greifswald"]
["32469","Petershagen","-12 °C","Fritzlar"]
["15236","Petershagen","-16 °C","Lindenberg"]
["15370","Petershagen","-14 °C","Lindenberg"]
["85238","Petershausen","-16 °C","München"]
["89423","Peterswörth","-16 °C","Augsburg"]
["78112","Peterzell","-16 °C","Stuttgart"]
["31079","Petze","-14 °C","Hannover"]
["84066","Pfaffenberg","-18 °C","Straubing"]
["87772","Pfaffenhausen","-16 °C","Augsburg"]
["89284","Pfaffenhofen","-16 °C","Augsburg"]
["85276","Pfaffenhofen","-16 °C","München"]
["76359","Pfaffenrot","-14 °C","Stuttgart"]
["79292","Pfaffenweier","-14 °C","Stuttgart"]
["79292","Pfaffenweiler","-14 °C","Stuttgart"]
["72119","Pfäffingen","-16 °C","Stuttgart"]
["09526","Pfaffroda","-16 °C","Meiningen"]
["73479","Pfahlheim","-16 °C","Stuttgart"]
["56291","Pfalzfeld","-14 °C","Nürburg-Barweiler"]
["72285","Pfalzgrafenweiler","-16 °C","Stuttgart"]
["84347","Pfarrkirchen","-16 °C","Straubing"]
["93102","Pfatter","-18 °C","Straubing"]
["67547","Pfeddersheim","-12 °C","Saarbrücken"]
["74629","Pfedelbach","-14 °C","Stuttgart"]
["99869","Pferdingsleben","-14 °C","Erfurt"]
["76327","Pfinztal","-12 °C","Stuttgart"]
["75334","Pfinzweiler","-14 °C","Stuttgart"]
["86926","Pflaumdorf","-16 °C","Kempten"]
["86946","Pflugdorf","-16 °C","Kempten"]
["71636","Pflugfelden","-12 °C","Stuttgart"]
["78166","Pfohren","-18 °C","Stuttgart"]
["7517.","Pforzheim","-12 °C","Stuttgart"]
["75181","Pforzheim - Huchenfeld","-14 °C","Stuttgart"]
["83064","Pfraundorf","-18 °C","Hohenpeißenberg"]
["92536","Pfreimd","-16 °C","Nürnberg"]
["72074","Pfrondorf","-16 °C","Stuttgart"]
["72539","Pfronstetten","-16 °C","Stuttgart"]
["87459","Pfronten","-18 °C","Kempten"]
["88271","Pfrungen","-14 °C","Stuttgart"]
["89233","Pfuhl","-14 °C","Augsburg"]
["88630","Pfullendorf","-14 °C","Stuttgart"]
["72793","Pfullingen","-16 °C","Stuttgart"]
["64319","Pfungstadt","-12 °C","Würzburg"]
["76661","Philippsburg","-12 °C","Karlsruhe"]
["94158","Philippsreut","-18 °C","Straubing"]
["36269","Philippsthal","-14 °C","Fritzlar"]
["83451","Piding","-16 °C","Hohenpeißenberg"]
["66809","Piesbach","-12 °C","Saarbrücken"]
["83666","Piesenkam","-18 °C","Hohenpeißenberg"]
["54498","Piesport","-10 °C","Trier"]
["75446","Pinache","-14 °C","Stuttgart"]
["25421","Pinneberg","-12 °C","Schleswig"]
["6695.","Pirmasens","-12 °C","Saarbrücken"]
["01796","Pirna","-14 °C","Dresden"]
["01920","Piskowitz","-16 °C","Dresden"]
["83132","Pittenhart","-16 °C","Hohenpeißenberg"]
["56637","Plaidt","-14 °C","Nürburg-Barweiler"]
["55545","Planig","-12 °C","Trier"]
["08606","Planschwitz","-16 °C","Meiningen"]
["19086","Plate","-12 °C","Schwerin"]
["70794","Plattenhardt","-14 °C","Stuttgart"]
["94447","Plattling","-18 °C","Straubing"]
["99338","Plaue","-14 °C","Meiningen"]
["08527","Plauen","-16 °C","Meiningen"]
["91287","Plech","-16 °C","Nürnberg"]
["74385","Pleidelsheim","-12 °C","Stuttgart"]
["91785","Pleinfeld","-16 °C","Nürnberg"]
["09246","Pleißa","-14 °C","Erfurt"]
["86971","Pleiting","-16 °C","Kempten"]
["04928","Plessa","-16 °C","Leipzig"]
["58840","Plettenberg","-12 °C","Nürburg-Barweiler"]
["72124","Pliezhausen","-16 °C","Stuttgart"]
["73207","Plochingen","-16 °C","Stuttgart"]
["08228","Plohn","-16 °C","Meiningen"]
["24306","Plön","-12 °C","Schleswig"]
["06667","Plotha","-14 °C","Leipzig"]
["07907","Plothen","-16 °C","Meiningen"]
["39245","Plötzky","-14 °C","Magdeburg"]
["73655","Plüderhausen","-16 °C","Stuttgart"]
["09496","Pobershau","-16 °C","Meiningen"]
["09509","Pockau","-16 °C","Meiningen"]
["18516","Poggendorf","-12 °C","Rostock"]
["19243","Pogreß","-12 °C","Schwerin"]
["08543","Pöhl","-16 °C","Meiningen"]
["01906","Pohla","-16 °C","Dresden"]
["08352","Pöhla","-16 °C","Meiningen"]
["31867","Pohle","-14 °C","Hannover"]
["35415","Pohlheim","-14 °C","Fritzlar"]
["85586","Poing","-16 °C","München"]
["18059","Pölchow","-12 °C","Rostock"]
["01844","Polenz","-14 °C","Dresden"]
["06408","Poley","-14 °C","Leipzig"]
["54340","Pölich","-10 °C","Trier"]
["92334","Pollanten","-16 °C","Nürnberg"]
["37647","Polle","-12 °C","Fritzlar"]
["06295","Polleben","-14 °C","Leipzig"]
["82398","Polling","-16 °C","Kempten"]
["84570","Polling","-16 °C","Straubing"]
["92318","Pölling","-16 °C","Nürnberg"]
["91805","Polsingen","-16 °C","Nürnberg"]
["72119","Poltringen","-16 °C","Stuttgart"]
["19303","Polz","-12 °C","Schwerin"]
["91224","Pommelsbrunn","-14 °C","Nürnberg"]
["39249","Pömmelte","-14 °C","Magdeburg"]
["96178","Pommersfelden","-16 °C","Bamberg"]
["04668","Pomßen","-14 °C","Leipzig"]
["04639","Ponitz","-14 °C","Leipzig"]
["18184","Poppendorf","-12 °C","Rostock"]
["97490","Poppenhausen","-16 °C","Würzburg"]
["92284","Poppenricht","-16 °C","Nürnberg"]
["71642","Poppenweiler","-12 °C","Stuttgart"]
["04769","Poppitz","-14 °C","Leipzig"]
["94501","Pörndorf","-16 °C","Straubing"]
["01833","Porschendorf","-14 °C","Dresden"]
["52525","Porselen","-10 °C","Aachen"]
["32457","Porta Westfalica","-12 °C","Fritzlar"]
["506..","Porz","-10 °C","Düsseldorf"]
["08606","Posseck","-18 °C","Meiningen"]
["97346","Possenheim","-16 °C","Würzburg"]
["07381","Pößneck","-14 °C","Erfurt"]
["1448.","Potsdam","-14 °C","Potsdam"]
["91278","Pottenstein","-16 °C","Nürnberg"]
["86554","Pöttmes","-16 °C","Augsburg"]
["24253","Prasdorf","-10 °C","Schleswig"]
["01594","Prausitz","-16 °C","Dresden"]
["03185","Preilack","-16 °C","Lindenberg"]
["17291","Prenzlau","-14 °C","Greifswald"]
["18375","Prerow","-10 °C","Rostock"]
["04849","Pressel","-14 °C","Leipzig"]
["91362","Pretzfeld","-16 °C","Nürnberg"]
["39245","Pretzien","-14 °C","Magdeburg"]
["06909","Pretzsch","-14 °C","Leipzig"]
["01774","Pretzschendorf","-16 °C","Dresden"]
["97357","Prichsenstadt","-16 °C","Würzburg"]
["83209","Prien","-16 °C","Hohenpeißenberg"]
["06909","Priesitz","-14 °C","Leipzig"]
["04651","Prießnitz","-14 °C","Leipzig"]
["04509","Priester","-14 °C","Leipzig"]
["66620","Primstal","-12 °C","Saarbrücken"]
["19300","Prislich","-14 °C","Schwerin"]
["06667","Prittitz","-14 °C","Leipzig"]
["86931","Prittriching","-16 °C","Kempten"]
["17440","Pritzier","-12 °C","Greifswald"]
["07330","Probstzella","-18 °C","Meiningen"]
["39264","Prödel","-14 °C","Magdeburg"]
["18455","Prohn","-10 °C","Rostock"]
["23968","Proseken","-10 °C","Schwerin"]
["97279","Prosselsheim","-14 °C","Würzburg"]
["15345","Prötzel","-14 °C","Lindenberg"]
["18356","Pruchten","-10 °C","Rostock"]
["54595","Prüm","-14 °C","Trier"]
["83134","Prutting","-16 °C","Hohenpeißenberg"]
["82256","Puch (Post FFB)","-16 °C","Kempten"]
["92715","Püchersreuth","-18 °C","Nürnberg"]
["82178","Puchheim","-16 °C","Kempten"]
["52499","Puffendorf","-12 °C","Aachen"]
["50259","Pulheim","-12 °C","Düsseldorf"]
["01896","Pulsnitz","-14 °C","Dresden"]
["56862","Pünderich","-12 °C","Nürburg-Barweiler"]
["86932","Pürgen","-16 °C","Kempten"]
["06925","Purzien","-14 °C","Leipzig"]
["03159","Pusack","-16 °C","Lindenberg"]
["90617","Puschendorf","-16 °C","Nürnberg"]
["02699","Puschwitz","-16 °C","Görlitz"]
["01877","Putzkau","-16 °C","Dresden"]
["06484","Quedlinburg","-14 °C","Leipzig"]
["66851","Queidersbach","-12 °C","Saarbrücken"]
["06386","Quellendorf","-14 °C","Leipzig"]
["06333","Quenstedt","-14 °C","Leipzig"]
["37235","Quentel","-14 °C","Fritzlar"]
["77694","Querbach","-12 °C","Karlsruhe"]
["04769","Querbitzsch","-14 °C","Leipzig"]
["25712","Quickborn Post Burg","-12 °C","Schleswig"]
["66287","Quierschied","-12 °C","Saarbrücken"]
["66909","Quirnbach","-12 °C","Saarbrücken"]
["19065","Raben Steinfeld","-12 °C","Schwerin"]
["01920","Rächelwitz","-16 °C","Dresden"]
["02997","Rachlau","-16 °C","Görlitz"]
["21449","Radbruch","-12 °C","Hamburg"]
["03226","Raddusch","-16 °C","Lindenberg"]
["01454","Radeberg","-14 °C","Dresden"]
["01445","Radebeul","-14 °C","Dresden"]
["04509","Radefeld","-14 °C","Leipzig"]
["89173","Radelstetten","-16 °C","Augsburg"]
["42477","Radevormwald","-12 °C","Düsseldorf"]
["02627","Radibor","-16 °C","Görlitz"]
["36399","Radmühl","-14 °C","Fritzlar"]
["78315","Radolfzell","-12 °C","Konstanz"]
["46348","Raesfeld","-10 °C","Düsseldorf"]
["04668","Ragewitz","-14 °C","Leipzig"]
["14806","Ragösen","-14 °C","Potsdam"]
["06779","Raguhn","-14 °C","Leipzig"]
["22147","Rahlstedt","-12 °C","Hamburg"]
["12589","Rahnsdorf","-14 °C","Berlin"]
["72622","Raidwangen","-16 °C","Stuttgart"]
["86641","Rain","-16 °C","Augsburg"]
["73492","Rainau","-16 °C","Stuttgart"]
["09074","Raitersaich","-16 °C","Erfurt"]
["18516","Rakow","-12 °C","Rostock"]
["01920","Ralbitz","-16 °C","Dresden"]
["54310","Ralingen","-12 °C","Trier"]
["65207","Rambach","-12 °C","Nürburg-Barweiler"]
["76857","Ramberg","-12 °C","Saarbrücken"]
["23966","Rambow","-12 °C","Schwerin"]
["83561","Ramerberg","-16 °C","Hohenpeißenberg"]
["53359","Ramershoven","-14 °C","Nürburg-Barweiler"]
["31303","Ramlingen","-14 °C","Hannover"]
["89192","Rammingen","-16 °C","Augsburg"]
["86871","Rammingen","-16 °C","Kempten"]
["19067","Rampe","-12 °C","Schwerin"]
["83486","Ramsau","-18 °C","Hohenpeißenberg"]
["91785","Ramsberg","-16 °C","Nürnberg"]
["46342","Ramsdorf","-10 °C","Düsseldorf"]
["97236","Randersacker","-14 °C","Würzburg"]
["72414","Rangendingen","-16 °C","Stuttgart"]
["15834","Rangsdorf","-14 °C","Lindenberg"]
["07389","Ranis","-14 °C","Erfurt"]
["56235","Ransbach-Baumbach","-14 °C","Nürburg-Barweiler"]
["76829","Ranschbach","-12 °C","Karlsruhe"]
["25980","Rantum/Sylt","-10 °C","List auf Sylt"]
["04420","Räpitz","-14 °C","Leipzig"]
["17509","Rappenhagen","-12 °C","Greifswald"]
["54497","Rapperath","-14 °C","Trier"]
["08352","Raschau","-16 °C","Meiningen"]
["76437","Rastatt","-12 °C","Karlsruhe"]
["26180","Rastede","-12 °C","Emden"]
["19077","Rastow","-12 °C","Schwerin"]
["52385","Rath","-14 °C","Aachen"]
["41836","Ratheim","-10 °C","Düsseldorf"]
["04657","Rathendorf","-14 °C","Leipzig"]
["14712","Rathenow","-14 °C","Potsdam"]
["91080","Rathsberg","-16 °C","Nürnberg"]
["16259","Rathsdorf","-14 °C","Neuruppin"]
["4088.","Ratingen","-10 °C","Düsseldorf"]
["72365","Ratshausen","-18 °C","Stuttgart"]
["83064","Raubling","-18 °C","Hohenpeißenberg"]
["69231","Rauenberg","-12 °C","Würzburg"]
["09366","Raum","-16 °C","Meiningen"]
["65479","Raunheim","-12 °C","Karlsruhe"]
["01920","Rauschwitz","-16 °C","Dresden"]
["31177","Rautenberg","-14 °C","Hannover"]
["38126","Rautheim","-14 °C","Magdeburg"]
["8821.","Ravensburg","-14 °C","Konstanz"]
["74747","Ravenstein","-14 °C","Stuttgart"]
["08209","Rebesgrün","-16 °C","Meiningen"]
["53506","Rech / Ahr","-14 °C","Nürburg-Barweiler"]
["73529","Rechberg","-16 °C","Stuttgart"]
["73098","Rechberghausen","-16 °C","Stuttgart"]
["76889","Rechtenbach","-12 °C","Saarbrücken"]
["14778","Reckahn","-14 °C","Potsdam"]
["45665","Recklinghausen","-10 °C","Düsseldorf"]
["04720","Redemitz","-14 °C","Leipzig"]
["23946","Redewisch","-10 °C","Schwerin"]
["91126","Rednitzhembach","-16 °C","Nürnberg"]
["46459","Rees","-10 °C","Düsseldorf"]
["73495","Regelsweiler","-16 °C","Stuttgart"]
["94209","Regen","-18 °C","Straubing"]
["93197","Regendorf","-16 °C","Straubing"]
["93059","Regensburg","-16 °C","Straubing"]
["93128","Regenstauf","-16 °C","Straubing"]
["89165","Regglisweiler","-16 °C","Augsburg"]
["04565","Regis - Breitingen","-14 °C","Leipzig"]
["04565","Regis-Breitingen","-14 °C","Leipzig"]
["95194","Regnitzlosau","-18 °C","Hof"]
["95111","Rehau","-18 °C","Hof"]
["55592","Rehborn","-12 °C","Trier"]
["31547","Rehburg","-14 °C","Hannover"]
["01773","Rehefeld","-16 °C","Dresden"]
["25593","Reher","-12 °C","Schleswig"]
["86508","Rehling","-16 °C","Augsburg"]
["66780","Rehlingen","-12 °C","Saarbrücken"]
["19217","Rehna","-12 °C","Schwerin"]
["57462","Rehringhausen","-14 °C","Nürburg-Barweiler"]
["06786","Rehsen","-14 °C","Leipzig"]
["66907","Rehweiler","-12 °C","Saarbrücken"]
["04509","Reibitz","-14 °C","Leipzig"]
["04229","Reichardtshausen","-14 °C","Leipzig"]
["74934","Reichartshausen","-12 °C","Stuttgart"]
["64385","Reichelsheim","-14 °C","Würzburg"]
["61203","Reichelsheim i. d. Wetterau","-12 °C","Fritzlar"]
["01762","Reichenau","-16 °C","Dresden"]
["01936","Reichenau","-16 °C","Dresden"]
["99947","Reichenbach","-14 °C","Erfurt"]
["02894","Reichenbach","-16 °C","Görlitz"]
["77933","Reichenbach","-14 °C","Karlsruhe"]
["73463","Reichenbach","-16 °C","Stuttgart"]
["78564","Reichenbach","-18 °C","Stuttgart"]
["73072","Reichenbach (Donzdorf)","-16 °C","Stuttgart"]
["73262","Reichenbach an der Fils","-16 °C","Stuttgart"]
["08468","Reichenbach/Vogtland","-16 °C","Erfurt"]
["97234","Reichenberg","-14 °C","Würzburg"]
["76593","Reichental","-14 °C","Karlsruhe"]
["83677","Reichersbeuern","-18 °C","Hohenpeißenberg"]
["85293","Reichertshausen","-16 °C","München"]
["51580","Reichshof","-12 °C","Nürburg-Barweiler"]
["94428","Reichstorf","-16 °C","Straubing"]
["06116","Reideburg","-14 °C","Leipzig"]
["66507","Reifenberg","-12 °C","Saarbrücken"]
["09514","Reifland","-16 °C","Meiningen"]
["74889","Reihen","-14 °C","Stuttgart"]
["68799","Reilingen","-12 °C","Karlsruhe"]
["86756","Reimlingen","-16 °C","Augsburg"]
["21465","Reinbek","-12 °C","Hamburg"]
["32609","Reineberg","-12 °C","Fritzlar"]
["23858","Reinfeld","-12 °C","Schwerin"]
["01814","Reinhardtsdorf","-16 °C","Dresden"]
["01768","Reinhardtsgrimma","-14 °C","Dresden"]
["64354","Reinheim","-14 °C","Würzburg"]
["09629","Reinsberg","-14 °C","Erfurt"]
["06896","Reinsdorf","-14 °C","Leipzig"]
["54421","Reinsfeld","-14 °C","Trier"]
["88416","Reinstetten","-16 °C","Stuttgart"]
["94419","Reisbach","-16 °C","Straubing"]
["85462","Reisen","-16 °C","München"]
["89321","Reisensburg","-16 °C","Augsburg"]
["35625","Reiskirchen","-14 °C","Fritzlar"]
["83242","Reit im Winkl","-18 °C","Hohenpeißenberg"]
["94419","Reith","-16 °C","Straubing"]
["69242","Reitigheim","-12 °C","Würzburg"]
["09249","Reitzenhain","-14 °C","Erfurt"]
["48734","Reken","-10 °C","Hannover"]
["25462","Rellingen","-12 °C","Schleswig"]
["53424","Remagen","-12 °C","Nürburg-Barweiler"]
["75196","Remchingen","-14 °C","Stuttgart"]
["72149","Remmingsheim","-16 °C","Stuttgart"]
["4285.","Remscheid","-12 °C","Düsseldorf"]
["08373","Remse","-14 °C","Erfurt"]
["71686","Remseck","-12 °C","Stuttgart"]
["73630","Remshalden","-14 °C","Stuttgart"]
["77871","Renchen","-12 °C","Karlsruhe"]
["61184","Rendel","-12 °C","Fritzlar"]
["24768","Rendsburg","-10 °C","Schleswig"]
["72172","Renfrizhausen","-16 °C","Stuttgart"]
["37318","Rengelrode","-16 °C","Fritzlar"]
["97980","Rengershausen","-14 °C","Würzburg"]
["90602","Rengersricht","-16 °C","Nürnberg"]
["56579","Rengsdorf","-12 °C","Nürburg-Barweiler"]
["56477","Rennerod","-14 °C","Nürburg-Barweiler"]
["71272","Renningen","-16 °C","Stuttgart"]
["78603","Renquishausen","-16 °C","Stuttgart"]
["96184","Rentweinsdorf","-14 °C","Bamberg"]
["45892","Resse","-10 °C","Düsseldorf"]
["27336","Rethem","-12 °C","Bremen"]
["31319","Rethmar","-14 °C","Hannover"]
["18211","Rethwisch","-10 °C","Rostock"]
["87549","Rettenberg","-18 °C","Kempten"]
["69242","Rettigheim","-12 °C","Würzburg"]
["17279","Retzow","-14 °C","Greifswald"]
["97282","Retzstadt","-14 °C","Würzburg"]
["77871","Reuchen","-12 °C","Karlsruhe"]
["72622","Reudern","-14 °C","Stuttgart"]
["96158","Reundorf","-16 °C","Bamberg"]
["96215","Reundorf","-16 °C","Bamberg"]
["72119","Reusten","-16 °C","Stuttgart"]
["79276","Reute","-12 °C","Karlsruhe"]
["88339","Reute","-16 °C","Stuttgart"]
["88441","Reute","-16 °C","Stuttgart"]
["17153","Reuterstadt","-14 °C","Greifswald"]
["08496","Reuth","-16 °C","Erfurt"]
["08538","Reuth","-18 °C","Meiningen"]
["72275","Reutin","-16 °C","Stuttgart"]
["72760","Reutlingen","-16 °C","Stuttgart"]
["72160","Rexingen","-16 °C","Stuttgart"]
["33378","Rheda-Wiedenbrück","-12 °C","Fritzlar"]
["46414","Rhede","-10 °C","Düsseldorf"]
["53859","Rheidt","-12 °C","Nürburg-Barweiler"]
["68219","Rheinau","-12 °C","Karlsruhe"]
["77866","Rheinau","-12 °C","Karlsruhe"]
["77866","Rheinau-Linx","-12 °C","Karlsruhe"]
["53359","Rheinbach","-14 °C","Nürburg-Barweiler"]
["47495","Rheinberg","-10 °C","Düsseldorf"]
["77866","Rheinbischoffsheim","-12 °C","Karlsruhe"]
["55494","Rheinböllen","-14 °C","Trier"]
["53619","Rheinbreitbach","-12 °C","Nürburg-Barweiler"]
["56598","Rheinbrohl","-12 °C","Nürburg-Barweiler"]
["41179","Rheindahlen","-10 °C","Düsseldorf"]
["48429","Rheine","-12 °C","Hannover"]
["79618","Rheinfelden","-12 °C","Stuttgart"]
["67067","Rheingönheim","-12 °C","Saarbrücken"]
["68794","Rheinhausen","-12 °C","Karlsruhe"]
["79365","Rheinhausen /Breisgau","-12 °C","Karlsruhe"]
["47169","Rheinhausen/Niederrh.","-10 °C","Düsseldorf"]
["79790","Rheinheim","-12 °C","Stuttgart"]
["4744.","Rheinkamp","-10 °C","Düsseldorf"]
["77836","Rheinmünster","-12 °C","Karlsruhe"]
["16831","Rheinsberg","-14 °C","Neuruppin"]
["76661","Rheinsheim","-12 °C","Karlsruhe"]
["76287","Rheinstetten","-12 °C","Karlsruhe"]
["79415","Rheinweiler","-12 °C","Karlsruhe"]
["76764","Rheinzabern","-12 °C","Karlsruhe"]
["47509","Rheurdt","-10 °C","Düsseldorf"]
["4106.","Rheydt","-10 °C","Düsseldorf"]
["37434","Rhumspringe","-16 °C","Fritzlar"]
["18311","Ribnitz-Damgarten","-10 °C","Rostock"]
["79736","Rickenbach","-14 °C","Stuttgart"]
["99334","Riechheim","-14 °C","Erfurt"]
["68642","Ried","-12 °C","Karlsruhe"]
["78176","Riedböhringen","-16 °C","Stuttgart"]
["70619","Riedenberg","-14 °C","Stuttgart"]
["93339","Riedenburg","-16 °C","Straubing"]
["72585","Riederich","-16 °C","Stuttgart"]
["79777","Riedern","-14 °C","Stuttgart"]
["89340","Riedheim","-16 °C","Augsburg"]
["78247","Riedheim","-12 °C","Konstanz"]
["94566","Riedlhütte","-18 °C","Straubing"]
["88499","Riedlingen","-14 °C","Stuttgart"]
["86637","Riedsend","-16 °C","Augsburg"]
["64560","Riedstadt","-12 °C","Karlsruhe"]
["79359","Riegel","-12 °C","Karlsruhe"]
["78239","Rielasingen-Worblingen","-12 °C","Konstanz"]
["71672","Rielingshausen","-14 °C","Stuttgart"]
["97794","Rieneck","-14 °C","Würzburg"]
["0159.","Riesa","-16 °C","Dresden"]
["66509","Rieschweiler-Mühlbach","-12 °C","Saarbrücken"]
["24354","Rieseby","-10 °C","Schleswig"]
["48477","Riesenbeck","-12 °C","Hannover"]
["06786","Riesigk","-14 °C","Leipzig"]
["49597","Rieste","-12 °C","Hannover"]
["55499","Riesweiler","-14 °C","Trier"]
["33397","Rietberg","-12 °C","Fritzlar"]
["78604","Rietheim-Weilheim","-18 °C","Stuttgart"]
["99195","Riethnordhausen","-14 °C","Erfurt"]
["02956","Rietschen","-16 °C","Görlitz"]
["14778","Riewend","-14 °C","Potsdam"]
["84326","Rimbach","-16 °C","Straubing"]
["93485","Rimbach","-18 °C","Straubing"]
["64668","Rimbach / Odw","-14 °C","Würzburg"]
["83253","Rimsting","-16 °C","Hohenpeißenberg"]
["73479","Rindelbach","-16 °C","Stuttgart"]
["53501","Ringen","-14 °C","Nürburg-Barweiler"]
["46499","Ringenberg","-10 °C","Düsseldorf"]
["01904","Ringenhain","-16 °C","Dresden"]
["09648","Ringethal","-14 °C","Erfurt"]
["88605","Ringgenbach","-14 °C","Stuttgart"]
["89155","Ringingen","-14 °C","Augsburg"]
["72393","Ringingen","-18 °C","Stuttgart"]
["88400","Ringschnait","-16 °C","Stuttgart"]
["77975","Ringsheim","-12 °C","Karlsruhe"]
["48317","Rinkerode","-12 °C","Hannover"]
["31737","Rinteln","-12 °C","Hannover"]
["32676","Rischenau","-14 °C","Fritzlar"]
["88400","Rißegg","-16 °C","Stuttgart"]
["89584","Rißtissen","-14 °C","Augsburg"]
["27721","Ritterhude","-12 °C","Bremen"]
["08355","Rittersgrün","-18 °C","Meiningen"]
["35716","Rittershausen","-14 °C","Fritzlar"]
["37130","Rittmarshausen","-16 °C","Fritzlar"]
["04749","Rittmitz","-14 °C","Leipzig"]
["89290","Ritzisried","-16 °C","Augsburg"]
["09322","Rochsburg","-14 °C","Erfurt"]
["06686","Röcken","-14 °C","Leipzig"]
["92361","Röckersbühl","-16 °C","Nürnberg"]
["04808","Röcknitz","-14 °C","Leipzig"]
["96476","Rodach","-16 °C","Bamberg"]
["66976","Rodalben","-12 °C","Saarbrücken"]
["64401","Rodau","-14 °C","Würzburg"]
["17268","Röddelin","-12 °C","Greifswald"]
["67688","Rodenbach","-12 °C","Saarbrücken"]
["63517","Rodenbach","-12 °C","Würzburg"]
["31552","Rodenberg","-14 °C","Hannover"]
["5067.","Rodenkirchen","-10 °C","Düsseldorf"]
["01619","Röderau","-16 °C","Dresden"]
["63322","Rödermark","-12 °C","Würzburg"]
["01561","Rödern","-16 °C","Dresden"]
["08538","Rodersdorf","-16 °C","Meiningen"]
["31637","Rodewald","-12 °C","Hannover"]
["08228","Rodewisch","-16 °C","Meiningen"]
["63110","Rodgau","-12 °C","Würzburg"]
["04838","Rödgen","-14 °C","Leipzig"]
["93142","Roding","-16 °C","Straubing"]
["93426","Roding","-16 °C","Straubing"]
["52445","Rödingen","-12 °C","Aachen"]
["51709","Rodt","-12 °C","Nürburg-Barweiler"]
["39326","Rogätz","-14 °C","Magdeburg"]
["89297","Roggenburg","-16 °C","Augsburg"]
["17039","Roggenhagen","-14 °C","Greifswald"]
["17252","Roggentin","-14 °C","Greifswald"]
["18230","Roggow","-10 °C","Rostock"]
["73479","Röhlingen","-16 °C","Stuttgart"]
["91189","Rohr","-16 °C","Nürnberg"]
["70565","Rohr","-14 °C","Stuttgart"]
["71116","Rohrau","-16 °C","Stuttgart"]
["74889","Rohrbach","-12 °C","Stuttgart"]
["83101","Rohrdorf","-18 °C","Hohenpeißenberg"]
["72184","Rohrdorf","-16 °C","Stuttgart"]
["72229","Rohrdorf","-16 °C","Stuttgart"]
["88605","Rohrdorf","-14 °C","Stuttgart"]
["99310","Röhrensee","-14 °C","Erfurt"]
["85244","Röhrmoos","-16 °C","München"]
["01665","Röhrsdorf","-14 °C","Dresden"]
["09247","Röhrsdorf","-14 °C","Erfurt"]
["31627","Rohrsen","-12 °C","Hannover"]
["38836","Rohrsheim","-14 °C","Magdeburg"]
["53332","Roisdorf","-12 °C","Nürburg-Barweiler"]
["23948","Rolofshagen","-10 °C","Schwerin"]
["67354","Römerberg","-12 °C","Saarbrücken"]
["72587","Römerstein","-18 °C","Stuttgart"]
["98631","Römhild","-16 °C","Meiningen"]
["72768","Rommelsbach","-16 °C","Stuttgart"]
["71394","Rommelshausen","-14 °C","Stuttgart"]
["41569","Rommerskirchen","-12 °C","Düsseldorf"]
["30952","Ronnenberg","-14 °C","Hannover"]
["36124","Rönshausen","-14 °C","Fritzlar"]
["37124","Rosdorf","-16 °C","Fritzlar"]
["21514","Roseburg","-12 °C","Hamburg"]
["91622","Rosenberg","-16 °C","Nürnberg"]
["73494","Rosenberg","-16 °C","Stuttgart"]
["74749","Rosenberg","-16 °C","Stuttgart"]
["31840","Rosenbusch","-14 °C","Hannover"]
["48720","Rosendahl-Osterwick","-10 °C","Hannover"]
["72348","Rosenfeld","-16 °C","Stuttgart"]
["21224","Rosengarten","-12 °C","Hamburg"]
["8302.","Rosenheim/Oberbay.","-16 °C","Hohenpeißenberg"]
["17091","Rosenow","-14 °C","Greifswald"]
["19205","Rosenow","-12 °C","Schwerin"]
["01920","Rosenthal","-16 °C","Dresden"]
["35119","Rosenthal-Roda","-14 °C","Fritzlar"]
["04617","Rositz","-14 °C","Leipzig"]
["51503","Rösrath","-12 °C","Nürburg-Barweiler"]
["67752","Roßbach","-12 °C","Saarbrücken"]
["94439","Roßbach","-16 °C","Straubing"]
["64380","Roßdorf","-12 °C","Würzburg"]
["31171","Rössing","-14 °C","Hannover"]
["06862","Roßlau","-14 °C","Leipzig"]
["06571","Roßleben","-14 °C","Leipzig"]
["08527","Rößnitz","-16 °C","Meiningen"]
["90574","Roßtal","-16 °C","Nürnberg"]
["71665","Roßwag","-14 °C","Stuttgart"]
["73061","Roßwälden","-16 °C","Stuttgart"]
["72336","Roßwangen","-18 °C","Stuttgart"]
["04741","Roßwein","-14 °C","Leipzig"]
["88430","Rot a.d. Rot","-16 °C","Stuttgart"]
["74585","Rot am See","-16 °C","Stuttgart"]
["75394","Rötenbach","-16 °C","Stuttgart"]
["78733","Rötenberg","-16 °C","Stuttgart"]
["52159","Rötgen/Eifel","-12 °C","Aachen"]
["91154","Roth","-16 °C","Nürnberg"]
["04571","Rötha","-14 °C","Leipzig"]
["37688","Rothe","-14 °C","Fritzlar"]
["07922","Rothenacker","-18 °C","Meiningen"]
["56459","Rothenbach","-14 °C","Nürburg-Barweiler"]
["01744","Röthenbach","-16 °C","Dresden"]
["64757","Rothenberg","-14 °C","Würzburg"]
["63584","Rothenbergen","-14 °C","Würzburg"]
["91284","Rothenbruck","-16 °C","Nürnberg"]
["91541","Rothenburg ob der Tauber","-14 °C","Nürnberg"]
["08237","Rothenkirchen","-16 °C","Meiningen"]
["04924","Rothstein","-16 °C","Leipzig"]
["95336","Rothwind","-16 °C","Hof"]
["08468","Rotschau","-16 °C","Erfurt"]
["52159","Rott","-14 °C","Aachen"]
["82216","Rottbach","-16 °C","Kempten"]
["99444","Rottdorf","-14 °C","Erfurt"]
["06295","Rottelsdorf","-14 °C","Leipzig"]
["91341","Röttenbach","-16 °C","Nürnberg"]
["72108","Rottenburg","-16 °C","Stuttgart"]
["36275","Rotterterode","-14 °C","Fritzlar"]
["94094","Rotthalmünster","-16 °C","Straubing"]
["45884","Rotthausen","-10 °C","Düsseldorf"]
["14793","Rottstock","-14 °C","Potsdam"]
["78628","Rottweil","-16 °C","Stuttgart"]
["92444","Rötz","-18 °C","Nürnberg"]
["17094","Rowa","-14 °C","Greifswald"]
["55595","Roxheim","-12 °C","Trier"]
["56070","Rübenach","-14 °C","Nürburg-Barweiler"]
["03238","Rückersdorf","-16 °C","Lindenberg"]
["24960","Rüde","-10 °C","Schleswig"]
["73635","Rudersberg","-14 °C","Stuttgart"]
["15562","Rüdersdorf","-14 °C","Lindenberg"]
["94161","Ruderting","-16 °C","Straubing"]
["65385","Rüdesheim","-12 °C","Nürburg-Barweiler"]
["91438","Rüdisbronn","-16 °C","Nürnberg"]
["07407","Rudolstadt","-14 °C","Erfurt"]
["19069","Rugensee","-12 °C","Schwerin"]
["23970","Rüggow","-10 °C","Schwerin"]
["91622","Rügland","-16 °C","Nürnberg"]
["99842","Ruhla","-16 °C","Meiningen"]
["01945","Ruhland","-16 °C","Dresden"]
["06917","Ruhlsdorf","-14 °C","Leipzig"]
["79639","Rührberg","-12 °C","Stuttgart"]
["94099","Ruhstorf","-16 °C","Straubing"]
["26969","Ruhwarden","-10 °C","Emden"]
["75015","Ruit","-14 °C","Stuttgart"]
["88512","Rulfingen","-14 °C","Stuttgart"]
["79595","Rümmingen","-12 °C","Karlsruhe"]
["93486","Runding","-18 °C","Straubing"]
["88448","Rupertshofen","-16 °C","Stuttgart"]
["56558","Ruppenrod","-14 °C","Nürburg-Barweiler"]
["35325","Ruppertenrod","-14 °C","Fritzlar"]
["67152","Ruppertsberg","-12 °C","Saarbrücken"]
["08435","Ruppertsgrün","-16 °C","Erfurt"]
["08543","Ruppertsgrün","-16 °C","Meiningen"]
["65779","Ruppertshain","-14 °C","Nürburg-Barweiler"]
["73577","Ruppertshofen","-16 °C","Stuttgart"]
["66957","Ruppertsweiler","-12 °C","Saarbrücken"]
["53809","Ruppichteroth","-12 °C","Nürburg-Barweiler"]
["88410","Rupprechts","-16 °C","Stuttgart"]
["52152","Rurberg","-14 °C","Aachen"]
["55776","Ruschberg","-14 °C","Trier"]
["65428","Rüsselsheim","-12 °C","Karlsruhe"]
["91320","Rüssenbach","-16 °C","Nürnberg"]
["18230","Russow","-10 °C","Rostock"]
["79733","Rüßwihl","-14 °C","Stuttgart"]
["77977","Rust","-12 °C","Karlsruhe"]
["71277","Rutesheim","-14 °C","Stuttgart"]
["67752","Rutsweiler","-12 °C","Saarbrücken"]
["94339","Rutzenbach","-18 °C","Straubing"]
["18317","Saal","-10 °C","Rostock"]
["07318","Saalfeld/Saale","-14 °C","Meiningen"]
["15806","Saalow","-14 °C","Lindenberg"]
["66115","Saarbrücken","-12 °C","Saarbrücken"]
["54439","Saarburg","-12 °C","Trier"]
["66701","Saarfels","-12 °C","Saarbrücken"]
["66740","Saarlouis","-12 °C","Saarbrücken"]
["66793","Saarwellingen","-12 °C","Saarbrücken"]
["32816","Sabbenhausen","-14 °C","Fritzlar"]
["89537","Sachsenhausen","-16 °C","Augsburg"]
["34513","Sachsenhausen","-14 °C","Fritzlar"]
["74343","Sachsenheim","-12 °C","Stuttgart"]
["83679","Sachsenkam","-18 °C","Hohenpeißenberg"]
["01561","Sacka","-16 °C","Dresden"]
["17099","Sadelkow","-14 °C","Greifswald"]
["21493","Sahms","-12 °C","Hamburg"]
["21272","Sahrendorf","-14 °C","Hamburg"]
["73084","Salach","-16 °C","Stuttgart"]
["57290","Salchendorf","-14 °C","Nürburg-Barweiler"]
["94330","Salching","-18 °C","Straubing"]
["94163","Saldenburg","-16 °C","Straubing"]
["88682","Salem","-14 °C","Stuttgart"]
["03238","Sallgast","-16 °C","Lindenberg"]
["72393","Salmendingen","-18 °C","Stuttgart"]
["54528","Salmtal","-14 °C","Trier"]
["63628","Salmünster","-14 °C","Würzburg"]
["97616","Salz","-14 °C","Würzburg"]
["02627","Salzenforst","-16 °C","Görlitz"]
["38226","Salzgitter","-14 °C","Magdeburg"]
["31020","Salzhemmendorf","-14 °C","Hannover"]
["33154","Salzkotten","-12 °C","Fritzlar"]
["72178","Salzstetten","-16 °C","Stuttgart"]
["29410","Salzwedel","-14 °C","Hannover"]
["94121","Salzweg","-16 °C","Straubing"]
["39326","Samswegen","-14 °C","Magdeburg"]
["34308","Sand","-14 °C","Fritzlar"]
["77731","Sand","-12 °C","Karlsruhe"]
["39524","Sandau","-14 °C","Magdeburg"]
["16559","Sandberge","-14 °C","Neuruppin"]
["33106","Sande","-12 °C","Fritzlar"]
["06792","Sandersdorf","-14 °C","Leipzig"]
["34266","Sandershausen","-12 °C","Fritzlar"]
["06456","Sandersleben","-14 °C","Leipzig"]
["23898","Sandesneben","-12 °C","Schwerin"]
["76532","Sandweier ( Baden-Baden)","-12 °C","Karlsruhe"]
["06526","Sangerhausen","-14 °C","Leipzig"]
["18190","Sanitz","-12 °C","Rostock"]
["37444","Sankt Andreasberg","-16 °C","Fritzlar"]
["53757","Sankt Augustin","-12 °C","Nürburg-Barweiler"]
["79837","Sankt Blasien","-16 °C","Stuttgart"]
["21357","Sankt Dionys","-12 °C","Hamburg"]
["78112","Sankt Georgen","-16 °C","Stuttgart"]
["56346","Sankt Goarshausen","-12 °C","Nürburg-Barweiler"]
["66383","Sankt Ingbert","-12 °C","Saarbrücken"]
["56727","Sankt Johann","-14 °C","Nürburg-Barweiler"]
["72813","Sankt Johann","-16 °C","Stuttgart"]
["68789","Sankt Leon-Rot","-12 °C","Karlsruhe"]
["79274","Sankt Märgen","-18 °C","Stuttgart"]
["09618","Sankt Michaelis","-16 °C","Erfurt"]
["25826","Sankt Peter-Ording","-10 °C","Schleswig"]
["66606","Sankt Wendel","-12 °C","Saarbrücken"]
["23719","Sarau","-12 °C","Schwerin"]
["02627","Särka","-16 °C","Görlitz"]
["31157","Sarstedt","-14 °C","Hannover"]
["77880","Sasbach","-12 °C","Karlsruhe"]
["79361","Sasbach","-12 °C","Karlsruhe"]
["77887","Sasbachwalden","-14 °C","Stuttgart"]
["48336","Sassenberg","-12 °C","Hannover"]
["18546","Saßnitz","-10 °C","Rostock"]
["18239","Satow","-12 °C","Rostock"]
["74589","Satteldorf","-16 °C","Stuttgart"]
["82054","Sauerlach","-16 °C","Kempten"]
["88524","Sauggart","-14 °C","Stuttgart"]
["94344","Saulburg","-18 °C","Straubing"]
["88605","Sauldorf","-14 °C","Stuttgart"]
["88348","Saulgau","-14 °C","Stuttgart"]
["82442","Saulgrub","-18 °C","Kempten"]
["78078","Schabenhausen","-16 °C","Stuttgart"]
["37318","Schachtebich","-16 °C","Fritzlar"]
["39343","Schackensleben","-14 °C","Magdeburg"]
["06449","Schadeleben","-14 °C","Leipzig"]
["36358","Schadges","-14 °C","Fritzlar"]
["24980","Schafflund","-10 °C","Schleswig"]
["71263","Schafhausen","-16 °C","Stuttgart"]
["76744","Schaidt","-12 °C","Karlsruhe"]
["58579","Schalckmühle","-12 °C","Nürburg-Barweiler"]
["96528","Schalkau","-16 °C","Bamberg"]
["53426","Schalkenbach","-14 °C","Nürburg-Barweiler"]
["58579","Schalksmühle","-12 °C","Nürburg-Barweiler"]
["79227","Schallstadt","-14 °C","Karlsruhe"]
["83547","Schambach","-16 °C","Hohenpeißenberg"]
["38162","Schandelah","-14 °C","Magdeburg"]
["77776","Schapbach","-16 °C","Stuttgart"]
["2368.","Scharbeutz","-10 °C","Schwerin"]
["01665","Scharfenberg","-14 °C","Dresden"]
["59929","Scharfenberg","-14 °C","Nürburg-Barweiler"]
["33154","Scharmede","-12 °C","Fritzlar"]
["69168","Schatthausen","-12 °C","Würzburg"]
["31737","Schaumburg","-14 °C","Hannover"]
["24960","Schausende","-10 °C","Schleswig"]
["83135","Schechen","-16 °C","Hohenpeißenberg"]
["73579","Schechingen","-16 °C","Stuttgart"]
["37127","Scheden","-14 °C","Fritzlar"]
["08056","Schedewitz","-14 °C","Erfurt"]
["72516","Scheer","-14 °C","Stuttgart"]
["27383","Scheeßel","-12 °C","Bremen"]
["74850","Schefflenz","-14 °C","Stuttgart"]
["09481","Scheibenberg","-16 °C","Meiningen"]
["04460","Scheidens","-14 °C","Leipzig"]
["56379","Scheidt","-12 °C","Nürburg-Barweiler"]
["91443","Scheinfeld","-16 °C","Nürnberg"]
["79235","Schelingen","-12 °C","Karlsruhe"]
["89601","Schelklingen","-16 °C","Augsburg"]
["75242","Schellbronn","-14 °C","Stuttgart"]
["01776","Schellerhau","-16 °C","Dresden"]
["31174","Schellerten","-14 °C","Hannover"]
["08301","Schelma","-16 °C","Meiningen"]
["88433","Schemmerberg","-16 °C","Stuttgart"]
["88433","Schemmerhofen","-16 °C","Stuttgart"]
["04509","Schenkenberg","-14 °C","Leipzig"]
["03172","Schenkendöbern","-16 °C","Lindenberg"]
["77773","Schenkenzell","-14 °C","Stuttgart"]
["36288","Schenklengsfeld","-14 °C","Fritzlar"]
["46514","Schermbeck","-10 °C","Düsseldorf"]
["86872","Scherstetten","-16 °C","Kempten"]
["96110","Scheßlitz","-16 °C","Bamberg"]
["53572","Scheuren","-12 °C","Nürburg-Barweiler"]
["85298","Scheyern","-16 °C","München"]
["32816","Schieder-Schwalenberg","-14 °C","Fritzlar"]
["652..","Schierstein","-12 °C","Würzburg"]
["27619","Schiffdorf","-12 °C","Bremen"]
["67105","Schifferstadt","-12 °C","Saarbrücken"]
["03253","Schilda","-16 °C","Lindenberg"]
["04889","Schildau","-16 °C","Leipzig"]
["16552","Schildow","-14 °C","Neuruppin"]
["91583","Schillingsfürst","-16 °C","Nürnberg"]
["74744","Schillingstadt","-16 °C","Stuttgart"]
["77761","Schiltach","-16 °C","Stuttgart"]
["02681","Schirgiswalde","-16 °C","Görlitz"]
["04435","Schkeuditz","-14 °C","Leipzig"]
["04420","Schkölen","-14 °C","Leipzig"]
["06258","Schkopau","-14 °C","Leipzig"]
["52372","Schlagstein","-14 °C","Aachen"]
["04749","Schlagwitz","-14 °C","Leipzig"]
["72667","Schlaitdorf","-16 °C","Stuttgart"]
["33189","Schlangen","-14 °C","Fritzlar"]
["65388","Schlangenbad","-14 °C","Nürburg-Barweiler"]
["29459","Schlannau","-14 °C","Hannover"]
["06785","Schleesen","-14 °C","Leipzig"]
["54340","Schleich","-10 °C","Trier"]
["52457","Schleiden","-12 °C","Aachen"]
["53937","Schleiden","-14 °C","Nürburg-Barweiler"]
["53937","Schleiden/Efel","-14 °C","Nürburg-Barweiler"]
["07907","Schleiz","-16 °C","Meiningen"]
["24837","Schleswig","-10 °C","Schleswig"]
["41470","Schlicherum","-10 °C","Düsseldorf"]
["73614","Schlichten","-16 °C","Stuttgart"]
["04936","Schlieben","-16 °C","Leipzig"]
["79418","Schliengen","-12 °C","Karlsruhe"]
["88281","Schlier","-14 °C","Stuttgart"]
["63636","Schlierbach","-12 °C","Würzburg"]
["74706","Schlierstadt","-16 °C","Stuttgart"]
["36110","Schlitz","-14 °C","Fritzlar"]
["07646","Schlöben","-14 °C","Erfurt"]
["33758","Schloß Holte","-12 °C","Fritzlar"]
["33104","Schloß Neuhaus","-12 °C","Fritzlar"]
["30826","Schloss Ricklingen","-14 °C","Hannover"]
["73441","Schloßberg","-16 °C","Stuttgart"]
["09439","Schlößchen","-14 °C","Meiningen"]
["99195","Schloßvippach","-14 °C","Erfurt"]
["79859","Schluchsee","-18 °C","Stuttgart"]
["36381","Schlüchtern","-14 °C","Fritzlar"]
["32469","Schlüsselburg","-12 °C","Fritzlar"]
["96132","Schlüsselfeld","-16 °C","Bamberg"]
["27804","Schlüte","-10 °C","Bremen"]
["76275","Schluttenbach","-14 °C","Karlsruhe"]
["57392","Schmallenberg","-14 °C","Nürburg-Barweiler"]
["06295","Schmalzerode","-14 °C","Leipzig"]
["98530","Schmeheim","-16 °C","Meiningen"]
["95336","Schmeilsdorf","-16 °C","Hof"]
["66839","Schmelz","-12 °C","Saarbrücken"]
["04895","Schmerkendorf","-16 °C","Leipzig"]
["14776","Schmerzke","-14 °C","Potsdam"]
["52385","Schmidt","-14 °C","Aachen"]
["55758","Schmidthachenbach","-14 °C","Trier"]
["53949","Schmidtheim","-14 °C","Nürburg-Barweiler"]
["89601","Schmiechen","-16 °C","Augsburg"]
["98711","Schmiedefeld","-16 °C","Meiningen"]
["99518","Schmiedehausen","-14 °C","Erfurt"]
["77971","Schmieheim","-12 °C","Karlsruhe"]
["99094","Schmira","-14 °C","Erfurt"]
["61389","Schmitten","-16 °C","Fritzlar"]
["17506","Schmoldow","-12 °C","Greifswald"]
["04828","Schmölen","-14 °C","Leipzig"]
["17291","Schmölln","-14 °C","Greifswald"]
["04626","Schmölln","-14 °C","Leipzig"]
["71384","Schnait","-14 °C","Stuttgart"]
["91220","Schnaittach","-16 °C","Nürnberg"]
["92253","Schnaittenbach","-16 °C","Nürnberg"]
["32609","Schnathorst","-12 °C","Fritzlar"]
["67699","Schneckenhausen","-12 °C","Saarbrücken"]
["08289","Schneeberg","-16 °C","Meiningen"]
["29465","Schnega","-14 °C","Hannover"]
["34286","Schnellrode","-14 °C","Fritzlar"]
["29640","Schneverdingen","-14 °C","Hannover"]
["96215","Schney","-16 °C","Bamberg"]
["89194","Schnürpflingen","-16 °C","Augsburg"]
["06179","Schochwitz","-14 °C","Leipzig"]
["35641","Schöffengrund","-14 °C","Fritzlar"]
["27305","Scholen","-12 °C","Bremen"]
["63825","Schöllkrippen","-14 °C","Würzburg"]
["94508","Schöllnach","-18 °C","Straubing"]
["72290","Schömberg","-14 °C","Stuttgart"]
["72355","Schömberg","-18 °C","Stuttgart"]
["75328","Schömberg","-16 °C","Stuttgart"]
["04838","Schöna","-14 °C","Leipzig"]
["71101","Schönaich","-16 °C","Stuttgart"]
["08121","Schönau","-14 °C","Erfurt"]
["83471","Schönau","-18 °C","Hohenpeißenberg"]
["84337","Schönau","-16 °C","Straubing"]
["79677","Schönau","-16 °C","Stuttgart"]
["69250","Schönau","-12 °C","Würzburg"]
["08496","Schönbach","-16 °C","Erfurt"]
["02708","Schönbach","-16 °C","Görlitz"]
["17349","Schönbeck","-14 °C","Greifswald"]
["23923","Schönberg","-10 °C","Schwerin"]
["94513","Schönberg","-18 °C","Straubing"]
["01465","Schönborn","-14 °C","Dresden"]
["56370","Schönborn","-14 °C","Nürburg-Barweiler"]
["71557","Schönbronn","-16 °C","Stuttgart"]
["72218","Schönbronn","-16 °C","Stuttgart"]
["08485","Schönbrunn","-16 °C","Erfurt"]
["08606","Schönbrunn","-18 °C","Meiningen"]
["86938","Schondorf","-16 °C","Kempten"]
["07924","Schöndorf","-16 °C","Meiningen"]
["39218","Schönebeck/Elbe","-14 °C","Magdeburg"]
["88477","Schönebürg","-16 °C","Stuttgart"]
["61137","Schöneck","-12 °C","Fritzlar"]
["08261","Schöneck","-18 °C","Meiningen"]
["12529","Schönefeld","-14 °C","Berlin"]
["17291","Schönermark","-14 °C","Greifswald"]
["09569","Schönerstadt","-14 °C","Erfurt"]
["04703","Schönerstädt","-14 °C","Leipzig"]
["86676","Schönesberg","-16 °C","Augsburg"]
["19205","Schönfeld","-12 °C","Schwerin"]
["08115","Schönfels","-16 °C","Erfurt"]
["15326","Schönfließ","-14 °C","Lindenberg"]
["16567","Schönfließ","-14 °C","Neuruppin"]
["86956","Schongau","-16 °C","Kempten"]
["37170","Schönhagen","-14 °C","Fritzlar"]
["73574","Schönhardt","-16 °C","Stuttgart"]
["39524","Schönhausen","-14 °C","Magdeburg"]
["03130","Schönheide","-16 °C","Lindenberg"]
["08304","Schönheide","-16 °C","Meiningen"]
["37170","Schoningen","-14 °C","Fritzlar"]
["16321","Schönow","-14 °C","Neuruppin"]
["92539","Schönsee","-18 °C","Hof"]
["83137","Schonstett","-16 °C","Hohenpeißenberg"]
["74214","Schöntal","-14 °C","Stuttgart"]
["01471","Schönteichen","-16 °C","Dresden"]
["01920","Schönteichen","-16 °C","Dresden"]
["78141","Schönwald","-18 °C","Stuttgart"]
["14621","Schönwalde","-14 °C","Potsdam"]
["79650","Schopfheim","-12 °C","Stuttgart"]
["72296","Schopfloch","-16 °C","Stuttgart"]
["67707","Schopp","-12 °C","Saarbrücken"]
["38170","Schöppenstedt","-14 °C","Magdeburg"]
["37627","Schorborn","-14 °C","Fritzlar"]
["73614","Schornbach","-16 °C","Stuttgart"]
["93489","Schorndorf","-18 °C","Straubing"]
["73614","Schorndorf- Schlichten","-16 °C","Stuttgart"]
["73614","Schorndorf/Württ.","-16 °C","Stuttgart"]
["55288","Schornsheim","-12 °C","Trier"]
["06369","Schortewitz","-14 °C","Leipzig"]
["72355","Schörzingen","-18 °C","Stuttgart"]
["19073","Schossin","-12 °C","Schwerin"]
["63679","Schotten/Hessen","-12 °C","Würzburg"]
["04928","Schraden","-16 °C","Leipzig"]
["78713","Schramberg","-16 °C","Stuttgart"]
["04720","Schrebitz","-14 °C","Leipzig"]
["08233","Schreiersgrün","-16 °C","Meiningen"]
["73479","Schrezheim","-16 °C","Stuttgart"]
["69198","Schriesheim","-12 °C","Würzburg"]
["86529","Schrobenhausen","-18 °C","Augsburg"]
["24850","Schuby","-12 °C","Schleswig"]
["54586","Schüller","-14 °C","Trier"]
["15732","Schulzendorf","-14 °C","Lindenberg"]
["77948","Schuttern","-12 °C","Karlsruhe"]
["77978","Schuttertal","-14 °C","Stuttgart"]
["77746","Schutterwald","-12 °C","Karlsruhe"]
["77746","Schutterwald-Höfen","-12 °C","Karlsruhe"]
["53894","Schützendorf","-14 °C","Nürburg-Barweiler"]
["18258","Schwaan","-12 °C","Rostock"]
["91126","Schwabach","-16 °C","Nürnberg"]
["74626","Schwabbach","-14 °C","Stuttgart"]
["55270","Schwabenheim","-12 °C","Trier"]
["85247","Schwabhausen","-16 °C","München"]
["7352.","Schwäbisch Gmünd","-16 °C","Stuttgart"]
["74523","Schwäbisch Hall","-16 °C","Stuttgart"]
["86830","Schwabmünchen","-16 °C","Kempten"]
["86987","Schwabsoien","-16 °C","Kempten"]
["90571","Schwaig","-16 °C","Nürnberg"]
["74193","Schwaigern","-14 °C","Stuttgart"]
["71409","Schwaikheim","-14 °C","Stuttgart"]
["65824","Schwalbach","-14 °C","Nürburg-Barweiler"]
["66773","Schwalbach","-12 °C","Saarbrücken"]
["72108","Schwalldorf","-16 °C","Stuttgart"]
["34613","Schwalmstadt","-14 °C","Fritzlar"]
["41366","Schwalmtal","-10 °C","Düsseldorf"]
["36318","Schwalmtal","-14 °C","Fritzlar"]
["77963","Schwanau","-12 °C","Karlsruhe"]
["08538","Schwand","-16 °C","Meiningen"]
["08538","Schwand","-16 °C","Meiningen"]
["90596","Schwand","-16 °C","Nürnberg"]
["92421","Schwandorf","-16 °C","Nürnberg"]
["16341","Schwanebeck","-14 °C","Neuruppin"]
["14806","Schwanebeck","-14 °C","Potsdam"]
["41812","Schwanenberg","-10 °C","Düsseldorf"]
["28790","Schwanewede","-10 °C","Bremen"]
["97523","Schwanfeld","-14 °C","Würzburg"]
["75334","Schwann","-14 °C","Stuttgart"]
["99195","Schwansee","-14 °C","Erfurt"]
["90596","Schwanstetten","-16 °C","Nürnberg"]
["29690","Schwarmstedt","-12 °C","Hannover"]
["92548","Schwarzach","-16 °C","Nürnberg"]
["94491","Schwarzach","-18 °C","Straubing"]
["74869","Schwarzach","-12 °C","Stuttgart"]
["95126","Schwarzenbach/Saale","-18 °C","Hof"]
["21493","Schwarzenbek","-12 °C","Hamburg"]
["93458","Schwarzenberg","-18 °C","Straubing"]
["75328","Schwarzenberg","-16 °C","Stuttgart"]
["08340","Schwarzenberg/Erzgeb.","-16 °C","Meiningen"]
["90592","Schwarzenbruck","-16 °C","Nürnberg"]
["92521","Schwarzenfeld","-16 °C","Nürnberg"]
["02977","Schwarzkollm","-16 °C","Görlitz"]
["24229","Schwedeneck","-10 °C","Schleswig"]
["16303","Schwedt/Oder","-16 °C","Neuruppin"]
["54338","Schweich","-10 °C","Trier"]
["76889","Schweigen","-12 °C","Saarbrücken"]
["77978","Schweighausen","-14 °C","Stuttgart"]
["76889","Schweighofen","-12 °C","Saarbrücken"]
["09326","Schweikertshain","-14 °C","Erfurt"]
["97422","Schweinfurt","-14 °C","Würzburg"]
["88454","Schweinhausen","-16 °C","Stuttgart"]
["06928","Schweinitz","-14 °C","Leipzig"]
["58332","Schwelm","-12 °C","Nürburg-Barweiler"]
["88477","Schwendi","-16 °C","Stuttgart"]
["72477","Schwenningen","-16 °C","Stuttgart"]
["780..","Schwenningen/Neckar","-16 °C","Stuttgart"]
["01936","Schwepnitz","-16 °C","Dresden"]
["53909","Schwerfen","-14 °C","Nürburg-Barweiler"]
["15755","Schwerin","-14 °C","Lindenberg"]
["1906.","Schwerin","-12 °C","Schwerin"]
["99634","Schwerstedt","-14 °C","Erfurt"]
["58239","Schwerte/Ruhr","-12 °C","Nürburg-Barweiler"]
["06188","Schwerz","-14 °C","Leipzig"]
["04769","Schweta","-14 °C","Leipzig"]
["68723","Schwetzingen","-12 °C","Karlsruhe"]
["71701","Schwieberdingen","-14 °C","Stuttgart"]
["86940","Schwifting","-16 °C","Kempten"]
["84419","Schwindegg","-16 °C","Straubing"]
["06295","Schwittersdorf","-14 °C","Leipzig"]
["86754","Schwörsheim","-16 °C","Augsburg"]
["79739","Schwörstadt","-12 °C","Stuttgart"]
["31311","Schwüblingsen","-14 °C","Hannover"]
["38179","Schwülper","-14 °C","Magdeburg"]
["96247","Schwürbitz","-16 °C","Bamberg"]
["01855","Sebnitz","-16 °C","Dresden"]
["71566","Sechselberg","-14 °C","Stuttgart"]
["53332","Sechtem","-12 °C","Nürburg-Barweiler"]
["74743","Seckach","-14 °C","Stuttgart"]
["77889","Seebach","-16 °C","Stuttgart"]
["17420","Seebad Heringsdorf","-12 °C","Greifswald"]
["72108","Seebronn","-16 °C","Stuttgart"]
["83358","Seebruck","-16 °C","Hohenpeißenberg"]
["37136","Seeburg","-16 °C","Fritzlar"]
["39307","Seedorf","-14 °C","Magdeburg"]
["39319","Seedorf","-14 °C","Magdeburg"]
["78655","Seedorf","-16 °C","Stuttgart"]
["82229","Seefeld","-16 °C","Kempten"]
["06888","Seegrehna","-14 °C","Leipzig"]
["82418","Seehausen","-16 °C","Kempten"]
["39615","Seehausen","-14 °C","Magdeburg"]
["64342","Seeheim-Jugenheim","-12 °C","Würzburg"]
["77960","Seelbach","-14 °C","Karlsruhe"]
["01909","Seeligstadt","-14 °C","Dresden"]
["04687","Seeligstädt","-14 °C","Leipzig"]
["09306","Seelitz","-14 °C","Erfurt"]
["04769","Seelitz","-14 °C","Leipzig"]
["53819","Seelscheid","-12 °C","Nürburg-Barweiler"]
["30926","Seelze","-14 °C","Hannover"]
["38723","Seesen","-14 °C","Magdeburg"]
["86925","Seestall","-16 °C","Kempten"]
["212..","Seevetal","-12 °C","Bremen"]
["21217","Seevetal - Over","-12 °C","Hamburg"]
["72297","Seewald","-16 °C","Stuttgart"]
["79733","Segeten","-16 °C","Stuttgart"]
["31196","Sehlem","-16 °C","Hannover"]
["54518","Sehlem","-14 °C","Trier"]
["09465","Sehma","-16 °C","Meiningen"]
["31319","Sehnde","-14 °C","Hannover"]
["88410","Seibranz","-16 °C","Stuttgart"]
["09548","Seiffen","-16 °C","Meiningen"]
["07389","Seisla","-14 °C","Erfurt"]
["89143","Seißen","-16 °C","Augsburg"]
["78606","Seitingen - Oberflacht","-18 °C","Stuttgart"]
["95100","Selb","-18 °C","Hof"]
["52538","Selfkant","-10 °C","Aachen"]
["63500","Seligenstadt","-12 °C","Würzburg"]
["98593","Seligenthal","-16 °C","Meiningen"]
["24884","Selk","-12 °C","Schleswig"]
["04626","Selka","-14 °C","Leipzig"]
["18586","Sellin","-10 °C","Rostock"]
["27619","Sellstedt","-12 °C","Bremen"]
["59379","Selm","-12 °C","Nürburg-Barweiler"]
["23923","Selmsdorf","-10 °C","Schwerin"]
["27446","Selsingen","-12 °C","Bremen"]
["65618","Selters","-14 °C","Nürburg-Barweiler"]
["55278","Selzen","-12 °C","Trier"]
["89250","Senden","-16 °C","Augsburg"]
["48308","Senden","-12 °C","Hannover"]
["48324","Sendenhorst","-12 °C","Hannover"]
["01968","Senftenberg","-16 °C","Dresden"]
["92369","Sengenthal","-16 °C","Nürnberg"]
["56820","Senheim","-12 °C","Nürburg-Barweiler"]
["33659","Senne I","-12 °C","Fritzlar"]
["33102","Sennelager","-12 °C","Fritzlar"]
["06193","Sennewitz","-14 °C","Leipzig"]
["97526","Sennfeld","-14 °C","Würzburg"]
["15754","Senzig","-14 °C","Lindenberg"]
["04668","Sermuth","-14 °C","Leipzig"]
["18292","Serrahn","-12 °C","Rostock"]
["75446","Serres","-14 °C","Stuttgart"]
["54455","Serrig","-12 °C","Trier"]
["74372","Sersheim","-12 °C","Stuttgart"]
["16230","Serwest","-14 °C","Neuruppin"]
["56244","Sessenhausen","-14 °C","Nürburg-Barweiler"]
["37124","Settmarshausen","-16 °C","Fritzlar"]
["92358","Seubersdorf","-16 °C","Nürnberg"]
["90556","Seukendorf","-16 °C","Nürnberg"]
["37136","Seulingen","-16 °C","Fritzlar"]
["79350","Sexau","-14 °C","Stuttgart"]
["31079","Sibbesse","-14 °C","Hannover"]
["72379","Sickingen","-16 °C","Stuttgart"]
["38173","Sickte","-14 °C","Magdeburg"]
["76833","Siebeldingen","-12 °C","Karlsruhe"]
["09634","Siebenlehn","-14 °C","Erfurt"]
["06308","Siebigerode","-14 °C","Leipzig"]
["01920","Siebitz","-16 °C","Dresden"]
["17089","Siedenbollentin","-14 °C","Greifswald"]
["35768","Siegbach","-14 °C","Fritzlar"]
["53721","Siegburg","-12 °C","Nürburg-Barweiler"]
["74936","Siegelsbach","-12 °C","Stuttgart"]
["5707.","Siegen","-12 °C","Nürburg-Barweiler"]
["93354","Siegenburg","-18 °C","Straubing"]
["5384.","Sieglar","-12 °C","Nürburg-Barweiler"]
["06420","Sieglitz","-14 °C","Leipzig"]
["83313","Siegsdorf","-16 °C","Hohenpeißenberg"]
["70794","Sielmingen","-14 °C","Stuttgart"]
["03055","Sielow","-16 °C","Lindenberg"]
["52457","Siersdorf","-12 °C","Aachen"]
["29664","Sieverdingen","-12 °C","Hannover"]
["27607","Sievern","-10 °C","Bremen"]
["23936","Sievershagen","-10 °C","Schwerin"]
["31275","Sievershausen","-14 °C","Hannover"]
["19376","Siggelkow","-14 °C","Schwerin"]
["72488","Sigmaringen","-14 °C","Stuttgart"]
["72517","Sigmaringendorf","-14 °C","Stuttgart"]
["72172","Sigmarswangen","-16 °C","Stuttgart"]
["37603","Silberborn","-14 °C","Fritzlar"]
["06493","Silberhütte","-16 °C","Leipzig"]
["24887","Silberstedt","-12 °C","Schleswig"]
["08121","Silberstraße","-14 °C","Erfurt"]
["37345","Silkerode","-16 °C","Fritzlar"]
["94436","Simbach","-16 °C","Straubing"]
["91245","Simmelsdorf","-16 °C","Nürnberg"]
["52152","Simmerath","-14 °C","Aachen"]
["55469","Simmern","-14 °C","Trier"]
["35713","Simmersbach","-14 °C","Fritzlar"]
["03149","Simmersdorf","-16 °C","Lindenberg"]
["72226","Simmersfeld","-16 °C","Stuttgart"]
["97215","Simmershofen","-16 °C","Würzburg"]
["55618","Simmertal","-14 °C","Trier"]
["75397","Simmozheim","-16 °C","Stuttgart"]
["79263","Simonswald","-18 °C","Stuttgart"]
["04720","Simselwitz","-14 °C","Leipzig"]
["71063","Sindelfingen","-14 °C","Stuttgart"]
["82404","Sindelsdorf","-18 °C","Kempten"]
["75196","Singen","-14 °C","Stuttgart"]
["7820.","Singen-Hohentwiel","-14 °C","Konstanz"]
["50259","Sinnersdorf","-12 °C","Düsseldorf"]
["74889","Sinsheim","-12 °C","Stuttgart"]
["21079","Sinstorf (Hamburg)","-12 °C","Hamburg"]
["76545","Sinzheim","-12 °C","Karlsruhe"]
["76547","Sinzheim","-12 °C","Karlsruhe"]
["53489","Sinzig","-12 °C","Nürburg-Barweiler"]
["67729","Sippersfeld","-12 °C","Saarbrücken"]
["07557","Sirbis","-14 °C","Erfurt"]
["72574","Sirchingen","-16 °C","Stuttgart"]
["23898","Sirksfelde","-12 °C","Schwerin"]
["04703","Sitten","-14 °C","Leipzig"]
["27419","Sittensen","-12 °C","Bremen"]
["04889","Sitzenroda","-16 °C","Leipzig"]
["01561","Skäßchen","-16 °C","Dresden"]
["83139","Söchtenau","-16 °C","Hohenpeißenberg"]
["82319","Söcking","-16 °C","Kempten"]
["63834","Soden","-14 °C","Würzburg"]
["59494","Soest/Westf.","-12 °C","Nürburg-Barweiler"]
["89077","Söflingen","-14 °C","Augsburg"]
["49751","Sögel","-12 °C","Hannover"]
["08626","Sohl","-18 °C","Meiningen"]
["02689","Sohland","-16 °C","Görlitz"]
["31185","Söhlde","-14 °C","Hannover"]
["79294","Sölden","-16 °C","Stuttgart"]
["426..","Solingen","-12 °C","Düsseldorf"]
["18445","Solkendorf","-10 °C","Rostock"]
["06774","Söllichau","-14 °C","Leipzig"]
["76327","Söllingen","-12 °C","Stuttgart"]
["02633","Sollschwitz","-16 °C","Görlitz"]
["99759","Sollstedt","-14 °C","Erfurt"]
["35606","Solms","-12 °C","Fritzlar"]
["29614","Soltau","-12 °C","Hannover"]
["99610","Sömmerda","-14 °C","Erfurt"]
["72766","Sondelfingen","-16 °C","Stuttgart"]
["99706","Sondershausen","-14 °C","Erfurt"]
["94146","Sonndorf","-18 °C","Straubing"]
["96515","Sonneberg","-16 °C","Bamberg"]
["32683","Sonneborn","-14 °C","Fritzlar"]
["31634","Sonnenborstel","-12 °C","Hannover"]
["72820","Sonnenbühl","-18 °C","Stuttgart"]
["03249","Sonnenwalde","-16 °C","Lindenberg"]
["47665","Sonsbeck","-10 °C","Düsseldorf"]
["89555","Sontheim","-16 °C","Augsburg"]
["89567","Sontheim","-16 °C","Augsburg"]
["04769","Sornitz-Ablaß","-14 °C","Leipzig"]
["04769","Sornzig","-14 °C","Leipzig"]
["04769","Sornzig","-14 °C","Leipzig"]
["31134","Sorsum","-14 °C","Hannover"]
["08326","Sosa","-16 °C","Meiningen"]
["27367","Sottrum","-12 °C","Bremen"]
["67620","Soufflenheim (Frankreich)","-12 °C","Saarbrücken"]
["27619","Spaden","-12 °C","Bremen"]
["78549","Spaichingen","-18 °C","Stuttgart"]
["54529","Spangdahlem","-14 °C","Trier"]
["34286","Spangenberg","-14 °C","Fritzlar"]
["95234","Sparneck","-18 °C","Hof"]
["73066","Sparwiesen","-16 °C","Stuttgart"]
["82447","Spatzenhausen","-16 °C","Kempten"]
["74937","Spechbach","-12 °C","Stuttgart"]
["16250","Spechthausen","-14 °C","Neuruppin"]
["34355","Speele","-12 °C","Fritzlar"]
["54662","Speicher","-14 °C","Trier"]
["15848","Speichrow","-16 °C","Lindenberg"]
["48480","Spelle","-12 °C","Hannover"]
["32139","Spenge","-12 °C","Fritzlar"]
["41363","Spenrath","-12 °C","Düsseldorf"]
["16348","Sperlingsaue","-14 °C","Neuruppin"]
["76275","Spessart","-14 °C","Karlsruhe"]
["75365","Speßhardt","-16 °C","Stuttgart"]
["67346","Speyer","-12 °C","Saarbrücken"]
["94518","Spiegelau","-18 °C","Straubing"]
["71579","Spiegelberg","-14 °C","Stuttgart"]
["52445","Spiel","-12 °C","Aachen"]
["74343","Spielberg","-14 °C","Stuttgart"]
["76307","Spielberg","-14 °C","Stuttgart"]
["02794","Spitzkunnersdorf","-16 °C","Görlitz"]
["17039","Sponholz","-14 °C","Greifswald"]
["46399","Spork","-10 °C","Düsseldorf"]
["19372","Spornitz","-14 °C","Schwerin"]
["73565","Spraitbach","-16 °C","Stuttgart"]
["29365","Sprakensehl","-14 °C","Hannover"]
["15528","Spreenhagen","-14 °C","Lindenberg"]
["03130","Spremberg","-16 °C","Lindenberg"]
["31832","Springe","-14 °C","Hannover"]
["45549","Sprockhövel","-12 °C","Düsseldorf"]
["04838","Sprotta","-14 °C","Leipzig"]
["96155","Stackendorf","-16 °C","Bamberg"]
["2165.","Stade","-10 °C","Bremen"]
["61197","Staden","-12 °C","Fritzlar"]
["86946","Stadl","-16 °C","Kempten"]
["35260","Stadtallendorf","-14 °C","Fritzlar"]
["86391","Stadtbergen","-16 °C","Augsburg"]
["99326","Stadtilm","-14 °C","Erfurt"]
["54589","Stadtkyll","-14 °C","Trier"]
["26953","Stadtland","-10 °C","Emden"]
["97488","Stadtlauringen","-16 °C","Würzburg"]
["48703","Stadtlohn","-10 °C","Hannover"]
["37627","Stadtoldendorf","-14 °C","Fritzlar"]
["97909","Stadtprozelten","-14 °C","Würzburg"]
["07646","Stadtroda","-14 °C","Erfurt"]
["96231","Staffelstein","-16 °C","Bamberg"]
["96231","Staffelstein","-16 °C","Bamberg"]
["88441","Stafflangen","-16 °C","Stuttgart"]
["76297","Staffort","-12 °C","Karlsruhe"]
["37671","Stahle","-12 °C","Fritzlar"]
["56412","Stahlhofen","-14 °C","Nürburg-Barweiler"]
["14532","Stahnsdorf","-14 °C","Potsdam"]
["89195","Staig","-16 °C","Augsburg"]
["75365","Stammheim","-14 °C","Stuttgart"]
["82319","Starnberg","-16 °C","Kempten"]
["17252","Starsow","-14 °C","Greifswald"]
["72181","Starzach","-16 °C","Stuttgart"]
["39418","Staßfurt","-14 °C","Magdeburg"]
["86316","Stätzling","-16 °C","Augsburg"]
["86641","Staudheim","-16 °C","Augsburg"]
["89428","Staufen","-16 °C","Augsburg"]
["79219","Staufen","-14 °C","Karlsruhe"]
["34355","Staufenberg","-12 °C","Fritzlar"]
["17039","Staven","-14 °C","Greifswald"]
["56276","Stebach","-14 °C","Nürburg-Barweiler"]
["75050","Stebbach","-14 °C","Stuttgart"]
["04936","Stechau","-16 °C","Leipzig"]
["96135","Stegaurach","-16 °C","Bamberg"]
["39517","Stegelitz","-14 °C","Magdeburg"]
["79252","Stegen","-16 °C","Stuttgart"]
["12163","Steglitz","-14 °C","Berlin"]
["88633","Steigen","-14 °C","Stuttgart"]
["31634","Steimbke","-12 °C","Hannover"]
["57614","Steimel","-14 °C","Nürburg-Barweiler"]
["74196","Stein am Kocher","-12 °C","Stuttgart"]
["90547","Stein b. Nbg.","-16 °C","Nürnberg"]
["01920","Steina","-16 °C","Dresden"]
["04703","Steina","-14 °C","Leipzig"]
["94377","Steinach","-18 °C","Straubing"]
["77790","Steinach","-14 °C","Stuttgart"]
["36396","Steinau a.d. Straße","-14 °C","Fritzlar"]
["37308","Steinbach","-16 °C","Fritzlar"]
["04567","Steinbach","-14 °C","Leipzig"]
["09477","Steinbach","-16 °C","Meiningen"]
["97900","Steinbach","-14 °C","Würzburg"]
["97500","Steinbach bei Eltmann","-14 °C","Würzburg"]
["98587","Steinbach-Hallenberg","-16 °C","Meiningen"]
["29646","Steinbeck","-14 °C","Hannover"]
["16259","Steinbeck","-14 °C","Neuruppin"]
["92449","Steinberg","-16 °C","Nürnberg"]
["75242","Steinegg","-14 °C","Stuttgart"]
["79585","Steinen","-12 °C","Stuttgart"]
["71144","Steinenbronn","-16 °C","Stuttgart"]
["79395","Steinenstadt","-12 °C","Karlsruhe"]
["49439","Steinfeld","-12 °C","Hannover"]
["97854","Steinfeld","-14 °C","Würzburg"]
["65529","Steinfischbach","-14 °C","Nürburg-Barweiler"]
["48565","Steinfurt","-12 °C","Hannover"]
["33803","Steinhagen","-12 °C","Fritzlar"]
["88416","Steinhausen","-16 °C","Stuttgart"]
["88427","Steinhausen","-16 °C","Stuttgart"]
["87700","Steinheim","-16 °C","Augsburg"]
["89555","Steinheim","-16 °C","Augsburg"]
["32839","Steinheim","-14 °C","Fritzlar"]
["71711","Steinheim an der Murr","-12 °C","Stuttgart"]
["72406","Steinhofen","-18 °C","Stuttgart"]
["29367","Steinhorst","-14 °C","Hannover"]
["31515","Steinhude","-14 °C","Hannover"]
["01904","Steinigtwolmsdorf","-16 °C","Dresden"]
["29416","Steinitz","-14 °C","Hannover"]
["39319","Steinitz","-14 °C","Magdeburg"]
["38275","Steinlah","-14 °C","Magdeburg"]
["76479","Steinmauern","-12 °C","Karlsruhe"]
["17391","Steinmocker","-12 °C","Greifswald"]
["08432","Steinpleis (Werdau)","-16 °C","Erfurt"]
["08538","Steins","-16 °C","Meiningen"]
["56379","Steinsberg","-12 °C","Nürburg-Barweiler"]
["93128","Steinsberg","-16 °C","Straubing"]
["08547","Steinsdorf","-16 °C","Meiningen"]
["97539","Steinsfeld","-14 °C","Würzburg"]
["74889","Steinsfurt","-12 °C","Stuttgart"]
["76872","Steinweiler","-12 °C","Karlsruhe"]
["21435","Stelle","-12 °C","Hamburg"]
["07922","Stelzen","-18 °C","Meiningen"]
["32351","Stemwede","-12 °C","Fritzlar"]
["39576","Stendal","-14 °C","Magdeburg"]
["16306","Stendell","-14 °C","Neuruppin"]
["08144","Stenn","-14 °C","Erfurt"]
["04769","Stennschütz","-14 °C","Leipzig"]
["46145","Sterkrade","-10 °C","Düsseldorf"]
["46147","Sterkrade","-10 °C","Düsseldorf"]
["19406","Sternberg","-12 °C","Schwerin"]
["75447","Sternenfels","-14 °C","Stuttgart"]
["35094","Sterzhausen","-12 °C","Fritzlar"]
["70771","Stetten","-14 °C","Stuttgart"]
["72379","Stetten","-16 °C","Stuttgart"]
["78570","Stetten","-16 °C","Stuttgart"]
["78658","Stetten","-16 °C","Stuttgart"]
["88480","Stetten","-16 °C","Stuttgart"]
["72393","Stetten ( Burladingen )","-18 °C","Stuttgart"]
["72510","Stetten am kalten Markt","-16 °C","Stuttgart"]
["70771","Stetten auf den Fildern","-14 °C","Stuttgart"]
["86462","Stettenhofen","-16 °C","Augsburg"]
["31593","Steyerberg","-12 °C","Hannover"]
["27476","Stickenbüttel","-10 °C","Bremen"]
["88167","Stiefenhofen","-18 °C","Konstanz"]
["74597","Stimpfach","-16 °C","Stuttgart"]
["23795","Stipsdorf","-10 °C","Schwerin"]
["85235","Stockach","-16 °C","München"]
["72810","Stockach","-16 °C","Stuttgart"]
["82131","Stockdorf","-16 °C","Kempten"]
["32617","Stockelsdorf","-12 °C","Fritzlar"]
["37154","Stöckheim","-16 °C","Fritzlar"]
["79697","Stockmatt","-16 °C","Stuttgart"]
["71543","Stocksberg","-14 °C","Stuttgart"]
["31638","Stöckse","-12 °C","Hannover"]
["64589","Stockstadt","-12 °C","Karlsruhe"]
["63811","Stockstadt","-12 °C","Würzburg"]
["73495","Stödtlen","-16 °C","Stuttgart"]
["24321","Stöfs","-10 °C","Schleswig"]
["52222","Stolberg","-12 °C","Aachen"]
["06547","Stolberg","-16 °C","Leipzig"]
["5220.","Stolberg/Rheinl.","-12 °C","Aachen"]
["09366","Stollberg","-14 °C","Meiningen"]
["52224","Stollberg - Werth","-12 °C","Aachen"]
["77836","Stollhofen","-12 °C","Karlsruhe"]
["01833","Stolpen","-14 °C","Dresden"]
["16348","Stolzenhagen","-14 °C","Neuruppin"]
["04916","Stolzenhain","-14 °C","Leipzig"]
["50259","Stommeln","-12 °C","Düsseldorf"]
["31167","Störy","-14 °C","Hannover"]
["91793","Störzelbach","-16 °C","Nürnberg"]
["87677","Stöttwang","-16 °C","Kempten"]
["53881","Stotzheim","-14 °C","Nürburg-Barweiler"]
["06896","Straach","-14 °C","Leipzig"]
["41542","Straberg","-10 °C","Düsseldorf"]
["47638","Straelen","-10 °C","Düsseldorf"]
["02747","Strahwalde","-16 °C","Görlitz"]
["19073","Stralendorf","-12 °C","Schwerin"]
["1840.","Stralsund","-10 °C","Rostock"]
["08527","Straßberg","-16 °C","Meiningen"]
["72479","Straßberg","-16 °C","Stuttgart"]
["73529","Straßdorf","-16 °C","Stuttgart"]
["56587","Straßenhaus","-14 °C","Nürburg-Barweiler"]
["01936","Strassgräbchen","-16 °C","Dresden"]
["94342","Straßkirchen","-18 °C","Straubing"]
["75334","Straubenhardt","-14 °C","Stuttgart"]
["9430.","Straubing","-18 °C","Straubing"]
["15913","Straupitz","-16 °C","Lindenberg"]
["15344","Strausberg","-14 °C","Lindenberg"]
["01616","Strehla","-16 °C","Dresden"]
["72336","Streichen","-18 °C","Stuttgart"]
["54597","Strickscheid","-14 °C","Trier"]
["09661","Striegistal","-14 °C","Erfurt"]
["03046","Ströbitz","-16 °C","Lindenberg"]
["04703","Strocken","-14 °C","Leipzig"]
["77723","Strohbach","-14 °C","Karlsruhe"]
["04720","Strölla","-14 °C","Leipzig"]
["83489","Strub","-16 °C","Hohenpeißenberg"]
["96129","Strullendorf","-16 °C","Bamberg"]
["71384","Strümpfelbach","-14 °C","Stuttgart"]
["69429","Strümpfelbrunn","-14 °C","Würzburg"]
["01796","Struppen","-14 °C","Dresden"]
["96231","Stublang","-16 °C","Bamberg"]
["79778","Stühlingen","-14 °C","Stuttgart"]
["28816","Stuhr","-12 °C","Bremen"]
["27211","Stühren","-12 °C","Bremen"]
["33758","Stukenbrock","-12 °C","Fritzlar"]
["76297","Stutensee","-12 °C","Karlsruhe"]
["08328","Stützengrün","-16 °C","Meiningen"]
["41749","Süchteln","-10 °C","Düsseldorf"]
["18273","Suckow","-12 °C","Rostock"]
["26203","Süd Moslesfehn","-12 °C","Emden"]
["26624","Südbrookmerland","-10 °C","Emden"]
["29556","Suderburg","-12 °C","Hannover"]
["18516","Süderholz","-12 °C","Rostock"]
["46354","Südlohn","-10 °C","Düsseldorf"]
["46354","Südlohn","-10 °C","Düsseldorf"]
["98527","Suhl","-16 °C","Meiningen"]
["98529","Suhl","-16 °C","Meiningen"]
["9850.","Suhl","-16 °C","Meiningen"]
["38442","Sülfeld","-14 °C","Magdeburg"]
["78713","Sulgen","-16 °C","Stuttgart"]
["27232","Sulingen","-12 °C","Bremen"]
["88437","Sulmingen","-16 °C","Stuttgart"]
["77933","Sulz","-12 °C","Karlsruhe"]
["72218","Sulz","-16 °C","Stuttgart"]
["72172","Sulz am Neckar","-16 °C","Stuttgart"]
["86551","Sulzbach","-16 °C","Augsburg"]
["76316","Sulzbach","-12 °C","Karlsruhe"]
["63834","Sulzbach","-12 °C","Würzburg"]
["74429","Sulzbach - Laufen","-16 °C","Stuttgart"]
["92237","Sulzbach - Rosenberg","-16 °C","Nürnberg"]
["66280","Sulzbach/Saar","-12 °C","Saarbrücken"]
["65843","Sulzbach/Taunus","-14 °C","Nürburg-Barweiler"]
["71560","Sulzbach-Murr","-14 °C","Stuttgart"]
["79295","Sulzburg","-14 °C","Karlsruhe"]
["97528","Sulzdorf an der Lederhecke","-16 °C","Würzburg"]
["85254","Sulzemoos","-16 °C","München"]
["97262","Sulzwiesen","-14 °C","Würzburg"]
["93104","Sünching","-18 °C","Straubing"]
["59846","Sundern","-14 °C","Nürburg-Barweiler"]
["39343","Süplingen","-14 °C","Magdeburg"]
["89150","Suppingen","-16 °C","Augsburg"]
["04860","Süptitz","-16 °C","Leipzig"]
["24229","Surendorf","-10 °C","Schleswig"]
["03226","Suschow","-16 °C","Lindenberg"]
["83250","Süssen","-18 °C","Hohenpeißenberg"]
["73079","Süßen","-16 °C","Stuttgart"]
["21398","Süttorf","-12 °C","Hamburg"]
["53913","Swisttal","-14 °C","Nürburg-Barweiler"]
["16230","Sydower Fließ","-14 °C","Neuruppin"]
["28857","Syke","-12 °C","Bremen"]
["06333","Sylda","-14 °C","Leipzig"]
["89428","Syrgenstein","-16 °C","Augsburg"]
["72348","Täbingen","-16 °C","Stuttgart"]
["86356","Täfertingen","-16 °C","Augsburg"]
["71126","Tailfingen","-16 °C","Stuttgart"]
["72461","Tailfingen","-18 °C","Stuttgart"]
["69242","Tairnbach","-12 °C","Würzburg"]
["74541","Talberg","-16 °C","Stuttgart"]
["72116","Talheim","-18 °C","Stuttgart"]
["74388","Talheim","-12 °C","Stuttgart"]
["78607","Talheim","-18 °C","Stuttgart"]
["71732","Tamm","-12 °C","Stuttgart"]
["39590","Tangermünde","-14 °C","Magdeburg"]
["36251","Tann","-14 °C","Fritzlar"]
["36142","Tann/Rhön","-16 °C","Fritzlar"]
["38875","Tanne","-16 °C","Magdeburg"]
["79400","Tannenkirch","-12 °C","Karlsruhe"]
["92723","Tännesberg","-18 °C","Nürnberg"]
["88459","Tannheim","-16 °C","Stuttgart"]
["54296","Tarforst","-12 °C","Trier"]
["27412","Tarmstedt","-12 °C","Bremen"]
["01906","Taschendorf","-16 °C","Dresden"]
["25881","Tating","-10 °C","Schleswig"]
["02991","Tätschwitz","-16 °C","Görlitz"]
["97941","Tauberbischofsheim","-14 °C","Würzburg"]
["85114","Tauberfeld","-16 °C","München"]
["97285","Tauberrettersheim","-16 °C","Würzburg"]
["04425","Taucha","-14 °C","Leipzig"]
["82024","Taufkirchen","-16 °C","Kempten"]
["84574","Taufkirchen","-16 °C","Straubing"]
["84416","Taufkirchen / Vils","-16 °C","Straubing"]
["65232","Taunusstein","-14 °C","Nürburg-Barweiler"]
["01561","Tauscha","-16 °C","Dresden"]
["54456","Tawern","-12 °C","Trier"]
["85235","Taxa","-16 °C","München"]
["19288","Techentin","-14 °C","Schwerin"]
["02625","Technitz","-16 °C","Görlitz"]
["93105","Tegernheim","-16 °C","Straubing"]
["04617","Tegkwitz","-14 °C","Leipzig"]
["07407","Teichröda","-14 °C","Erfurt"]
["83317","Teisendorf","-16 °C","Hohenpeißenberg"]
["94241","Teisnach-Arnetsried","-18 °C","Straubing"]
["37339","Teistungen","-16 °C","Fritzlar"]
["48291","Telgte","-12 °C","Hannover"]
["56858","Tellig","-14 °C","Nürburg-Barweiler"]
["14513","Teltow","-14 °C","Potsdam"]
["89160","Temmenhausen","-16 °C","Augsburg"]
["16230","Tempelfelde","-14 °C","Neuruppin"]
["17268","Templin","-14 °C","Greifswald"]
["32609","Tengern","-12 °C","Fritzlar"]
["79331","Teningen","-12 °C","Karlsruhe"]
["78144","Tennenbronn","-16 °C","Stuttgart"]
["03139","Terpe","-16 °C","Lindenberg"]
["19243","Tessin","-12 °C","Schwerin"]
["17166","Teterow","-12 °C","Greifswald"]
["88069","Tettnang","-14 °C","Konstanz"]
["92552","Teunz","-18 °C","Nürnberg"]
["15755","Teupitz","-14 °C","Lindenberg"]
["96358","Teuschnitz","-18 °C","Bamberg"]
["32689","Tevenhausen","-14 °C","Fritzlar"]
["86943","Thaining","-16 °C","Kempten"]
["36157","Thalau","-16 °C","Fritzlar"]
["07616","Thalbürgel","-14 °C","Erfurt"]
["06502","Thale","-14 °C","Leipzig"]
["83629","Thalham","-18 °C","Hohenpeißenberg"]
["86657","Thalheim","-16 °C","Augsburg"]
["09380","Thalheim","-14 °C","Meiningen"]
["66871","Thallichtenberg","-14 °C","Saarbrücken"]
["04808","Thallwitz","-14 °C","Leipzig"]
["91177","Thalmässing","-16 °C","Nürnberg"]
["99947","Thamsbrück","-14 °C","Erfurt"]
["72406","Thanheim","-18 °C","Stuttgart"]
["83101","Thansau","-16 °C","Hohenpeißenberg"]
["86470","Thaunhausen","-16 °C","Augsburg"]
["33739","Theesen","-12 °C","Fritzlar"]
["39291","Theeßen","-14 °C","Magdeburg"]
["97711","Theinfeld","-16 °C","Würzburg"]
["66871","Theisbergstegen","-12 °C","Saarbrücken"]
["92245","Theuern","-16 °C","Nürnberg"]
["01561","Thiendorf","-16 °C","Dresden"]
["04567","Thierbach","-14 °C","Leipzig"]
["06888","Thießen","-14 °C","Leipzig"]
["96369","Thonberg","-16 °C","Bamberg"]
["29308","Thören","-12 °C","Hannover"]
["54340","Thörnich","-12 °C","Trier"]
["08538","Thossen","-18 °C","Meiningen"]
["04552","Thräna","-14 °C","Leipzig"]
["04683","Threna","-14 °C","Leipzig"]
["97723","Thulba","-14 °C","Würzburg"]
["33154","Thüle","-12 °C","Fritzlar"]
["09419","Thum","-14 °C","Meiningen"]
["04668","Thümmlitzwalde","-14 °C","Leipzig"]
["92703","Thumsenreuth","-16 °C","Nürnberg"]
["97711","Thundorf","-16 °C","Würzburg"]
["56743","Thür","-14 °C","Nürburg-Barweiler"]
["94169","Thurmannsbang","-18 °C","Straubing"]
["89257","Tiefenbach","-16 °C","Augsburg"]
["94113","Tiefenbach","-16 °C","Straubing"]
["76684","Tiefenbach","-12 °C","Stuttgart"]
["88422","Tiefenbach","-16 °C","Stuttgart"]
["75233","Tiefenbronn","-14 °C","Stuttgart"]
["08626","Tiefenbrunn ü. Adorf/Vogtland","-18 °C","Meiningen"]
["79862","Tiefenhäusern","-16 °C","Stuttgart"]
["16259","Tiefensee","-14 °C","Neuruppin"]
["77704","Tiergarten","-14 °C","Karlsruhe"]
["72469","Tieringen","-18 °C","Stuttgart"]
["37115","Tiftlingerode","-16 °C","Fritzlar"]
["24644","Timmaspe","-12 °C","Schleswig"]
["26629","Timmel","-10 °C","Emden"]
["23669","Timmendorfer Strand","-10 °C","Schwerin"]
["25917","Tinningstedt","-10 °C","Schleswig"]
["07546","Tinz","-14 °C","Erfurt"]
["08606","Tirpersdorf","-16 °C","Meiningen"]
["95643","Tirschenreuth","-18 °C","Hof"]
["72636","Tischardt","-16 °C","Stuttgart"]
["79822","Titisee-Neustadt","-18 °C","Stuttgart"]
["94104","Tittling","-16 °C","Straubing"]
["84529","Tittmoning","-16 °C","Straubing"]
["52445","Titz","-12 °C","Aachen"]
["08538","Tobertitz","-16 °C","Meiningen"]
["19230","Toddin","-12 °C","Schwerin"]
["79682","Todtmoos","-16 °C","Stuttgart"]
["79674","Todtnau","-16 °C","Stuttgart"]
["84513","Töging","-16 °C","Straubing"]
["04720","Töllschütz","-14 °C","Leipzig"]
["06231","Tollwitz","-14 °C","Leipzig"]
["47918","Tönisvorst","-10 °C","Düsseldorf"]
["99958","Tonna","-14 °C","Erfurt"]
["15755","Töpchin","-14 °C","Lindenberg"]
["09306","Topfseifersdorf","-14 °C","Erfurt"]
["04860","Torgau","-16 °C","Leipzig"]
["17192","Torgelow","-12 °C","Greifswald"]
["88212","Torkenweiler","-14 °C","Konstanz"]
["06774","Tornau","-14 °C","Leipzig"]
["25436","Tornesch","-10 °C","Schleswig"]
["39249","Tornitz","-14 °C","Magdeburg"]
["02991","Torno","-16 °C","Görlitz"]
["16230","Tornow","-14 °C","Neuruppin"]
["21255","Tostedt","-12 °C","Hamburg"]
["56841","Traben - Trarbach","-12 °C","Nürburg-Barweiler"]
["96257","Trainau","-16 °C","Bamberg"]
["17449","Trassenheide","-12 °C","Greifswald"]
["92283","Traunfeld","-16 °C","Nürnberg"]
["83278","Traunstein","-16 °C","Hohenpeißenberg"]
["04749","Trebanitz","-14 °C","Leipzig"]
["14959","Trebbin","-14 °C","Potsdam"]
["02959","Trebendorf","-16 °C","Görlitz"]
["14822","Trebitz","-14 °C","Potsdam"]
["19249","Trebs","-12 °C","Schwerin"]
["92699","Trebsau","-16 °C","Nürnberg"]
["89558","Treffelhausen","-16 °C","Augsburg"]
["34388","Trendelburg","-14 °C","Fritzlar"]
["15236","Treplin","-14 °C","Lindenberg"]
["08233","Treuen","-16 °C","Meiningen"]
["01561","Treugeböhla","-16 °C","Dresden"]
["34613","Treysa","-14 °C","Fritzlar"]
["78098","Triberg","-18 °C","Stuttgart"]
["08606","Triebel","-18 °C","Meiningen"]
["54294","Trier","-10 °C","Trier"]
["54311","Trierweiler","-12 °C","Trier"]
["84371","Triftern","-16 °C","Straubing"]
["72401","Trillfingen","-16 °C","Stuttgart"]
["67705","Trippstadt","-12 °C","Saarbrücken"]
["07819","Triptis","-14 °C","Erfurt"]
["54349","Trittenheim","-10 °C","Trier"]
["03253","Tröbitz","-16 °C","Lindenberg"]
["72818","Trochtelfingen","-18 °C","Stuttgart"]
["95183","Trogen","-18 °C","Hof"]
["06729","Tröglitz","-14 °C","Leipzig"]
["53840","Troisdorf","-12 °C","Nürburg-Barweiler"]
["91793","Trommertsheim","-16 °C","Nürnberg"]
["04880","Trossin","-16 °C","Leipzig"]
["78647","Trossingen","-18 °C","Stuttgart"]
["98646","Trostadt","-16 °C","Meiningen"]
["81825","Trudering","-16 °C","München"]
["66957","Trulben","-12 °C","Saarbrücken"]
["87779","Trunkelsberg","-16 °C","Augsburg"]
["08428","Trunzig","-14 °C","Erfurt"]
["98596","Trusetal","-16 °C","Meiningen"]
["34613","Trutzhain","-14 °C","Fritzlar"]
["03130","Tschernitz","-16 °C","Lindenberg"]
["7207.","Tübingen","-16 °C","Stuttgart"]
["90587","Tuchenbach","-16 °C","Nürnberg"]
["52538","Tüddern","-10 °C","Aachen"]
["795..","Tüllingen","-12 °C","Stuttgart"]
["99947","Tüngeda","-14 °C","Erfurt"]
["78609","Tuningen","-18 °C","Stuttgart"]
["79189","Tunsel","-14 °C","Karlsruhe"]
["83104","Tuntenhausen","-16 °C","Hohenpeißenberg"]
["99610","Tunzenhausen","-14 °C","Erfurt"]
["82299","Türkenfeld","-16 °C","Kempten"]
["86842","Türkheim","-16 °C","Kempten"]
["66625","Türkismühle","-14 °C","Saarbrücken"]
["03185","Turnow","-16 °C","Lindenberg"]
["29482","Tüschau","-14 °C","Hannover"]
["84577","Tüßling","-16 °C","Straubing"]
["84577","Tüssling","-16 °C","Straubing"]
["78532","Tuttlingen","-16 °C","Stuttgart"]
["17091","Tützpatz","-14 °C","Greifswald"]
["49767","Twist","-10 °C","Hannover"]
["27239","Twistringen","-12 °C","Bremen"]
["52531","Übach-Palenberg","-12 °C","Aachen"]
["86641","Überacker","-16 °C","Augsburg"]
["82216","Überacker","-16 °C","Kempten"]
["87463","Überbach","-16 °C","Kempten"]
["88662","Überlingen","-12 °C","Konstanz"]
["83236","Übersee","-16 °C","Hohenpeißenberg"]
["76698","Ubstadt","-12 °C","Stuttgart"]
["31600","Uchte","-12 °C","Hannover"]
["97532","Üchtelhausen","-16 °C","Würzburg"]
["39599","Uchtspringe","-14 °C","Magdeburg"]
["45886","Ückendorf","-10 °C","Düsseldorf"]
["53773","Uckerath","-12 °C","Nürburg-Barweiler"]
["04938","Uebigau","-16 °C","Leipzig"]
["17373","Ueckermünde","-12 °C","Greifswald"]
["47589","Uedem","-10 °C","Düsseldorf"]
["91486","Uehlfeld","-16 °C","Nürnberg"]
["49843","Uelsen","-10 °C","Hannover"]
["29525","Uelzen","-14 °C","Hannover"]
["59071","Uentrop","-12 °C","Nürburg-Barweiler"]
["31311","Uetze","-14 °C","Hannover"]
["97215","Uffenheim","-16 °C","Würzburg"]
["82449","Uffing","-16 °C","Kempten"]
["73066","Uhingen","-16 °C","Stuttgart"]
["70329","Uhlbach","-12 °C","Stuttgart"]
["79777","Ühlingen","-14 °C","Stuttgart"]
["02999","Uhyst","-16 °C","Görlitz"]
["88527","Uingendorf","-14 °C","Stuttgart"]
["32584","Ulenburg","-12 °C","Fritzlar"]
["02906","Ullersdorf","-16 °C","Görlitz"]
["77871","Ulm","-12 °C","Karlsruhe"]
["8907.","Ulm/Donau","-14 °C","Augsburg"]
["66887","Ulmet","-14 °C","Saarbrücken"]
["06543","Ulzigerode","-14 °C","Leipzig"]
["33...","Ummeln","-12 °C","Fritzlar"]
["39365","Ummendorf","-14 °C","Magdeburg"]
["88444","Ummendorf","-16 °C","Stuttgart"]
["55278","Undenheim","-12 °C","Trier"]
["53572","Unkel","-12 °C","Nürburg-Barweiler"]
["88527","Unlingen","-14 °C","Stuttgart"]
["5942.","Unna","-12 °C","Nürburg-Barweiler"]
["69518","Unterabtsteinach","-12 °C","Würzburg"]
["79774","Unteralpfen","-14 °C","Stuttgart"]
["78073","Unterbaldingen","-16 °C","Stuttgart"]
["89437","Unterbechingen","-16 °C","Augsburg"]
["86657","Unterbissingen","-16 °C","Augsburg"]
["87782","Unteregg","-16 °C","Augsburg"]
["97247","Untereisenheim","-14 °C","Würzburg"]
["74257","Untereisesheim","-12 °C","Stuttgart"]
["72669","Unterensingen","-14 °C","Stuttgart"]
["77736","Unterentersbach","-14 °C","Stuttgart"]
["88454","Unteressendorf","-16 °C","Stuttgart"]
["89278","Unterfalheim","-14 °C","Augsburg"]
["74924","Untergimpern","-12 °C","Stuttgart"]
["94107","Untergriesbach","-18 °C","Straubing"]
["74177","Untergriesheim","-12 °C","Stuttgart"]
["76646","Untergrombach","-12 °C","Stuttgart"]
["73453","Untergröningen","-16 °C","Stuttgart"]
["74199","Untergruppenbach","-12 °C","Stuttgart"]
["96173","Unterhaid","-16 °C","Bamberg"]
["91227","Unterhaidelbach","-16 °C","Nürnberg"]
["75378","Unterhaugstett ( Bad Liebenzell )","-14 °C","Stuttgart"]
["72805","Unterhausen","-18 °C","Stuttgart"]
["74199","Unterheinriet","-14 °C","Stuttgart"]
["79256","Unteribental","-18 °C","Stuttgart"]
["97340","Unterickelsheim","-16 °C","Würzburg"]
["72070","Unterjesingen","-16 °C","Stuttgart"]
["71131","Unterjettingen","-16 °C","Stuttgart"]
["06721","Unterkaka","-14 °C","Leipzig"]
["89171","Unterkirchberg","-16 °C","Augsburg"]
["89331","Unterknöringen","-16 °C","Augsburg"]
["75394","Unterkollbach","-16 °C","Stuttgart"]
["07922","Unterkoskau","-16 °C","Meiningen"]
["75328","Unterlengenhardt","-16 °C","Stuttgart"]
["73252","Unterlenningen","-16 °C","Stuttgart"]
["85410","Untermarchenbach","-16 °C","München"]
["91171","Untermässing","-16 °C","Nürnberg"]
["86929","Untermühlhausen","-16 °C","Kempten"]
["74547","Untermünkheim","-16 °C","Stuttgart"]
["79244","Untermünstertal","-18 °C","Karlsruhe"]
["76703","Unteröwisheim","-12 °C","Stuttgart"]
["82110","Unterpfaffenhofen","-16 °C","Kempten"]
["86871","Unterrammingen","-16 °C","Kempten"]
["75339","Unterreichenbach","-14 °C","Stuttgart"]
["83567","Unterreit","-16 °C","Hohenpeißenberg"]
["89299","Unterroth","-16 °C","Augsburg"]
["85716","Unterschleißheim","-16 °C","München"]
["73485","Unterschneidheim","-16 °C","Stuttgart"]
["74869","Unterschwarzach","-12 °C","Stuttgart"]
["88410","Unterschwarzach","-16 °C","Stuttgart"]
["96253","Untersiemau","-14 °C","Bamberg"]
["82395","Untersöchering","-16 °C","Kempten"]
["74423","Untersontheim","-16 °C","Stuttgart"]
["89619","Unterstadion","-14 °C","Augsburg"]
["96154","Untersteinach","-16 °C","Bamberg"]
["74629","Untersteinbach","-16 °C","Stuttgart"]
["88471","Untersulmetingen","-16 °C","Stuttgart"]
["72160","Untertalheim","-16 °C","Stuttgart"]
["70327","Untertürkheim","-12 °C","Stuttgart"]
["97654","Unterwaldbehrungen","-16 °C","Würzburg"]
["79780","Unterwangen","-14 °C","Stuttgart"]
["71554","Unterweissach","-14 °C","Stuttgart"]
["86519","Unterwiesenbach","-16 °C","Augsburg"]
["83246","Unterwössen","-16 °C","Hohenpeißenberg"]
["87496","Untrasried","-16 °C","Kempten"]
["23936","Upahl","-10 °C","Schwerin"]
["72813","Upfingen","-18 °C","Stuttgart"]
["5....","Urbach","-12 °C","Düsseldorf"]
["99765","Urbach","-14 °C","Erfurt"]
["73660","Urbach","-16 °C","Stuttgart"]
["56182","Urbar","-12 °C","Nürburg-Barweiler"]
["50389","Urfeld","-12 °C","Düsseldorf"]
["77767","Urloffen","-12 °C","Karlsruhe"]
["88693","Urnau","-14 °C","Stuttgart"]
["86513","Ursberg","-16 °C","Augsburg"]
["91710","Ursberg","-16 °C","Nürnberg"]
["61250","Usingen","-14 °C","Fritzlar"]
["37170","Uslar","-14 °C","Fritzlar"]
["88524","Uttenweiler","-14 °C","Stuttgart"]
["54619","Üttfeld","-14 °C","Trier"]
["86919","Utting/Ammersee","-16 °C","Kempten"]
["97292","Üttingen","-12 °C","Würzburg"]
["79694","Utzenfeld","-16 °C","Stuttgart"]
["73577","Utzstetten","-16 °C","Stuttgart"]
["54579","Üxheim","-14 °C","Trier"]
["90768","Vach","-16 °C","Nürnberg"]
["98617","Vachdorf","-16 °C","Meiningen"]
["83620","Vagen","-18 °C","Hohenpeißenberg"]
["70563","Vaihingen","-14 °C","Stuttgart"]
["71665","Vaihingen an der Enz","-14 °C","Stuttgart"]
["33397","Varensell","-12 °C","Fritzlar"]
["76534","Varnhalt","-14 °C","Karlsruhe"]
["34519","Vasbeck","-14 °C","Fritzlar"]
["49377","Vechta","-12 °C","Hannover"]
["38871","Veckenstedt","-14 °C","Magdeburg"]
["16866","Vehlow","-14 °C","Neuruppin"]
["90587","Veitsbronn","-16 °C","Nürnberg"]
["42549","Velbert","-12 °C","Düsseldorf"]
["42553","Velbert (Neviges)","-12 °C","Düsseldorf"]
["92355","Velburg","-16 °C","Nürnberg"]
["91235","Velden","-16 °C","Nürnberg"]
["84149","Velden/Vils","-16 °C","Straubing"]
["46342","Velen","-10 °C","Düsseldorf"]
["34246","Vellmar","-14 °C","Fritzlar"]
["55578","Vendersheim","-12 °C","Trier"]
["27283","Verden","-12 °C","Bremen"]
["72519","Veringenstadt","-16 °C","Stuttgart"]
["33415","Verl","-12 °C","Fritzlar"]
["33775","Versmold","-12 °C","Fritzlar"]
["03226","Vetschau","-16 °C","Lindenberg"]
["53560","Vettelschoß","-12 °C","Nürburg-Barweiler"]
["52391","Vettweiß","-12 °C","Aachen"]
["94234","Viechtach","-18 °C","Straubing"]
["08149","Vielau","-14 °C","Erfurt"]
["16835","Vielitz","-14 °C","Neuruppin"]
["38690","Vienenburg","-14 °C","Magdeburg"]
["02894","Vierkirchen","-16 °C","Görlitz"]
["68519","Viernheim","-12 °C","Karlsruhe"]
["17509","Vierow","-12 °C","Greifswald"]
["16306","Vierraden","-16 °C","Neuruppin"]
["417..","Viersen","-10 °C","Düsseldorf"]
["19230","Viez","-12 °C","Schwerin"]
["86946","Vilgertshofen","-16 °C","Kempten"]
["86637","Villenbach","-16 °C","Augsburg"]
["7805.","Villingen/Schwarzw.","-16 °C","Stuttgart"]
["78667","Villingendorf","-16 °C","Stuttgart"]
["84149","Vils","-16 °C","Straubing"]
["84137","Vilsbiburg","-16 °C","Straubing"]
["92249","Vilseck","-16 °C","Nürnberg"]
["84186","Vilsheim","-16 °C","Straubing"]
["94474","Vilshofen","-16 °C","Straubing"]
["72514","Vilsingen","-16 °C","Stuttgart"]
["66957","Vinningen","-12 °C","Saarbrücken"]
["32839","Vinsebeck","-14 °C","Fritzlar"]
["39599","Vinzelberg","-14 °C","Magdeburg"]
["56729","Virneburg","-14 °C","Nürburg-Barweiler"]
["53909","Virnich","-14 °C","Nürburg-Barweiler"]
["18565","Vitte/Hiddensee","-10 °C","Rostock"]
["32602","Vlotho","-12 °C","Fritzlar"]
["47506","Vluyn","-10 °C","Düsseldorf"]
["06786","Vockerode","-14 °C","Leipzig"]
["46562","Voerde/Niederrhein","-10 °C","Düsseldorf"]
["37574","Vogelbeck","-16 °C","Fritzlar"]
["04880","Vogelgesang","-16 °C","Leipzig"]
["99610","Vogelsberg","-14 °C","Erfurt"]
["08209","Vogelsgrün zw.Auerbach/Schönheide","-16 °C","Meiningen"]
["79379","Vögisheim","-12 °C","Karlsruhe"]
["88267","Vogt","-16 °C","Stuttgart"]
["79235","Vogtsburg","-12 °C","Karlsruhe"]
["85088","Vohburg","-18 °C","München"]
["34516","Vöhl","-14 °C","Fritzlar"]
["89269","Vöhringen","-16 °C","Augsburg"]
["72189","Vöhringen","-16 °C","Stuttgart"]
["72189","Vöhringen-Wittershausen","-16 °C","Stuttgart"]
["97332","Völkach","-14 °C","Würzburg"]
["37124","Volkerode","-14 °C","Fritzlar"]
["37308","Volkerode","-16 °C","Fritzlar"]
["76316","Völkersbach","-14 °C","Karlsruhe"]
["76857","Völkersweiler","-12 °C","Saarbrücken"]
["78269","Volkertshausen","-14 °C","Konstanz"]
["66333","Völklingen","-12 °C","Saarbrücken"]
["06295","Volkstedt","-14 °C","Leipzig"]
["72202","Vollmaringen","-16 °C","Stuttgart"]
["34253","Vollmarshausen","-14 °C","Fritzlar"]
["74736","Vollmersdorf","-14 °C","Stuttgart"]
["35625","Vollnkirchen","-14 °C","Fritzlar"]
["58300","Volmastein","-12 °C","Nürburg-Barweiler"]
["39393","Völpke","-14 °C","Magdeburg"]
["41179","Voosen","-10 °C","Düsseldorf"]
["18258","Vorbeck","-12 °C","Rostock"]
["49434","Vörden","-12 °C","Hannover"]
["25554","Vorder Neuendorf","-10 °C","Schleswig"]
["57271","Vormwald","-14 °C","Nürburg-Barweiler"]
["91247","Vorra","-16 °C","Nürnberg"]
["38440","Vorsfelde","-14 °C","Magdeburg"]
["47918","Vorst","-10 °C","Düsseldorf"]
["79279","Vörstetten","-12 °C","Karlsruhe"]
["37632","Vorwohle","-14 °C","Fritzlar"]
["48691","Vreden","-10 °C","Hannover"]
["37136","Waake","-16 °C","Fritzlar"]
["83666","Waakirchen","-18 °C","Hohenpeißenberg"]
["86875","Waal","-16 °C","Kempten"]
["34590","Wabern","-14 °C","Fritzlar"]
["01454","Wachau","-14 °C","Dresden"]
["53894","Wachendorf","-14 °C","Nürburg-Barweiler"]
["72181","Wachendorf","-16 °C","Stuttgart"]
["67157","Wachenheim","-12 °C","Saarbrücken"]
["53343","Wachtberg","-14 °C","Nürburg-Barweiler"]
["47669","Wachtendonk","-10 °C","Düsseldorf"]
["47669","Wachterdonk","-10 °C","Düsseldorf"]
["63607","Wächtersbach","-14 °C","Würzburg"]
["01306","Wachwitz","-14 °C","Dresden"]
["25596","Wacken","-12 °C","Schleswig"]
["55263","Wackernheim","-12 °C","Trier"]
["92442","Wackersdorf","-16 °C","Nürnberg"]
["66687","Wadern","-12 °C","Saarbrücken"]
["59329","Wadersloh","-12 °C","Nürburg-Barweiler"]
["66787","Wadgassen","-12 °C","Saarbrücken"]
["66687","Wadrill","-14 °C","Saarbrücken"]
["74838","Wagenschwend","-14 °C","Stuttgart"]
["79336","Wagenstadt","-12 °C","Karlsruhe"]
["68753","Waghäusel","-12 °C","Karlsruhe"]
["37194","Wahlsburg","-12 °C","Fritzlar"]
["04924","Wahrenbrück","-16 °C","Leipzig"]
["23923","Wahrsow","-10 °C","Schwerin"]
["18059","Wahrstorf","-12 °C","Rostock"]
["7133.","Waiblingen","-12 °C","Stuttgart"]
["74915","Waibstadt","-12 °C","Stuttgart"]
["92726","Waidhaus","-18 °C","Hof"]
["39356","Walbeck","-14 °C","Magdeburg"]
["53332","Walberberg","-12 °C","Nürburg-Barweiler"]
["88639","Walbertsweiler","-14 °C","Stuttgart"]
["37235","Walburg","-14 °C","Fritzlar"]
["94501","Walchsing","-16 °C","Straubing"]
["53902","Wald","-14 °C","Nürburg-Barweiler"]
["93192","Wald","-16 °C","Straubing"]
["88639","Wald","-14 °C","Stuttgart"]
["72178","Waldachtal","-16 °C","Stuttgart"]
["55425","Waldalgesheim","-14 °C","Trier"]
["74889","Waldangelloch","-12 °C","Stuttgart"]
["74626","Waldbach","-14 °C","Stuttgart"]
["51545","Waldbröl","-12 °C","Nürburg-Barweiler"]
["76337","Waldbronn","-14 °C","Stuttgart"]
["69429","Waldbrunn","-14 °C","Würzburg"]
["88289","Waldburg","-14 °C","Stuttgart"]
["97297","Waldbüttelbrunn","-14 °C","Würzburg"]
["72213","Walddorf","-16 °C","Stuttgart"]
["72141","Walddorfhäslach","-16 °C","Stuttgart"]
["34513","Waldeck/Hessen","-14 °C","Fritzlar"]
["65529","Waldems","-14 °C","Nürburg-Barweiler"]
["71111","Waldenbuch","-16 °C","Stuttgart"]
["08396","Waldenburg","-14 °C","Erfurt"]
["74638","Waldenburg","-16 °C","Stuttgart"]
["06844","Waldersee","-14 °C","Leipzig"]
["52525","Waldfeucht","-10 °C","Aachen"]
["67714","Waldfischbach","-12 °C","Saarbrücken"]
["35633","Waldgirmes","-12 °C","Fritzlar"]
["04736","Waldheim","-14 °C","Leipzig"]
["69151","Waldhilsbach","-12 °C","Würzburg"]
["37284","Waldkappel","-14 °C","Fritzlar"]
["79183","Waldkirch","-14 °C","Stuttgart"]
["08485","Waldkirchen","-16 °C","Erfurt"]
["84478","Waldkraiburg","-16 °C","Straubing"]
["55444","Waldlaubersheim","-12 °C","Trier"]
["69483","Wald-Michelbach","-12 °C","Würzburg"]
["66914","Waldmohr","-12 °C","Saarbrücken"]
["78713","Waldmössingen","-16 °C","Stuttgart"]
["74842","Waldmühlbach","-14 °C","Stuttgart"]
["53498","Waldorf","-14 °C","Nürburg-Barweiler"]
["71522","Waldrems","-14 °C","Stuttgart"]
["75305","Waldrennach","-14 °C","Stuttgart"]
["08393","Waldsachsen","-14 °C","Erfurt"]
["67165","Waldsee","-12 °C","Saarbrücken"]
["79761","Waldshut - Tiengen","-12 °C","Stuttgart"]
["04821","Waldsteinberg","-14 °C","Leipzig"]
["73550","Waldstetten","-16 °C","Stuttgart"]
["74931","Waldwimmersbach","-12 °C","Stuttgart"]
["74399","Walheim","-12 °C","Stuttgart"]
["64546","Walldorf","-12 °C","Würzburg"]
["69190","Walldorf","-12 °C","Würzburg"]
["74731","Walldürn","-16 °C","Stuttgart"]
["49134","Wallenhorst","-12 °C","Hannover"]
["94522","Wallersdorf","-18 °C","Straubing"]
["86757","Wallerstein","-16 °C","Augsburg"]
["55578","Wallertheim","-12 °C","Trier"]
["82499","Wallgau","-18 °C","Kempten"]
["66917","Wallhalben","-12 °C","Saarbrücken"]
["65510","Wallrabenstein","-14 °C","Nürburg-Barweiler"]
["06193","Wallwitz","-14 °C","Leipzig"]
["88487","Walpertshofen","-16 °C","Stuttgart"]
["85469","Walpertskirchen","-16 °C","München"]
["29664","Walsrode","-12 °C","Hannover"]
["4716.","Walsum","-10 °C","Düsseldorf"]
["02799","Waltersdorf","-16 °C","Görlitz"]
["99880","Waltershausen","-16 °C","Erfurt"]
["79...","Waltershofen","-12 °C","Karlsruhe"]
["45731","Waltrop","-12 °C","Düsseldorf"]
["75045","Walzbachtal","-12 °C","Stuttgart"]
["65388","Wambach","-14 °C","Nürburg-Barweiler"]
["17498","Wampen","-12 °C","Greifswald"]
["56729","Wanderath","-14 °C","Nürburg-Barweiler"]
["24997","Wanderup","-10 °C","Schleswig"]
["37281","Wanfried","-16 °C","Fritzlar"]
["85368","Wang","-16 °C","München"]
["37627","Wangelstedt","-14 °C","Fritzlar"]
["70327","Wangen","-14 °C","Stuttgart"]
["73117","Wangen","-16 °C","Stuttgart"]
["88239","Wangen","-16 °C","Stuttgart"]
["26486","Wangerooge","-10 °C","Emden"]
["72127","Wankheim","-16 °C","Stuttgart"]
["4465.","Wanne-Eickel","-10 °C","Dortmund"]
["39638","Wannefeld","-14 °C","Magdeburg"]
["37627","Wanngelnstedt","-14 °C","Fritzlar"]
["72827","Wannweil","-16 °C","Stuttgart"]
["14641","Wansdorf","-14 °C","Potsdam"]
["39164","Wanzleben","-14 °C","Magdeburg"]
["37640","Warbsen","-12 °C","Fritzlar"]
["26203","Wardenburg","-12 °C","Emden"]
["17192","Waren","-12 °C","Greifswald"]
["48231","Warendorf","-12 °C","Hannover"]
["19417","Warin","-12 °C","Schwerin"]
["19288","Warlow","-14 °C","Schwerin"]
["95485","Warmensteinach","-18 °C","Hof"]
["18119","Warnemünde","-10 °C","Rostock"]
["83627","Warngau","-18 °C","Hohenpeißenberg"]
["19057","Warnitz","-12 °C","Schwerin"]
["23948","Warnkenhausen","-10 °C","Schwerin"]
["18249","Warnow","-12 °C","Rostock"]
["14662","Warsow","-14 °C","Potsdam"]
["72213","Wart","-16 °C","Stuttgart"]
["85456","Wartenberg","-16 °C","München"]
["88447","Warthausen","-16 °C","Stuttgart"]
["97797","Wartmannsroth","-14 °C","Würzburg"]
["31061","Warzen","-14 °C","Hannover"]
["73116","Wäschenbeuren","-16 °C","Stuttgart"]
["56370","Wasenbach","-14 °C","Nürburg-Barweiler"]
["79241","Wasenweiler","-12 °C","Karlsruhe"]
["56653","Wassenach","-14 °C","Nürburg-Barweiler"]
["41849","Wassenberg","-10 °C","Düsseldorf"]
["73433","Wasseralfingen","-16 °C","Stuttgart"]
["41849","Wasserberg","-10 °C","Düsseldorf"]
["83512","Wasserburg am Inn","-16 °C","Hohenpeißenberg"]
["54332","Wasserliesch","-12 °C","Trier"]
["91717","Wassertrüdingen","-16 °C","Nürnberg"]
["96196","Wattendorf","-16 °C","Bamberg"]
["4478.","Wattenscheid","-10 °C","Dortmund"]
["35415","Watzenborn-Steinberg","-14 °C","Fritzlar"]
["66424","Websweiler","-12 °C","Saarbrücken"]
["22880","Wedel/Holstein","-10 °C","Hamburg"]
["30900","Wedemark","-14 °C","Hannover"]
["23795","Weede-Söhren","-10 °C","Schwerin"]
["47652","Weeze","-10 °C","Düsseldorf"]
["41844","Wegberg","-10 °C","Düsseldorf"]
["38828","Wegeleben","-14 °C","Magdeburg"]
["15345","Wegendorf","-14 °C","Lindenberg"]
["78564","Wehingen","-18 °C","Stuttgart"]
["37339","Wehnde","-16 °C","Fritzlar"]
["52538","Wehr","-10 °C","Aachen"]
["79664","Wehr","-12 °C","Stuttgart"]
["49152","Wehrendorf","-12 °C","Hannover"]
["61273","Wehrheim","-14 °C","Fritzlar"]
["91798","Weiboldshausen","-16 °C","Nürnberg"]
["09775","Weicherdange/Luxembourg","-14 °C","Erfurt"]
["85258","Weichs","-16 °C","München"]
["85258","Weichs-Aufhausen","-16 °C","München"]
["07570","Weida","-14 °C","Erfurt"]
["89134","Weidach","-16 °C","Augsburg"]
["91550","Weidelsbach","-16 °C","Nürnberg"]
["92637","Weiden","-16 °C","Nürnberg"]
["91746","Weidenbach","-16 °C","Nürnberg"]
["54570","Weidenbach","-14 °C","Trier"]
["04860","Weidenhain","-16 °C","Leipzig"]
["77654","Weierbach","-12 °C","Karlsruhe"]
["91249","Weigendorf","-16 °C","Nürnberg"]
["78056","Weigheim","-18 °C","Stuttgart"]
["02733","Weigsdorf-Köblitz","-16 °C","Görlitz"]
["91629","Weihenzell","-16 °C","Nürnberg"]
["90513","Weiherhof","-16 °C","Nürnberg"]
["88214","Weiherstobel","-14 °C","Konstanz"]
["84107","Weihmichl","-16 °C","Straubing"]
["88477","Weihungszell","-16 °C","Stuttgart"]
["97990","Weikersheim","-16 °C","Würzburg"]
["78250","Weil","-16 °C","Konstanz"]
["79576","Weil am Rhein","-12 °C","Karlsruhe"]
["71263","Weil der Stadt","-16 °C","Stuttgart"]
["71093","Weil im Schönbuch","-16 °C","Stuttgart"]
["35781","Weilburg","-12 °C","Fritzlar"]
["72367","Weilen unter den Rinnen","-18 °C","Stuttgart"]
["72108","Weiler","-16 °C","Stuttgart"]
["73492","Weiler","-16 °C","Stuttgart"]
["74889","Weiler","-12 °C","Stuttgart"]
["73529","Weiler in den Bergen","-16 °C","Stuttgart"]
["71397","Weiler zum Stein","-14 °C","Stuttgart"]
["91365","Weilersbach","-16 °C","Nürnberg"]
["53919","Weilerswist","-12 °C","Nürburg-Barweiler"]
["82362","Weilheim","-16 °C","Kempten"]
["72379","Weilheim","-16 °C","Stuttgart"]
["73235","Weilheim a.d.Teck","-16 °C","Stuttgart"]
["35789","Weilmünster","-14 °C","Fritzlar"]
["72336","Weilstetten","-18 °C","Stuttgart"]
["9942.","Weimar","-14 °C","Erfurt"]
["34292","Weimar","-14 °C","Fritzlar"]
["35096","Weimar","-12 °C","Fritzlar"]
["01689","Weinböhla","-14 °C","Dresden"]
["99869","Weingarten","-14 °C","Erfurt"]
["76356","Weingarten","-12 °C","Stuttgart"]
["88250","Weingarten","-14 °C","Stuttgart"]
["91358","Weingarts","-16 °C","Nürnberg"]
["88214","Weingartshof","-14 °C","Konstanz"]
["69469","Weinheim/Bergstraße","-10 °C","Würzburg"]
["90518","Weinhof","-16 °C","Nürnberg"]
["74189","Weinsberg","-14 °C","Stuttgart"]
["71384","Weinstadt","-14 °C","Stuttgart"]
["08538","Weischlitz","-16 °C","Meiningen"]
["75175","Weisen","-12 °C","Stuttgart"]
["76599","Weisenbach","-14 °C","Karlsruhe"]
["91085","Weisendorf","-16 °C","Nürnberg"]
["67273","Weisenheim","-12 °C","Saarbrücken"]
["66709","Weiskirchen","-12 °C","Saarbrücken"]
["71287","Weissach","-14 °C","Stuttgart"]
["71554","Weissach im Tal","-14 °C","Stuttgart"]
["71554","Weissach im Tal","-14 °C","Stuttgart"]
["01920","Weißbach","-16 °C","Dresden"]
["01936","Weißbach","-16 °C","Dresden"]
["09439","Weißbach","-14 °C","Meiningen"]
["95237","Weißdorf","-18 °C","Hof"]
["02627","Weissenberg","-16 °C","Görlitz"]
["09600","Weißenborn","-16 °C","Erfurt"]
["91560","Weissenbronn","-16 °C","Nürnberg"]
["91227","Weißenbrunn","-16 °C","Nürnberg"]
["91781","Weissenburg in Bayern","-16 °C","Nürnberg"]
["06667","Weißenfels","-14 °C","Leipzig"]
["89264","Weissenhorn","-16 °C","Augsburg"]
["89264","Weißenhorn","-16 °C","Augsburg"]
["93444","Weißenregen","-18 °C","Straubing"]
["02999","Weißkollm","-16 °C","Görlitz"]
["02628","Weissnaußlitz","-16 °C","Görlitz"]
["02943","Weißwasser","-16 °C","Görlitz"]
["79367","Weisweil","-12 °C","Karlsruhe"]
["23968","Weitendorf","-10 °C","Schwerin"]
["23999","Weitendorf (Insel Poel)","-10 °C","Schwerin"]
["78247","Weiterdingen","-14 °C","Konstanz"]
["01909","Weitersdorf","-16 °C","Dresden"]
["64331","Weiterstadt","-12 °C","Würzburg"]
["17033","Weitin","-14 °C","Greifswald"]
["72184","Weitingen","-16 °C","Stuttgart"]
["87480","Weitnau","-16 °C","Kempten"]
["96479","Weitramsdorf","-16 °C","Bamberg"]
["01108","Weixdorf","-14 °C","Dresden"]
["79780","Weizen","-14 °C","Stuttgart"]
["06333","Welbsleben","-14 °C","Leipzig"]
["86465","Welden","-16 °C","Augsburg"]
["21261","Welle","-12 °C","Hamburg"]
["78669","Wellendingen","-18 °C","Stuttgart"]
["04758","Wellerswalde","-14 °C","Leipzig"]
["66557","Welschbach/Saar","-12 °C","Saarbrücken"]
["56729","Welschenbach","-14 °C","Nürburg-Barweiler"]
["77790","Welschensteinach","-14 °C","Stuttgart"]
["56412","Welschneudorf","-14 °C","Nürburg-Barweiler"]
["75365","Weltenschwann","-16 °C","Stuttgart"]
["59514","Welver","-12 °C","Nürburg-Barweiler"]
["01561","Welxande","-16 °C","Dresden"]
["73642","Welzheim","-16 °C","Stuttgart"]
["38176","Wendeburg","-14 °C","Magdeburg"]
["99988","Wendehausen","-16 °C","Erfurt"]
["72108","Wendelsheim","-16 °C","Stuttgart"]
["55234","Wendelsheim","-12 °C","Trier"]
["90530","Wendelstein/Mittelfr.","-16 °C","Nürnberg"]
["57482","Wenden","-14 °C","Nürburg-Barweiler"]
["01683","Wendischbora","-14 °C","Dresden"]
["04746","Wendishain","-14 °C","Leipzig"]
["73240","Wendlingen","-14 °C","Stuttgart"]
["38448","Wendschott","-14 °C","Magdeburg"]
["84187","Weng","-18 °C","Straubing"]
["94086","Weng","-16 °C","Straubing"]
["54516","Wengerohr","-14 °C","Trier"]
["88416","Wennedach","-16 °C","Stuttgart"]
["30974","Wennigsen","-14 °C","Hannover"]
["93173","Wenzenbach","-18 °C","Straubing"]
["21279","Wenzendorf","-12 °C","Hamburg"]
["04460","Werben","-14 °C","Leipzig"]
["39615","Werben","-14 °C","Magdeburg"]
["02956","Werda","-16 °C","Görlitz"]
["08233","Werda","-16 °C","Meiningen"]
["08412","Werdau","-16 °C","Erfurt"]
["14542","Werder/Havel","-14 °C","Potsdam"]
["58791","Werdohl","-12 °C","Nürburg-Barweiler"]
["59457","Werl","-12 °C","Nürburg-Barweiler"]
["49757","Werlte","-12 °C","Hannover"]
["42929","Wermelskirchen","-12 °C","Düsseldorf"]
["04779","Wermsdorf","-14 °C","Leipzig"]
["92533","Wernberg-Köblitz","-16 °C","Nürnberg"]
["59368","Werne a.d. Lippe","-12 °C","Nürburg-Barweiler"]
["16356","Werneuchen","-14 °C","Neuruppin"]
["91174","Wernfels","-16 °C","Nürnberg"]
["38855","Wernigerode","-16 °C","Magdeburg"]
["09509","Wernsdorf bei Marienberg","-14 °C","Meiningen"]
["56414","Weroth","-14 °C","Nürburg-Barweiler"]
["57614","Weroth","-14 °C","Nürburg-Barweiler"]
["64395","Wersau","-14 °C","Würzburg"]
["53520","Wershofen","-14 °C","Nürburg-Barweiler"]
["40591","Werste","-10 °C","Düsseldorf"]
["97877","Wertheim","-14 °C","Würzburg"]
["33824","Werther","-12 °C","Fritzlar"]
["86637","Wertingen","-16 °C","Augsburg"]
["46325","Weseke","-10 °C","Düsseldorf"]
["46483","Wesel","-10 °C","Düsseldorf"]
["46485","Wesel","-10 °C","Düsseldorf"]
["19288","Weselsdorf","-14 °C","Schwerin"]
["39249","Wespen","-14 °C","Magdeburg"]
["50389","Wesseling/Rheinl.","-10 °C","Düsseldorf"]
["72406","Wessingen","-18 °C","Stuttgart"]
["82234","Weßling","-16 °C","Kempten"]
["04889","Weßnig","-16 °C","Leipzig"]
["48291","Westbevern","-12 °C","Hannover"]
["06449","Westdorf","-14 °C","Leipzig"]
["39448","Westenegeln","-14 °C","Magdeburg"]
["59199","Westerbönen","-12 °C","Nürburg-Barweiler"]
["56457","Westerburg","-14 °C","Nürburg-Barweiler"]
["32130","Westerenger","-12 °C","Fritzlar"]
["21394","Westergellersen","-12 °C","Hamburg"]
["83620","Westerham","-18 °C","Hohenpeißenberg"]
["49324","Westerhausen","-12 °C","Hannover"]
["72589","Westerheim","-18 °C","Stuttgart"]
["37589","Westerhof","-16 °C","Fritzlar"]
["73463","Westerhofen","-16 °C","Stuttgart"]
["24977","Westerholz","-10 °C","Schleswig"]
["89198","Westerstetten","-16 °C","Augsburg"]
["73463","Westhausen","-16 °C","Stuttgart"]
["91747","Westheim","-16 °C","Nürnberg"]
["97478","Westheim","-16 °C","Würzburg"]
["67593","Westhofen","-12 °C","Saarbrücken"]
["26810","Westoverledingen","-10 °C","Emden"]
["91757","Wettelsheim","-16 °C","Nürnberg"]
["35435","Wettenberg-Launsbach","-14 °C","Fritzlar"]
["58300","Wetter","-12 °C","Nürburg-Barweiler"]
["06722","Wetterzeube","-14 °C","Leipzig"]
["85139","Wettstetten","-16 °C","München"]
["93444","Wettzell","-18 °C","Straubing"]
["3557.","Wetzlar","-12 °C","Fritzlar"]
["35583","Wetzlar - Garbenheim","-12 °C","Fritzlar"]
["33106","Wewer","-12 °C","Fritzlar"]
["83629","Weyarn","-18 °C","Hohenpeißenberg"]
["56357","Weyer","-12 °C","Nürburg-Barweiler"]
["28844","Weyhe","-12 °C","Bremen"]
["89079","Wiblingen","-14 °C","Augsburg"]
["58769","Wiblingwerde","-12 °C","Nürburg-Barweiler"]
["19055","Wickendorf","-12 °C","Schwerin"]
["65439","Wicker","-12 °C","Karlsruhe"]
["41189","Wickrathberg","-10 °C","Düsseldorf"]
["52156","Widdau","-14 °C","Aachen"]
["74259","Widdern","-14 °C","Stuttgart"]
["79650","Wiechs","-12 °C","Stuttgart"]
["53577","Wied","-14 °C","Nürburg-Barweiler"]
["87534","Wiedemannsdorf","-18 °C","Kempten"]
["33378","Wiedenbrück","-12 °C","Fritzlar"]
["85259","Wiedenzhausen","-16 °C","München"]
["04938","Wiederau","-16 °C","Leipzig"]
["04158","Wiederitzsch","-14 °C","Leipzig"]
["02994","Wiednitz","-16 °C","Görlitz"]
["26215","Wiefelstede","-12 °C","Emden"]
["06571","Wiehe","-14 °C","Leipzig"]
["51674","Wiehl","-12 °C","Nürburg-Barweiler"]
["18556","Wiek auf Rügen","-10 °C","Rostock"]
["74523","Wielandsweiler","-16 °C","Stuttgart"]
["82407","Wielenbach","-16 °C","Kempten"]
["59939","Wiemeringhausen","-14 °C","Nürburg-Barweiler"]
["29342","Wienhausen","-14 °C","Hannover"]
["75446","Wiernsheim","-14 °C","Stuttgart"]
["95676","Wiesau","-18 °C","Hof"]
["65183","Wiesbaden","-10 °C","Nürburg-Barweiler"]
["86519","Wiesenbach","-16 °C","Augsburg"]
["74572","Wiesenbach","-16 °C","Stuttgart"]
["69257","Wiesenbach","-12 °C","Würzburg"]
["97355","Wiesenbronn","-16 °C","Würzburg"]
["65599","Wiesenroth","-14 °C","Nürburg-Barweiler"]
["73349","Wiesensteig","-18 °C","Stuttgart"]
["93109","Wiesent","-18 °C","Straubing"]
["68753","Wiesental","-12 °C","Karlsruhe"]
["91346","Wiesenttal","-16 °C","Nürnberg"]
["69168","Wiesloch","-12 °C","Würzburg"]
["49835","Wietmarschen","-10 °C","Hannover"]
["29323","Wietze","-12 °C","Hannover"]
["29649","Wietzendorf","-14 °C","Hannover"]
["73732","Wiflingshausen","-14 °C","Stuttgart"]
["91634","Wilburgstetten","-16 °C","Nürnberg"]
["15745","Wildau","-14 °C","Lindenberg"]
["08301","Wildbach","-16 °C","Meiningen"]
["75323","Wildbad im Schwarzwald","-14 °C","Stuttgart"]
["17091","Wildberg","-14 °C","Greifswald"]
["72218","Wildberg","-16 °C","Stuttgart"]
["08237","Wildenau","-16 °C","Meiningen"]
["08134","Wildenfels","-14 °C","Erfurt"]
["04539","Wildenhain","-14 °C","Leipzig"]
["41844","Wildenrath","-10 °C","Düsseldorf"]
["27793","Wildeshausen","-12 °C","Bremen"]
["07980","Wildetaube","-16 °C","Erfurt"]
["04924","Wildgrube","-16 °C","Leipzig"]
["87499","Wildpoldsreid","-16 °C","Kempten"]
["65719","Wildsachsen","-14 °C","Nürburg-Barweiler"]
["04838","Wildschütz","-14 °C","Leipzig"]
["75196","Wilferdingen","-14 °C","Stuttgart"]
["88515","Wilfingen","-14 °C","Stuttgart"]
["57234","Wilgersdorf","-14 °C","Nürburg-Barweiler"]
["88271","Wilhelmsdorf","-14 °C","Stuttgart"]
["69259","Wilhelmsfeld","-12 °C","Würzburg"]
["26389","Wilhelmshaven","-10 °C","Emden"]
["17291","Wilhelmshayn","-14 °C","Greifswald"]
["14557","Wilhelmshorst","-14 °C","Potsdam"]
["88263","Wilhelmskirch","-14 °C","Stuttgart"]
["91452","Wilhermsdorf","-16 °C","Nürnberg"]
["08112","Wilkau-Haßlau","-14 °C","Erfurt"]
["34439","Willebadessen","-14 °C","Fritzlar"]
["47877","Willich","-10 °C","Düsseldorf"]
["47877","Willich - Wekeln","-10 °C","Düsseldorf"]
["34508","Willingen/Upland","-14 °C","Fritzlar"]
["72820","Willmandingen","-18 °C","Stuttgart"]
["97647","Willmars","-16 °C","Würzburg"]
["93497","Willmering","-18 °C","Straubing"]
["03053","Willmersdorf","-16 °C","Lindenberg"]
["86574","Willprechtszell","-16 °C","Augsburg"]
["74182","Willsbach","-14 °C","Stuttgart"]
["77731","Willstätt","-12 °C","Karlsruhe"]
["03053","Wilmersdorf","-16 °C","Lindenberg"]
["57234","Wilnsdorf","-14 °C","Nürburg-Barweiler"]
["01833","Wilschdorf","-14 °C","Dresden"]
["01723","Wilsdruff","-14 °C","Dresden"]
["72818","Wilsingen","-16 °C","Stuttgart"]
["06449","Wilsleben","-14 °C","Leipzig"]
["27412","Wilstedt","-12 °C","Bremen"]
["54459","Wiltingen","-12 °C","Trier"]
["75365","Wimberg","-14 °C","Stuttgart"]
["71299","Wimsheim","-14 °C","Stuttgart"]
["54457","Wincheringen","-12 °C","Trier"]
["86949","Windach","-16 °C","Kempten"]
["51570","Windeck","-12 °C","Nürburg-Barweiler"]
["61276","Winden","-14 °C","Fritzlar"]
["79297","Winden i. E.","-16 °C","Stuttgart"]
["37539","Windhausen","-16 °C","Fritzlar"]
["92670","Windischeschenbach","-16 °C","Nürnberg"]
["99102","Windischholzhausen","-14 °C","Erfurt"]
["04603","Windischleuba","-14 °C","Leipzig"]
["91575","Windsbach","-16 °C","Nürnberg"]
["77652","Windschläg","-12 °C","Karlsruhe"]
["65232","Wingsbach","-14 °C","Nürburg-Barweiler"]
["21789","Wingst","-10 °C","Hamburg"]
["57664","Winkelbach","-14 °C","Nürburg-Barweiler"]
["71364","Winnenden","-14 °C","Stuttgart"]
["56333","Winningen","-12 °C","Nürburg-Barweiler"]
["30890","Winninghausen","-14 °C","Hannover"]
["67722","Winnweiler","-12 °C","Saarbrücken"]
["29308","Winsen","-12 °C","Hannover"]
["21423","Winsen (Luhe)","-12 °C","Hamburg"]
["73650","Winterbach","-16 °C","Stuttgart"]
["59955","Winterberg","-16 °C","Nürburg-Barweiler"]
["72474","Winterlingen","-16 °C","Stuttgart"]
["88400","Winterreute","-16 °C","Stuttgart"]
["54310","Wintersdorf","-12 °C","Trier"]
["88299","Winterstetten","-16 °C","Stuttgart"]
["88456","Winterstettendorf","-16 °C","Stuttgart"]
["88456","Winterstettenstadt","-16 °C","Stuttgart"]
["31088","Winzenburg","-16 °C","Hannover"]
["73072","Winzingen","-16 °C","Stuttgart"]
["97537","Wipfeld","-14 °C","Würzburg"]
["85414","Wippenhausen","-16 °C","München"]
["51688","Wipperfürth","-12 °C","Nürburg-Barweiler"]
["89134","Wippingen","-14 °C","Augsburg"]
["56422","Wirges","-14 °C","Nürburg-Barweiler"]
["39596","Wischer","-14 °C","Magdeburg"]
["06647","Wischroda","-14 °C","Leipzig"]
["23966","Wismar","-10 °C","Schwerin"]
["31061","Wispenstein","-16 °C","Hannover"]
["73550","Wißgoldingen","-16 °C","Stuttgart"]
["53879","Wißkirchen","-14 °C","Nürburg-Barweiler"]
["77960","Wittelbach","-14 °C","Karlsruhe"]
["58454","Witten","-12 °C","Nürburg-Barweiler"]
["06886","Wittenberg","-14 °C","Leipzig"]
["16515","Wittenberg","-14 °C","Neuruppin"]
["19322","Wittenberge","-14 °C","Schwerin"]
["19243","Wittenburg","-12 °C","Schwerin"]
["19243","Wittendörp","-12 °C","Schwerin"]
["19073","Wittenförden","-12 °C","Schwerin"]
["88693","Wittenhofen","-14 °C","Stuttgart"]
["77963","Wittenweier","-12 °C","Karlsruhe"]
["99189","Witterda","-14 °C","Erfurt"]
["66399","Wittersheim","-12 °C","Saarbrücken"]
["07768","Wittersroda","-14 °C","Erfurt"]
["09228","Wittgensdorf","-14 °C","Erfurt"]
["02997","Wittichenau","-16 °C","Görlitz"]
["29378","Wittingen","-14 °C","Hannover"]
["89426","Wittislingen","-16 °C","Augsburg"]
["40489","Wittlaer","-10 °C","Düsseldorf"]
["72250","Wittlensweiler","-16 °C","Stuttgart"]
["54516","Wittlich","-14 °C","Trier"]
["79599","Wittlingen","-12 °C","Stuttgart"]
["72574","Wittlingen (Bad Urach)","-16 °C","Stuttgart"]
["26409","Wittmund","-10 °C","Emden"]
["16909","Wittstock","-14 °C","Neuruppin"]
["3721.","Witzenhausen","-14 °C","Fritzlar"]
["37213","Witzenhausen / Unterrieden ","-14 °C","Fritzlar"]
["42799","Witzhelden","-10 °C","Düsseldorf"]
["94104","Witzmannsberg","-16 °C","Straubing"]
["32816","Wöbbel","-14 °C","Fritzlar"]
["52152","Woffelsbach","-14 °C","Aachen"]
["04874","Wohlau","-16 °C","Leipzig"]
["48167","Wolbeck","-12 °C","Hannover"]
["17091","Wolde","-14 °C","Greifswald"]
["77709","Wolfach","-14 °C","Stuttgart"]
["76227","Wolfartsweier","-12 °C","Karlsruhe"]
["88364","Wolfegg","-16 °C","Stuttgart"]
["06766","Wolfen","-14 °C","Leipzig"]
["3830.","Wolfenbüttel","-14 °C","Magdeburg"]
["35789","Wolfenhausen","-14 °C","Fritzlar"]
["72149","Wolfenhausen","-16 °C","Stuttgart"]
["63654","Wolferborn","-14 °C","Würzburg"]
["78166","Wolferdingen","-18 °C","Stuttgart"]
["35260","Wolferode","-14 °C","Fritzlar"]
["06295","Wolferode","-14 °C","Leipzig"]
["36266","Wölfershausen","-14 °C","Fritzlar"]
["61200","Wölfersheim","-14 °C","Fritzlar"]
["53940","Wolfert Unterw./Oberw.","-14 °C","Nürburg-Barweiler"]
["53937","Wolfgarten","-14 °C","Nürburg-Barweiler"]
["91639","Wolframs - Eschenbach","-16 °C","Nürnberg"]
["82515","Wolfratshausen","-16 °C","Kempten"]
["92269","Wolfring","-16 °C","Nürnberg"]
["3844.","Wolfsburg","-14 °C","Magdeburg"]
["99819","Wolfsburg-Unkeroda","-16 °C","Meiningen"]
["72649","Wolfschlugen","-14 °C","Stuttgart"]
["93195","Wolfsegg","-16 °C","Straubing"]
["03130","Wolfshain","-16 °C","Lindenberg"]
["64560","Wolfskehlen","-12 °C","Karlsruhe"]
["37290","Wolfterode","-14 °C","Fritzlar"]
["17438","Wolgast","-12 °C","Greifswald"]
["91126","Wolkersdorf","-16 °C","Nürnberg"]
["84166","Wollkofen","-16 °C","Straubing"]
["04720","Wollsdorf","-14 °C","Leipzig"]
["55597","Wöllstein","-12 °C","Trier"]
["39326","Wolmirstedt","-14 °C","Magdeburg"]
["16259","Wölsickendorf","-14 °C","Neuruppin"]
["04519","Wolteritz","-14 °C","Leipzig"]
["31099","Woltershausen","-16 °C","Hannover"]
["97539","Wonfurt","-14 °C","Würzburg"]
["55599","Wonsheim","-12 °C","Trier"]
["37339","Worbis","-16 °C","Fritzlar"]
["04880","Wörblitz","-16 °C","Leipzig"]
["87789","Woringen","-16 °C","Augsburg"]
["06786","Wörlitz","-14 °C","Leipzig"]
["57392","Wormbach","-14 °C","Nürburg-Barweiler"]
["53359","Wormersdorf","-14 °C","Nürburg-Barweiler"]
["01994","Wormlage","-16 °C","Dresden"]
["03205","Wormlage","-16 °C","Lindenberg"]
["6755.","Worms","-12 °C","Saarbrücken"]
["55286","Wörrstadt","-12 °C","Trier"]
["73499","Wört","-16 °C","Stuttgart"]
["76744","Wörth","-12 °C","Karlsruhe"]
["85457","Wörth","-16 °C","München"]
["93086","Wörth a.d. Donau","-18 °C","Straubing"]
["84109","Wörth an der Isar","-16 °C","Straubing"]
["82237","Wörthsee","-16 °C","Kempten"]
["76327","Wöschbach","-12 °C","Stuttgart"]
["31079","Wrisbergholzen","-14 °C","Hannover"]
["46286","Wulfen","-10 °C","Düsseldorf"]
["32545","Wulferdingen","-12 °C","Fritzlar"]
["31008","Wülfingen","-14 °C","Hannover"]
["31832","Wülfinghausen","-14 °C","Hannover"]
["42489","Wülfrath","-12 °C","Düsseldorf"]
["27628","Wulsbüttel","-12 °C","Bremen"]
["98704","Wümbach","-16 °C","Meiningen"]
["09514","Wünschendorf","-14 °C","Meiningen"]
["31515","Wunstorf-Luthe","-14 °C","Hannover"]
["4211.","Wuppertal","-12 °C","Düsseldorf"]
["42283","Wuppertal - Barmen","-12 °C","Düsseldorf"]
["42111","Wuppertal - Elberfeld","-12 °C","Düsseldorf"]
["42329","Wuppertal - Vohwinkel","-12 °C","Düsseldorf"]
["52511","Würm","-12 °C","Aachen"]
["75181","Würm","-14 °C","Stuttgart"]
["75449","Wurmberg","-14 °C","Stuttgart"]
["76448","Würmersheim","-12 °C","Karlsruhe"]
["72108","Wurmlingen","-16 °C","Stuttgart"]
["78573","Wurmlingen","-16 °C","Stuttgart"]
["01561","Würschnitz","-16 °C","Dresden"]
["52146","Würselen","-12 °C","Aachen"]
["82813","Würtingen","-18 °C","Kempten"]
["75394","Würzbach","-16 °C","Stuttgart"]
["9707.","Würzburg","-12 °C","Würzburg"]
["04808","Wurzen","-14 °C","Leipzig"]
["39524","Wust","-14 °C","Magdeburg"]
["32108","Wüsten","-12 °C","Fritzlar"]
["09358","Wüstenbrand","-14 °C","Meiningen"]
["73527","Wustenriet","-16 °C","Stuttgart"]
["71543","Wüstenrot","-16 °C","Stuttgart"]
["16868","Wusterhausen","-14 °C","Neuruppin"]
["17509","Wusterhusen","-12 °C","Greifswald"]
["16818","Wustrau","-14 °C","Neuruppin"]
["29462","Wustrow","-14 °C","Hannover"]
["04749","Wutzschwitz","-14 °C","Leipzig"]
["79369","Wyhl","-12 °C","Karlsruhe"]
["04552","Wyhra","-14 °C","Leipzig"]
["47559","Wyler","-10 °C","Düsseldorf"]
["46509","Xanten","-10 °C","Düsseldorf"]
["39307","Zabakuck","-14 °C","Magdeburg"]
["01561","Zabeltitz","-16 °C","Dresden"]
["74374","Zaberfeld","-14 °C","Stuttgart"]
["94239","Zachenberg","-18 °C","Straubing"]
["86573","Zahling","-16 °C","Augsburg"]
["06895","Zahna","-14 °C","Leipzig"]
["75378","Zainen","-16 °C","Stuttgart"]
["72587","Zainingen","-18 °C","Stuttgart"]
["89551","Zang","-16 °C","Augsburg"]
["18195","Zarnewanz","-12 °C","Rostock"]
["19246","Zarrentin","-12 °C","Schwerin"]
["39606","Zedau","-14 °C","Magdeburg"]
["07557","Zedlitz","-14 °C","Erfurt"]
["04552","Zedtlitz","-14 °C","Leipzig"]
["16792","Zehdenick","-14 °C","Neuruppin"]
["97475","Zeil am Main","-14 °C","Würzburg"]
["67378","Zeiskam","-12 °C","Saarbrücken"]
["01619","Zeithain","-16 °C","Dresden"]
["06712","Zeitz","-14 °C","Leipzig"]
["95239","Zell","-18 °C","Hof"]
["73104","Zell","-16 °C","Stuttgart"]
["77736","Zell","-14 °C","Stuttgart"]
["56856","Zell - Barl","-12 °C","Nürburg-Barweiler"]
["77736","Zell a.H.","-14 °C","Stuttgart"]
["97299","Zell am Main","-14 °C","Würzburg"]
["79669","Zell i.W.","-14 °C","Stuttgart"]
["73119","Zell u. Aichelberg","-16 °C","Stuttgart"]
["67308","Zellertal","-12 °C","Saarbrücken"]
["77654","Zell-Weierbach","-12 °C","Karlsruhe"]
["17459","Zempin","-12 °C","Greifswald"]
["16341","Zepernick","-14 °C","Neuruppin"]
["39317","Zerben","-14 °C","Magdeburg"]
["39261","Zerbst","-14 °C","Magdeburg"]
["01920","Zerna","-16 °C","Dresden"]
["29499","Zernien","-14 °C","Hannover"]
["16845","Zernitz","-14 °C","Neuruppin"]
["15758","Zernsdorf","-14 °C","Lindenberg"]
["16348","Zerpenschleuse","-14 °C","Neuruppin"]
["02699","Zescha","-16 °C","Görlitz"]
["26340","Zetel","-10 °C","Emden"]
["09306","Zetteritz","-14 °C","Erfurt"]
["93485","Zettisch","-18 °C","Straubing"]
["04758","Zeuckritz","-16 °C","Leipzig"]
["07937","Zeulenroda","-16 °C","Erfurt"]
["76698","Zeutern","-12 °C","Stuttgart"]
["15738","Zeuthen","-14 °C","Lindenberg"]
["19069","Zickhusen","-12 °C","Schwerin"]
["07980","Zickra","-14 °C","Erfurt"]
["06842","Ziebigk","-14 °C","Leipzig"]
["34613","Ziegenhain","-14 °C","Fritzlar"]
["04720","Ziegra","-14 °C","Leipzig"]
["17440","Ziemitz","-14 °C","Greifswald"]
["79395","Zienken","-12 °C","Karlsruhe"]
["23968","Zierow","-10 °C","Schwerin"]
["89446","Ziertheim","-16 °C","Augsburg"]
["14793","Ziesar","-14 °C","Potsdam"]
["18059","Ziesendorf","-12 °C","Rostock"]
["72336","Zillhausen","-18 °C","Stuttgart"]
["88484","Zillishausen","-16 °C","Stuttgart"]
["54578","Zilsdorf","-14 °C","Trier"]
["72406","Zimmern","-18 °C","Stuttgart"]
["78658","Zimmern","-16 °C","Stuttgart"]
["97828","Zimmern","-14 °C","Würzburg"]
["72369","Zimmern u.d.B.","-16 °C","Stuttgart"]
["02906","Zimpel","-16 °C","Görlitz"]
["18374","Zingst Ostseebad","-10 °C","Rostock"]
["15345","Zinndorf","-14 °C","Lindenberg"]
["17454","Zinnowitz","-12 °C","Greifswald"]
["01773","Zinnwald","-16 °C","Dresden"]
["19063","Zippendorf","-12 °C","Schwerin"]
["17419","Zirchow","-12 °C","Greifswald"]
["86609","Zirgesheim","-16 °C","Augsburg"]
["90513","Zirndorf","-16 °C","Nürnberg"]
["02763","Zittau","-16 °C","Görlitz"]
["79379","Zizingen","-12 °C","Karlsruhe"]
["04416","Zöbigker","-16 °C","Leipzig"]
["73485","Zöbingen","-16 °C","Stuttgart"]
["09517","Zöblitz","-16 °C","Meiningen"]
["02829","Zodel","-16 °C","Görlitz"]
["78052","Zollhaus","-18 °C","Stuttgart"]
["85406","Zolling","-16 °C","München"]
["15926","Zöllmersdorf","-16 °C","Lindenberg"]
["04703","Zollschwitz","-14 °C","Leipzig"]
["06780","Zörbig","-14 °C","Leipzig"]
["85604","Zorneding","-16 °C","München"]
["89447","Zöschingen","-16 °C","Augsburg"]
["89426","Zöschlingsweiler","-16 °C","Augsburg"]
["15806","Zossen","-14 °C","Lindenberg"]
["04720","Zschaitz","-14 °C","Leipzig"]
["04603","Zschechwitz","-14 °C","Leipzig"]
["04720","Zschepplitz","-14 °C","Leipzig"]
["04749","Zschochau","-14 °C","Leipzig"]
["04703","Zschockau","-14 °C","Leipzig"]
["09405","Zschopau","-14 °C","Meiningen"]
["08321","Zschorlau","-16 °C","Meiningen"]
["01920","Zschornau","-16 °C","Dresden"]
["04509","Zschortau","-14 °C","Leipzig"]
["39240","Zuchau","-14 °C","Magdeburg"]
["85051","Zuchering","-18 °C","München"]
["70435","Zuffenhausen","-12 °C","Stuttgart"]
["16515","Zühlsdorf","-14 °C","Neuruppin"]
["53909","Zülpich ","-14 °C","Nürburg-Barweiler"]
["7765.","Zunsweier (Offenburg)","-12 °C","Karlsruhe"]
["79379","Zunzingen","-14 °C","Karlsruhe"]
["86441","Zusmarshausen","-16 °C","Augsburg"]
["17495","Züssow","-12 °C","Greifswald"]
["85465","Zustorf","-16 °C","München"]
["74219","Züttlingen","-12 °C","Stuttgart"]
["16306","Zützen","-16 °C","Neuruppin"]
["74939","Zuzenhausen","-12 °C","Stuttgart"]
["04451","Zweefurth","-14 °C","Leipzig"]
["66482","Zweibrücken","-12 °C","Saarbrücken"]
["74639","Zweiflingen","-14 °C","Stuttgart"]
["04442","Zwenkau","-14 °C","Leipzig"]
["75389","Zwerenberg","-16 °C","Stuttgart"]
["0805.","Zwickau","-14 °C","Erfurt"]
["88529","Zwiefalten","-14 °C","Stuttgart"]
["94227","Zwiesel","-18 °C","Straubing"]
["69439","Zwingenberg","-12 °C","Würzburg"]
["69439","Zwingenberg","-12 °C","Würzburg"]
["08297","Zwönitz","-16 °C","Meiningen"]
["47559","Zyfflich","-10 °C","Düsseldorf"]

{"sheet":"Leistungsdaten","index":8,"n_rows":715,"n_cols":98,"rows_kept":715,"cut":false,"hidden":true,"merged":[[692,16,692,25],[692,36,692,45],[600,16,600,25],[600,36,600,45],[623,16,623,25],[623,36,623,45],[646,16,646,25],[646,36,646,45],[669,16,669,25],[669,36,669,45],[462,16,462,25],[485,16,485,25],[508,16,508,25],[531,16,531,25],[462,36,462,45],[485,36,485,45],[554,16,554,25],[554,36,554,45],[577,16,577,25],[577,36,577,45],[508,36,508,45],[531,36,531,45],[4,75,74,75],[4,97,74,97],[393,36,393,45],[416,36,416,45],[439,36,439,45],[140,36,140,45],[71,36,71,45],[117,36,117,45],[163,36,163,45],[370,36,370,45],[186,36,186,45],[209,36,209,45],[232,36,232,45],[255,36,255,45],[278,36,278,45],[2,16,2,25],[25,16,25,25],[301,16,301,25],[48,16,48,25],[117,16,117,25],[186,16,186,25],[209,16,209,25],[232,16,232,25],[255,16,255,25],[278,16,278,25],[163,16,163,25],[2,36,2,45],[25,36,25,45],[301,36,301,45],[324,36,324,45],[347,36,347,45],[48,36,48,45],[94,36,94,45],[439,16,439,25],[324,16,324,25],[347,16,347,25],[71,16,71,25],[94,16,94,25],[140,16,140,25],[370,16,370,25],[393,16,393,25],[416,16,416,25]]}
[]
["WP-Typ","DHC","Kaskadierbar","Monoenergetisch","Bivalent Öl/Gas?","Max-Vorlauf","Ventilatoren","Max-VL WWB","Mit SBP-Gas ?","Direktverdampfer ?","Artikelnr.","mediando","Mit WWB ?","Biv. Strom?",null,"Luft-Wasser-Wärmepumpen Heizleistung",null,null,null,null,null,null,null,null,null,null,null,null,null,null,null,null,null,null,null,"Luft-Wasser-Wärmepumpen COP",null,null,null,null,null,null,null,null,null,null,null,null,null,null,null,null,null,null,null,null,null,null,null,null,null,null,null,null,"Sole-Wasser-WP - Heizleistungen bei Bo",null,null,null,null,null,null,null,null,null,null,null,null,null,null,null,null,null,null,null,null,null,"Wasser-Wasser-WP - Heizleistungen bei W7"]
["WPL 10 AC",8.8000000000000007,true,true,true,55,0,55,2,false,230236,8427,false,true,null,null,"WPL 10 AC",null,null,null,null,null,null,null,null,null,"Heizlast",null,null,null,null,null,null,null,null,null,"WPL 10 AC",null,null,null,null,null,null,null,null,null,null,null,null,null,null,null,null,null,null,null,null,null,null,null,null,null,null,null,"WP-Typ",{"$f":"Berechnung!H7","v":"30 °C"},{"$f":"Berechnung!H8","v":"35 °C"},{"$f":"Berechnung!H9","v":"40 °C"},{"$f":"Berechnung!H10","v":"45 °C"},{"$f":"Berechnung!H11","v":"50 °C"},{"$f":"Berechnung!H12","v":"55 °C"},{"$f":"Berechnung!H13","v":"60 °C"},{"$f":"Berechnung!H14","v":"65 °C"},{"$f":"Berechnung!H15","v":"70 °C"},{"$f":"Berechnung!H16","v":"75 °C"},"Gewählt",null,null,null,null,null,null,null,null,null,null,"WP-Typ",{"$f":"BN3","v":"30 °C"},"35 °C","40 °C","45 °C","50 °C","55 °C","60 °C","65 °C","70 °C","75 °C","Gewählt"]
["WPL 10 I / IK",8.8000000000000007,false,true,true,55,0,55,2,false,234655,5969,false,true,null,"Außentemp","30 °C","35 °C","40 °C","45 °C","50 °C","55 °C","60 °C","65 °C","70 °C","75 °C","Min",null,null,null,null,null,null,null,null,"Außentemp","30 °C","35 °C","40 °C","45 °C","50 °C","55 °C","60 °C","65 °C","70 °C","75 °C"]
["WPL 15 ACS",6.2,false,true,true,60,0,60,false,false,234759,8725,false,true,null,-20,{"$f":"R5+(R5-S5)","v":3.05},2.4,{"$f":"AVERAGE(R5,T5)","v":1.75},1.0999999999999999,{"$f":"AVERAGE(T5,V5)","v":0.89999999999999991},0.69999999999999984,null,null,null,null,-1,null,null,null,null,null,null,null,null,-20,2.4230769230769234,2.2307692307692308,2.0384615384615383,1.846153846153846,1.7564102564102564,1.6666666666666667,null,null,null,null,null,null,null,null,null,null,null,null,null,null,null,null,null,null,null,null,null,null,{"$f":"A51","v":"WPC 04 / WPC 04 cool"},{"$f":"BO5+(BO5-BS5)/4","v":4.9124999999999996},4.7699999999999996,{"$f":"AVERAGE(BO5,BQ5)","v":4.585},4.4000000000000004,{"$f":"AVERAGE(BQ5,BS5)","v":4.3000000000000007},4.2,4.1500000000000004,4.0999999999999996,null,null,{"$f":"INDEX(BN5:BW75,MATCH(Berechnung!$D$5,BM5:BM75,0),MATCH(Berechnung!$H$5,BN3:BW3,0))","v":{"$error":"#N/A"}},null,null,null,null,null,null,null,null,null,null,{"$f":"A101","v":"WPW 06 Set"},{"$f":"CK5+(CK5-CO5)/4","v":5.75},5.6,{"$f":"AVERAGE(CK5,CM5)","v":5.4249999999999998},5.25,{"$f":"AVERAGE(CM5,CO5)","v":5.125},5,4.875,4.75,null,null,{"$f":"INDEX(CJ5:CS75,MATCH(Berechnung!$D$5,CI5:CI75,0),MATCH(Berechnung!$H$5,CJ3:CS3,0))","v":{"$error":"#N/A"}}]
["WPL 25 AC",8.8000000000000007,false,true,true,60,0,60,false,false,234760,8725,false,true,null,-17.5,{"$f":"R6+(R6-S6)","v":3.65},3,{"$f":"AVERAGE(R6,T6)","v":2.35},1.7,1.5,1.2999999999999998,null,null,null,null,-1,null,null,null,null,null,null,null,null,-17.5,2.8014705882352944,2.5294117647058827,2.257352941176471,1.9852941176470591,1.8259803921568629,1.6666666666666667,null,null,null,null,null,null,null,null,null,null,null,null,null,null,null,null,null,null,null,null,null,null,{"$f":"A52","v":"WPC 05 / WPC 05 cool"},{"$f":"BO6+(BO6-BS6)/4","v":5.9750000000000005},5.82,5.66,5.5,5.35,5.2,5.0999999999999996,5,null,null,null,null,null,null,null,null,null,null,null,null,null,"WPW 07 Set",{"$f":"CK6+(CK6-CO6)/4","v":6.9474999999999998},6.8,6.6749999999999998,6.55,6.38,6.21,6.04,5.87]
["WPL 15 IS",6.2,false,true,false,60,0,60,false,false,231888,8726,false,false,null,-15,4.1500000000000004,3.5,2.85,2.2000000000000002,2,1.8000000000000003,null,null,null,null,-1,null,null,null,null,null,null,null,null,-15,3.0357142857142856,2.7142857142857144,2.3928571428571432,2.0714285714285716,1.8690476190476191,1.6666666666666667,null,null,null,null,null,null,null,null,null,null,null,null,null,null,null,null,null,null,null,null,null,null,"WPC 07 / WPC 07 cool",7.7,7.5,7.2249999999999996,6.95,6.8250000000000002,6.7,6.65,6.6,null,null,null,null,null,null,null,null,null,null,null,null,null,"WPW 10 Set",9.1875,9,8.65,8.3000000000000007,8.2750000000000004,8.25,8.2249999999999996,8.1999999999999993]
["WPL 25 I",8.8000000000000007,false,true,false,60,0,60,false,false,231889,8726,false,false,null,-12.5,4.5999999999999996,3.95,3.3000000000000003,2.6500000000000004,2.4500000000000002,2.2500000000000004,null,null,null,null,-1,null,null,null,null,null,null,null,null,-12.5,3.1160892738174546,2.8157894736842102,2.5154896735509658,2.2151898734177218,2.0643850601656513,1.9135802469135805,null,null,null,null,null,null,null,null,null,null,null,null,null,null,null,null,null,null,null,null,null,null,"WPC 10 / WPC 10 cool",10.5625,10.26,10.030000000000001,9.8000000000000007,9.4250000000000007,9.0500000000000007,10.074999999999999,11.1,null,null,null,null,null,null,null,null,null,null,null,null,null,"WPW 13 Set",12.512499999999999,12.2,11.95,11.7,11.324999999999999,10.95,10.574999999999999,10.199999999999999]
["WPL 15 IKS",6.2,false,true,false,60,0,60,false,false,231886,8505,true,false,null,-10,4.9249999999999998,4.3,3.6749999999999998,3.05,2.8499999999999996,2.65,null,null,null,null,-1,null,null,null,null,null,null,null,null,-10,3.1654411764705879,2.8749999999999996,2.5845588235294112,2.2941176470588234,2.1764705882352944,2.0588235294117649,null,null,null,null,null,null,null,null,null,null,null,null,null,null,null,null,null,null,null,null,null,null,"WPC 13 / WPC 13 cool",13.375,13.1,12.8,12.5,12.25,12,11.65,11.3,null,null,null,null,null,null,null,null,null,null,null,null,null,"WPW 18 Set",16.175000000000001,15.9,15.45,15,14.9,14.8,14.700000000000001,14.600000000000001]
["WPL 25 IK",8.8000000000000007,false,true,false,60,0,60,false,false,231887,8505,true,false,null,-7.5,5.1499999999999995,4.5999999999999996,4.05,3.5,3.3,3.1,null,null,null,null,-1,null,null,null,null,null,null,null,null,-7.5,3.1764705882352944,3,2.8235294117647056,2.6470588235294117,2.4346405228758172,2.2222222222222223,null,null,null,null,null,null,null,null,null,null,null,null,null,null,null,null,null,null,null,null,null,null,"WPF 04 / WPF 04 cool",{"$f":"BO10+(BO10-BS10)/4","v":4.9124999999999996},4.7699999999999996,{"$f":"AVERAGE(BO10,BQ10)","v":4.585},4.4000000000000004,{"$f":"AVERAGE(BQ10,BS10)","v":4.3000000000000007},4.2,4.1500000000000004,4.0999999999999996,null,null,null,null,null,null,null,null,null,null,null,null,null,"WPW 22 Set",20.412500000000001,20.05,19.774999999999999,19.5,19.05,18.600000000000001,18.150000000000002,17.700000000000003]
["WPL 08 S Trend",8.8000000000000007,false,true,false,55,0,55,false,false,233878,9556,false,false,null,-5,5.5,5,4.5,4,3.8,3.6,null,null,null,null,-1,null,null,null,null,null,null,null,null,-5,3.352573485777584,3.1273885350318467,2.9022035842861094,2.6770186335403725,2.4664162935143725,2.2558139534883721,null,null,null,null,null,null,null,null,null,null,null,null,null,null,null,null,null,null,null,null,null,null,"WPF 05 / WPF 05 cool",{"$f":"BO11+(BO11-BS11)/4","v":5.9750000000000005},5.82,5.66,5.5,5.35,5.2,5.0999999999999996,5,null,null,null,null,null,null,null,null,null,null,null,null,null,"WPW 7 basic Set",7.2249999999999996,7,{"$f":"AVERAGE(CK11,CM11)","v":6.7750000000000004},6.55,{"$f":"AVERAGE(CM11,CO11)","v":6.3249999999999993},6.1]
["WPL 12 S Trend",8.8000000000000007,false,true,false,55,0,55,false,false,233879,9556,false,false,null,-2.5,5.8500000000000005,5.4,4.95,4.5,4.3,4.0999999999999996,null,null,null,null,-1,null,null,null,null,null,null,null,null,-2.5,3.60174119649633,3.3067484662576687,3.0117557360190075,2.7167630057803467,2.5081141232110289,2.2994652406417115,null,null,null,null,null,null,null,null,null,null,null,null,null,null,null,null,null,null,null,null,null,null,"WPF 07 / WPF 07 cool",7.7,7.5,7.2249999999999996,6.95,6.8250000000000002,6.7,6.65,6.6,null,null,null,null,null,null,null,null,null,null,null,null,null,"WPW 10 basic Set",9.25,8.9499999999999993,8.625,8.3000000000000007,8.0250000000000004,7.75]
["WPL 16 S Trend",8.8000000000000007,false,true,false,55,0,55,false,false,233880,9556,false,false,null,0,6.4250000000000007,5.95,5.4749999999999996,5,4.8,4.5999999999999996,null,null,null,null,-1,null,null,null,null,null,null,null,null,0,3.7585767691137062,3.4191616766467066,3.0797465841797069,2.7403314917127073,2.5326022940797044,2.324873096446701,null,null,null,null,null,null,null,null,null,null,null,null,null,null,null,null,null,null,null,null,null,null,"WPF 10 / WPF 10 cool",10.5625,10.26,10.030000000000001,9.8000000000000007,9.4250000000000007,9.0500000000000007,10.074999999999999,11.1,null,null,null,null,null,null,null,null,null,null,null,null,null,"WPW 13 basic Set",12.7,12.25,11.85,11.45,10.95,10.45]
["WPL 22 Trend",8.8000000000000007,false,true,false,55,0,55,false,false,233883,9556,false,false,null,2.5,6.9250000000000007,6.45,5.9749999999999996,5.5,5.3,5.0999999999999996,null,null,null,null,-1,null,null,null,null,null,null,null,null,2.5,3.9747663551401868,3.6,3.2252336448598133,2.8504672897196266,2.6560028756290439,2.4615384615384617,null,null,null,null,null,null,null,null,null,null,null,null,null,null,null,null,null,null,null,null,null,null,"WPF 13 / WPF 13 cool",13.375,13.1,12.8,12.5,12.25,12,11.65,11.3,null,null,null,null,null,null,null,null,null,null,null,null,null,"WPW 18 basic Set",15.775,15.4,15.100000000000001,14.8,14.350000000000001,13.9]
["WPL 28 Trend",8.8000000000000007,false,true,false,55,0,55,false,false,233884,9556,false,false,null,5,7.6499999999999995,7.1,6.55,6,5.8,5.6,null,null,null,null,-1,null,null,null,null,null,null,null,null,5,4.1909909909909908,3.8,3.4090090090090088,3.0180180180180183,2.8478519842156209,2.6776859504132235,null,null,null,null,null,null,null,null,null,null,null,null,null,null,null,null,null,null,null,null,null,null,"WPF 16 / WPF 16 cool",17.3,17.02,16.759999999999998,16.5,16.2,15.9,15.45,15,null,null,null,null,null,null,null,null,null,null,null,null,null,"WPW 22 basic Set",20.475000000000001,20,19.5,19,18.55,18.100000000000001]
["WPL 13 E / cool",8.8000000000000007,true,true,true,55,0,55,2,false,227756,5968,false,true,null,7.5,8.3000000000000007,7.8,7.3,6.8,6.6,6.3999999999999995,null,null,null,null,-1,null,null,null,null,null,null,null,null,7.5,4.2627634660421538,3.9180327868852456,3.5733021077283373,3.2285714285714286,3.0616541353383457,2.8947368421052633,null,null,null,null,null,null,null,null,null,null,null,null,null,null,null,null,null,null,null,null,null,null,"WPF 5 basic",6.1375000000000002,5.92,5.6850000000000005,5.45,5.25,5.05,null,null,null,null,null,null,null,null,null,null,null,null,null,null,null,"WPF 20",27.25,26.5,{"$f":"AVERAGE(CK16,CM16)","v":25.75},25,{"$f":"AVERAGE(CM16,CO16)","v":24.25},23.5]
["WPL 18 E / cool",8.8000000000000007,true,true,true,55,0,55,2,false,227757,5968,false,true,null,10,8.6500000000000021,8.3000000000000007,7.95,7.6,7.3999999999999995,7.1999999999999993,null,null,null,null,-1,null,null,null,null,null,null,null,null,10,4.2619047619047619,3.9523809523809526,3.6428571428571432,3.3333333333333335,3.1282051282051282,2.9230769230769229,null,null,null,null,null,null,null,null,null,null,null,null,null,null,null,null,null,null,null,null,null,null,"WPF 7 basic",7.625,7.4,7.15,6.9,6.7,6.5,null,null,null,null,null,null,null,null,null,null,null,null,null,null,null,"WPF 27",35.75,35.1,{"$f":"AVERAGE(CK17,CM17)","v":34.299999999999997},33.5,{"$f":"AVERAGE(CM17,CO17)","v":33},32.5]
["WPL 23 E / cool",8.8000000000000007,true,true,true,55,0,55,2,false,227758,5968,false,true,null,12.5,9.2937500000000011,8.8625000000000007,8.4312500000000004,8,7.8,7.6,null,null,null,null,-1,null,null,null,null,null,null,null,null,12.5,4.3477048477048488,4.0360360360360366,3.7243672243672243,3.4126984126984121,3.1585550887021476,2.9044117647058827,null,null,null,null,null,null,null,null,null,null,null,null,null,null,null,null,null,null,null,null,null,null,"WPF 10 basic",10.4375,10.029999999999999,9.64,9.25,8.8249999999999993,8.4,null,null,null,null,null,null,null,null,null,null,null,null,null,null,null,"WPF 27 HT",33.625,32.9,32.450000000000003,32,31,30,{"$f":"CO18-(CO18-CR18)/3","v":29.266666666666666},{"$f":"CR18+(CO18-CR18)/3","v":28.533333333333335},27.8,26]
["WPL 33 HT",8.8000000000000007,false,true,true,75,0,75,false,false,229938,8158,false,true,null,15,9.9625000000000021,9.4250000000000007,8.8874999999999993,8.35,8.1499999999999986,7.9499999999999993,null,null,null,null,-1,null,null,null,null,null,null,null,null,15,4.3996655518394654,4.0869565217391308,3.7742474916387962,3.4615384615384612,3.177197802197802,2.8928571428571428,null,null,null,null,null,null,null,null,null,null,null,null,null,null,null,null,null,null,null,null,null,null,"WPF 13 basic",13.2875,12.83,12.465,12.1,11.55,11,null,null,null,null,null,null,null,null,null,null,null,null,null,null,null,"WPF 35",44.125,43,42,41,39.75,38.5]
["WPL 34",0,true,false,true,55,0,55,1,false,228835,7124,false,true,null,17.5,10.631250000000001,9.9875000000000007,9.34375,8.6999999999999993,8.5,8.2999999999999989,null,null,null,null,-1,null,null,null,null,null,null,null,null,17.5,4.878914835164835,4.4910714285714288,4.1032280219780226,3.7153846153846155,3.390539023020775,3.0656934306569341,null,null,null,null,null,null,null,null,null,null,null,null,null,null,null,null,null,null,null,null,null,null,"WPF 16 basic",17.25,16.899999999999999,16.45,16,15.75,15.5,null,null,null,null,null,null,null,null,null,null,null,null,null,null,null,"WPF 40",55.875,54.5,53,51.5,50.25,49]
["WPL 47",0,true,false,true,55,0,55,1,false,228836,7124,false,true,null,20,11.200000000000001,10.55,9.9,9.25,9.0500000000000007,8.85,null,null,null,null,-1,null,null,null,null,null,null,null,null,20,5.2167832167832167,4.7727272727272725,4.3286713286713283,3.8846153846153841,3.5349002849002842,3.1851851851851847,null,null,null,null,null,null,null,null,null,null,null,null,null,null,null,null,null,null,null,null,null,null,"WPF 10 M",10.299999999999999,10.02,9.76,9.5,9.1999999999999993,8.9,null,null,null,null,null,null,null,null,null,null,null,null,null,null,null,"WPF 52",68.5,67,65.5,64,62.5,61]
["WPL 57",0,true,false,true,55,0,55,1,false,228837,7124,false,true,null,22.5,11.762500000000001,11.112500000000001,10.4625,9.8125,9.6125000000000007,9.4124999999999996,null,null,null,null,-1,null,null,null,null,null,null,null,null,22.5,null,null,null,null,null,null,null,null,null,null,null,null,null,null,null,null,null,null,null,null,null,null,null,null,null,null,null,null,"WPF 13 M",13.225000000000001,12.98,12.74,12.5,12.25,12,null,null,null,null,null,null,null,null,null,null,null,null,null,null,null,"WPF 66",83.75,82,80,78,76.5,75]
["LWZ 304 SOL",8.8000000000000007,false,true,true,55,2,55,false,false,230143,7703,true,false,null,25,12.325000000000001,11.675000000000001,11.025,10.375,10.175000000000001,9.9749999999999996,null,null,null,null,-1,null,null,null,null,null,null,null,null,25,null,null,null,null,null,null,null,null,null,null,null,null,null,null,null,null,null,null,null,null,null,null,null,null,null,null,null,null,"WPF 16 M",17.287499999999998,16.989999999999998,16.594999999999999,16.2,16,15.8,null,null,null,null,null,null,null,null,null,null,null,null,null,null,null,"WPF 10 M",12.425000000000001,12,11.6,11.2,10.75,10.3]
["LWZ 404 SOL",8.8000000000000007,false,true,true,55,2,55,false,false,230144,7703,true,false,null,27.5,12.887500000000001,12.237500000000001,11.5875,10.9375,10.737500000000001,10.5375,null,null,null,null,-1,null,null,null,null,null,null,null,null,27.5,null,null,null,null,null,null,null,null,null,null,null,null,null,null,null,null,null,null,null,null,null,null,null,null,null,null,null,null,"WPF 20",21.75,21.5,{"$f":"AVERAGE(BO24,BQ24)","v":21.25},21,{"$f":"AVERAGE(BQ24,BS24)","v":20.75},20.5,null,null,null,null,null,null,null,null,null,null,null,null,null,null,null,"WPF 13 M",15.737500000000001,15.4,15.100000000000001,14.8,14.425000000000001,14.05]
["LWZ 504",8.8000000000000007,false,true,true,55,2,55,false,false,233514,9344,true,false,null,30,13.450000000000001,12.8,12.15,11.5,11.3,11.1,null,null,null,null,-1,null,null,null,null,null,null,null,null,30,null,null,null,null,null,null,null,null,null,null,null,null,null,null,null,null,null,null,null,null,null,null,null,null,null,null,null,null,"WPF 27",30.487500000000001,29.69,{"$f":"AVERAGE(BO25,BQ25)","v":29.094999999999999},28.5,{"$f":"AVERAGE(BQ25,BS25)","v":27.5},26.5,null,null,null,null,null,null,null,null,null,null,null,null,null,null,null,"WPF 16 M",20.55,20.100000000000001,19.649999999999999,19.2,18.75,18.3]
["LWZ 304 Trend",8.8000000000000007,false,true,true,55,2,55,false,false,233254,9345,true,false,null,null,"WPL 10 I / IK",null,null,null,null,null,null,null,null,null,"Heizlast",null,null,null,null,null,null,null,null,null,"WPL 10 I / IK",null,null,null,null,null,null,null,null,null,null,null,null,null,null,null,null,null,null,null,null,null,null,null,null,null,null,null,"WPF 27 HT",28.137499999999999,27.41,26.704999999999998,26,{"$f":"AVERAGE(BQ26,BS26)","v":25.25},24.5,{"$f":"BS26-(BS26-BV26)/3","v":23.833333333333332},{"$f":"BV26+(BS26-BV26)/3","v":23.166666666666668},22.5,22,null,null,null,null,null,null,null,null,null,null,null,"WPF 20 SET",24.85,{"$f":"CK23*2","v":24},{"$f":"AVERAGE(CK26,CM26)","v":23.2},{"$f":"CM23*2","v":22.4},{"$f":"AVERAGE(CM26,CO26)","v":21.5},{"$f":"CO23*2","v":20.6}]
["LWZ 404 Trend",8.8000000000000007,false,true,true,55,2,55,false,false,233255,9345,true,false,null,"Außentemp","30 °C","35 °C","40 °C","45 °C","50 °C","55 °C","60 °C","65 °C","70 °C","75 °C","Min",null,null,null,null,null,null,null,null,"Außentemp","30 °C","35 °C","40 °C","45 °C","50 °C","55 °C","60 °C","65 °C","70 °C","75 °C",null,null,null,null,null,null,null,null,null,null,null,null,null,null,null,null,null,null,"WPF 35",39.075000000000003,38.04,{"$f":"AVERAGE(BO27,BQ27)","v":36.019999999999996},34,{"$f":"AVERAGE(BQ27,BS27)","v":33.950000000000003},33.9,null,null,null,null,null,null,null,null,null,null,null,null,null,null,null,"WPF 23 SET",28.162499999999998,{"$f":"CK23+CK24","v":27.4},{"$f":"AVERAGE(CK27,CM27)","v":26.7},{"$f":"CM23+CM24","v":26},{"$f":"AVERAGE(CM27,CO27)","v":25.175000000000001},{"$f":"CO23+CO24","v":24.35}]
["LWA 403",8.8000000000000007,false,true,true,55,1,55,false,false,220467,6015,true,false,null,-20,3.3624999999999998,3.1,2.8375000000000004,2.5750000000000002,2.3125,2.0499999999999998,null,null,null,null,-1,null,null,null,null,null,null,null,null,-20,2.2499999999999991,2.1,1.9500000000000002,1.8,1.65,1.5,null,null,null,null,null,null,null,null,null,null,null,null,null,null,null,null,null,null,null,null,null,null,"WPF 40",43.5,43.1,{"$f":"AVERAGE(BO28,BQ28)","v":42.8},42.5,{"$f":"AVERAGE(BQ28,BS28)","v":42},41.5,null,null,null,null,null,null,null,null,null,null,null,null,null,null,null,"WPF 26 SET",31.475000000000001,{"$f":"CK24*2","v":30.8},{"$f":"AVERAGE(CK28,CM28)","v":30.200000000000003},{"$f":"CM24*2","v":29.6},{"$f":"AVERAGE(CM28,CO28)","v":28.85},{"$f":"CO24*2","v":28.1}]
["WPL 33",8.8000000000000007,false,true,true,55,0,55,false,false,null,null,false,true,null,-17.5,3.7749999999999999,3.5,3.2250000000000001,2.95,2.6749999999999998,2.4,null,null,null,null,-1,null,null,null,null,null,null,null,null,-17.5,2.4624999999999999,2.2999999999999998,2.1375000000000002,1.9750000000000001,1.8125,1.6500000000000001,null,null,null,null,null,null,null,null,null,null,null,null,null,null,null,null,null,null,null,null,null,null,"WPF 52",56.787499999999994,55.83,{"$f":"AVERAGE(BO29,BQ29)","v":54.914999999999999},54,{"$f":"AVERAGE(BQ29,BS29)","v":53},52,null,null,null,null,null,null,null,null,null,null,null,null,null,null,null,"WPF 29 SET",{"$f":"CK29+(CK29-CO29)/4","v":36.287500000000001},{"$f":"CK24+CK25","v":35.5},34.75,{"$f":"CM24+CM25","v":34},33.174999999999997,{"$f":"CO24+CO25","v":32.35}]
["WPL 7 AS / IKS",6.2,true,true,true,55,0,55,false,false,null,null,false,true,null,-15,4.3,4,3.7,3.4,3.0999999999999996,2.8,null,null,null,null,-1,null,null,null,null,null,null,null,null,-15,2.6750000000000007,2.5,2.3250000000000002,2.15,1.9750000000000001,1.8,null,null,null,null,null,null,null,null,null,null,null,null,null,null,null,null,null,null,null,null,null,null,"WPF 66",67.875,67.099999999999994,{"$f":"AVERAGE(BO30,BQ30)","v":67.05},67,{"$f":"AVERAGE(BQ30,BS30)","v":65.5},64,null,null,null,null,null,null,null,null,null,null,null,null,null,null,null,"WPF 32 SET",{"$f":"CK30+(CK30-CO30)/4","v":41.1},{"$f":"CK25*2","v":40.200000000000003},39.299999999999997,{"$f":"CM25*2","v":38.4},37.5,{"$f":"CO25*2","v":36.6}]
["WPL 10 AS / IKS",6.2,true,true,true,55,0,55,false,false,null,null,false,true,null,-12.5,4.8,4.5,4.2,3.9,3.5999999999999996,3.3,null,null,null,null,-1,null,null,null,null,null,null,null,null,-12.5,2.8000000000000007,2.625,2.4500000000000002,2.2749999999999999,2.1,1.9250000000000003,null,null,null,null,null,null,null,null,null,null,null,null,null,null,null,null,null,null,null,null,null,null,"WPF 20 SET",20.599999999999998,{"$f":"BO21*2","v":20.04},{"$f":"AVERAGE(BO31,BQ31)","v":19.52},{"$f":"BQ21*2","v":19},{"$f":"AVERAGE(BQ31,BS31)","v":18.399999999999999},{"$f":"BS21*2","v":17.8},null,null,null,null,null,null,null,null,null,null,null,null,null,null,null,"WPF 27 | WPF 20",63,{"$f":"CK16+CK17","v":61.6},60.05,{"$f":"CM16+CM17","v":58.5},57.25,{"$f":"CO16+CO17","v":56}]
["WPL 13 S",6.2,true,true,true,55,0,55,false,false,null,null,false,true,null,-10,5.2750000000000004,5,4.7249999999999996,4.45,4.1749999999999998,3.9,null,null,null,null,-1,null,null,null,null,null,null,null,null,-10,2.9250000000000007,2.75,2.5750000000000002,2.4000000000000004,2.2250000000000001,2.0500000000000003,null,null,null,null,null,null,null,null,null,null,null,null,null,null,null,null,null,null,null,null,null,null,"WPF 23 SET",23.524999999999999,{"$f":"BO21+BO22","v":23},22.5,{"$f":"BQ21+BQ22","v":22},21.45,{"$f":"BS21+BS22","v":20.9},null,null,null,null,null,null,null,null,null,null,null,null,null,null,null,"WPF 35 | WPF 27",79.875,{"$f":"CK17+CK19","v":78.099999999999994},76.3,{"$f":"CM17+CM19","v":74.5},72.75,{"$f":"CO17+CO19","v":71}]
["WPL 16 S",6.2,true,true,true,55,0,55,false,false,null,null,false,true,null,-7.5,5.6625000000000005,5.4,5.1375000000000002,4.875,4.6124999999999998,4.3499999999999996,null,null,null,null,-1,null,null,null,null,null,null,null,null,-7.5,3.0500000000000007,2.875,2.7,2.5249999999999999,2.35,2.1750000000000003,null,null,null,null,null,null,null,null,null,null,null,null,null,null,null,null,null,null,null,null,null,null,"WPF 26 SET",26.450000000000003,{"$f":"BO22*2","v":25.96},25.48,{"$f":"BQ22*2","v":25},24.5,{"$f":"BS22*2","v":24},null,null,null,null,null,null,null,null,null,null,null,null,null,null,null,"WPF 40 | WPF 35",100,{"$f":"CK19+CK20","v":97.5},95,{"$f":"CM19+CM20","v":92.5},90,{"$f":"CO19+CO20","v":87.5}]
[null,null,null,null,null,null,null,null,null,null,null,null,null,null,null,-5,6.05,5.8,5.55,5.3,5.05,4.8,null,null,null,null,-1,null,null,null,null,null,null,null,null,-5,3.1416666666666675,2.9666666666666668,2.791666666666667,2.6166666666666667,2.4416666666666664,2.2666666666666666,null,null,null,null,null,null,null,null,null,null,null,null,null,null,null,null,null,null,null,null,null,null,"WPF 29 SET",30.512499999999999,{"$f":"BO22+BO23","v":29.97},29.335000000000001,{"$f":"BQ22+BQ23","v":28.7},28.25,{"$f":"BS22+BS23","v":27.8},null,null,null,null,null,null,null,null,null,null,null,null,null,null,null,"WPF 52 | WPF 40",124.375,{"$f":"CK20+CK21","v":121.5},118.5,{"$f":"CM20+CM21","v":115.5},112.75,{"$f":"CO20+CO21","v":110}]
[null,null,null,null,null,null,null,null,null,null,null,null,null,null,null,-2.5,6.3249999999999993,6.1,5.875,5.65,5.4250000000000007,5.2,null,null,null,null,-1,null,null,null,null,null,null,null,null,-2.5,3.2250000000000005,3.05,2.875,2.7,2.5250000000000004,2.35,null,null,null,null,null,null,null,null,null,null,null,null,null,null,null,null,null,null,null,null,null,null,"WPF 32 SET",34.574999999999996,{"$f":"BO23*2","v":33.979999999999997},33.19,{"$f":"BQ23*2","v":32.4},32,{"$f":"BS23*2","v":31.6},null,null,null,null,null,null,null,null,null,null,null,null,null,null,null,"WPF 66 | WPF 52",152.25,{"$f":"CK22+CK21","v":149},145.5,{"$f":"CM22+CM21","v":142},139,{"$f":"CO22+CO21","v":136}]
[null,null,null,null,null,null,null,null,null,null,null,null,null,null,null,0,6.6000000000000005,6.4,6.2,6,5.8,5.6,null,null,null,null,-1,null,null,null,null,null,null,null,null,0,3.308333333333334,3.1333333333333333,2.9583333333333335,2.7833333333333332,2.6083333333333334,2.4333333333333336,null,null,null,null,null,null,null,null,null,null,null,null,null,null,null,null,null,null,null,null,null,null,"WPD 05 Set",{"$f":"BO36+(BO36-BP36)","v":5.3000000000000007},5.2,{"$f":"BQ36+(BO36-BR36)/3","v":5.0999999999999996},{"$f":"BR36+(BO36-BR36)/3","v":5},4.9000000000000004,{"$f":"AVERAGE(BR36,BT36)","v":4.8000000000000007},4.7,null,null,null,null,null,null,null,null,null,null,null,null,null,null,"WPF 20 | WPF 27 HT",60.875,{"$f":"CK16+CK18","v":59.4},58.2,{"$f":"CM16+CM18","v":57},55.25,{"$f":"CO16+CO18","v":53.5},29.266666666666666,28.533333333333335,27.8,26]
[null,null,null,null,null,null,null,null,null,null,null,null,null,null,null,2.5,7.1125000000000007,6.9,6.6875,6.4749999999999996,6.2624999999999993,6.05,null,null,null,null,-1,null,null,null,null,null,null,null,null,2.5,3.4328125000000007,3.25,3.0671875000000002,2.8843750000000004,2.7015625000000001,2.5187499999999998,null,null,null,null,null,null,null,null,null,null,null,null,null,null,null,null,null,null,null,null,null,null,"WPD 07 Set",{"$f":"BO37+(BO37-BP37)","v":7.5333333333333341},7.2,{"$f":"BQ37+(BO37-BR37)/3","v":6.8666666666666663},{"$f":"BR37+(BO37-BR37)/3","v":6.5333333333333332},6.2,{"$f":"AVERAGE(BR37,BT37)","v":6.1},6,null,null,null,null,null,null,null,null,null,null,null,null,null,null,"WPF 27 | WPF 27 HT",69.375,{"$f":"CK17+CK18","v":68},66.75,{"$f":"CM17+CM18","v":65.5},64,{"$f":"CO17+CO18","v":62.5},29.266666666666666,28.533333333333335,27.8,26]
[null,null,null,null,null,null,null,null,null,null,null,null,null,null,null,5,7.65,7.5,7.35,7.2,7.0500000000000007,6.9,null,null,null,null,-1,null,null,null,null,null,null,null,null,5,3.7218750000000003,3.5,3.2781250000000002,3.0562499999999999,2.8343749999999996,2.6124999999999998,null,null,null,null,null,null,null,null,null,null,null,null,null,null,null,null,null,null,null,null,null,null,"WPF 27 | WPF 20",{"$f":"BO38+(BO38-BS38)/4","v":52.237499999999997},{"$f":"BO25+BO24","v":51.19},{"$f":"AVERAGE(BO38,BQ38)","v":50.344999999999999},{"$f":"BQ25+BQ24","v":49.5},{"$f":"AVERAGE(BQ38,BS38)","v":48.25},{"$f":"BS25+BS24","v":47},null,null,null,null,null,null,null,null,null,null,null,null,null,null,null,"WPF 35 | WPF 27 HT",77.75,{"$f":"CK19+CK18","v":75.900000000000006},74.45,{"$f":"CM19+CM18","v":73},70.75,{"$f":"CO19+CO18","v":68.5},29.266666666666666,28.533333333333335,27.8,26]
[null,"Bei neuen Maschinen Leistungsdaten an richtiger Stelle einpflegen !!",null,null,null,null,null,null,null,null,null,null,null,null,null,7.5,8.6624999999999996,8.4499999999999993,8.2374999999999989,8.0249999999999986,7.8124999999999991,7.6,null,null,null,null,-1,null,null,null,null,null,null,null,null,7.5,4.0109375000000007,3.75,3.4890625000000002,3.2281249999999999,2.9671874999999996,2.7062499999999998,null,null,null,null,null,null,null,null,null,null,null,null,null,null,null,null,null,null,null,null,null,null,"WPF 35 | WPF 27",69.5625,{"$f":"BO27+BO25","v":67.73},65.115000000000009,{"$f":"BQ27+BQ25","v":62.5},61.45,{"$f":"BS27+BS25","v":60.4},null,null,null,null,null,null,null,null,null,null,null,null,null,null,null,"WPF 40 | WPF 27 HT",89.5,{"$f":"CK20+CK18","v":87.4},85.45,{"$f":"CM20+CM18","v":83.5},81.25,{"$f":"CO20+CO18","v":79},29.266666666666666,28.533333333333335,27.8,26]
[null,"ListFillRange im Code anpassen",null,null,null,null,null,null,null,null,null,null,null,null,null,10,9.4949999999999992,9.1999999999999993,8.9049999999999994,8.61,8.3149999999999995,8.02,null,null,null,null,-1,null,null,null,null,null,null,null,null,10,4.3000000000000025,4,3.7,3.4,3.0999999999999996,2.8,null,null,null,null,null,null,null,null,null,null,null,null,null,null,null,null,null,null,null,null,null,null,"WPF 40 | WPF 35",82.575000000000003,{"$f":"BO28+BO27","v":81.14},78.819999999999993,{"$f":"BQ28+BQ27","v":76.5},75.95,{"$f":"BS28+BS27","v":75.400000000000006},null,null,null,null,null,null,null,null,null,null,null,null,null,null,null,"WPF 52 | WPF 27 HT",102.125,{"$f":"CK21+CK18","v":99.9},97.95,{"$f":"CM21+CM18","v":96},93.5,{"$f":"CO21+CO18","v":91},29.266666666666666,28.533333333333335,27.8,26]
[null,null,null,null,null,null,null,null,null,null,null,null,null,null,null,12.5,10.137500000000001,9.8000000000000007,9.4625000000000004,9.125,8.7874999999999996,8.4499999999999993,null,null,null,null,-1,null,null,null,null,null,null,null,null,12.5,4.5437499999999993,4.2249999999999996,3.90625,3.5874999999999999,3.2687499999999998,2.95,null,null,null,null,null,null,null,null,null,null,null,null,null,null,null,null,null,null,null,null,null,null,"WPF 52 | WPF 40",100.28750000000001,{"$f":"BO29+BO28","v":98.93},97.715000000000003,{"$f":"BQ29+BQ28","v":96.5},95,{"$f":"BS29+BS28","v":93.5},null,null,null,null,null,null,null,null,null,null,null,null,null,null,null,"WPF 66 | WPF 27 HT",117.375,{"$f":"CK22+CK18","v":114.9},112.45,{"$f":"CM22+CM18","v":110},107.5,{"$f":"CO22+CO18","v":105},29.266666666666666,28.533333333333335,27.8,26]
[null,null,null,null,null,null,null,null,null,null,null,null,null,null,null,15,10.775,10.4,10.025,9.65,9.2750000000000004,8.9,null,null,null,null,-1,null,null,null,null,null,null,null,null,15,4.7874999999999996,4.45,4.1124999999999998,3.7749999999999999,3.4375,3.0999999999999996,null,null,null,null,null,null,null,null,null,null,null,null,null,null,null,null,null,null,null,null,null,null,"WPF 66 | WPF 52",124.66249999999999,{"$f":"BO30+BO29","v":122.92999999999999},121.965,{"$f":"BQ30+BQ29","v":121},118.5,{"$f":"BS30+BS29","v":116}]
[null,null,null,null,null,null,null,null,null,null,null,null,null,null,null,17.5,11.287500000000001,10.9,10.512499999999999,10.125,9.7375000000000007,9.35,null,null,null,null,-1,null,null,null,null,null,null,null,null,17.5,5.03125,4.6750000000000007,4.3187499999999996,3.9624999999999999,3.6062500000000002,3.25,null,null,null,null,null,null,null,null,null,null,null,null,null,null,null,null,null,null,null,null,null,null,"WPF 20 | WPF 27 HT",49.887499999999996,{"$f":"BO24+BO26","v":48.91},47.954999999999998,{"$f":"BQ24+BQ26","v":47},46,{"$f":"BS24+BS26","v":45},23.833333333333332,23.166666666666668,22.5,22]
[null,null,null,null,null,null,null,null,null,null,null,null,null,null,null,20,11.9,11.5,11.1,10.7,10.3,9.9,null,null,null,null,-1,null,null,null,null,null,null,null,null,20,5.2750000000000012,4.9000000000000004,4.5250000000000004,4.1500000000000004,3.7749999999999999,3.4,null,null,null,null,null,null,null,null,null,null,null,null,null,null,null,null,null,null,null,null,null,null,"WPF 27 | WPF 27 HT",58.625,{"$f":"BO25+BO26","v":57.1},55.8,{"$f":"BQ25+BQ26","v":54.5},52.75,{"$f":"BS25+BS26","v":51},23.833333333333332,23.166666666666668,22.5,22]
[null,null,null,null,null,null,null,null,null,null,null,null,null,null,null,22.5,12.625,12.2,11.774999999999999,11.35,10.925000000000001,10.5,null,null,null,null,-1,null,null,null,null,null,null,null,null,22.5,null,null,null,null,null,null,null,null,null,null,null,null,null,null,null,null,null,null,null,null,null,null,null,null,null,null,null,null,"WPF 35 | WPF 27 HT",67.212500000000006,{"$f":"BO27+BO26","v":65.45},62.725000000000001,{"$f":"BQ27+BQ26","v":60},59.2,{"$f":"BS27+BS26","v":58.4},23.833333333333332,23.166666666666668,22.5,22]
[null,null,null,null,null,null,null,null,null,null,null,null,null,null,null,25,13.45,13,12.55,12.1,11.649999999999999,11.2,null,null,null,null,-1,null,null,null,null,null,null,null,null,25,null,null,null,null,null,null,null,null,null,null,null,null,null,null,null,null,null,null,null,null,null,null,null,null,null,null,null,null,"WPF 40 | WPF 27 HT",71.637500000000003,{"$f":"BO28+BO26","v":70.510000000000005},69.504999999999995,{"$f":"BQ28+BQ26","v":68.5},67.25,{"$f":"BS28+BS26","v":66},23.833333333333332,23.166666666666668,22.5,22]
[null,null,null,null,null,null,null,null,null,null,null,null,null,null,null,27.5,14.25,13.8,13.350000000000001,12.9,12.45,12,null,null,null,null,-1,null,null,null,null,null,null,null,null,27.5,null,null,null,null,null,null,null,null,null,null,null,null,null,null,null,null,null,null,null,null,null,null,null,null,null,null,null,null,"WPF 52 | WPF 27 HT",84.924999999999997,{"$f":"BO29+BO26","v":83.24},81.62,{"$f":"BQ29+BQ26","v":80},78.25,{"$f":"BS29+BS26","v":76.5},23.833333333333332,23.166666666666668,22.5,22]
[null,null,null,null,null,null,null,null,null,null,null,null,null,null,null,30,14.95,14.5,14.05,13.6,13.149999999999999,12.7,null,null,null,null,-1,null,null,null,null,null,null,null,null,30,null,null,null,null,null,null,null,null,null,null,null,null,null,null,null,null,null,null,null,null,null,null,null,null,null,null,null,null,"WPF 66 | WPF 27 HT",96.012499999999989,{"$f":"BO30+BO26","v":94.509999999999991},93.754999999999995,{"$f":"BQ30+BQ26","v":93},90.75,{"$f":"BS30+BS26","v":88.5},23.833333333333332,23.166666666666668,22.5,22]
[null,null,null,null,null,null,null,null,null,null,null,null,null,null,null,null,"WPL 15 AS",null,null,null,null,null,null,null,null,null,"Heizlast",null,null,null,null,null,null,null,null,null,"WPL 15 A"]
[null,null,null,null,null,null,null,null,null,null,null,null,null,null,null,"Außentemp","30 °C","35 °C","40 °C","45 °C","50 °C","55 °C","60 °C","65 °C","70 °C","75 °C","Min",null,null,null,null,null,null,null,null,"Außentemp","30 °C","35 °C","40 °C","45 °C","50 °C","55 °C","60 °C","65 °C","70 °C","75 °C"]
["WPC 04 / WPC 04 cool",8.8000000000000007,false,true,false,65,0,65,false,false,232926,5973,true,false,null,-20,{"$f":"R51-(S51-R51)","v":7.4749999999999996},6.6,{"$f":"AVERAGE(R51,T51)","v":5.7249999999999996},4.8499999999999996,{"$f":"AVERAGE(T51,V51)","v":5.7750000000000004},6.7,{"$f":"V51","v":6.7},null,null,null,1.78,null,null,null,null,null,null,null,null,-20,2.65,2.5,2.35,2.2000000000000002,2.0426229508196725,1.8852459016393444,1.8852459016393444]
["WPC 05 / WPC 05 cool",8.8000000000000007,false,true,false,65,0,65,false,false,232927,5973,true,false,null,-17.5,{"$f":"R52-(S52-R52)","v":7.4329999999999981},{"$f":"R53-(R56-R51)/5","v":6.6519999999999984},{"$f":"AVERAGE(R52,T52)","v":5.8709999999999987},{"$f":"T53-(T56-T51)/5","v":5.089999999999999},5.9339999999999993,{"$f":"V53-(V56-V51)/5","v":6.7779999999999987},{"$f":"V52","v":6.7779999999999987},null,null,null,1.9100000000000001,null,null,null,null,null,null,null,null,-17.5,2.8955392433653304,2.7142857142857144,2.5330321852060984,2.3517786561264824,2.1823828345567478,2.0129870129870131,2.0129870129870131]
["WPC 07 / WPC 07 cool",8.8000000000000007,false,true,false,65,0,65,false,false,232928,5973,true,false,null,-15,7.3909999999999982,{"$f":"R54-(R56-R51)/5","v":6.7039999999999988},6.0169999999999995,{"$f":"T54-(T56-T51)/5","v":5.3299999999999992},6.0929999999999991,{"$f":"V54-(V56-V51)/5","v":6.855999999999999},6.855999999999999,null,null,null,2.04,null,null,null,null,null,null,null,null,-15,3.0602240896358541,2.8571428571428572,2.6540616246498603,2.4509803921568629,2.273877292852625,2.096774193548387,2.096774193548387]
["WPC 10 / WPC 10 cool",8.8000000000000007,false,true,false,65,0,65,false,false,232929,5973,true,false,null,-12.5,7.3489999999999993,{"$f":"R55-(R56-R51)/5","v":6.7559999999999993},6.1629999999999994,{"$f":"T55-(T56-T51)/5","v":5.5699999999999994},6.2519999999999989,{"$f":"V55-(V56-V51)/5","v":6.9339999999999993},6.9339999999999993,null,null,null,2.0300000000000002,null,null,null,null,null,null,null,null,-12.5,3.2744295228736764,3.056338028169014,2.8382465334643516,2.6201550387596897,2.4298858260891101,2.2396166134185305,2.2396166134185305]
["WPC 13 / WPC 13 cool",8.8000000000000007,false,true,false,65,0,65,false,false,232930,5973,true,false,null,-10,7.3070000000000004,{"$f":"R56-(R56-R51)/5","v":6.8079999999999998},6.3089999999999993,{"$f":"T56-(T56-T51)/5","v":5.81},6.4109999999999996,{"$f":"V56-(V56-V51)/5","v":7.0119999999999996},7.0119999999999996,null,null,null,2.02,null,null,null,null,null,null,null,null,-10,3.4136851520572451,3.1860465116279069,2.9584078711985686,2.7307692307692304,2.5320512820512819,2.3333333333333335,2.3333333333333335]
["WPF 04 / WPF 04 cool",8.8000000000000007,false,true,false,65,0,65,false,false,232909,7133,false,false,null,-7.5,7.2650000000000006,6.86,6.4550000000000001,6.05,6.57,7.09,7.09,null,null,null,1.9950000000000001,null,null,null,null,null,null,null,null,-7.5,3.6679718840478595,3.4174311926605503,3.1668905012732411,2.9163498098859315,2.6987409426788149,2.4811320754716979,2.4811320754716979]
["WPF 05 / WPF 05 cool",8.8000000000000007,false,true,false,65,0,65,false,false,232910,7133,false,false,null,-5,7.245000000000001,{"$f":"AVERAGE(R56,R58)","v":6.9175000000000004},6.59,{"$f":"AVERAGE(T56,T58)","v":6.2624999999999993},6.7024999999999997,{"$f":"AVERAGE(V56,V58)","v":7.1425000000000001},7.1425000000000001,null,null,null,1.97,null,null,null,null,null,null,null,null,-5,3.8334048027444245,3.5681818181818179,3.3029588336192113,3.0377358490566042,2.8079304245283021,2.578125,2.578125]
["WPF 07 / WPF 07 cool",8.8000000000000007,false,true,false,65,0,65,false,false,232911,7133,false,false,null,-2.5,7.2249999999999996,{"$f":"AVERAGE(R56,R60)","v":6.9749999999999996},6.7249999999999996,{"$f":"AVERAGE(T56,T60)","v":6.4749999999999996},6.835,{"$f":"AVERAGE(V56,V60)","v":7.1950000000000003},7.1950000000000003,null,null,null,2.06,null,null,null,null,null,null,null,null,-2.5,4.1863444734018085,3.8818181818181818,3.5772918902345547,3.2727655986509276,2.998345989509513,2.7239263803680989,2.7239263803680989]
["WPF 10 / WPF 10 cool",8.8000000000000007,false,true,false,65,0,65,false,false,232912,7133,false,false,null,0,7.2050000000000001,{"$f":"AVERAGE(R58,R60)","v":7.0324999999999998},6.8599999999999994,{"$f":"AVERAGE(T58,T60)","v":6.6875},6.9675000000000002,{"$f":"AVERAGE(V58,V60)","v":7.2475000000000005},7.2475000000000005,null,null,null,2.15,null,null,null,null,null,null,null,null,0,4.441919191919192,4.0909090909090908,3.7398989898989896,3.3888888888888888,3.1035353535353538,2.8181818181818183,2.8181818181818183]
["WPF 13 / WPF 13 cool",8.8000000000000007,false,true,false,65,0,65,false,false,232913,7133,false,false,null,2.5,7.1849999999999996,7.09,6.9950000000000001,6.9,7.1,7.3,7.3,null,null,null,2.16,null,null,null,null,null,null,null,null,2.5,4.7599366204748099,4.3878504672897201,4.0157643141046302,3.6436781609195399,3.3265560615918455,3.0094339622641511,3.0094339622641511]
["WPF 16 / WPF 16 cool",8.8000000000000007,false,true,false,65,0,65,false,false,232914,7133,false,false,null,5,7.3424999999999994,{"$f":"AVERAGE(R60,R62)","v":7.2450000000000001},7.1475000000000009,{"$f":"AVERAGE(T60,T62)","v":7.0500000000000007},7.2250000000000005,{"$f":"AVERAGE(V60,V62)","v":7.4},7.4,null,null,null,2.17,null,null,null,null,null,null,null,null,5,4.9810924369747891,4.5952380952380949,4.2093837535014007,3.8235294117647061,3.4843453510436433,3.1451612903225805,3.1451612903225805]
["WPF 5 basic",8.8000000000000007,false,true,false,55,0,55,false,false,230944,5974,false,false,null,7.5,7.5,7.4,7.3000000000000007,7.2,7.35,7.5,7.5,null,null,null,2.2249999999999996,null,null,null,null,null,null,null,null,7.5,5.4048010222709033,4.9646464646464654,4.5244919070220275,4.0843373493975896,3.7334438424840304,3.3825503355704711,3.3825503355704711]
["WPF 7 basic",8.8000000000000007,false,true,false,55,0,55,false,false,230945,5974,false,false,null,10,7.629999999999999,{"$f":"R64-(R67-R62)/5","v":7.6399999999999988},7.6499999999999986,{"$f":"T64-(T67-T62)/5","v":7.6599999999999975},7.8199999999999985,{"$f":"V64-(V67-V62)/5","v":7.9799999999999986},7.9799999999999986,null,null,null,2.2799999999999998,null,null,null,null,null,null,null,null,10,5.7226100966702464,5.2368421052631575,4.7510741138560686,4.2653061224489788,3.9085151301900067,3.5517241379310347,3.5517241379310347]
["WPF 10 basic",8.8000000000000007,false,true,false,55,0,55,false,false,230946,5974,false,false,null,12.5,7.76,{"$f":"R65-(R67-R62)/5","v":7.879999999999999},7.9999999999999982,{"$f":"T65-(T67-T62)/5","v":8.1199999999999974},8.2899999999999991,{"$f":"V65-(V67-V62)/5","v":8.4599999999999991},8.4599999999999991,null,null,null,2.67,null,null,null,null,null,null,null,null,12.5,6.1021739130434787,5.5869565217391308,5.071739130434783,4.5565217391304351,4.1523615889896774,3.7482014388489207,3.7482014388489207]
["WPF 13 basic",8.8000000000000007,false,true,false,55,0,55,false,false,230947,5974,false,false,null,15,7.8900000000000006,{"$f":"R66-(R67-R62)/5","v":8.1199999999999992},8.3499999999999979,{"$f":"T66-(T67-T62)/5","v":8.5799999999999983},8.759999999999998,{"$f":"V66-(V67-V62)/5","v":8.94},8.94,null,null,null,3.06,null,null,null,null,null,null,null,null,15,6.3636363636363633,5.833333333333333,5.3030303030303028,4.7727272727272725,4.3308080808080804,3.8888888888888888,3.8888888888888888]
["WPF 16 basic",8.8000000000000007,false,true,false,55,0,55,false,false,230948,5974,false,false,null,17.5,8.02,{"$f":"R67-(R67-R62)/5","v":8.36},8.6999999999999993,{"$f":"T67-(T67-T62)/5","v":9.0399999999999991},9.23,{"$f":"V67-(V67-V62)/5","v":9.42},9.42,null,null,null,3.2199999999999998,null,null,null,null,null,null,null,null,17.5,6.7223746570217031,6.1403508771929838,5.5583270973642644,4.9763033175355442,4.4112285818446955,3.8461538461538463,3.8461538461538463]
["WPF 10 M",0,true,false,true,55,0,55,2,false,185349,5975,false,true,null,20,8.1499999999999986,8.6,9.0500000000000007,9.5,9.6999999999999993,9.9,9.9,null,null,null,3.38,null,null,null,null,null,null,null,null,20,6.9844789356984487,6.3636363636363642,5.7427937915742797,5.1219512195121952,4.4700665188470072,3.8181818181818183,3.8181818181818183]
["WPF 13 M",0,true,false,true,55,0,55,2,false,182135,5975,false,true,null,22.5,8.1499999999999986,{"$f":"R67","v":8.6},9.0500000000000007,{"$f":"T67","v":9.5},9.6999999999999993,{"$f":"V67","v":9.9},9.9,null,null,null,3.5649999999999999,null,null,null,null,null,null,null,null,22.5]
["WPF 16 M",0,true,false,true,55,0,55,2,false,220894,5975,false,true,null,25,8.1499999999999986,{"$f":"R68","v":8.6},9.0500000000000007,{"$f":"T68","v":9.5},9.6999999999999993,9.9,9.9,null,null,null,3.75,null,null,null,null,null,null,null,null,25]
["WPF 20",0,true,false,true,55,0,55,1,false,233003,6557,false,true,null,27.5,8.1499999999999986,8.6,9.0500000000000007,9.5,9.6999999999999993,9.9,9.9,null,null,null,3.97,null,null,null,null,null,null,null,null,27.5]
["WPF 27",0,true,false,true,55,0,55,1,false,233004,6557,false,true,null,30,8.1499999999999986,8.6,9.0500000000000007,9.5,9.6999999999999993,9.9,9.9,null,null,null,4.1900000000000004,null,null,null,null,null,null,null,null,30]
["WPF 27 HT",0,true,false,true,75,0,75,1,false,233009,7700,false,true,null,null,"WPL 25 A",null,null,null,null,null,null,null,null,null,"Heizlast",null,null,null,null,null,null,null,null,null,"WPL 25 A"]
["WPF 35",0,true,false,true,55,0,55,false,false,233005,6557,false,true,null,"Außentemp","30 °C","35 °C","40 °C","45 °C","50 °C","55 °C","60 °C","65 °C","70 °C","75 °C","Min",null,null,null,null,null,null,null,null,"Außentemp","30 °C","35 °C","40 °C","45 °C","50 °C","55 °C","60 °C","65 °C","70 °C","75 °C"]
["WPF 40",0,true,false,true,55,0,55,false,false,233006,6557,false,true,null,-20,{"$f":"R74-(S74-R74)","v":11.7},11,{"$f":"AVERAGE(R74,T74)","v":10.3},9.6,{"$f":"AVERAGE(T74,V74)","v":10.5},11.4,{"$f":"V74","v":11.4},null,null,null,3.67,null,null,null,null,null,null,null,null,-20,2.65,2.5,2.35,2.2000000000000002,2.0426229508196725,1.8852459016393444,1.8852459016393444]
["WPF 52",0,true,false,true,55,0,55,false,false,233007,6557,false,true,null,-17.5,{"$f":"R75-(S75-R75)","v":12.018000000000001},{"$f":"R76-(R79-R74)/5","v":11.372},{"$f":"AVERAGE(R75,T75)","v":10.725999999999999},{"$f":"T76-(T79-T74)/5","v":10.079999999999998},{"$f":"AVERAGE(T75,V75)","v":11},{"$f":"V76-(V79-V74)/5","v":11.920000000000002},{"$f":"V75","v":11.920000000000002},null,null,null,3.91,null,null,null,null,null,null,null,null,-17.5,2.8955392433653304,2.7142857142857144,2.5330321852060984,2.3517786561264824,2.1823828345567478,2.0129870129870131,2.0129870129870131]
["WPF 66",0,true,false,true,55,0,55,false,false,233008,6557,false,true,null,-15,12.336,{"$f":"R77-(R79-R74)/5","v":11.744},{"$f":"AVERAGE(R76,T76)","v":11.151999999999999},{"$f":"T77-(T79-T74)/5","v":10.559999999999999},{"$f":"AVERAGE(T76,V76)","v":11.5},{"$f":"V77-(V79-V74)/5","v":12.440000000000001},12.440000000000001,null,null,null,4.1500000000000004,null,null,null,null,null,null,null,null,-15,3.0602240896358541,2.8571428571428572,2.6540616246498603,2.4509803921568629,2.273877292852625,2.096774193548387,2.096774193548387]
["WPF 20 SET",0,false,false,true,55,0,55,1,false,185365,5976,false,true,null,-12.5,12.654,{"$f":"R78-(R79-R74)/5","v":12.116},{"$f":"AVERAGE(R77,T77)","v":11.577999999999999},{"$f":"T78-(T79-T74)/5","v":11.04},{"$f":"AVERAGE(T77,V77)","v":12},{"$f":"V78-(V79-V74)/5","v":12.96},12.96,null,null,null,4.12,null,null,null,null,null,null,null,null,-12.5,3.2744295228736764,3.056338028169014,2.8382465334643516,2.6201550387596897,2.4298858260891101,2.2396166134185305,2.2396166134185305]
["WPF 23 SET",0,false,false,true,55,0,55,1,false,185366,5976,false,true,null,-10,12.972,{"$f":"R79-(R79-R74)/5","v":12.488},{"$f":"AVERAGE(R78,T78)","v":12.004},{"$f":"T79-(T79-T74)/5","v":11.52},{"$f":"AVERAGE(T78,V78)","v":12.5},{"$f":"V79-(V79-V74)/5","v":13.48},13.48,null,null,null,4.09,null,null,null,null,null,null,null,null,-10,3.4136851520572451,3.1860465116279069,2.9584078711985686,2.7307692307692304,2.5320512820512819,2.3333333333333335,2.3333333333333335]
["WPF 26 SET",0,false,false,true,55,0,55,1,false,182139,5976,false,true,null,-7.5,13.29,12.86,{"$f":"AVERAGE(R79,T79)","v":12.43},12,{"$f":"AVERAGE(T79,V79)","v":13},14,14,null,null,null,4.1449999999999996,null,null,null,null,null,null,null,null,-7.5,3.6679718840478595,3.4174311926605503,3.1668905012732411,2.9163498098859315,2.6987409426788149,2.4811320754716979,2.4811320754716979]
["WPF 29 SET",0,false,false,true,55,0,55,1,false,220896,5976,false,true,null,-5,13.3825,{"$f":"AVERAGE(R79,R81)","v":13.055},{"$f":"AVERAGE(R80,T80)","v":12.727499999999999},{"$f":"AVERAGE(T79,T81)","v":12.4},{"$f":"AVERAGE(T80,V80)","v":13.3},{"$f":"AVERAGE(V79,V81)","v":14.2},14.2,null,null,null,4.2,null,null,null,null,null,null,null,null,-5,3.8334048027444245,3.5681818181818179,3.3029588336192113,3.0377358490566042,2.8079304245283021,2.578125,2.578125]
["WPF 32 SET",0,false,false,true,55,0,55,1,false,220897,5976,false,true,null,-2.5,13.475,{"$f":"AVERAGE(R79,R83)","v":13.25},{"$f":"AVERAGE(R81,T81)","v":13.025},{"$f":"AVERAGE(T79,T83)","v":12.8},{"$f":"AVERAGE(T81,V81)","v":13.600000000000001},{"$f":"AVERAGE(V79,V83)","v":14.4},14.4,null,null,null,4.2949999999999999,null,null,null,null,null,null,null,null,-2.5,4.1863444734018085,3.8818181818181818,3.5772918902345547,3.2727655986509276,2.998345989509513,2.7239263803680989,2.7239263803680989]
["WPD 05 Set",0,false,false,false,55,0,55,false,true,233903,8506,false,false,null,0,13.567500000000001,{"$f":"AVERAGE(R81,R83)","v":13.445},{"$f":"AVERAGE(R82,T82)","v":13.3225},{"$f":"AVERAGE(T81,T83)","v":13.2},{"$f":"AVERAGE(T82,V82)","v":13.9},{"$f":"AVERAGE(V81,V83)","v":14.600000000000001},14.600000000000001,null,null,null,4.3899999999999997,null,null,null,null,null,null,null,null,0,4.441919191919192,4.0909090909090908,3.7398989898989896,3.3888888888888888,3.1035353535353538,2.8181818181818183,2.8181818181818183]
["WPD 07 Set",0,false,false,false,55,0,55,false,true,233904,8506,false,false,null,2.5,13.66,13.64,{"$f":"AVERAGE(R83,T83)","v":13.620000000000001},13.6,{"$f":"AVERAGE(T83,V83)","v":14.2},14.8,14.8,null,null,null,4.3249999999999993,null,null,null,null,null,null,null,null,2.5,4.7599366204748099,4.3878504672897201,4.0157643141046302,3.6436781609195399,3.3265560615918455,3.0094339622641511,3.0094339622641511]
["WPF 27 | WPF 20",0,false,false,true,55,0,55,false,false,233004,6557,false,true,null,5,13.705,{"$f":"AVERAGE(R83,R85)","v":13.82},{"$f":"AVERAGE(R84,T84)","v":13.935},{"$f":"AVERAGE(T83,T85)","v":14.05},{"$f":"AVERAGE(T84,V84)","v":14.475000000000001},{"$f":"AVERAGE(V83,V85)","v":14.9},14.9,null,null,null,4.26,null,null,null,null,null,null,null,null,5,4.9810924369747891,4.5952380952380949,4.2093837535014007,3.8235294117647061,3.4843453510436433,3.1451612903225805,3.1451612903225805]
["WPF 35 | WPF 27",0,false,false,true,55,0,55,false,false,233005,6558,false,true,null,7.5,13.75,14,{"$f":"AVERAGE(R85,T85)","v":14.25},14.5,{"$f":"AVERAGE(T85,V85)","v":14.75},15,15,null,null,null,4.5199999999999996,null,null,null,null,null,null,null,null,7.5,5.4048010222709033,4.9646464646464654,4.5244919070220275,4.0843373493975896,3.7334438424840304,3.3825503355704711,3.3825503355704711]
["WPF 40 | WPF 35",0,false,false,true,55,0,55,false,false,233006,6559,false,true,null,10,14.199999999999998,{"$f":"R87-(R90-R85)/5","v":14.6},{"$f":"AVERAGE(R86,T86)","v":15.000000000000002},{"$f":"T87-(T90-T85)/5","v":15.400000000000004},{"$f":"AVERAGE(T86,V86)","v":15.700000000000003},{"$f":"V87-(V90-V85)/5","v":16},16,null,null,null,4.78,null,null,null,null,null,null,null,null,10,5.7226100966702464,5.2368421052631575,4.7510741138560686,4.2653061224489788,3.9085151301900067,3.5517241379310347,3.5517241379310347]
["WPF 52 | WPF 40",0,false,false,true,55,0,55,false,false,233007,6560,false,true,null,12.5,14.649999999999997,{"$f":"R88-(R90-R85)/5","v":15.2},{"$f":"AVERAGE(R87,T87)","v":15.750000000000002},{"$f":"T88-(T90-T85)/5","v":16.300000000000004},{"$f":"AVERAGE(T87,V87)","v":16.650000000000002},{"$f":"V88-(V90-V85)/5","v":17},17,null,null,null,5.62,null,null,null,null,null,null,null,null,12.5,6.1021739130434787,5.5869565217391308,5.071739130434783,4.5565217391304351,4.1523615889896774,3.7482014388489207,3.7482014388489207]
["WPF 66 | WPF 52",0,false,false,true,55,0,55,false,false,233008,6561,false,true,null,15,15.099999999999998,{"$f":"R89-(R90-R85)/5","v":15.799999999999999},{"$f":"AVERAGE(R88,T88)","v":16.5},{"$f":"T89-(T90-T85)/5","v":17.200000000000003},{"$f":"AVERAGE(T88,V88)","v":17.600000000000001},{"$f":"V89-(V90-V85)/5","v":18},18,null,null,null,6.46,null,null,null,null,null,null,null,null,15,6.3636363636363633,5.833333333333333,5.3030303030303028,4.7727272727272725,4.3308080808080804,3.8888888888888888,3.8888888888888888]
["WPF 20 | WPF 27 HT",0,false,false,true,55,0,75,false,false,233003,6562,false,true,null,17.5,15.549999999999997,{"$f":"R90-(R90-R85)/5","v":16.399999999999999},{"$f":"AVERAGE(R89,T89)","v":17.25},{"$f":"T90-(T90-T85)/5","v":18.100000000000001},{"$f":"AVERAGE(T89,V89)","v":18.55},{"$f":"V90-(V90-V85)/5","v":19},19,null,null,null,6.84,null,null,null,null,null,null,null,null,17.5,6.7223746570217031,6.1403508771929838,5.5583270973642644,4.9763033175355442,4.4112285818446955,3.8461538461538463,3.8461538461538463]
["WPF 27 | WPF 27 HT",0,false,false,true,55,0,75,false,false,233004,6563,false,true,null,20,16,17,{"$f":"AVERAGE(R90,T90)","v":18},19,{"$f":"AVERAGE(T90,V90)","v":19.5},20,20,null,null,null,7.22,null,null,null,null,null,null,null,null,20,6.9844789356984487,6.3636363636363642,5.7427937915742797,5.1219512195121952,4.4700665188470072,3.8181818181818183,3.8181818181818183]
["WPF 35 | WPF 27 HT",0,false,false,true,55,0,75,false,false,233005,6564,false,true,null,22.5,16,{"$f":"R90","v":17},{"$f":"AVERAGE(R91,T91)","v":18},{"$f":"T90","v":19},{"$f":"AVERAGE(T91,V91)","v":19.5},{"$f":"V90","v":20},20,null,null,null,7.65,null,null,null,null,null,null,null,null,22.5]
["WPF 40 | WPF 27 HT",0,false,false,true,55,0,75,false,false,233006,6565,false,true,null,25,16,{"$f":"R91","v":17},{"$f":"AVERAGE(R92,T92)","v":18},{"$f":"T91","v":19},{"$f":"AVERAGE(T92,V92)","v":19.5},{"$f":"V91","v":20},20,null,null,null,8.08,null,null,null,null,null,null,null,null,25]
["WPF 52 | WPF 27 HT",0,false,false,true,55,0,75,false,false,233007,6566,false,true,null,27.5,16,17,{"$f":"AVERAGE(R93,T93)","v":18},19,{"$f":"AVERAGE(T93,V93)","v":19.5},20,20,null,null,null,8.5650000000000013,null,null,null,null,null,null,null,null,27.5]
["WPF 66 | WPF 27 HT",0,false,false,true,55,0,75,false,false,233008,6567,false,true,null,30,16,17,{"$f":"AVERAGE(R94,T94)","v":18},19,{"$f":"AVERAGE(T94,V94)","v":19.5},20,20,null,null,null,9.0500000000000007,null,null,null,null,null,null,null,null,30]
[null,null,null,null,null,null,null,null,null,null,null,null,null,null,null,null,"WPL 15 IS",null,null,null,null,null,null,null,null,null,"Heizlast",null,null,null,null,null,null,null,null,null,"WPL 15 I"]
[null,"Bei neuen Maschinen Leistungsdaten an richtiger Stelle einpflegen !!",null,null,null,null,null,null,null,null,null,null,null,null,null,"Außentemp","30 °C","35 °C","40 °C","45 °C","50 °C","55 °C","60 °C","65 °C","70 °C","75 °C","Min",null,null,null,null,null,null,null,null,"Außentemp","30 °C","35 °C","40 °C","45 °C","50 °C","55 °C","60 °C","65 °C","70 °C","75 °C"]
[null,"ListFillRange im Code anpassen",null,null,null,null,null,null,null,null,null,null,null,null,null,-20,5.3769999999999989,5.5229999999999997,5.6690000000000005,5.8150000000000004,5.9860000000000007,6.157,6.3279999999999994,null,null,null,1.6930000000000001,null,null,null,null,null,null,null,null,-20,2.2200000000000002,2.2200000000000002,2.0649999999999999,1.91,1.7749999999999999,1.64,1.54,1.44,null,null,null,null,null,null,null,null,null,null,null,null,null,null,null,null,null,null,null,null,"Sole-Wasser-WP - COP bei Bo",null,null,null,null,null,null,null,null,null,null,null,null,null,null,null,null,null,null,null,null,null,"Wasser-Wasser-WP - COP bei W7"]
[null,null,null,null,null,null,null,null,null,null,null,null,null,null,null,-17.5,5.6485000000000003,5.7515000000000001,5.8544999999999998,5.9574999999999996,6.093,6.2285000000000004,6.3640000000000008,null,null,null,1.86,null,null,null,null,null,null,null,null,-17.5,2.375,2.375,2.2024999999999997,2.0299999999999998,1.8824999999999998,1.7349999999999999,1.625,1.5150000000000001,null,null,null,null,null,null,null,null,null,null,null,null,null,null,null,null,null,null,null,null,"WP-Typ",{"$f":"BN3","v":"30 °C"},"35 °C","40 °C","45 °C","50 °C","55 °C","60 °C","65 °C","70 °C","75 °C",null,null,null,null,null,null,null,null,null,null,null,"WP-Typ",{"$f":"BN98","v":"30 °C"},"35 °C","40 °C","45 °C","50 °C","55 °C","60 °C","65 °C","70 °C","75 °C"]
[null,null,null,null,null,null,null,null,null,null,null,null,null,null,null,-15,5.9200000000000008,5.98,6.04,6.1,6.1999999999999993,6.3,6.4,null,null,null,2.0270000000000001,null,null,null,null,null,null,null,null,-15,2.5299999999999998,2.5299999999999998,2.34,2.15,1.99,1.83,1.71,1.59]
[null,null,null,null,null,null,null,null,null,null,null,null,null,null,null,-12.5,6.0854999999999997,6.1070000000000002,6.1285000000000007,6.15,6.2750000000000004,6.4,6.5250000000000004,null,null,null,2.036,null,null,null,null,null,null,null,null,-12.5,2.7,2.7,2.4925000000000002,2.2850000000000001,2.1074999999999999,1.93,1.8025,1.675,null,null,null,null,null,null,null,null,null,null,null,null,null,null,null,null,null,null,null,null,{"$f":"A51","v":"WPC 04 / WPC 04 cool"},{"$f":"BO100+(BO100-BS100)/4","v":4.9624999999999995},4.5199999999999996,{"$f":"AVERAGE(BO100,BQ100)","v":3.9550000000000001},3.39,{"$f":"AVERAGE(BQ100,BS100)","v":3.0700000000000003},2.75,2.375,2,null,null,null,null,null,null,null,null,null,null,null,null,null,{"$f":"A101","v":"WPW 06 Set"},{"$f":"CK100+(CK100-CO100)/4","v":5.9550000000000001},5.4,{"$f":"AVERAGE(CK100,CM100)","v":4.7},4,{"$f":"AVERAGE(CM100,CO100)","v":3.59},3.18,2.8650000000000002,2.5499999999999998]
["WPW 06 Set",8.8000000000000007,false,true,false,65,0,65,false,false,232948,8170,false,false,null,-10,6.2509999999999994,6.234,6.2170000000000005,6.2,6.35,6.5,6.65,null,null,null,2.0449999999999999,null,null,null,null,null,null,null,null,-10,2.87,2.87,2.645,2.42,2.2249999999999996,2.0299999999999998,1.895,1.76,null,null,null,null,null,null,null,null,null,null,null,null,null,null,null,null,null,null,null,null,"WPC 05 / WPC 05 cool",{"$f":"BO101+(BO101-BS101)/4","v":5.2874999999999996},4.79,4.1950000000000003,3.6,3.2,2.8,2.4500000000000002,2.1,null,null,null,null,null,null,null,null,null,null,null,null,null,"WPW 07 Set",{"$f":"CK101+(CK101-CO101)/4","v":6.1549999999999994},5.6,4.9000000000000004,4.2,3.79,3.38,2.99,2.6]
["WPW 07 Set",8.8000000000000007,false,true,false,65,0,65,false,false,232949,8170,false,false,null,-7.5,6.33,6.42,6.51,6.6,6.8,7,7.2,null,null,null,2.0314999999999999,null,null,null,null,null,null,null,null,-7.5,3.09,3.09,2.84,2.59,2.38,2.17,2.0125000000000002,1.855,null,null,null,null,null,null,null,null,null,null,null,null,null,null,null,null,null,null,null,null,"WPC 07 / WPC 07 cool",5.3249999999999993,4.8499999999999996,4.2750000000000004,3.7,3.3250000000000002,2.95,2.5750000000000002,2.2000000000000002,null,null,null,null,null,null,null,null,null,null,null,null,null,"WPW 10 Set",6.3125,5.75,5.0750000000000002,4.4000000000000004,3.95,3.5,3.125,2.75]
["WPW 10 Set",8.8000000000000007,false,true,false,65,0,65,false,false,232950,8170,false,false,null,-5,6.7349999999999994,6.89,7.0449999999999999,7.2,7.45,7.7,7.7,null,null,null,2.0179999999999998,null,null,null,null,null,null,null,null,-5,3.25,3.25,2.9850000000000003,2.72,2.4950000000000001,2.27,2.11,1.95,null,null,null,null,null,null,null,null,null,null,null,null,null,null,null,null,null,null,null,null,"WPC 10 / WPC 10 cool",5.5724999999999998,5.0199999999999996,4.41,3.8,3.3049999999999997,2.81,2.5300000000000002,2.25,null,null,null,null,null,null,null,null,null,null,null,null,null,"WPW 13 Set",6.8375000000000004,6.15,5.28,4.41,3.9050000000000002,3.4,3.0999999999999996,2.8]
["WPW 13 Set",8.8000000000000007,false,true,false,65,0,65,false,false,232951,8170,false,false,null,-2.5,7.3675000000000006,7.4450000000000003,7.5225,7.6,7.7249999999999996,7.85,7.85,null,null,null,2.0865,null,null,null,null,null,null,null,null,-2.5,3.4649999999999999,3.4649999999999999,3.1749999999999998,2.8849999999999998,2.6425000000000001,2.4,2.2249999999999996,2.0499999999999998,null,null,null,null,null,null,null,null,null,null,null,null,null,null,null,null,null,null,null,null,"WPC 13 / WPC 13 cool",5.2750000000000004,4.83,4.29,3.75,3.4,3.05,2.625,2.2000000000000002,null,null,null,null,null,null,null,null,null,null,null,null,null,"WPW 18 Set",6.3475000000000001,5.8,5.1050000000000004,4.41,4.01,3.61,3.2050000000000001,2.8]
["WPW 18 Set",8.8000000000000007,false,true,false,65,0,65,false,false,232952,8170,false,false,null,0,8,8,8,8,8,8,8,null,null,null,2.1549999999999998,null,null,null,null,null,null,null,null,0,3.68,3.68,3.3650000000000002,3.05,2.79,2.5299999999999998,2.34,2.15,null,null,null,null,null,null,null,null,null,null,null,null,null,null,null,null,null,null,null,null,"WPF 04 / WPF 04 cool",{"$f":"BO105+(BO105-BS105)/4","v":4.9624999999999995},4.5199999999999996,{"$f":"AVERAGE(BO105,BQ105)","v":3.9550000000000001},3.39,{"$f":"AVERAGE(BQ105,BS105)","v":3.0700000000000003},2.75,2.375,2,null,null,null,null,null,null,null,null,null,null,null,null,null,"WPW 22 Set",5.8774999999999995,5.38,4.74,4.0999999999999996,3.7450000000000001,3.39,3.05,2.71]
["WPW 22 Set",8.8000000000000007,false,true,false,65,0,65,false,false,232953,8170,false,false,null,2.5,8,8,8,8,8,8,8,null,null,null,2.2605,null,null,null,null,null,null,null,null,2.5,3.95,3.95,3.605,3.26,2.98,2.7,2.4824999999999999,2.2649999999999997,null,null,null,null,null,null,null,null,null,null,null,null,null,null,null,null,null,null,null,null,"WPF 05 / WPF 05 cool",{"$f":"BO106+(BO106-BS106)/4","v":5.2874999999999996},4.79,4.1950000000000003,3.6,3.2,2.8,2.4500000000000002,2.1,null,null,null,null,null,null,null,null,null,null,null,null,null,"WPW 7 basic Set",6.0124999999999993,5.6,4.9000000000000004,4.2,4.0750000000000002,3.95]
["WPW 7 basic Set",8.8000000000000007,false,true,false,55,0,55,false,false,230915,8171,false,false,null,5,8,8,8,8,8,8,8,null,null,null,2.3660000000000001,null,null,null,null,null,null,null,null,5,4.22,4.22,3.8449999999999998,3.47,3.17,2.87,2.625,2.38,null,null,null,null,null,null,null,null,null,null,null,null,null,null,null,null,null,null,null,null,"WPF 07 / WPF 07 cool",5.3249999999999993,4.8499999999999996,4.2750000000000004,3.7,3.3250000000000002,2.95,2.5750000000000002,2.2000000000000002,null,null,null,null,null,null,null,null,null,null,null,null,null,"WPW 10 basic Set",5.9499999999999993,5.35,4.625,3.9,3.4249999999999998,2.95]
["WPW 10 basic Set",8.8000000000000007,false,true,false,55,0,55,false,false,230916,8171,false,false,null,7.5,8,8,8,8,8,8,8,null,null,null,2.4335,null,null,null,null,null,null,null,null,7.5,4.5299999999999994,4.5299999999999994,4.1150000000000002,3.7,3.3725000000000001,3.0449999999999999,2.7774999999999999,2.5099999999999998,null,null,null,null,null,null,null,null,null,null,null,null,null,null,null,null,null,null,null,null,"WPF 10 / WPF 10 cool",5.5724999999999998,5.0199999999999996,4.41,3.8,3.3049999999999997,2.81,2.5300000000000002,2.25,null,null,null,null,null,null,null,null,null,null,null,null,null,"WPW 13 basic Set",6.3,5.6,4.8,4,3.4,2.8]
["WPW 13 basic Set",8.8000000000000007,false,true,false,55,0,55,false,false,230917,8171,false,false,null,10,8,8,8,8,8,8,8,null,null,null,2.5009999999999999,null,null,null,null,null,null,null,null,10,4.84,4.84,4.3849999999999998,3.93,3.5750000000000002,3.22,2.93,2.64,null,null,null,null,null,null,null,null,null,null,null,null,null,null,null,null,null,null,null,null,"WPF 13 / WPF 13 cool",5.2750000000000004,4.83,4.29,3.75,3.4,3.05,2.625,2.2000000000000002,null,null,null,null,null,null,null,null,null,null,null,null,null,"WPW 18 basic Set",5.8874999999999993,5.3,4.6500000000000004,4,3.4750000000000001,2.95]
["WPW 18 basic Set",8.8000000000000007,false,true,false,55,0,55,false,false,230918,8171,false,false,null,12.5,8,8,8,8,8,8,8,null,null,null,2.8114999999999997,null,null,null,null,null,null,null,null,12.5,5.2850000000000001,5.2850000000000001,4.7925000000000004,4.3,3.9074999999999998,3.5150000000000001,3.2,2.8849999999999998,null,null,null,null,null,null,null,null,null,null,null,null,null,null,null,null,null,null,null,null,"WPF 16 / WPF 16 cool",4.95,4.54,{"$f":"AVERAGE(BO110,BQ110)","v":4.0600000000000005},3.58,{"$f":"AVERAGE(BQ110,BS110)","v":3.24},2.9,{"$f":"AVERAGE(BS110,BU110)","v":2.5499999999999998},2.2000000000000002,null,null,null,null,null,null,null,null,null,null,null,null,null,"WPW 22 basic Set",5.6374999999999993,5.0999999999999996,4.5,3.9,3.4249999999999998,2.95]
["WPW 22 basic Set",8.8000000000000007,false,true,false,55,0,55,false,false,230919,8171,false,false,null,15,8,8,8,8,8,8,8,null,null,null,3.1219999999999999,null,null,null,null,null,null,null,null,15,5.73,5.73,5.2,4.67,4.24,3.81,3.4699999999999998,3.13,null,null,null,null,null,null,null,null,null,null,null,null,null,null,null,null,null,null,null,null,"WPF 5 basic",5,4.46,{"$f":"AVERAGE(BO111,BQ111)","v":3.88},3.3,{"$f":"AVERAGE(BQ111,BS111)","v":2.8},2.2999999999999998,null,null,null,null,null,null,null,null,null,null,null,null,null,null,null,"WPF 20",6.2625000000000002,5.7,{"$f":"AVERAGE(CK111,CM111)","v":5.0750000000000002},4.45,3.95,3.45]
["WPF 20",0,true,false,true,55,0,55,false,false,233003,6557,false,true,null,17.5,8,8,8,8,8,8,8,null,null,null,3.2269999999999999,null,null,null,null,null,null,null,null,17.5,6.1449999999999996,6.1449999999999996,5.5574999999999992,4.97,4.5,4.03,4.3925000000000001,4.7549999999999999,null,null,null,null,null,null,null,null,null,null,null,null,null,null,null,null,null,null,null,null,"WPF 7 basic",4.875,4.3899999999999997,3.82,3.25,2.85,2.4500000000000002,null,null,null,null,null,null,null,null,null,null,null,null,null,null,null,"WPF 27",6.2625000000000002,5.7,5.09,4.4800000000000004,{"$f":"AVERAGE(CM112,CO112)","v":3.9650000000000003},3.45]
["WPF 27",0,true,false,true,55,0,55,false,false,233004,6557,false,true,null,20,8,8,8,8,8,8,8,null,null,null,3.3319999999999999,null,null,null,null,null,null,null,null,20,6.56,6.56,5.9149999999999991,5.27,4.76,4.25,5.3149999999999995,6.38,null,null,null,null,null,null,null,null,null,null,null,null,null,null,null,null,null,null,null,null,"WPF 10 basic",5.125,4.54,3.895,3.25,2.7250000000000001,2.2000000000000002,null,null,null,null,null,null,null,null,null,null,null,null,null,null,null,"WPF 27 HT",5.3875000000000002,5,4.5999999999999996,4.2,{"$f":"AVERAGE(CM113,CO113)","v":3.8250000000000002},3.45,{"$f":"CO113-(CO113-CR113)/3","v":3.15},{"$f":"CR113+(CO113-CR113)/3","v":2.85},2.5499999999999998,2.2999999999999998]
["WPF 27 HT",0,true,false,true,75,0,75,false,false,233009,7700,false,true,null,22.5,8,8,8,8,8,8,8,null,null,null,3.5324999999999998,null,null,null,null,null,null,null,null,22.5,7.07,7.07,6.3475000000000001,5.625,5.0649999999999995,4.5049999999999999,5.585,6.665,null,null,null,null,null,null,null,null,null,null,null,null,null,null,null,null,null,null,null,null,"WPF 13 basic",4.8374999999999995,4.3499999999999996,3.7749999999999999,3.2,2.8,2.4,null,null,null,null,null,null,null,null,null,null,null,null,null,null,null,"WPF 35",5.7625000000000002,5.25,4.6749999999999998,4.0999999999999996,3.65,3.2]
["WPF 35",0,true,false,true,55,0,55,false,false,233005,6557,false,true,null,25,8,8,8,8,8,8,8,null,null,null,3.7330000000000001,null,null,null,null,null,null,null,null,25,7.58,7.58,6.78,5.98,5.37,4.76,5.8550000000000004,6.95,null,null,null,null,null,null,null,null,null,null,null,null,null,null,null,null,null,null,null,null,"WPF 16 basic",4.7750000000000004,4.32,3.81,3.3,2.9,2.5,null,null,null,null,null,null,null,null,null,null,null,null,null,null,null,"WPF 40",6.1374999999999993,5.6,5,4.4000000000000004,3.9250000000000003,3.45]
["WPF 40",0,true,false,true,55,0,55,false,false,233006,6557,false,true,null,27.5,8,8,8,8,8,8,8,null,null,null,3.9705000000000004,null,null,null,null,null,null,null,null,27.5,8.24,8.24,7.33,6.42,5.74,5.0600000000000005,6.1000000000000005,7.1400000000000006,null,null,null,null,null,null,null,null,null,null,null,null,null,null,null,null,null,null,null,null,"WPF 10 M",5.0075000000000003,4.49,{"$f":"AVERAGE(BO116,BQ116)","v":3.93},3.37,{"$f":"AVERAGE(BQ116,BS116)","v":2.895},2.42,null,null,null,null,null,null,null,null,null,null,null,null,null,null,null,"WPF 52",6.19,5.65,5.0650000000000004,4.4800000000000004,3.9850000000000003,3.49]
["WPF 52",0,true,false,true,55,0,55,false,false,233007,6557,false,true,null,30,8,8,8,8,8,8,8,null,null,null,4.2080000000000002,null,null,null,null,null,null,null,null,30,8.9,8.9,7.8800000000000008,6.86,6.11,5.36,6.3450000000000006,7.33,null,null,null,null,null,null,null,null,null,null,null,null,null,null,null,null,null,null,null,null,"WPF 13 M",5.0625,4.57,4.0350000000000001,3.5,3.05,2.6,null,null,null,null,null,null,null,null,null,null,null,null,null,null,null,"WPF 66",6.0674999999999999,5.55,4.9849999999999994,4.42,3.95,3.48]
["WPF 66",0,true,false,true,55,0,55,false,false,233008,6557,false,true,null,null,"WPL 25 I",null,null,null,null,null,null,null,null,null,"Heizlast",null,null,null,null,null,null,null,null,null,"WPL 25 I",null,null,null,null,null,null,null,null,null,null,null,null,null,null,null,null,null,null,null,null,null,null,null,null,null,null,null,"WPF 16 M",4.8174999999999999,4.3499999999999996,3.7850000000000001,3.22,2.85,2.48,null,null,null,null,null,null,null,null,null,null,null,null,null,null,null,{"$f":"A119","v":"WPF 10 M"},6.0125000000000002,5.4,{"$f":"AVERAGE(CK118,CM118)","v":4.7},4,{"$f":"AVERAGE(CM118,CO118)","v":3.4750000000000001},2.95]
["WPF 10 M",0,true,false,true,55,0,55,false,false,185349,5975,false,true,null,"Außentemp","30 °C","35 °C","40 °C","45 °C","50 °C","55 °C","60 °C","65 °C","70 °C","75 °C","Min",null,null,null,null,null,null,null,null,"Außentemp","30 °C","35 °C","40 °C","45 °C","50 °C","55 °C","60 °C","65 °C","70 °C","75 °C",null,null,null,null,null,null,null,null,null,null,null,null,null,null,null,null,null,null,"WPF 20",5.1000000000000005,4.66,{"$f":"AVERAGE(BO119,BQ119)","v":4.2300000000000004},3.8,{"$f":"AVERAGE(BQ119,BS119)","v":3.3499999999999996},2.9,null,null,null,null,null,null,null,null,null,null,null,null,null,null,null,"WPF 13 M",6.0824999999999996,5.5,{"$f":"AVERAGE(CK119,CM119)","v":4.8},4.0999999999999996,3.6349999999999998,3.17]
["WPF 13 M",0,true,false,true,55,0,55,false,false,182135,5975,false,true,null,-20,10.564,10.464,10.7165,10.968999999999999,11.134499999999999,11.3,11.200000000000001,null,null,null,3.4851020535635149,null,null,null,null,null,null,null,null,-20,2.3199999999999998,2.3199999999999998,2.15,1.98,1.835,1.69,1.56,1.43,null,null,null,null,null,null,null,null,null,null,null,null,null,null,null,null,null,null,null,null,"WPF 27",5.3624999999999998,4.8499999999999996,4.3249999999999993,3.8,{"$f":"AVERAGE(BQ120,BS120)","v":3.3},2.8,null,null,null,null,null,null,null,null,null,null,null,null,null,null,null,"WPF 16 M",5.7349999999999994,5.17,4.49,3.81,{"$f":"AVERAGE(CM120,CO120)","v":3.3600000000000003},2.91]
["WPF 16 M",0,true,false,true,55,0,55,false,false,220894,5975,false,true,null,-17.5,11.329499999999999,11.2295,11.231999999999999,11.234500000000001,11.36725,11.5,11.4,null,null,null,3.8036679981460102,null,null,null,null,null,null,null,null,-17.5,2.48,2.48,2.2949999999999999,2.1100000000000003,1.9500000000000002,1.79,1.6525000000000001,1.5150000000000001,null,null,null,null,null,null,null,null,null,null,null,null,null,null,null,null,null,null,null,null,"WPF 27 HT",4.6875,4.34,3.9299999999999997,3.52,3.2350000000000003,2.95,{"$f":"BS121-(BS121-BV121)/3","v":2.7166666666666668},{"$f":"BV121+(BS121-BV121)/3","v":2.4833333333333334},2.25,2,null,null,null,null,null,null,null,null,null,null,null,"WPF 20 SET",6.0125000000000002,{"$f":"CK118","v":5.4},4.7,{"$f":"CM118","v":4},{"$f":"AVERAGE(CM121,CO121)","v":3.4750000000000001},{"$f":"CO118","v":2.95}]
["WPF 20 SET",0,false,false,true,55,0,55,false,false,185365,5976,false,true,null,-15,12.094999999999999,11.994999999999999,11.747499999999999,11.5,11.6,11.7,11.6,null,null,null,4.1222339427285055,null,null,null,null,null,null,null,null,-15,2.64,2.64,2.4400000000000004,2.2400000000000002,2.0649999999999999,1.89,1.7450000000000001,1.6,null,null,null,null,null,null,null,null,null,null,null,null,null,null,null,null,null,null,null,null,"WPF 35",5.2750000000000004,4.78,4.1400000000000006,3.5,3.15,2.8,null,null,null,null,null,null,null,null,null,null,null,null,null,null,null,"WPF 23 SET",6.0475000000000003,{"$f":"AVERAGE(CK121,CK123)","v":5.45},4.75,{"$f":"AVERAGE(CM121,CM123)","v":4.05},{"$f":"AVERAGE(CM122,CO122)","v":3.5549999999999997},{"$f":"AVERAGE(CO121,CO123)","v":3.06}]
["WPF 23 SET",0,false,false,true,55,0,55,false,false,185366,5976,false,true,null,-12.5,12.970499999999999,12.8705,12.235250000000001,11.6,11.725,11.85,11.75,null,null,null,4.1415753495605339,null,null,null,null,null,null,null,null,-12.5,2.8200000000000003,2.8200000000000003,2.6,2.38,2.19,2,1.845,1.69,null,null,null,null,null,null,null,null,null,null,null,null,null,null,null,null,null,null,null,null,"WPF 40",5.1124999999999998,4.67,4.21,3.75,3.3250000000000002,2.9,null,null,null,null,null,null,null,null,null,null,null,null,null,null,null,"WPF 26 SET",6.0824999999999996,{"$f":"CK119","v":5.5},4.8,{"$f":"CM119","v":4.0999999999999996},3.6349999999999998,{"$f":"CO119","v":3.17}]
["WPF 26 SET",0,false,false,true,55,0,55,false,false,182139,5976,false,true,null,-10,13.846,13.746,12.722999999999999,11.7,11.85,12,11.9,null,null,null,4.1609167563925622,null,null,null,null,null,null,null,null,-10,3,3,2.76,2.52,2.3149999999999999,2.11,1.9449999999999998,1.78,null,null,null,null,null,null,null,null,null,null,null,null,null,null,null,null,null,null,null,null,"WPF 52",5.2749999999999995,4.8099999999999996,4.3049999999999997,3.8,3.375,2.95,null,null,null,null,null,null,null,null,null,null,null,null,null,null,null,"WPF 29 SET",5.9087499999999995,{"$f":"AVERAGE(CK123,CK125)","v":5.335},4.6449999999999996,{"$f":"AVERAGE(CM123,CM125)","v":3.9550000000000001},3.4975000000000001,{"$f":"AVERAGE(CO123,CO125)","v":3.04}]
["WPF 29 SET",0,false,false,true,55,0,55,false,false,220896,5976,false,true,null,-7.5,15.007999999999999,14.907999999999999,13.603999999999999,12.3,12.350000000000001,12.4,12.3,null,null,null,4.2497426879401878,null,null,null,null,null,null,null,null,-7.5,3.23,3.23,2.9699999999999998,2.71,2.4849999999999999,2.2599999999999998,2.0699999999999998,1.88,null,null,null,null,null,null,null,null,null,null,null,null,null,null,null,null,null,null,null,null,"WPF 66",4.9624999999999995,4.5599999999999996,4.18,3.8,3.375,2.95,null,null,null,null,null,null,null,null,null,null,null,null,null,null,null,"WPF 32 SET",5.7349999999999994,{"$f":"CK120","v":5.17},4.49,{"$f":"CM120","v":3.81},3.3600000000000003,{"$f":"CO120","v":2.91}]
["WPF 32 SET",0,false,false,true,55,0,55,false,false,220897,5976,false,true,null,-5,15.831999999999999,15.731999999999999,14.366,13,13.1,13.2,13.1,null,null,null,4.3385686194878144,null,null,null,null,null,null,null,null,-5,3.4,3.4,3.12,2.84,2.5999999999999996,2.36,2.17,1.98,null,null,null,null,null,null,null,null,null,null,null,null,null,null,null,null,null,null,null,null,"WPF 20 SET",5.0075000000000003,{"$f":"BO116","v":4.49},3.93,{"$f":"BQ116","v":3.37},2.895,{"$f":"BS116","v":2.42},null,null,null,null,null,null,null,null,null,null,null,null,null,null,null,"WPF 27 | WPF 20",6.2625000000000002,{"$f":"AVERAGE(CK112,CK111)","v":5.7},5.0824999999999996,{"$f":"AVERAGE(CM112,CM111)","v":4.4649999999999999},3.9575,{"$f":"AVERAGE(CO112,CO111)","v":3.45}]
["WPF 27 | WPF 20",0,false,false,true,55,0,55,false,false,233004,6557,false,true,null,-2.5,15.866,15.866,14.948,14.030000000000001,14.16925,14.308499999999999,14.208499999999999,null,null,null,4.3978005706734118,null,null,null,null,null,null,null,null,-2.5,3.625,3.625,3.32,3.0149999999999997,2.7574999999999998,2.5,2.2974999999999999,2.0949999999999998,null,null,null,null,null,null,null,null,null,null,null,null,null,null,null,null,null,null,null,null,"WPF 23 SET",5.0350000000000001,{"$f":"AVERAGE(BO126,BO128)","v":4.53},3.9824999999999999,{"$f":"AVERAGE(BQ126,BQ128)","v":3.4350000000000001},2.9725000000000001,{"$f":"AVERAGE(BS126,BS128)","v":2.5099999999999998},null,null,null,null,null,null,null,null,null,null,null,null,null,null,null,"WPF 35 | WPF 27",6.0124999999999993,{"$f":"AVERAGE(CK114,CK112)","v":5.4749999999999996},4.8825000000000003,{"$f":"AVERAGE(CM114,CM112)","v":4.29},3.8075000000000001,{"$f":"AVERAGE(CO114,CO112)","v":3.3250000000000002}]
["WPF 35 | WPF 27",0,false,false,true,55,0,55,false,false,233005,6558,false,true,null,0,16,16,15.530000000000001,15.06,15.2385,15.417,15.317,null,null,null,4.4570325218590092,null,null,null,null,null,null,null,null,0,3.85,3.85,3.52,3.19,2.915,2.64,2.4249999999999998,2.21,null,null,null,null,null,null,null,null,null,null,null,null,null,null,null,null,null,null,null,null,"WPF 26 SET",{"$f":"BO128+(BO128-BS128)/4","v":5.0625},{"$f":"BO117","v":4.57},4.0350000000000001,{"$f":"BQ117","v":3.5},3.05,{"$f":"BS117","v":2.6},null,null,null,null,null,null,null,null,null,null,null,null,null,null,null,"WPF 40 | WPF 35",5.9499999999999993,{"$f":"AVERAGE(CK114,CK115)","v":5.4249999999999998},4.8375000000000004,{"$f":"AVERAGE(CM114,CM115)","v":4.25},3.7875000000000001,{"$f":"AVERAGE(CO114,CO115)","v":3.3250000000000002}]
["WPF 40 | WPF 35",0,false,false,true,55,0,55,false,false,233006,6559,false,true,null,2.5,16,16,15.765000000000001,15.530000000000001,15.619250000000001,15.708500000000001,15.608500000000001,null,null,null,4.6087911891084108,null,null,null,null,null,null,null,null,2.5,4.1150000000000002,4.1150000000000002,3.7575000000000003,3.4,3.1025,2.8050000000000002,2.5674999999999999,2.33,null,null,null,null,null,null,null,null,null,null,null,null,null,null,null,null,null,null,null,null,"WPF 29 SET",{"$f":"BO129+(BO129-BS129)/4","v":4.9399999999999995},{"$f":"AVERAGE(BO128,BO130)","v":4.46},3.91,{"$f":"AVERAGE(BQ128,BQ130)","v":3.3600000000000003},2.95,{"$f":"AVERAGE(BS128,BS130)","v":2.54},null,null,null,null,null,null,null,null,null,null,null,null,null,null,null,"WPF 52 | WPF 40",6.1637500000000003,{"$f":"AVERAGE(CK115,CK116)","v":5.625},5.0325000000000006,{"$f":"AVERAGE(CM115,CM116)","v":4.4400000000000004},3.9550000000000001,{"$f":"AVERAGE(CO115,CO116)","v":3.47}]
["WPF 52 | WPF 40",0,false,false,true,55,0,55,false,false,233007,6560,false,true,null,5,16,16,16,16,16,16,16,null,null,null,4.7605498563578115,null,null,null,null,null,null,null,null,5,4.38,4.38,3.9950000000000001,3.61,3.29,2.97,2.71,2.4500000000000002,null,null,null,null,null,null,null,null,null,null,null,null,null,null,null,null,null,null,null,null,"WPF 32 SET",4.8174999999999999,{"$f":"BO118","v":4.3499999999999996},3.7850000000000001,{"$f":"BQ118","v":3.22},2.85,{"$f":"BS118","v":2.48},null,null,null,null,null,null,null,null,null,null,null,null,null,null,null,"WPF 66 | WPF 52",6.1287499999999993,{"$f":"AVERAGE(CK117,CK116)","v":5.6},5.0250000000000004,{"$f":"AVERAGE(CM117,CM116)","v":4.45},3.9675000000000002,{"$f":"AVERAGE(CO117,CO116)","v":3.4850000000000003}]
["WPF 66 | WPF 52",0,false,false,true,55,0,55,false,false,233008,6561,false,true,null,7.5,16,16,16,16,16,16,16,null,null,null,4.9868872188329192,null,null,null,null,null,null,null,null,7.5,4.6999999999999993,4.6999999999999993,4.2724999999999991,3.8449999999999998,3.4975000000000001,3.1500000000000004,2.8675000000000002,2.585,null,null,null,null,null,null,null,null,null,null,null,null,null,null,null,null,null,null,null,null,"WPD 05 Set",{"$f":"BO131+(BO131-BP131)","v":4.5},4.0999999999999996,{"$f":"BQ131+(BO131-BR131)/3","v":3.6999999999999997},{"$f":"BR131+(BO131-BR131)/3","v":3.3},2.9,{"$f":"AVERAGE(BR131,BT131)","v":2.5},2.1,null,null,null,null,null,null,null,null,null,null,null,null,null,null,"WPF 20 | WPF 27 HT",5.8249999999999993,{"$f":"AVERAGE(CK113,CK111)","v":5.35},4.8375000000000004,{"$f":"AVERAGE(CM113,CM111)","v":4.3250000000000002},3.8875000000000002,{"$f":"AVERAGE(CO113,CO111)","v":3.45},3.15,2.85,2.5499999999999998,2.2999999999999998]
["WPF 20 | WPF 27 HT",0,false,false,true,55,0,75,false,false,233003,6562,false,true,null,10,16,16,16,16,16,16,16,null,null,null,5.2132245813080278,null,null,null,null,null,null,null,null,10,5.0199999999999996,5.0199999999999996,4.55,4.08,3.7050000000000001,3.33,3.0250000000000004,2.72,null,null,null,null,null,null,null,null,null,null,null,null,null,null,null,null,null,null,null,null,"WPD 07 Set",{"$f":"BO132+(BO132-BP132)","v":4.6000000000000005},4.2,{"$f":"BQ132+(BO132-BR132)/3","v":3.8},{"$f":"BR132+(BO132-BR132)/3","v":3.4},3,{"$f":"AVERAGE(BR132,BT132)","v":2.6},2.2000000000000002,null,null,null,null,null,null,null,null,null,null,null,null,null,null,"WPF 27 | WPF 27 HT",5.8249999999999993,{"$f":"AVERAGE(CK113,CK112)","v":5.35},4.8449999999999998,{"$f":"AVERAGE(CM113,CM112)","v":4.34},3.895,{"$f":"AVERAGE(CO113,CO112)","v":3.45},3.15,2.85,2.5499999999999998,2.2999999999999998]
["WPF 27 | WPF 27 HT",0,false,false,true,55,0,75,false,false,233004,6563,false,true,null,12.5,16,16,16,16,16,16,16,null,null,null,5.9302546557671043,null,null,null,null,null,null,null,null,12.5,5.4349999999999996,5.4349999999999996,4.9224999999999994,4.41,4.0175000000000001,3.625,3.3025000000000002,2.9800000000000004,null,null,null,null,null,null,null,null,null,null,null,null,null,null,null,null,null,null,null,null,"WPF 27 | WPF 20",5.2312500000000002,{"$f":"AVERAGE(BO120,BO119)","v":4.7549999999999999},4.2774999999999999,{"$f":"AVERAGE(BQ120,BQ119)","v":3.8},{"$f":"AVERAGE(BQ133,BS133)","v":3.3249999999999997},{"$f":"AVERAGE(BS120,BS119)","v":2.8499999999999996},null,null,null,null,null,null,null,null,null,null,null,null,null,null,null,"WPF 35 | WPF 27 HT",5.5750000000000002,{"$f":"AVERAGE(CK113,CK114)","v":5.125},4.6375000000000002,{"$f":"AVERAGE(CM113,CM114)","v":4.1500000000000004},3.7375000000000003,{"$f":"AVERAGE(CO113,CO114)","v":3.3250000000000002},3.15,2.85,2.5499999999999998,2.2999999999999998]
["WPF 35 | WPF 27 HT",0,false,false,true,55,0,75,false,false,233005,6564,false,true,null,15,16,16,16,16,16,16,16,null,null,null,6.6472847302261808,null,null,null,null,null,null,null,null,15,5.85,5.85,5.2949999999999999,4.74,4.33,3.92,3.58,3.24,null,null,null,null,null,null,null,null,null,null,null,null,null,null,null,null,null,null,null,null,"WPF 35 | WPF 27",5.3187499999999996,{"$f":"AVERAGE(BO122,BO120)","v":4.8149999999999995},4.2324999999999999,{"$f":"AVERAGE(BQ122,BQ120)","v":3.65},3.2249999999999996,{"$f":"AVERAGE(BS122,BS120)","v":2.8},null,null,null,null,null,null,null,null,null,null,null,null,null,null,null,"WPF 40 | WPF 27 HT",5.7624999999999993,{"$f":"AVERAGE(CK113,CK115)","v":5.3},{"$f":"AVERAGE(CK134,CM134)","v":4.8000000000000007},{"$f":"AVERAGE(CM113,CM115)","v":4.3000000000000007},3.8750000000000004,{"$f":"AVERAGE(CO113,CO115)","v":3.45},3.15,2.85,2.5499999999999998,2.2999999999999998]
["WPF 40 | WPF 27 HT",0,false,false,true,55,0,75,false,false,233006,6565,false,true,null,17.5,16,16,16,16,16,16,16,null,null,null,6.9128063397122403,null,null,null,null,null,null,null,null,17.5,6.1349999999999998,6.1349999999999998,5.5425000000000004,4.95,4.5150000000000006,4.08,3.72,3.3600000000000003,null,null,null,null,null,null,null,null,null,null,null,null,null,null,null,null,null,null,null,null,"WPF 40 | WPF 35",5.1937499999999996,{"$f":"AVERAGE(BO123,BO122)","v":4.7249999999999996},4.1749999999999998,{"$f":"AVERAGE(BQ123,BQ122)","v":3.625},3.2374999999999998,{"$f":"AVERAGE(BS123,BS122)","v":2.8499999999999996},null,null,null,null,null,null,null,null,null,null,null,null,null,null,null,"WPF 52 | WPF 27 HT",5.7887500000000003,{"$f":"AVERAGE(CK113,CK116)","v":5.3250000000000002},4.8324999999999996,{"$f":"AVERAGE(CM113,CM116)","v":4.34},3.9050000000000002,{"$f":"AVERAGE(CO113,CO116)","v":3.47},3.15,2.85,2.5499999999999998,2.2999999999999998]
["WPF 52 | WPF 27 HT",0,false,false,true,55,0,75,false,false,233007,6566,false,true,null,20,16,16,16,16,16,16,16,null,null,null,7.178327949198299,null,null,null,null,null,null,null,null,20,6.42,6.42,5.79,5.16,4.7,4.24,3.8600000000000003,3.48,null,null,null,null,null,null,null,null,null,null,null,null,null,null,null,null,null,null,null,null,"WPF 52 | WPF 40",5.1937500000000005,{"$f":"AVERAGE(BO124,BO123)","v":4.74},4.2575000000000003,{"$f":"AVERAGE(BQ124,BQ123)","v":3.7749999999999999},3.3499999999999996,{"$f":"AVERAGE(BS124,BS123)","v":2.9249999999999998},null,null,null,null,null,null,null,null,null,null,null,null,null,null,null,"WPF 66 | WPF 27 HT",5.7275000000000009,{"$f":"AVERAGE(CK113,CK117)","v":5.2750000000000004},4.7925000000000004,{"$f":"AVERAGE(CM113,CM117)","v":4.3100000000000005},3.8875000000000002,{"$f":"AVERAGE(CO113,CO117)","v":3.4649999999999999},3.15,2.85,2.5499999999999998,2.2999999999999998]
["WPF 66 | WPF 27 HT",0,false,false,true,55,0,75,false,false,233008,6567,false,true,null,22.5,16,16,16,16,16,16,16,null,null,null,7.6422172915722584,null,null,null,null,null,null,null,null,22.5,6.8049999999999997,6.8049999999999997,6.1174999999999997,5.43,4.9349999999999996,4.4399999999999995,4.0374999999999996,3.6349999999999998,null,null,null,null,null,null,null,null,null,null,null,null,null,null,null,null,null,null,null,null,"WPF 66 | WPF 52",5.1187499999999995,{"$f":"AVERAGE(BO125,BO124)","v":4.6849999999999996},{"$f":"AVERAGE(BO137,BQ137)","v":4.2424999999999997},{"$f":"AVERAGE(BQ125,BQ124)","v":3.8},3.375,{"$f":"AVERAGE(BS125,BS124)","v":2.95},null,null,null,null,null,null,null,null,null,null,null,null,null,null,null,0]
[null,null,null,null,null,null,null,null,null,null,null,null,null,null,null,25,16,16,16,16,16,16,16,null,null,null,8.1061066339462187,null,null,null,null,null,null,null,null,25,7.19,7.19,6.4450000000000003,5.7,5.17,4.6399999999999997,4.2149999999999999,3.79,null,null,null,null,null,null,null,null,null,null,null,null,null,null,null,null,null,null,null,null,"WPF 20 | WPF 27 HT",{"$f":"BO138+(BO138-BS138)/4","v":4.8937499999999998},{"$f":"AVERAGE(BO121,BO119)","v":4.5},4.08,{"$f":"AVERAGE(BQ121,BQ119)","v":3.66},3.2925,{"$f":"AVERAGE(BS121,BS119)","v":2.9249999999999998},2.7166666666666668,2.4833333333333334,2.25,2,null,null,null,null,null,null,null,null,null,null,null,0]
[null,null,null,null,null,null,null,null,null,null,null,null,null,null,null,27.5,16,16,16,16,16,16,16,null,null,null,8.6335506825187522,null,null,null,null,null,null,null,null,27.5,7.7249999999999996,7.7249999999999996,6.8925000000000001,6.0600000000000005,5.45,4.84,4.3650000000000002,3.89,null,null,null,null,null,null,null,null,null,null,null,null,null,null,null,null,null,null,null,null,"WPF 27 | WPF 27 HT",5.0249999999999995,{"$f":"AVERAGE(BO121,BO120)","v":4.5949999999999998},4.1274999999999995,{"$f":"AVERAGE(BQ121,BQ120)","v":3.66},3.2675000000000001,{"$f":"AVERAGE(BS121,BS120)","v":2.875},2.7166666666666668,2.4833333333333334,2.25,2,null,null,null,null,null,null,null,null,null,null,null,0]
[null,null,null,null,null,null,null,null,null,null,null,null,null,null,null,30,16,16,16,16,16,16,16,null,null,null,9.1609947310912876,null,null,null,null,null,null,null,null,30,8.26,8.26,7.34,6.42,5.73,5.04,4.5150000000000006,3.99,null,null,null,null,null,null,null,null,null,null,null,null,null,null,null,null,null,null,null,null,"WPF 35 | WPF 27 HT",4.9812500000000011,{"$f":"AVERAGE(BO122,BO121)","v":4.5600000000000005},4.0350000000000001,{"$f":"AVERAGE(BQ122,BQ121)","v":3.51},3.1924999999999999,{"$f":"AVERAGE(BS122,BS121)","v":2.875},2.7166666666666668,2.4833333333333334,2.25,2]
[null,null,null,null,null,null,null,null,null,null,null,null,null,null,null,null,"WPL 15 IKS",null,null,null,null,null,null,null,null,null,"Heizlast",null,null,null,null,null,null,null,null,null,"WPL 15 IK",null,null,null,null,null,null,null,null,null,null,null,null,null,null,null,null,null,null,null,null,null,null,null,null,null,null,null,"WPF 40 | WPF 27 HT",4.9000000000000004,{"$f":"AVERAGE(BO123,BO121)","v":4.5049999999999999},4.07,{"$f":"AVERAGE(BQ123,BQ121)","v":3.6349999999999998},3.28,{"$f":"AVERAGE(BS123,BS121)","v":2.9249999999999998},2.7166666666666668,2.4833333333333334,2.25,2]
[null,null,null,null,null,null,null,null,null,null,null,null,null,null,null,"Außentemp","30 °C","35 °C","40 °C","45 °C","50 °C","55 °C","60 °C","65 °C","70 °C","75 °C","Min",null,null,null,null,null,null,null,null,"Außentemp","30 °C","35 °C","40 °C","45 °C","50 °C","55 °C","60 °C","65 °C","70 °C","75 °C",null,null,null,null,null,null,null,null,null,null,null,null,null,null,null,null,null,null,"WPF 52 | WPF 27 HT",4.9812499999999993,{"$f":"AVERAGE(BO124,BO121)","v":4.5749999999999993},4.1174999999999997,{"$f":"AVERAGE(BQ124,BQ121)","v":3.66},3.3050000000000002,{"$f":"AVERAGE(BS124,BS121)","v":2.95},2.7166666666666668,2.4833333333333334,2.25,2]
[null,null,null,null,null,null,null,null,null,null,null,null,null,null,null,-20,5.3769999999999989,5.5229999999999997,5.6690000000000005,5.8150000000000004,5.9860000000000007,6.157,6.3279999999999994,null,null,null,1.6930000000000001,null,null,null,null,null,null,null,null,-20,2.2200000000000002,2.2200000000000002,2.0649999999999999,1.91,1.7749999999999999,1.64,1.54,1.44,null,null,null,null,null,null,null,null,null,null,null,null,null,null,null,null,null,null,null,null,"WPF 66 | WPF 27 HT",4.8249999999999993,{"$f":"AVERAGE(BO125,BO121)","v":4.4499999999999993},4.0549999999999997,{"$f":"AVERAGE(BQ125,BQ121)","v":3.66},3.3050000000000002,{"$f":"AVERAGE(BS125,BS121)","v":2.95},2.7166666666666668,2.4833333333333334,2.25,2]
[null,null,null,null,null,null,null,null,null,null,null,null,null,null,null,-17.5,5.6485000000000003,5.7515000000000001,5.8544999999999998,5.9574999999999996,6.093,6.2285000000000004,6.3640000000000008,null,null,null,1.86,null,null,null,null,null,null,null,null,-17.5,2.375,2.375,2.2024999999999997,2.0299999999999998,1.8824999999999998,1.7349999999999999,1.625,1.5150000000000001]
[null,null,null,null,null,null,null,null,null,null,null,null,null,null,null,-15,5.9200000000000008,5.98,6.04,6.1,6.1999999999999993,6.3,6.4,null,null,null,2.0270000000000001,null,null,null,null,null,null,null,null,-15,2.5299999999999998,2.5299999999999998,2.34,2.15,1.99,1.83,1.71,1.59]
[null,null,null,null,null,null,null,null,null,null,null,null,null,null,null,-12.5,6.0854999999999997,6.1070000000000002,6.1285000000000007,6.15,6.2750000000000004,6.4,6.5250000000000004,null,null,null,2.036,null,null,null,null,null,null,null,null,-12.5,2.7,2.7,2.4925000000000002,2.2850000000000001,2.1074999999999999,1.93,1.8025,1.675]
[null,null,null,null,null,null,null,null,null,null,null,null,null,null,null,-10,6.2509999999999994,6.234,6.2170000000000005,6.2,6.35,6.5,6.65,null,null,null,2.0449999999999999,null,null,null,null,null,null,null,null,-10,2.87,2.87,2.645,2.42,2.2249999999999996,2.0299999999999998,1.895,1.76]
[null,null,null,null,null,null,null,null,null,null,null,null,null,null,null,-7.5,6.33,6.42,6.51,6.6,6.8,7,7.2,null,null,null,2.0314999999999999,null,null,null,null,null,null,null,null,-7.5,3.09,3.09,2.84,2.59,2.38,2.17,2.0125000000000002,1.855]
[null,null,null,null,null,null,null,null,null,null,null,null,null,null,null,-5,6.7349999999999994,6.89,7.0449999999999999,7.2,7.45,7.7,7.7,null,null,null,2.0179999999999998,null,null,null,null,null,null,null,null,-5,3.25,3.25,2.9850000000000003,2.72,2.4950000000000001,2.27,2.11,1.95]
[null,null,null,null,null,null,null,null,null,null,null,null,null,null,null,-2.5,7.3675000000000006,7.4450000000000003,7.5225,7.6,7.7249999999999996,7.85,7.85,null,null,null,2.0865,null,null,null,null,null,null,null,null,-2.5,3.4649999999999999,3.4649999999999999,3.1749999999999998,2.8849999999999998,2.6425000000000001,2.4,2.2249999999999996,2.0499999999999998]
[null,null,null,null,null,null,null,null,null,null,null,null,null,null,null,0,8,8,8,8,8,8,8,null,null,null,2.1549999999999998,null,null,null,null,null,null,null,null,0,3.68,3.68,3.3650000000000002,3.05,2.79,2.5299999999999998,2.34,2.15]
[null,null,null,null,null,null,null,null,null,null,null,null,null,null,null,2.5,8,8,8,8,8,8,8,null,null,null,2.2605,null,null,null,null,null,null,null,null,2.5,3.95,3.95,3.605,3.26,2.98,2.7,2.4824999999999999,2.2649999999999997]
[null,null,null,null,null,null,null,null,null,null,null,null,null,null,null,5,8,8,8,8,8,8,8,null,null,null,2.3660000000000001,null,null,null,null,null,null,null,null,5,4.22,4.22,3.8449999999999998,3.47,3.17,2.87,2.625,2.38]
[null,null,null,null,null,null,null,null,null,null,null,null,null,null,null,7.5,8,8,8,8,8,8,8,null,null,null,2.4335,null,null,null,null,null,null,null,null,7.5,4.5299999999999994,4.5299999999999994,4.1150000000000002,3.7,3.3725000000000001,3.0449999999999999,2.7774999999999999,2.5099999999999998]
[null,null,null,null,null,null,null,null,null,null,null,null,null,null,null,10,8,8,8,8,8,8,8,null,null,null,2.5009999999999999,null,null,null,null,null,null,null,null,10,4.84,4.84,4.3849999999999998,3.93,3.5750000000000002,3.22,2.93,2.64]
[null,null,null,null,null,null,null,null,null,null,null,null,null,null,null,12.5,8,8,8,8,8,8,8,null,null,null,2.8114999999999997,null,null,null,null,null,null,null,null,12.5,5.2850000000000001,5.2850000000000001,4.7925000000000004,4.3,3.9074999999999998,3.5150000000000001,3.2,2.8849999999999998]
[null,null,null,null,null,null,null,null,null,null,null,null,null,null,null,15,8,8,8,8,8,8,8,null,null,null,3.1219999999999999,null,null,null,null,null,null,null,null,15,5.73,5.73,5.2,4.67,4.24,3.81,3.4699999999999998,3.13]
[null,null,null,null,null,null,null,null,null,null,null,null,null,null,null,17.5,8,8,8,8,8,8,8,null,null,null,3.2269999999999999,null,null,null,null,null,null,null,null,17.5,6.1449999999999996,6.1449999999999996,5.5574999999999992,4.97,4.5,4.03,4.3925000000000001,4.7549999999999999]
[null,null,null,null,null,null,null,null,null,null,null,null,null,null,null,20,8,8,8,8,8,8,8,null,null,null,3.3319999999999999,null,null,null,null,null,null,null,null,20,6.56,6.56,5.9149999999999991,5.27,4.76,4.25,5.3149999999999995,6.38]
[null,null,null,null,null,null,null,null,null,null,null,null,null,null,null,22.5,8,8,8,8,8,8,8,null,null,null,3.5324999999999998,null,null,null,null,null,null,null,null,22.5,7.07,7.07,6.3475000000000001,5.625,5.0649999999999995,4.5049999999999999,5.585,6.665]
[null,null,null,null,null,null,null,null,null,null,null,null,null,null,null,25,8,8,8,8,8,8,8,null,null,null,3.7330000000000001,null,null,null,null,null,null,null,null,25,7.58,7.58,6.78,5.98,5.37,4.76,5.8550000000000004,6.95]
[null,null,null,null,null,null,null,null,null,null,null,null,null,null,null,27.5,8,8,8,8,8,8,8,null,null,null,3.9705000000000004,null,null,null,null,null,null,null,null,27.5,8.24,8.24,7.33,6.42,5.74,5.0600000000000005,6.1000000000000005,7.1400000000000006]
[null,null,null,null,null,null,null,null,null,null,null,null,null,null,null,30,8,8,8,8,8,8,8,null,null,null,4.2080000000000002,null,null,null,null,null,null,null,null,30,8.9,8.9,7.8800000000000008,6.86,6.11,5.36,6.3450000000000006,7.33]
[null,null,null,null,null,null,null,null,null,null,null,null,null,null,null,null,"WPL 25 IK",null,null,null,null,null,null,null,null,null,"Heizlast",null,null,null,null,null,null,null,null,null,"WPL 25 IK"]
[null,null,null,null,null,null,null,null,null,null,null,null,null,null,null,"Außentemp","30 °C","35 °C","40 °C","45 °C","50 °C","55 °C","60 °C","65 °C","70 °C","75 °C","Min",null,null,null,null,null,null,null,null,"Außentemp","30 °C","35 °C","40 °C","45 °C","50 °C","55 °C","60 °C","65 °C","70 °C","75 °C"]
[null,null,null,null,null,null,null,null,null,null,null,null,null,null,null,-20,10.564,10.464,10.7165,10.968999999999999,11.134499999999999,11.3,11.200000000000001,null,null,null,3.4851020535635149,null,null,null,null,null,null,null,null,-20,2.3199999999999998,2.3199999999999998,2.15,1.98,1.835,1.69,1.56,1.43]
[null,null,null,null,null,null,null,null,null,null,null,null,null,null,null,-17.5,11.329499999999999,11.2295,11.231999999999999,11.234500000000001,11.36725,11.5,11.4,null,null,null,3.8036679981460102,null,null,null,null,null,null,null,null,-17.5,2.48,2.48,2.2949999999999999,2.1100000000000003,1.9500000000000002,1.79,1.6525000000000001,1.5150000000000001]
[null,null,null,null,null,null,null,null,null,null,null,null,null,null,null,-15,12.094999999999999,11.994999999999999,11.747499999999999,11.5,11.6,11.7,11.6,null,null,null,4.1222339427285055,null,null,null,null,null,null,null,null,-15,2.64,2.64,2.4400000000000004,2.2400000000000002,2.0649999999999999,1.89,1.7450000000000001,1.6]
[null,null,null,null,null,null,null,null,null,null,null,null,null,null,null,-12.5,12.970499999999999,12.8705,12.235250000000001,11.6,11.725,11.85,11.75,null,null,null,4.1415753495605339,null,null,null,null,null,null,null,null,-12.5,2.8200000000000003,2.8200000000000003,2.6,2.38,2.19,2,1.845,1.69]
[null,null,null,null,null,null,null,null,null,null,null,null,null,null,null,-10,13.846,13.746,12.722999999999999,11.7,11.85,12,11.9,null,null,null,4.1609167563925622,null,null,null,null,null,null,null,null,-10,3,3,2.76,2.52,2.3149999999999999,2.11,1.9449999999999998,1.78]
[null,null,null,null,null,null,null,null,null,null,null,null,null,null,null,-7.5,15.007999999999999,14.907999999999999,13.603999999999999,12.3,12.350000000000001,12.4,12.3,null,null,null,4.2497426879401878,null,null,null,null,null,null,null,null,-7.5,3.23,3.23,2.9699999999999998,2.71,2.4849999999999999,2.2599999999999998,2.0699999999999998,1.88]
[null,null,null,null,null,null,null,null,null,null,null,null,null,null,null,-5,15.831999999999999,15.731999999999999,14.366,13,13.1,13.2,13.1,null,null,null,4.3385686194878144,null,null,null,null,null,null,null,null,-5,3.4,3.4,3.12,2.84,2.5999999999999996,2.36,2.17,1.98]
[null,null,null,null,null,null,null,null,null,null,null,null,null,null,null,-2.5,15.866,15.866,14.948,14.030000000000001,14.16925,14.308499999999999,14.208499999999999,null,null,null,4.3978005706734118,null,null,null,null,null,null,null,null,-2.5,3.625,3.625,3.32,3.0149999999999997,2.7574999999999998,2.5,2.2974999999999999,2.0949999999999998]
[null,null,null,null,null,null,null,null,null,null,null,null,null,null,null,0,16,16,15.530000000000001,15.06,15.2385,15.417,15.317,null,null,null,4.4570325218590092,null,null,null,null,null,null,null,null,0,3.85,3.85,3.52,3.19,2.915,2.64,2.4249999999999998,2.21]
[null,null,null,null,null,null,null,null,null,null,null,null,null,null,null,2.5,16,16,15.765000000000001,15.530000000000001,15.619250000000001,15.708500000000001,15.608500000000001,null,null,null,4.6087911891084108,null,null,null,null,null,null,null,null,2.5,4.1150000000000002,4.1150000000000002,3.7575000000000003,3.4,3.1025,2.8050000000000002,2.5674999999999999,2.33]
[null,null,null,null,null,null,null,null,null,null,null,null,null,null,null,5,16,16,16,16,16,16,16,null,null,null,4.7605498563578115,null,null,null,null,null,null,null,null,5,4.38,4.38,3.9950000000000001,3.61,3.29,2.97,2.71,2.4500000000000002]
[null,null,null,null,null,null,null,null,null,null,null,null,null,null,null,7.5,16,16,16,16,16,16,16,null,null,null,4.9868872188329192,null,null,null,null,null,null,null,null,7.5,4.6999999999999993,4.6999999999999993,4.2724999999999991,3.8449999999999998,3.4975000000000001,3.1500000000000004,2.8675000000000002,2.585]
[null,null,null,null,null,null,null,null,null,null,null,null,null,null,null,10,16,16,16,16,16,16,16,null,null,null,5.2132245813080278,null,null,null,null,null,null,null,null,10,5.0199999999999996,5.0199999999999996,4.55,4.08,3.7050000000000001,3.33,3.0250000000000004,2.72]
[null,null,null,null,null,null,null,null,null,null,null,null,null,null,null,12.5,16,16,16,16,16,16,16,null,null,null,5.9302546557671043,null,null,null,null,null,null,null,null,12.5,5.4349999999999996,5.4349999999999996,4.9224999999999994,4.41,4.0175000000000001,3.625,3.3025000000000002,2.9800000000000004]
[null,null,null,null,null,null,null,null,null,null,null,null,null,null,null,15,16,16,16,16,16,16,16,null,null,null,6.6472847302261808,null,null,null,null,null,null,null,null,15,5.85,5.85,5.2949999999999999,4.74,4.33,3.92,3.58,3.24]
[null,null,null,null,null,null,null,null,null,null,null,null,null,null,null,17.5,16,16,16,16,16,16,16,null,null,null,6.9128063397122403,null,null,null,null,null,null,null,null,17.5,6.1349999999999998,6.1349999999999998,5.5425000000000004,4.95,4.5150000000000006,4.08,3.72,3.3600000000000003]
[null,null,null,null,null,null,null,null,null,null,null,null,null,null,null,20,16,16,16,16,16,16,16,null,null,null,7.178327949198299,null,null,null,null,null,null,null,null,20,6.42,6.42,5.79,5.16,4.7,4.24,3.8600000000000003,3.48]
[null,null,null,null,null,null,null,null,null,null,null,null,null,null,null,22.5,16,16,16,16,16,16,16,null,null,null,7.6422172915722584,null,null,null,null,null,null,null,null,22.5,6.8049999999999997,6.8049999999999997,6.1174999999999997,5.43,4.9349999999999996,4.4399999999999995,4.0374999999999996,3.6349999999999998]
[null,null,null,null,null,null,null,null,null,null,null,null,null,null,null,25,16,16,16,16,16,16,16,null,null,null,8.1061066339462187,null,null,null,null,null,null,null,null,25,7.19,7.19,6.4450000000000003,5.7,5.17,4.6399999999999997,4.2149999999999999,3.79]
[null,null,null,null,null,null,null,null,null,null,null,null,null,null,null,27.5,16,16,16,16,16,16,16,null,null,null,8.6335506825187522,null,null,null,null,null,null,null,null,27.5,7.7249999999999996,7.7249999999999996,6.8925000000000001,6.0600000000000005,5.45,4.84,4.3650000000000002,3.89]
[null,null,null,null,null,null,null,null,null,null,null,null,null,null,null,30,16,16,16,16,16,16,16,null,null,null,9.1609947310912876,null,null,null,null,null,null,null,null,30,8.26,8.26,7.34,6.42,5.73,5.04,4.5150000000000006,3.99]
[null,null,null,null,null,null,null,null,null,null,null,null,null,null,null,null,"WPL 08 S Trend",null,null,null,null,null,null,null,null,null,"Heizlast",null,null,null,null,null,null,null,null,null,"WPL 08 S Trend"]
[null,null,null,null,null,null,null,null,null,null,null,null,null,null,null,"Außentemp","30 °C","35 °C","40 °C","45 °C","50 °C","55 °C","60 °C","65 °C","70 °C","75 °C","Min",null,null,null,null,null,null,null,null,"Außentemp","30 °C","35 °C","40 °C","45 °C","50 °C","55 °C","60 °C","65 °C","70 °C","75 °C"]
[null,null,null,null,null,null,null,null,null,null,null,null,null,null,null,-20,{"$f":"R189+(R189-S189)","v":2.4475000000000011},2.4000000000000008,{"$f":"AVERAGE(R189,T189)","v":2.3525000000000005},2.3050000000000002,{"$f":"AVERAGE(T189,V189)","v":2.2575000000000047},2.2100000000000097,null,null,null,null,2,null,null,null,null,null,null,null,null,-20,1.6599999999999993,1.6566666666666663,1.6533333333333333,1.6500000000000004,1.4983333333333335,1.3466666666666665]
[null,null,null,null,null,null,null,null,null,null,null,null,null,null,null,-17.5,2.878750000000001,2.8250000000000006,2.7712500000000002,2.7175000000000002,2.6637500000000047,2.6100000000000096,null,null,null,null,2,null,null,null,null,null,null,null,null,-17.5,1.9449999999999994,1.9033333333333331,1.8616666666666668,1.8200000000000003,1.6366666666666667,1.4533333333333331]
[null,null,null,null,null,null,null,null,null,null,null,null,null,null,null,-15,3.3100000000000014,3.2500000000000009,3.1900000000000004,3.13,3.0700000000000047,3.0100000000000096,null,null,null,null,2,null,null,null,null,null,null,null,null,-15,2.2299999999999995,2.15,2.0700000000000003,1.9900000000000002,1.7749999999999999,1.5599999999999998]
[null,null,null,null,null,null,null,null,null,null,null,null,null,null,null,-12.5,3.7412500000000009,3.6750000000000007,3.6087500000000006,3.5425,3.4762499999999994,3.4099999999999993,null,null,null,null,2,null,null,null,null,null,null,null,null,-12.5,2.5150000000000006,2.3966666666666669,2.2783333333333333,2.16,1.9133333333333333,1.6666666666666665]
[null,null,null,null,null,null,null,null,null,null,null,null,null,null,null,-10,4.1725000000000012,4.1000000000000005,4.0274999999999999,3.9550000000000001,3.8824999999999998,3.8099999999999996,null,null,null,null,2,null,null,null,null,null,null,null,null,-10,2.8000000000000003,2.6433333333333335,2.4866666666666668,2.33,2.0516666666666667,1.7733333333333332]
[null,null,null,null,null,null,null,null,null,null,null,null,null,null,null,-7.5,4.6037500000000007,4.5250000000000004,4.44625,4.3674999999999997,4.2887500000000003,4.21,null,null,null,null,2,null,null,null,null,null,null,null,null,-7.5,3.085,2.89,2.6950000000000003,2.5,2.19,1.88]
[null,null,null,null,null,null,null,null,null,null,null,null,null,null,null,-5,5.0350000000000001,4.95,4.8650000000000002,4.78,4.6950000000000003,4.6099999999999994,null,null,null,null,2,null,null,null,null,null,null,null,null,-5,3.375,3.14,2.9050000000000002,2.67,2.3283333333333331,1.9866666666666666]
[null,null,null,null,null,null,null,null,null,null,null,null,null,null,null,-2.5,5.5118750000000016,5.3750000000000009,5.2381250000000001,5.1012500000000003,5.055625,5.01,null,null,null,null,2,null,null,null,null,null,null,null,null,-2.5,3.665,3.39,3.1150000000000002,2.84,2.4666666666666668,2.0933333333333333]
[null,null,null,null,null,null,null,null,null,null,null,null,null,null,null,0,5.8975000000000009,5.8000000000000007,5.7025000000000006,5.6050000000000004,5.507499999999995,5.4099999999999895,null,null,null,null,2,null,null,null,null,null,null,null,null,0,3.9550000000000001,3.64,3.3250000000000002,3.01,2.605,2.2000000000000002]
[null,null,null,null,null,null,null,null,null,null,null,null,null,null,null,2.5,6.3287500000000012,6.2250000000000005,6.1212499999999999,6.0175000000000001,5.913749999999995,5.8099999999999898,null,null,null,null,2,null,null,null,null,null,null,null,null,2.5,4.2450000000000001,3.89,3.5350000000000001,3.18,2.7433333333333336,2.3066666666666671]
[null,null,null,null,null,null,null,null,null,null,null,null,null,null,null,5,6.7600000000000016,6.6500000000000012,6.5400000000000009,6.43,6.319999999999995,6.2099999999999893,null,null,null,null,2,null,null,null,null,null,null,null,null,5,4.6700000000000008,4.2300000000000004,3.79,3.35,2.8816666666666668,2.4133333333333336]
[null,null,null,null,null,null,null,null,null,null,null,null,null,null,null,7.5,7.1912500000000019,7.0750000000000011,6.9587500000000002,6.8425000000000002,6.726249999999995,6.6099999999999897,null,null,null,null,2,null,null,null,null,null,null,null,null,7.5,5.0950000000000006,4.57,4.0449999999999999,3.52,3.02,2.52]
[null,null,null,null,null,null,null,null,null,null,null,null,null,null,null,10,7.6225000000000014,7.5000000000000009,7.3775000000000004,7.2549999999999999,7.132499999999995,7.00999999999999,null,null,null,null,2,null,null,null,null,null,null,null,null,10,5.5200000000000005,4.91,4.3,3.69,3.1583333333333332,2.6266666666666669]
[null,null,null,null,null,null,null,null,null,null,null,null,null,null,null,12.5,8.0537500000000009,7.9250000000000007,7.7962500000000006,7.6675000000000004,7.538749999999995,7.4099999999999904,null,null,null,null,2,null,null,null,null,null,null,null,null,12.5,5.9450000000000003,5.25,4.5549999999999997,3.86,3.2966666666666669,2.7333333333333334]
[null,null,null,null,null,null,null,null,null,null,null,null,null,null,null,15,8.4850000000000012,8.3500000000000014,8.2150000000000016,8.0800000000000018,7.9449999999999914,7.8099999999999801,null,null,null,null,2,null,null,null,null,null,null,null,null,15,6.3699999999999992,5.59,4.8100000000000005,4.03,3.4350000000000001,2.84]
[null,null,null,null,null,null,null,null,null,null,null,null,null,null,null,17.5,8.9162500000000033,8.7750000000000021,8.6337500000000009,8.4924999999999997,8.3512499999999896,8.2099999999999813,null,null,null,null,2,null,null,null,null,null,null,null,null,17.5,6.7949999999999999,5.93,5.0649999999999995,4.2,3.5733333333333333,2.9466666666666663]
[null,null,null,null,null,null,null,null,null,null,null,null,null,null,null,20,9.3475000000000001,9.2000000000000011,9.052500000000002,8.9050000000000011,8.7574999999999896,8.6099999999999799,null,null,null,null,2,null,null,null,null,null,null,null,null,20,7.2199999999999989,6.27,5.32,4.37,3.7116666666666664,3.0533333333333328]
[null,null,null,null,null,null,null,null,null,null,null,null,null,null,null,22.5,9.7787499999999987,{"$f":"R205+(R205-R204)","v":9.625},9.4712500000000013,{"$f":"T205+(T205-T204)","v":9.3175000000000026},9.1637499999999896,{"$f":"V205+(V205-V204)","v":9.0099999999999785},null,null,null,null,2,null,null,null,null,null,null,null,null,22.5,7.6449999999999996,6.6099999999999994,5.5749999999999993,4.54,3.8499999999999996,3.1599999999999993]
[null,null,null,null,null,null,null,null,null,null,null,null,null,null,null,25,10.209999999999997,{"$f":"R206+(R205-R204)","v":10.049999999999999},9.89,{"$f":"T206+(T205-T204)","v":9.730000000000004},9.5699999999999896,{"$f":"V206+(V205-V204)","v":9.409999999999977},null,null,null,null,2,null,null,null,null,null,null,null,null,25,8.0699999999999985,6.9499999999999993,5.83,4.71,3.9883333333333328,3.2666666666666657]
[null,null,null,null,null,null,null,null,null,null,null,null,null,null,null,27.5,10.641249999999994,{"$f":"R207+(R205-R204)","v":10.474999999999998},10.308750000000002,{"$f":"T207+(T205-T204)","v":10.142500000000005},9.9762499999999896,{"$f":"V207+(V205-V204)","v":9.8099999999999756},null,null,null,null,2,null,null,null,null,null,null,null,null,27.5,8.4949999999999992,7.2899999999999991,6.0849999999999991,4.88,4.126666666666666,3.3733333333333322]
[null,null,null,null,null,null,null,null,null,null,null,null,null,null,null,30,11.072499999999991,{"$f":"R208+(R205-R204)","v":10.899999999999997},10.727500000000003,{"$f":"T208+(T205-T204)","v":10.555000000000007},10.38249999999999,{"$f":"V208+(V205-V204)","v":10.209999999999974},null,null,null,null,2,null,null,null,null,null,null,null,null,30,8.9199999999999982,7.629999999999999,6.34,5.05,4.2649999999999988,3.4799999999999986]
[null,null,null,null,null,null,null,null,null,null,null,null,null,null,null,null,"WPL 12 S Trend",null,null,null,null,null,null,null,null,null,"Heizlast",null,null,null,null,null,null,null,null,null,"WPL 12 S Trend"]
[null,null,null,null,null,null,null,null,null,null,null,null,null,null,null,"Außentemp","30 °C","35 °C","40 °C","45 °C","50 °C","55 °C","60 °C","65 °C","70 °C","75 °C","Min",null,null,null,null,null,null,null,null,"Außentemp","30 °C","35 °C","40 °C","45 °C","50 °C","55 °C","60 °C","65 °C","70 °C","75 °C"]
[null,null,null,null,null,null,null,null,null,null,null,null,null,null,null,-20,{"$f":"R212+(R212-S212)","v":4.1750000000000007},3.97,{"$f":"AVERAGE(R212,T212)","v":3.7650000000000001},3.56,{"$f":"AVERAGE(T212,V212)","v":3.3550000000000049},3.1500000000000101,null,null,null,null,2,null,null,null,null,null,null,null,null,-20,2.1674999999999995,1.9199999999999997,1.6724999999999999,1.425,1.4133333333333329,1.4016666666666657]
[null,null,null,null,null,null,null,null,null,null,null,null,null,null,null,-17.5,4.6062499999999993,4.3949999999999996,{"$f":"AVERAGE(R213,T213)","v":4.1837499999999999},3.9725000000000001,3.7612500000000049,3.55000000000001,null,null,null,null,2,null,null,null,null,null,null,null,null,-17.5,2.3299999999999992,2.0999999999999996,1.8699999999999999,1.6400000000000001,1.5816666666666663,1.5233333333333325]
[null,null,null,null,null,null,null,null,null,null,null,null,null,null,null,-15,5.0375000000000005,4.82,{"$f":"AVERAGE(R214,T214)","v":4.6025},4.3849999999999998,4.1675000000000049,3.9500000000000099,null,null,null,null,2,null,null,null,null,null,null,null,null,-15,2.4924999999999997,2.2799999999999998,2.0674999999999999,1.8550000000000002,1.7499999999999998,1.6449999999999994]
[null,null,null,null,null,null,null,null,null,null,null,null,null,null,null,-12.5,5.46875,5.2450000000000001,{"$f":"AVERAGE(R215,T215)","v":5.0212500000000002},4.7974999999999994,4.5737499999999995,4.3499999999999996,null,null,null,null,2,null,null,null,null,null,null,null,null,-12.5,2.6549999999999994,2.4599999999999995,2.2649999999999997,2.0700000000000003,1.9183333333333332,1.7666666666666662]
[null,null,null,null,null,null,null,null,null,null,null,null,null,null,null,-10,5.9,5.67,{"$f":"AVERAGE(R216,T216)","v":5.4399999999999995},5.21,4.9800000000000004,4.75,null,null,null,null,2,null,null,null,null,null,null,null,null,-10,2.8174999999999994,2.6399999999999997,2.4624999999999999,2.2850000000000001,2.0866666666666664,1.888333333333333]
[null,null,null,null,null,null,null,null,null,null,null,null,null,null,null,-7.5,6.3312499999999989,6.0949999999999998,{"$f":"AVERAGE(R217,T217)","v":5.8587500000000006},5.6225000000000005,5.3862500000000004,5.15,null,null,null,null,2,null,null,null,null,null,null,null,null,-7.5,2.9799999999999995,2.82,2.66,2.5,2.2549999999999999,2.0099999999999998]
[null,null,null,null,null,null,null,null,null,null,null,null,null,null,null,-5,6.7624999999999993,6.52,{"$f":"AVERAGE(R218,T218)","v":6.2774999999999999},6.0350000000000001,5.7925000000000004,5.55,null,null,null,null,2,null,null,null,null,null,null,null,null,-5,3.3637499999999996,3.1475,2.9312500000000004,2.7150000000000003,2.4233333333333338,2.1316666666666668]
[null,null,null,null,null,null,null,null,null,null,null,null,null,null,null,-2.5,7.3181250000000002,6.9450000000000003,{"$f":"AVERAGE(R219,T219)","v":6.5718750000000004},6.1987500000000004,6.0743749999999999,5.95,null,null,null,null,2,null,null,null,null,null,null,null,null,-2.5,3.7474999999999996,3.4749999999999996,3.2024999999999997,2.93,2.5916666666666668,2.2533333333333334]
[null,null,null,null,null,null,null,null,null,null,null,null,null,null,null,0,7.625,7.37,{"$f":"AVERAGE(R220,T220)","v":7.1150000000000002},6.86,6.6049999999999951,6.3499999999999899,null,null,null,null,2,null,null,null,null,null,null,null,null,0,4.1312499999999996,3.8024999999999998,3.4737499999999999,3.145,2.76,2.375]
[null,null,null,null,null,null,null,null,null,null,null,null,null,null,null,2.5,8.0562499999999986,7.7949999999999999,{"$f":"AVERAGE(R221,T221)","v":7.5337500000000004},7.2725000000000009,7.0112499999999951,6.7499999999999902,null,null,null,null,2,null,null,null,null,null,null,null,null,2.5,4.5149999999999997,4.13,3.7450000000000001,3.3600000000000003,2.9283333333333337,2.496666666666667]
[null,null,null,null,null,null,null,null,null,null,null,null,null,null,null,5,8.4875000000000007,8.2200000000000006,{"$f":"AVERAGE(R222,T222)","v":7.9525000000000006},7.6849999999999996,7.4174999999999951,7.1499999999999897,null,null,null,null,2,null,null,null,null,null,null,null,null,5,4.9399999999999995,4.4849999999999994,4.0299999999999994,3.5750000000000002,3.0966666666666667,2.6183333333333336]
[null,null,null,null,null,null,null,null,null,null,null,null,null,null,null,7.5,8.9187499999999993,8.6449999999999996,{"$f":"AVERAGE(R223,T223)","v":8.3712499999999999},8.0975000000000001,7.8237499999999951,7.5499999999999901,null,null,null,null,2,null,null,null,null,null,null,null,null,7.5,5.3650000000000002,4.84,4.3149999999999995,3.79,3.2650000000000001,2.74]
[null,null,null,null,null,null,null,null,null,null,null,null,null,null,null,10,9.3500000000000014,9.07,{"$f":"AVERAGE(R224,T224)","v":8.7899999999999991},8.51,8.2299999999999951,7.9499999999999904,null,null,null,null,2,null,null,null,null,null,null,null,null,10,5.7900000000000009,5.1950000000000003,4.5999999999999996,4.0049999999999999,3.4333333333333336,2.8616666666666668]
[null,null,null,null,null,null,null,null,null,null,null,null,null,null,null,12.5,9.7812500000000018,9.495000000000001,{"$f":"AVERAGE(R225,T225)","v":9.2087500000000002},8.9224999999999994,8.6362499999999951,8.3499999999999908,null,null,null,null,2,null,null,null,null,null,null,null,null,12.5,6.2150000000000016,5.5500000000000007,4.8849999999999998,4.22,3.6016666666666666,2.9833333333333334]
[null,null,null,null,null,null,null,null,null,null,null,null,null,null,null,15,10.212499999999999,9.92,{"$f":"AVERAGE(R226,T226)","v":9.6275000000000013},9.3350000000000009,9.0424999999999898,8.7499999999999805,null,null,null,null,2,null,null,null,null,null,null,null,null,15,6.6400000000000023,5.9050000000000011,5.17,4.4349999999999996,3.7699999999999996,3.105]
[null,null,null,null,null,null,null,null,null,null,null,null,null,null,null,17.5,10.643749999999999,10.344999999999999,{"$f":"AVERAGE(R227,T227)","v":10.046249999999999},9.7474999999999987,9.4487499999999898,9.1499999999999808,null,null,null,null,2,null,null,null,null,null,null,null,null,17.5,7.0650000000000031,6.2600000000000016,5.4550000000000001,4.6499999999999995,3.938333333333333,3.2266666666666666]
[null,null,null,null,null,null,null,null,null,null,null,null,null,null,null,20,11.074999999999999,10.77,{"$f":"AVERAGE(R228,T228)","v":10.465},10.16,9.8549999999999898,9.5499999999999794,null,null,null,null,2,null,null,null,null,null,null,null,null,20,7.4900000000000038,6.615000000000002,5.74,4.8649999999999993,4.1066666666666665,3.3483333333333332]
[null,null,null,null,null,null,null,null,null,null,null,null,null,null,null,22.5,11.50625,{"$f":"R228+(R228-R227)","v":11.195},{"$f":"AVERAGE(R229,T229)","v":10.883750000000001},{"$f":"T228+(T228-T227)","v":10.572500000000002},10.26124999999999,{"$f":"V228+(V228-V227)","v":9.949999999999978},null,null,null,null,2,null,null,null,null,null,null,null,null,22.5,7.9150000000000045,6.9700000000000024,6.0250000000000004,5.0799999999999992,4.2749999999999995,3.4699999999999998]
[null,null,null,null,null,null,null,null,null,null,null,null,null,null,null,25,11.9375,{"$f":"R229+(R228-R227)","v":11.620000000000001},{"$f":"AVERAGE(R230,T230)","v":11.302500000000002},{"$f":"T229+(T228-T227)","v":10.985000000000003},10.66749999999999,{"$f":"V229+(V228-V227)","v":10.349999999999977},null,null,null,null,2,null,null,null,null,null,null,null,null,25,8.3400000000000052,7.3250000000000028,6.3100000000000005,5.294999999999999,4.4433333333333325,3.5916666666666663]
[null,null,null,null,null,null,null,null,null,null,null,null,null,null,null,27.5,12.36875,{"$f":"R230+(R228-R227)","v":12.045000000000002},{"$f":"AVERAGE(R231,T231)","v":11.721250000000003},{"$f":"T230+(T228-T227)","v":11.397500000000004},11.07374999999999,{"$f":"V230+(V228-V227)","v":10.749999999999975},null,null,null,null,2,null,null,null,null,null,null,null,null,27.5,8.7650000000000059,7.6800000000000033,6.5950000000000006,5.5099999999999989,4.6116666666666664,3.7133333333333329]
[null,null,null,null,null,null,null,null,null,null,null,null,null,null,null,30,12.8,{"$f":"R231+(R228-R227)","v":12.470000000000002},{"$f":"AVERAGE(R232,T232)","v":12.140000000000004},{"$f":"T231+(T228-T227)","v":11.810000000000006},11.47999999999999,{"$f":"V231+(V228-V227)","v":11.149999999999974},null,null,null,null,2,null,null,null,null,null,null,null,null,30,9.1900000000000066,8.0350000000000037,6.8800000000000008,5.7249999999999988,4.7799999999999994,3.8349999999999995]
[null,null,null,null,null,null,null,null,null,null,null,null,null,null,null,null,"WPL 16 S Trend",null,null,null,null,null,null,null,null,null,"Heizlast",null,null,null,null,null,null,null,null,null,"WPL 16 S Trend"]
[null,null,null,null,null,null,null,null,null,null,null,null,null,null,null,"Außentemp","30 °C","35 °C","40 °C","45 °C","50 °C","55 °C","60 °C","65 °C","70 °C","75 °C","Min",null,null,null,null,null,null,null,null,"Außentemp","30 °C","35 °C","40 °C","45 °C","50 °C","55 °C","60 °C","65 °C","70 °C","75 °C"]
[null,null,null,null,null,null,null,null,null,null,null,null,null,null,null,-20,{"$f":"R235+(R235-S235)","v":5.528162178499981},5.4681081189999903,{"$f":"AVERAGE(R235,T235)","v":5.4080540594999995},5.3480000000000096,{"$f":"AVERAGE(T235,V235)","v":4.9800000000000093},4.6120000000000099,null,null,null,null,3,null,null,null,null,null,null,null,null,-20,2.331666666666667,2.0933333333333333,1.8549999999999998,1.6166666666666663,1.7483333333333333,1.8800000000000003]
[null,null,null,null,null,null,null,null,null,null,null,null,null,null,null,-17.5,6.1050540672499842,6.0377027114999908,{"$f":"AVERAGE(R236,T236)","v":5.9703513557499974},5.9030000000000049,5.5212500000000073,5.1395000000000097,null,null,null,null,3,null,null,null,null,null,null,null,null,-17.5,2.5033333333333334,2.2666666666666666,2.0299999999999998,1.793333333333333,1.8716666666666666,1.9500000000000004]
[null,null,null,null,null,null,null,null,null,null,null,null,null,null,null,-15,6.6819459559999839,6.6072973039999896,{"$f":"AVERAGE(R237,T237)","v":6.5326486519999953},6.4580000000000002,6.0625,5.6669999999999998,null,null,null,null,3,null,null,null,null,null,null,null,null,-15,2.6749999999999998,2.44,2.2050000000000001,1.9699999999999998,1.9950000000000001,2.0200000000000005]
[null,null,null,null,null,null,null,null,null,null,null,null,null,null,null,-12.5,7.2588378447499933,7.1768918964999955,{"$f":"AVERAGE(R238,T238)","v":7.0949459482499977},7.0129999999999999,6.6037499999999998,6.1944999999999997,null,null,null,null,3,null,null,null,null,null,null,null,null,-12.5,2.8466666666666667,2.6133333333333333,2.38,2.1466666666666665,2.1183333333333332,2.0900000000000003]
[null,null,null,null,null,null,null,null,null,null,null,null,null,null,null,-10,7.8357297334999991,7.7464864889999996,{"$f":"AVERAGE(R239,T239)","v":7.6572432445},7.5679999999999996,7.1449999999999996,6.7220000000000004,null,null,null,null,3,null,null,null,null,null,null,null,null,-10,3.0183333333333335,2.7866666666666666,2.5549999999999997,2.3233333333333333,2.2416666666666667,2.16]
[null,null,null,null,null,null,null,null,null,null,null,null,null,null,null,-7.5,8.4126216222500005,8.3160810815000001,{"$f":"AVERAGE(R240,T240)","v":8.2195405407499997},8.1230000000000011,7.6862500000000011,7.2495000000000003,null,null,null,null,3,null,null,null,null,null,null,null,null,-7.5,3.19,2.96,2.73,2.5,2.3650000000000002,2.23]
[null,null,null,null,null,null,null,null,null,null,null,null,null,null,null,-5,8.9895135109999984,8.8856756739999998,{"$f":"AVERAGE(R241,T241)","v":8.7818378370000012},8.6780000000000008,8.2275000000000009,7.7770000000000001,null,null,null,null,3,null,null,null,null,null,null,null,null,-5,3.5779166666666664,3.2774999999999999,2.9770833333333333,2.6766666666666667,2.4883333333333333,2.3000000000000003]
[null,null,null,null,null,null,null,null,null,null,null,null,null,null,null,-2.5,9.7985303997500015,9.4552702665000012,{"$f":"AVERAGE(R242,T242)","v":9.112010133250001},8.7687500000000007,8.5366250000000008,8.3045000000000009,null,null,null,null,3,null,null,null,null,null,null,null,null,-2.5,3.9658333333333333,3.5950000000000002,3.2241666666666671,2.8533333333333335,2.6116666666666668,2.37]
[null,null,null,null,null,null,null,null,null,null,null,null,null,null,null,0,10.143297288499998,10.024864858999999,{"$f":"AVERAGE(R243,T243)","v":9.9064324295000006},9.7880000000000003,9.31,8.8320000000000007,null,null,null,null,3,null,null,null,null,null,null,null,null,0,4.3537500000000007,3.9125000000000005,3.4712500000000004,3.0300000000000002,2.7350000000000003,2.44]
[null,null,null,null,null,null,null,null,null,null,null,null,null,null,null,2.5,10.720189177250001,10.594459451500001,{"$f":"AVERAGE(R244,T244)","v":10.46872972575},10.343,9.851249999999995,9.3594999999999899,null,null,null,null,3,null,null,null,null,null,null,null,null,2.5,4.7416666666666671,4.2300000000000004,3.7183333333333337,3.2066666666666666,2.8583333333333334,2.5100000000000002]
[null,null,null,null,null,null,null,null,null,null,null,null,null,null,null,5,11.297081066000001,11.164054044,{"$f":"AVERAGE(R245,T245)","v":11.031027022},10.898,10.392499999999995,9.8869999999999898,null,null,null,null,3,null,null,null,null,null,null,null,null,5,5.2983333333333338,4.66,4.0216666666666665,3.3833333333333333,2.9816666666666665,2.58]
[null,null,null,null,null,null,null,null,null,null,null,null,null,null,null,7.5,11.87397295475,11.7336486365,{"$f":"AVERAGE(R246,T246)","v":11.59332431825},11.452999999999999,10.93375,10.4145,null,null,null,null,3,null,null,null,null,null,null,null,null,7.5,5.8549999999999995,5.09,4.3250000000000002,3.56,3.105,2.65]
[null,null,null,null,null,null,null,null,null,null,null,null,null,null,null,10,12.4508648435,12.303243229,{"$f":"AVERAGE(R247,T247)","v":12.155621614499999},12.007999999999999,11.475,10.942,null,null,null,null,3,null,null,null,null,null,null,null,null,10,6.4116666666666662,5.52,4.628333333333333,3.7366666666666668,3.2283333333333335,2.7199999999999998]
[null,null,null,null,null,null,null,null,null,null,null,null,null,null,null,12.5,13.027756732249999,12.872837821499999,{"$f":"AVERAGE(R248,T248)","v":12.717918910749999},12.562999999999999,12.016249999999999,11.4695,null,null,null,null,3,null,null,null,null,null,null,null,null,12.5,6.9683333333333319,5.9499999999999993,4.9316666666666666,3.9133333333333336,3.3516666666666666,2.7899999999999996]
[null,null,null,null,null,null,null,null,null,null,null,null,null,null,null,15,13.604648621000001,13.442432414000001,{"$f":"AVERAGE(R249,T249)","v":13.280216207},13.118,12.557500000000001,11.997,null,null,null,null,3,null,null,null,null,null,null,null,null,15,7.5249999999999986,6.379999999999999,5.2349999999999994,4.09,3.4749999999999996,2.8599999999999994]
[null,null,null,null,null,null,null,null,null,null,null,null,null,null,null,17.5,14.18154050975,14.0120270065,{"$f":"AVERAGE(R250,T250)","v":13.84251350325},13.673,13.098749999999999,12.5245,null,null,null,null,3,null,null,null,null,null,null,null,null,17.5,8.0816666666666652,6.8099999999999987,5.5383333333333322,4.2666666666666666,3.5983333333333327,2.9299999999999993]
[null,null,null,null,null,null,null,null,null,null,null,null,null,null,null,20,14.7584323985,14.581621599,{"$f":"AVERAGE(R251,T251)","v":14.4048107995},14.228,13.64,13.052,null,null,null,null,3,null,null,null,null,null,null,null,null,20,8.6383333333333319,7.2399999999999984,5.8416666666666659,4.4433333333333334,3.7216666666666662,2.9999999999999991]
[null,null,null,null,null,null,null,null,null,null,null,null,null,null,null,22.5,15.33532428725,{"$f":"R251+(R251-R250)","v":15.1512161915},{"$f":"AVERAGE(R252,T252)","v":14.96710809575},{"$f":"T251+(T251-T250)","v":14.782999999999999},14.181249999999999,{"$f":"V251+(V251-V250)","v":13.579499999999999},null,null,null,null,3,null,null,null,null,null,null,null,null,22.5,9.1949999999999967,7.6699999999999982,6.1449999999999996,4.62,3.8449999999999998,3.069999999999999]
[null,null,null,null,null,null,null,null,null,null,null,null,null,null,null,25,15.912216175999999,{"$f":"R252+(R251-R250)","v":15.720810783999999},{"$f":"AVERAGE(R253,T253)","v":15.529405391999999},{"$f":"T252+(T251-T250)","v":15.337999999999999},14.7225,{"$f":"V252+(V251-V250)","v":14.106999999999999},null,null,null,null,3,null,null,null,null,null,null,null,null,25,9.7516666666666634,8.0999999999999979,6.4483333333333324,4.7966666666666669,3.9683333333333328,3.1399999999999988]
[null,null,null,null,null,null,null,null,null,null,null,null,null,null,null,27.5,16.489108064749995,{"$f":"R253+(R251-R250)","v":16.290405376499997},{"$f":"AVERAGE(R254,T254)","v":16.091702688249999},{"$f":"T253+(T251-T250)","v":15.892999999999999},15.263749999999998,{"$f":"V253+(V251-V250)","v":14.634499999999999},null,null,null,null,3,null,null,null,null,null,null,null,null,27.5,10.30833333333333,8.5299999999999976,6.7516666666666652,4.9733333333333336,4.0916666666666659,3.2099999999999986]
[null,null,null,null,null,null,null,null,null,null,null,null,null,null,null,30,17.065999953499997,{"$f":"R254+(R251-R250)","v":16.859999968999997},{"$f":"AVERAGE(R255,T255)","v":16.653999984499997},{"$f":"T254+(T251-T250)","v":16.448},15.805,{"$f":"V254+(V251-V250)","v":15.161999999999999},null,null,null,null,3,null,null,null,null,null,null,null,null,30,10.864999999999995,8.9599999999999973,7.0549999999999988,5.15,4.2149999999999999,3.2799999999999985]
[null,null,null,null,null,null,null,null,null,null,null,null,null,null,null,null,"WPL 22 Trend",null,null,null,null,null,null,null,null,null,"Heizlast",null,null,null,null,null,null,null,null,null,"WPL 22 Trend"]
[null,null,null,null,null,null,null,null,null,null,null,null,null,null,null,"Außentemp","30 °C","35 °C","40 °C","45 °C","50 °C","55 °C","60 °C","65 °C","70 °C","75 °C","Min",null,null,null,null,null,null,null,null,"Außentemp","30 °C","35 °C","40 °C","45 °C","50 °C","55 °C","60 °C","65 °C","70 °C","75 °C"]
[null,null,null,null,null,null,null,null,null,null,null,null,null,null,null,-20,{"$f":"R258+(R258-S258)","v":7.2425000000000148},7.1040000000000099,{"$f":"AVERAGE(R258,T258)","v":6.9655000000000049},6.827,{"$f":"AVERAGE(T258,V258)","v":6.577},6.327,null,null,null,null,5.5,null,null,null,null,null,null,null,null,-20,2.4208333333333334,2.0833333333333335,1.7458333333333336,1.4083333333333337,1.5841666666666669,1.76]
[null,null,null,null,null,null,null,null,null,null,null,null,null,null,null,-17.5,7.9912500000000151,7.8515000000000104,{"$f":"AVERAGE(R259,T259)","v":7.7117500000000057},7.5720000000000001,7.3220000000000001,7.0720000000000001,null,null,null,null,5.5,null,null,null,null,null,null,null,null,-17.5,2.5516666666666667,2.2366666666666668,1.9216666666666669,1.6066666666666669,1.7283333333333335,1.85]
[null,null,null,null,null,null,null,null,null,null,null,null,null,null,null,-15,8.74,8.5990000000000002,{"$f":"AVERAGE(R260,T260)","v":8.4580000000000002},8.3170000000000002,8.0670000000000002,7.8170000000000002,null,null,null,null,5.5,null,null,null,null,null,null,null,null,-15,2.6825000000000001,2.39,2.0975000000000001,1.8050000000000002,1.8725000000000001,1.9400000000000002]
[null,null,null,null,null,null,null,null,null,null,null,null,null,null,null,-12.5,9.4887499999999978,9.3464999999999989,{"$f":"AVERAGE(R261,T261)","v":9.20425},9.0620000000000012,8.8120000000000012,8.5620000000000012,null,null,null,null,5.5,null,null,null,null,null,null,null,null,-12.5,2.8133333333333335,2.5433333333333334,2.2733333333333334,2.0033333333333334,2.0166666666666666,2.0300000000000002]
[null,null,null,null,null,null,null,null,null,null,null,null,null,null,null,-10,10.237499999999999,10.093999999999999,{"$f":"AVERAGE(R262,T262)","v":9.9504999999999999},9.8070000000000004,9.5570000000000004,9.3070000000000004,null,null,null,null,5.5,null,null,null,null,null,null,null,null,-10,2.9441666666666668,2.6966666666666668,2.4491666666666667,2.2016666666666667,2.1608333333333336,2.12]
[null,null,null,null,null,null,null,null,null,null,null,null,null,null,null,-7.5,10.98625,10.8415,{"$f":"AVERAGE(R263,T263)","v":10.69675},10.552,10.302,10.052,null,null,null,null,5.5,null,null,null,null,null,null,null,null,-7.5,3.0750000000000002,2.85,2.625,2.4,2.3049999999999997,2.21]
[null,null,null,null,null,null,null,null,null,null,null,null,null,null,null,-5,11.734999999999999,11.589,{"$f":"AVERAGE(R264,T264)","v":11.443000000000001},11.297000000000001,11.047000000000001,10.797000000000001,null,null,null,null,5.5,null,null,null,null,null,null,null,null,-5,3.4258333333333337,3.1500000000000004,2.874166666666667,2.5983333333333336,2.4491666666666667,2.3000000000000003]
[null,null,null,null,null,null,null,null,null,null,null,null,null,null,null,-2.5,12.608750000000001,12.336500000000001,{"$f":"AVERAGE(R265,T265)","v":12.064250000000001},11.792000000000002,11.667000000000002,11.542000000000002,null,null,null,null,5.5,null,null,null,null,null,null,null,null,-2.5,3.7766666666666668,3.45,3.1233333333333335,2.7966666666666669,2.5933333333333337,2.39]
[null,null,null,null,null,null,null,null,null,null,null,null,null,null,null,0,13.232499999999998,13.084,{"$f":"AVERAGE(R266,T266)","v":12.935500000000001},12.787000000000001,12.537000000000001,12.287000000000001,null,null,null,null,5.5,null,null,null,null,null,null,null,null,0,4.1274999999999995,3.75,3.3725000000000001,2.9950000000000001,2.7374999999999998,2.48]
[null,null,null,null,null,null,null,null,null,null,null,null,null,null,null,2.5,13.981249999999999,13.8315,{"$f":"AVERAGE(R267,T267)","v":13.681750000000001},13.532,13.282,13.032,null,null,null,null,5.5,null,null,null,null,null,null,null,null,2.5,4.4783333333333335,4.05,3.6216666666666666,3.1933333333333334,2.8816666666666668,2.5700000000000003]
[null,null,null,null,null,null,null,null,null,null,null,null,null,null,null,5,14.73,14.579000000000001,{"$f":"AVERAGE(R268,T268)","v":14.428000000000001},14.276999999999999,14.026999999999999,13.776999999999999,null,null,null,null,5.5,null,null,null,null,null,null,null,null,5,5.0166666666666657,4.4749999999999996,3.9333333333333331,3.3916666666666666,3.0258333333333334,2.66]
[null,null,null,null,null,null,null,null,null,null,null,null,null,null,null,7.5,15.47875,15.326499999999999,{"$f":"AVERAGE(R269,T269)","v":15.174249999999999},15.021999999999998,14.771999999999998,14.521999999999998,null,null,null,null,5.5,null,null,null,null,null,null,null,null,7.5,5.5550000000000006,4.9000000000000004,4.2450000000000001,3.59,3.17,2.75]
[null,null,null,null,null,null,null,null,null,null,null,null,null,null,null,10,16.227500000000003,16.074000000000002,{"$f":"AVERAGE(R270,T270)","v":15.920500000000001},15.766999999999999,15.516999999999999,15.266999999999999,null,null,null,null,5.5,null,null,null,null,null,null,null,null,10,6.0933333333333355,5.3250000000000011,4.5566666666666666,3.7883333333333331,3.3141666666666665,2.84]
[null,null,null,null,null,null,null,null,null,null,null,null,null,null,null,12.5,16.97625,16.8215,{"$f":"AVERAGE(R271,T271)","v":16.66675},16.512,16.262,16.012,null,null,null,null,5.5,null,null,null,null,null,null,null,null,12.5,6.6316666666666695,5.7500000000000018,4.8683333333333341,3.9866666666666664,3.458333333333333,2.9299999999999997]
[null,null,null,null,null,null,null,null,null,null,null,null,null,null,null,15,17.724999999999998,17.568999999999999,{"$f":"AVERAGE(R272,T272)","v":17.413},17.257000000000001,17.007000000000001,16.757000000000001,null,null,null,null,5.5,null,null,null,null,null,null,null,null,15,7.1700000000000035,6.1750000000000025,5.1800000000000015,4.1849999999999996,3.6024999999999996,3.0199999999999996]
[null,null,null,null,null,null,null,null,null,null,null,null,null,null,null,17.5,18.473750000000003,18.316500000000001,{"$f":"AVERAGE(R273,T273)","v":18.15925},18.002000000000002,17.752000000000002,17.502000000000002,null,null,null,null,5.5,null,null,null,null,null,null,null,null,17.5,7.7083333333333384,6.6000000000000032,5.491666666666668,4.3833333333333329,3.7466666666666661,3.1099999999999994]
[null,null,null,null,null,null,null,null,null,null,null,null,null,null,null,20,19.2225,19.064,{"$f":"AVERAGE(R274,T274)","v":18.9055},18.747,18.497,18.247,null,null,null,null,5.5,null,null,null,null,null,null,null,null,20,8.2466666666666733,7.0250000000000039,5.8033333333333346,4.5816666666666661,3.8908333333333327,3.1999999999999993]
[null,null,null,null,null,null,null,null,null,null,null,null,null,null,null,22.5,19.971249999999998,{"$f":"R274+(R274-R273)","v":19.811499999999999},{"$f":"AVERAGE(R275,T275)","v":19.65175},{"$f":"T274+(T274-T273)","v":19.491999999999997},19.241999999999997,{"$f":"V274+(V274-V273)","v":18.991999999999997},null,null,null,null,5.5,null,null,null,null,null,null,null,null,22.5,8.7850000000000072,7.4500000000000046,6.115000000000002,4.7799999999999994,4.0349999999999993,3.2899999999999991]
[null,null,null,null,null,null,null,null,null,null,null,null,null,null,null,25,20.72,{"$f":"R275+(R274-R273)","v":20.558999999999997},{"$f":"AVERAGE(R276,T276)","v":20.397999999999996},{"$f":"T275+(T274-T273)","v":20.236999999999995},19.986999999999995,{"$f":"V275+(V274-V273)","v":19.736999999999995},null,null,null,null,5.5,null,null,null,null,null,null,null,null,25,9.3233333333333412,7.8750000000000053,6.4266666666666694,4.9783333333333326,4.1791666666666654,3.379999999999999]
[null,null,null,null,null,null,null,null,null,null,null,null,null,null,null,27.5,21.46875,{"$f":"R276+(R274-R273)","v":21.306499999999996},{"$f":"AVERAGE(R277,T277)","v":21.144249999999992},{"$f":"T276+(T274-T273)","v":20.981999999999992},20.731999999999992,{"$f":"V276+(V274-V273)","v":20.481999999999992},null,null,null,null,5.5,null,null,null,null,null,null,null,null,27.5,9.8616666666666752,8.300000000000006,6.738333333333336,5.1766666666666659,4.3233333333333324,3.4699999999999989]
[null,null,null,null,null,null,null,null,null,null,null,null,null,null,null,30,22.217499999999998,{"$f":"R277+(R274-R273)","v":22.053999999999995},{"$f":"AVERAGE(R278,T278)","v":21.890499999999992},{"$f":"T277+(T274-T273)","v":21.72699999999999},21.47699999999999,{"$f":"V277+(V274-V273)","v":21.22699999999999},null,null,null,null,5.5,null,null,null,null,null,null,null,null,30,10.400000000000011,8.7250000000000068,7.0500000000000025,5.3749999999999991,4.4674999999999994,3.5599999999999987]
[null,null,null,null,null,null,null,null,null,null,null,null,null,null,null,null,"WPL 28 Trend",null,null,null,null,null,null,null,null,null,"Heizlast",null,null,null,null,null,null,null,null,null,"WPL 28 Trend"]
[null,null,null,null,null,null,null,null,null,null,null,null,null,null,null,"Außentemp","30 °C","35 °C","40 °C","45 °C","50 °C","55 °C","60 °C","65 °C","70 °C","75 °C","Min",null,null,null,null,null,null,null,null,"Außentemp","30 °C","35 °C","40 °C","45 °C","50 °C","55 °C","60 °C","65 °C","70 °C","75 °C"]
[null,null,null,null,null,null,null,null,null,null,null,null,null,null,null,-20,{"$f":"R281+(R281-S281)","v":9.1080000000000041},8.61466666666667,{"$f":"AVERAGE(R281,T281)","v":8.121333333333336},7.6280000000000001,{"$f":"AVERAGE(T281,V281)","v":6.9830000000000005},6.3380000000000001,null,null,null,null,5.5,null,null,null,null,null,null,null,null,-20,2.4916666666666671,2.1,1.708333333333333,1.316666666666666,1.2791666666666666,1.2416666666666671]
[null,null,null,null,null,null,null,null,null,null,null,null,null,null,null,-17.5,9.9355000000000047,9.4446666666666701,{"$f":"AVERAGE(R282,T282)","v":8.9538333333333355},8.463000000000001,7.8180000000000005,7.173,null,null,null,null,5.5,null,null,null,null,null,null,null,null,-17.5,2.5183333333333335,2.19,1.8616666666666664,1.5333333333333328,1.4483333333333333,1.3633333333333337]
[null,null,null,null,null,null,null,null,null,null,null,null,null,null,null,-15,10.763000000000051,10.2746666666667,{"$f":"AVERAGE(R283,T283)","v":9.7863333333333493},9.298,8.6529999999999987,8.0079999999999991,null,null,null,null,5.5,null,null,null,null,null,null,null,null,-15,2.5449999999999999,2.2799999999999998,2.0149999999999997,1.7499999999999996,1.6174999999999999,1.4850000000000003]
[null,null,null,null,null,null,null,null,null,null,null,null,null,null,null,-12.5,11.590500000000052,11.1046666666667,{"$f":"AVERAGE(R284,T284)","v":10.618833333333349},10.132999999999999,9.4879999999999995,8.843,null,null,null,null,5.5,null,null,null,null,null,null,null,null,-12.5,2.5716666666666672,2.37,2.168333333333333,1.9666666666666663,1.7866666666666666,1.6066666666666669]
[null,null,null,null,null,null,null,null,null,null,null,null,null,null,null,-10,12.418000000000051,11.934666666666701,{"$f":"AVERAGE(R285,T285)","v":11.45133333333335},10.968,10.323,9.6780000000000008,null,null,null,null,5.5,null,null,null,null,null,null,null,null,-10,2.5983333333333336,2.46,2.3216666666666663,2.1833333333333331,1.9558333333333333,1.7283333333333335]
[null,null,null,null,null,null,null,null,null,null,null,null,null,null,null,-7.5,13.245000000000026,12.764333333333351,{"$f":"AVERAGE(R286,T286)","v":12.283666666666676},11.803000000000001,11.158000000000001,10.513,null,null,null,null,5.5,null,null,null,null,null,null,null,null,-7.5,2.625,2.5499999999999998,2.4749999999999996,2.4,2.125,1.85]
[null,null,null,null,null,null,null,null,null,null,null,null,null,null,null,-5,14.071999999999999,13.593999999999999,{"$f":"AVERAGE(R287,T287)","v":13.116},12.638,11.993,11.348000000000001,null,null,null,null,5.5,null,null,null,null,null,null,null,null,-5,3.0716666666666668,2.92,2.7683333333333331,2.6166666666666663,2.2941666666666665,1.9716666666666667]
[null,null,null,null,null,null,null,null,null,null,null,null,null,null,null,-2.5,15.223000000000049,14.424666666666699,{"$f":"AVERAGE(R288,T288)","v":13.626333333333349},12.828000000000001,12.505500000000001,12.183,null,null,null,null,5.5,null,null,null,null,null,null,null,null,-2.5,3.5183333333333335,3.29,3.0616666666666665,2.833333333333333,2.4633333333333329,2.0933333333333333]
[null,null,null,null,null,null,null,null,null,null,null,null,null,null,null,0,15.728000000000051,15.254666666666701,{"$f":"AVERAGE(R289,T289)","v":14.78133333333335},14.308,13.663,13.018000000000001,null,null,null,null,5.5,null,null,null,null,null,null,null,null,0,3.9650000000000003,3.66,3.355,3.05,2.6324999999999998,2.2149999999999999]
[null,null,null,null,null,null,null,null,null,null,null,null,null,null,null,2.5,16.555500000000048,16.084666666666699,{"$f":"AVERAGE(R290,T290)","v":15.61383333333335},15.143000000000001,14.498000000000001,13.853,null,null,null,null,5.5,null,null,null,null,null,null,null,null,2.5,4.4116666666666671,4.03,3.6483333333333334,3.2666666666666666,2.8016666666666667,2.3366666666666669]
[null,null,null,null,null,null,null,null,null,null,null,null,null,null,null,5,17.383000000000052,16.914666666666701,{"$f":"AVERAGE(R291,T291)","v":16.446333333333349},15.978,15.333,14.688000000000001,null,null,null,null,5.5,null,null,null,null,null,null,null,null,5,4.8958333333333339,4.4250000000000007,3.9541666666666671,3.4833333333333334,2.9708333333333332,2.4583333333333335]
[null,null,null,null,null,null,null,null,null,null,null,null,null,null,null,7.5,18.210500000000046,17.744666666666699,{"$f":"AVERAGE(R292,T292)","v":17.278833333333353},16.813000000000002,16.167999999999999,15.523,null,null,null,null,5.5,null,null,null,null,null,null,null,null,7.5,5.3800000000000008,4.82,4.26,3.7,3.14,2.58]
[null,null,null,null,null,null,null,null,null,null,null,null,null,null,null,10,19.038000000000054,18.574666666666701,{"$f":"AVERAGE(R293,T293)","v":18.111333333333349},17.648,17.003,16.358000000000001,null,null,null,null,5.5,null,null,null,null,null,null,null,null,10,5.8641666666666659,5.2149999999999999,4.5658333333333339,3.916666666666667,3.309166666666667,2.7016666666666667]
[null,null,null,null,null,null,null,null,null,null,null,null,null,null,null,12.5,19.865500000000051,19.404666666666699,{"$f":"AVERAGE(R294,T294)","v":18.943833333333348},18.482999999999997,17.837999999999997,17.192999999999998,null,null,null,null,5.5,null,null,null,null,null,null,null,null,12.5,6.3483333333333327,5.6099999999999994,4.8716666666666661,4.1333333333333337,3.4783333333333335,2.8233333333333333]
[null,null,null,null,null,null,null,null,null,null,null,null,null,null,null,15,20.693000000000051,20.234666666666701,{"$f":"AVERAGE(R295,T295)","v":19.776333333333351},19.318000000000001,18.673000000000002,18.027999999999999,null,null,null,null,5.5,null,null,null,null,null,null,null,null,15,6.8324999999999978,6.004999999999999,5.1775000000000002,4.3500000000000005,3.6475,2.9449999999999998]
[null,null,null,null,null,null,null,null,null,null,null,null,null,null,null,17.5,21.520500000000048,21.0646666666667,{"$f":"AVERAGE(R296,T296)","v":20.608833333333351},20.152999999999999,19.507999999999999,18.863,null,null,null,null,5.5,null,null,null,null,null,null,null,null,17.5,7.3166666666666647,6.3999999999999986,5.4833333333333325,4.5666666666666673,3.8166666666666669,3.0666666666666664]
[null,null,null,null,null,null,null,null,null,null,null,null,null,null,null,20,22.348000000000052,21.894666666666701,{"$f":"AVERAGE(R297,T297)","v":21.44133333333335},20.988,20.343,19.698,null,null,null,null,5.5,null,null,null,null,null,null,null,null,20,7.8008333333333297,6.7949999999999982,5.7891666666666666,4.7833333333333341,3.9858333333333338,3.188333333333333]
[null,null,null,null,null,null,null,null,null,null,null,null,null,null,null,22.5,23.175500000000056,{"$f":"R297+(R297-R296)","v":22.724666666666703},{"$f":"AVERAGE(R298,T298)","v":22.27383333333335},{"$f":"T297+(T297-T296)","v":21.823},21.178000000000001,{"$f":"V297+(V297-V296)","v":20.533000000000001},null,null,null,null,5.5,null,null,null,null,null,null,null,null,22.5,8.2849999999999966,7.1899999999999977,6.0949999999999989,5.0000000000000009,4.1550000000000002,3.3099999999999996]
[null,null,null,null,null,null,null,null,null,null,null,null,null,null,null,25,24.003000000000057,{"$f":"R298+(R297-R296)","v":23.554666666666705},{"$f":"AVERAGE(R299,T299)","v":23.106333333333353},{"$f":"T298+(T297-T296)","v":22.658000000000001},22.013000000000002,{"$f":"V298+(V297-V296)","v":21.368000000000002},null,null,null,null,5.5,null,null,null,null,null,null,null,null,25,8.7691666666666617,7.5849999999999973,6.4008333333333329,5.2166666666666677,4.3241666666666667,3.4316666666666662]
[null,null,null,null,null,null,null,null,null,null,null,null,null,null,null,27.5,24.830500000000058,{"$f":"R299+(R297-R296)","v":24.384666666666707},{"$f":"AVERAGE(R300,T300)","v":23.938833333333356},{"$f":"T299+(T297-T296)","v":23.493000000000002},22.848000000000003,{"$f":"V299+(V297-V296)","v":22.203000000000003},null,null,null,null,5.5,null,null,null,null,null,null,null,null,27.5,9.2533333333333285,7.9799999999999969,6.7066666666666652,5.4333333333333345,4.4933333333333341,3.5533333333333328]
[null,null,null,null,null,null,null,null,null,null,null,null,null,null,null,30,25.658000000000062,{"$f":"R300+(R297-R296)","v":25.214666666666709},{"$f":"AVERAGE(R301,T301)","v":24.771333333333356},{"$f":"T300+(T297-T296)","v":24.328000000000003},23.683000000000003,{"$f":"V300+(V297-V296)","v":23.038000000000004},null,null,null,null,5.5,null,null,null,null,null,null,null,null,30,9.7374999999999936,8.3749999999999964,7.0124999999999993,5.6500000000000012,4.6625000000000005,3.6749999999999994]
[null,null,null,null,null,null,null,null,null,null,null,null,null,null,null,null,"WPL 13 E / cool",null,null,null,null,null,null,null,null,null,"Heizlast",null,null,null,null,null,null,null,null,null,"WPL 13 E / cool"]
[null,null,null,null,null,null,null,null,null,null,null,null,null,null,null,"Außentemp","30 °C","35 °C","40 °C","45 °C","50 °C","55 °C","60 °C","65 °C","70 °C","75 °C","Min",null,null,null,null,null,null,null,null,"Außentemp","30 °C","35 °C","40 °C","45 °C","50 °C","55 °C","60 °C","65 °C","70 °C","75 °C"]
[null,null,null,null,null,null,null,null,null,null,null,null,null,null,null,-20,4.4000000000000004,4.5,4.5999999999999996,4.6999999999999993,4.8,4.9000000000000004,null,null,null,null,-1,null,null,null,null,null,null,null,null,-20,2.4903846153846154,2.25,2.0096153846153846,1.7692307692307689,1.6679487179487178,1.5666666666666667]
[null,null,null,null,null,null,null,null,null,null,null,null,null,null,null,-17.5,4.9000000000000004,4.95,5,5.05,5.0999999999999996,5.1499999999999995,null,null,null,null,-1,null,null,null,null,null,null,null,null,-17.5,2.7037374990875254,2.4466019417475731,2.1894663844076208,1.9323308270676689,1.8321784854292593,1.7320261437908495]
[null,null,null,null,null,null,null,null,null,null,null,null,null,null,null,-15,5.2333333333333334,5.3,5.3666666666666663,5.4333333333333327,5.5,5.5666666666666673,null,null,null,null,-1,null,null,null,null,null,null,null,null,-15,2.838624338624339,2.5714285714285716,2.3042328042328042,2.0370370370370368,1.9378733572281956,1.8387096774193548]
[null,null,null,null,null,null,null,null,null,null,null,null,null,null,null,-12.5,5.6333333333333337,5.7,5.7666666666666666,5.833333333333333,5.9,5.9666666666666677,null,null,null,null,-1,null,null,null,null,null,null,null,null,-12.5,3.0062942155638788,2.7387640449438204,2.4712338743237621,2.2037037037037037,2.0881401171579741,1.9725765306122447]
[null,null,null,null,null,null,null,null,null,null,null,null,null,null,null,-10,5.9933333333333341,6.07,6.1466666666666665,6.2233333333333327,6.3,6.3766666666666669,null,null,null,null,-1,null,null,null,null,null,null,null,null,-10,3.113425925925926,2.8472222222222223,2.5810185185185186,2.3148148148148149,2.1874706985466479,2.0601265822784809]
[null,null,null,null,null,null,null,null,null,null,null,null,null,null,null,-7.5,6.4333333333333336,6.5,6.5666666666666664,6.6333333333333329,6.7,6.7666666666666675,null,null,null,null,-1,null,null,null,null,null,null,null,null,-7.5,3.2592592592592586,2.9999999999999996,2.7407407407407405,2.4814814814814814,2.3344907407407405,2.1875]
[null,null,null,null,null,null,null,null,null,null,null,null,null,null,null,-5,6.9666666666666668,6.95,7.0333333333333332,7.0666666666666664,7.1,7.1333333333333329,null,null,null,null,-1,null,null,null,null,null,null,null,null,-5,3.3394246832090611,3.0891089108910883,2.8387931385731155,2.5884773662551432,2.4149283382999851,2.2413793103448274]
[null,null,null,null,null,null,null,null,null,null,null,null,null,null,null,-2.5,7.4,7.4,7.4,7.4,7.4,7.4,null,null,null,null,-1,null,null,null,null,null,null,null,null,-2.5,3.4500336340614117,3.2163461538461537,2.9826586736308958,2.7489711934156373,2.5348951530218118,2.3208191126279862]
[null,null,null,null,null,null,null,null,null,null,null,null,null,null,null,0,7.75,7.75,7.75,7.75,7.75,7.75,null,null,null,null,-1,null,null,null,null,null,null,null,null,0,3.5177711778864804,3.2971698113207535,3.0765684447550266,2.8559670781893001,2.6144242170607517,2.3728813559322033]
[null,null,null,null,null,null,null,null,null,null,null,null,null,null,null,2.5,8.1333333333333329,8.1,8.0666666666666664,8.0333333333333332,8,7.9666666666666668,null,null,null,null,-1,null,null,null,null,null,null,null,null,2.5,3.9036764705882354,3.6,3.2963235294117648,2.9926470588235294,2.726626559714795,2.4606060606060609]
[null,null,null,null,null,null,null,null,null,null,null,null,null,null,null,5,8.65,8.5500000000000007,8.4500000000000011,8.3500000000000014,8.25,8.1499999999999986,null,null,null,null,-1,null,null,null,null,null,null,null,null,5,4.3996376811594207,3.95,3.5003623188405797,3.0507246376811592,2.7920289855072462,2.5333333333333332]
[null,null,null,null,null,null,null,null,null,null,null,null,null,null,null,7.5,9.1666666666666661,8.9499999999999993,8.8333333333333339,8.6666666666666679,8.5,8.3333333333333321,null,null,null,null,-1,null,null,null,null,null,null,null,null,7.5,4.3685047720042416,3.9855072463768115,3.6025097207493815,3.2195121951219514,2.9551169223032439,2.6907216494845367]
[null,null,null,null,null,null,null,null,null,null,null,null,null,null,null,10,9.5666666666666664,9.4,9.2333333333333343,9.0666666666666682,8.9,8.7333333333333325,null,null,null,null,-1,null,null,null,null,null,null,null,null,10,4.464882943143814,4.1304347826086962,3.7959866220735785,3.4615384615384612,3.1662531017369728,2.870967741935484]
[null,null,null,null,null,null,null,null,null,null,null,null,null,null,null,12.5,10.433333333333332,10.199999999999999,9.9666666666666668,9.7333333333333343,9.5,9.2666666666666657,null,null,null,null,-1,null,null,null,null,null,null,null,null,12.5,4.5933398152649483,4.2975206611570247,4.0017015070491011,3.7058823529411775,3.3746803069053719,3.0434782608695659]
[null,null,null,null,null,null,null,null,null,null,null,null,null,null,null,15,11.083333333333334,11.05,11.016666666666667,10.983333333333334,10.95,10.916666666666664,null,null,null,null,-1,null,null,null,null,null,null,null,null,15,4.6714285714285717,4.4000000000000004,4.128571428571429,3.8571428571428577,3.504329004329005,3.1515151515151518]
[null,null,null,null,null,null,null,null,null,null,null,null,null,null,null,17.5,11.6,11.6,11.6,11.6,11.6,11.6,null,null,null,null,-1,null,null,null,null,null,null,null,null,17.5,4.9820139860139854,4.6639999999999997,4.345986013986014,4.0279720279720284,3.6776764901764905,3.3273809523809526]
[null,null,null,null,null,null,null,null,null,null,null,null,null,null,null,20,12.1,12.1,12.1,12.1,12.1,12.1,null,null,null,null,-1,null,null,null,null,null,null,null,null,20,5.1910344827586208,4.84,4.4889655172413789,4.1379310344827589,3.7895537525354968,3.4411764705882351]
[null,null,null,null,null,null,null,null,null,null,null,null,null,null,null,22.5,12.6,12.6,12.6,12.6,12.6,12.6,null,null,null,null,-1,null,null,null,null,null,null,null,null,22.5]
[null,null,null,null,null,null,null,null,null,null,null,null,null,null,null,25,13.066666666666666,13.1,13.133333333333333,13.166666666666666,13.2,13.233333333333333,null,null,null,null,-1,null,null,null,null,null,null,null,null,25]
[null,null,null,null,null,null,null,null,null,null,null,null,null,null,null,27.5,13.4,13.5,13.6,13.7,13.8,13.900000000000002,null,null,null,null,-1,null,null,null,null,null,null,null,null,27.5]
[null,null,null,null,null,null,null,null,null,null,null,null,null,null,null,30,13.666666666666668,13.8,13.933333333333334,14.066666666666666,14.2,14.333333333333332,null,null,null,null,-1,null,null,null,null,null,null,null,null,30]
[null,null,null,null,null,null,null,null,null,null,null,null,null,null,null,null,"WPL 18 E / cool",null,null,null,null,null,null,null,null,null,"Heizlast",null,null,null,null,null,null,null,null,null,"WPL 18 E / cool"]
[null,null,null,null,null,null,null,null,null,null,null,null,null,null,null,"Außentemp","30 °C","35 °C","40 °C","45 °C","50 °C","55 °C","60 °C","65 °C","70 °C","75 °C","Min",null,null,null,null,null,null,null,null,"Außentemp","30 °C","35 °C","40 °C","45 °C","50 °C","55 °C","60 °C","65 °C","70 °C","75 °C"]
[null,null,null,null,null,null,null,null,null,null,null,null,null,null,null,-20,6.7666666666666675,6.9,7.0333333333333332,7.1666666666666661,7.3,7.4333333333333336,null,null,null,null,-1,null,null,null,null,null,null,null,null,-20,2.5892857142857149,2.3928571428571432,2.1964285714285716,2,1.8636363636363635,1.7272727272727271]
[null,null,null,null,null,null,null,null,null,null,null,null,null,null,null,-17.5,7.1166666666666663,7.3,7.4833333333333334,7.666666666666667,7.85,8.0333333333333314,null,null,null,null,-1,null,null,null,null,null,null,null,null,-17.5,2.7612555983342499,2.5524475524475525,2.3436395065608551,2.1348314606741572,1.9924157303370786,1.85]
[null,null,null,null,null,null,null,null,null,null,null,null,null,null,null,-15,7.6,7.8,8,8.1999999999999993,8.4,8.6000000000000014,null,null,null,null,-1,null,null,null,null,null,null,null,null,-15,2.8716475095785441,2.6551724137931036,2.4386973180076632,2.2222222222222223,2.077020202020202,1.9318181818181817]
[null,null,null,null,null,null,null,null,null,null,null,null,null,null,null,-12.5,8.0833333333333339,8.3000000000000007,8.5166666666666675,8.7333333333333343,8.9499999999999993,9.1666666666666643,null,null,null,null,-1,null,null,null,null,null,null,null,null,-12.5,3.1004108925878962,2.8658038147138964,2.6311967368398967,2.3965896589658966,2.2230826812024658,2.0495757034390354]
[null,null,null,null,null,null,null,null,null,null,null,null,null,null,null,-10,8.7000000000000011,8.9,9.1,9.2999999999999989,9.5,9.7000000000000011,null,null,null,null,-1,null,null,null,null,null,null,null,null,-10,3.2496030866932513,3.0033783783783785,2.7571536700635058,2.5109289617486334,2.3183783881590849,2.1258278145695364]
[null,null,null,null,null,null,null,null,null,null,null,null,null,null,null,-7.5,9.2499999999999982,9.4499999999999993,9.65,9.8500000000000014,10.050000000000001,10.25,null,null,null,null,-1,null,null,null,null,null,null,null,null,-7.5,3.4621621621621621,3.1999999999999997,2.9378378378378374,2.6756756756756754,2.4574030552291424,2.2391304347826089]
[null,null,null,null,null,null,null,null,null,null,null,null,null,null,null,-5,9.8000000000000007,10,10.199999999999999,10.399999999999999,10.6,10.8,null,null,null,null,-1,null,null,null,null,null,null,null,null,-5,3.5969969969969982,3.3259259259259264,3.0548548548548546,2.7837837837837829,2.5476889933411675,2.3115942028985517]
[null,null,null,null,null,null,null,null,null,null,null,null,null,null,null,-2.5,10.3,10.5,10.7,10.899999999999999,11.1,11.3,null,null,null,null,-1,null,null,null,null,null,null,null,null,-2.5,3.7992492492492493,3.5148148148148146,3.2303803803803799,2.9459459459459456,2.6831179005092047,2.4202898550724639]
[null,null,null,null,null,null,null,null,null,null,null,null,null,null,null,0,10.816666666666666,11,11.183333333333334,11.366666666666667,11.55,11.733333333333334,null,null,null,null,-1,null,null,null,null,null,null,null,null,0,3.9340840840840854,3.6407407407407413,3.3473973973973972,3.0540540540540531,2.7734038386212303,2.4927536231884071]
[null,null,null,null,null,null,null,null,null,null,null,null,null,null,null,2.5,11.299999999999999,11.45,11.6,11.75,11.9,12.05,null,null,null,null,-1,null,null,null,null,null,null,null,null,2.5,4.2102493857043317,3.8742281879194631,3.5382069901345945,3.2021857923497263,2.897553073166014,2.5929203539823011]
[null,null,null,null,null,null,null,null,null,null,null,null,null,null,null,5,11.999999999999998,11.95,11.9,11.850000000000001,11.8,11.75,null,null,null,null,-1,null,null,null,null,null,null,null,null,5,4.5825418994413409,4.1500000000000004,3.7174581005586598,3.2849162011173192,2.9681461739531549,2.6513761467889907]
[null,null,null,null,null,null,null,null,null,null,null,null,null,null,null,7.5,12.933333333333334,12.6,12.266666666666666,11.933333333333332,11.6,11.266666666666667,null,null,null,null,-1,null,null,null,null,null,null,null,null,7.5,4.801149425287357,4.3563218390804606,3.9114942528735641,3.4666666666666672,3.1261904761904766,2.785714285714286]
[null,null,null,null,null,null,null,null,null,null,null,null,null,null,null,10,13.6,13.4,13.200000000000001,13.000000000000002,12.8,12.6,null,null,null,null,-1,null,null,null,null,null,null,null,null,10,5.050738916256158,4.5862068965517242,4.1216748768472904,3.6571428571428575,3.2928571428571431,2.9285714285714288]
[null,null,null,null,null,null,null,null,null,null,null,null,null,null,null,12.5,14.533333333333335,14.3,14.066666666666666,13.833333333333332,13.6,13.366666666666667,null,null,null,null,-1,null,null,null,null,null,null,null,null,12.5,5.3765563316125107,4.8783783783783781,4.3802004251442455,3.882022471910112,3.4973492641240704,3.1126760563380289]
[null,null,null,null,null,null,null,null,null,null,null,null,null,null,null,15,15.533333333333333,15.2,14.866666666666665,14.533333333333331,14.2,13.866666666666667,null,null,null,null,-1,null,null,null,null,null,null,null,null,15,5.5861111111111104,5.0666666666666664,4.5472222222222225,4.0277777777777777,3.6301679586563309,3.2325581395348841]
[null,null,null,null,null,null,null,null,null,null,null,null,null,null,null,17.5,16.133333333333333,15.8,15.466666666666667,15.133333333333333,14.8,14.466666666666669,null,null,null,null,-1,null,null,null,null,null,null,null,null,17.5,5.7727777777777778,5.246666666666667,4.7205555555555563,4.1944444444444446,3.7832687338501296,3.3720930232558142]
[null,null,null,null,null,null,null,null,null,null,null,null,null,null,null,20,16.350000000000001,16.100000000000001,15.850000000000001,15.600000000000001,15.35,15.099999999999998,null,null,null,null,-1,null,null,null,null,null,null,null,null,20,5.897222222222223,5.3666666666666671,4.8361111111111112,4.3055555555555554,3.8853359173126618,3.4651162790697678]
[null,null,null,null,null,null,null,null,null,null,null,null,null,null,null,22.5,16.633333333333333,16.5,16.366666666666667,16.233333333333334,16.100000000000001,15.966666666666669,null,null,null,null,-1,null,null,null,null,null,null,null,null,22.5]
[null,null,null,null,null,null,null,null,null,null,null,null,null,null,null,25,16.866666666666664,16.899999999999999,16.933333333333334,16.966666666666669,17,17.033333333333331,null,null,null,null,-1,null,null,null,null,null,null,null,null,25]
[null,null,null,null,null,null,null,null,null,null,null,null,null,null,null,27.5,17.100000000000001,17.3,17.5,17.7,17.899999999999999,18.099999999999998,null,null,null,null,-1,null,null,null,null,null,null,null,null,27.5]
[null,null,null,null,null,null,null,null,null,null,null,null,null,null,null,30,17.466666666666669,17.8,18.133333333333333,18.466666666666665,18.8,19.133333333333336,null,null,null,null,-1,null,null,null,null,null,null,null,null,30]
[null,null,null,null,null,null,null,null,null,null,null,null,null,null,null,null,"WPL 23 E / cool",null,null,null,null,null,null,null,null,null,"Heizlast",null,null,null,null,null,null,null,null,null,"WPL 23 E / cool"]
[null,null,null,null,null,null,null,null,null,null,null,null,null,null,null,"Außentemp","30 °C","35 °C","40 °C","45 °C","50 °C","55 °C","60 °C","65 °C","70 °C","75 °C","Min",null,null,null,null,null,null,null,null,"Außentemp","30 °C","35 °C","40 °C","45 °C","50 °C","55 °C","60 °C","65 °C","70 °C","75 °C"]
[null,null,null,null,null,null,null,null,null,null,null,null,null,null,null,-20,8.4333333333333318,8.6999999999999993,8.9666666666666668,9.2333333333333343,9.5,9.7666666666666657,null,null,null,null,-1,null,null,null,null,null,null,null,null,-20,2.4554871220604699,2.2894736842105261,2.1234602463605823,1.957446808510638,1.8149303008070432,1.6724137931034482]
[null,null,null,null,null,null,null,null,null,null,null,null,null,null,null,-17.5,9.2333333333333325,9.5,9.7666666666666675,10.033333333333335,10.3,10.566666666666666,null,null,null,null,-1,null,null,null,null,null,null,null,null,-17.5,2.7036726607741546,2.5181347150259072,2.3325967692776599,2.1470588235294121,1.9789348171701115,1.810810810810811]
[null,null,null,null,null,null,null,null,null,null,null,null,null,null,null,-15,10.000000000000002,10.3,10.6,10.899999999999999,11.2,11.5,null,null,null,null,-1,null,null,null,null,null,null,null,null,-15,2.8645833333333339,2.666666666666667,2.46875,2.2708333333333335,2.0854166666666667,1.9000000000000001]
[null,null,null,null,null,null,null,null,null,null,null,null,null,null,null,-12.5,10.899999999999999,11.2,11.5,11.8,12.1,12.399999999999999,null,null,null,null,-1,null,null,null,null,null,null,null,null,-12.5,3.043280751800931,2.8345789735924263,2.6258771953839215,2.4171754171754172,2.2233952110556259,2.0296150049358346]
[null,null,null,null,null,null,null,null,null,null,null,null,null,null,null,-10,11.833333333333332,12.1,12.366666666666667,12.633333333333335,12.9,13.166666666666666,null,null,null,null,-1,null,null,null,null,null,null,null,null,-10,3.1564694180537112,2.9413202933985327,2.7261711687433543,2.5110220440881763,2.3126072700049365,2.1141924959216967]
[null,null,null,null,null,null,null,null,null,null,null,null,null,null,null,-7.5,12.666666666666668,12.9,13.133333333333333,13.366666666666665,13.6,13.833333333333334,null,null,null,null,-1,null,null,null,null,null,null,null,null,-7.5,3.3193277310924363,3.0952380952380949,2.8711484593837535,2.6470588235294121,2.4444971537001896,2.2419354838709675]
[null,null,null,null,null,null,null,null,null,null,null,null,null,null,null,-5,13.4,13.6,13.799999999999999,13.999999999999998,14.2,14.4,null,null,null,null,-1,null,null,null,null,null,null,null,null,-5,3.4332197087077772,3.1904761904761898,2.9477326722446024,2.7049891540130155,2.4962445770065074,2.2874999999999996]
[null,null,null,null,null,null,null,null,null,null,null,null,null,null,null,-2.5,13.9,14.1,14.299999999999999,14.499999999999998,14.7,14.9,null,null,null,null,-1,null,null,null,null,null,null,null,null,-2.5,3.6045258620689662,3.3333333333333339,3.0621408045977017,2.7909482758620694,2.5730940313590986,2.3552397868561279]
[null,null,null,null,null,null,null,null,null,null,null,null,null,null,null,0,14.4,14.55,14.700000000000001,14.850000000000001,15,15.149999999999999,null,null,null,null,-1,null,null,null,null,null,null,null,null,0,3.7190374003678728,3.4285714285714288,3.1381054567749849,2.8476394849785409,2.6238197424892702,2.4]
[null,null,null,null,null,null,null,null,null,null,null,null,null,null,null,2.5,14.766666666666666,14.85,14.933333333333334,15.016666666666667,15.1,15.183333333333332,null,null,null,null,-1,null,null,null,null,null,null,null,null,2.5,4.0752918287937749,3.7,3.3247081712062254,2.9494163424124511,2.7198694615288064,2.4903225806451612]
[null,null,null,null,null,null,null,null,null,null,null,null,null,null,null,5,14.933333333333334,15,15.066666666666666,15.133333333333333,15.2,15.266666666666666,null,null,null,null,-1,null,null,null,null,null,null,null,null,5,4.3280876494023905,3.9,3.4719123505976093,3.0438247011952191,2.815245683930943,2.5866666666666664]
[null,null,null,null,null,null,null,null,null,null,null,null,null,null,null,7.5,15.5,15.5,15.5,15.5,15.5,15.5,null,null,null,null,-1,null,null,null,null,null,null,null,null,7.5,4.5105442176870749,4.0999999999999996,3.6894557823129248,3.27891156462585,3.0245132535772927,2.7701149425287355]
[null,null,null,null,null,null,null,null,null,null,null,null,null,null,null,10,18.2,17.899999999999999,17.599999999999998,17.299999999999997,17,16.700000000000003,null,null,null,null,-1,null,null,null,null,null,null,null,null,10,4.5816326530612246,4.2380952380952381,3.8945578231292517,3.5510204081632648,3.2410274454609427,2.931034482758621]
[null,null,null,null,null,null,null,null,null,null,null,null,null,null,null,12.5,18.433333333333334,18.2,17.966666666666665,17.733333333333331,17.5,17.266666666666669,null,null,null,null,-1,null,null,null,null,null,null,null,null,12.5,4.6314179900117844,4.262910798122066,3.8944036062323475,3.525896414342629,3.2144532238937229,2.9030100334448168]
[null,null,null,null,null,null,null,null,null,null,null,null,null,null,null,15,18.566666666666666,18.399999999999999,18.233333333333331,18.066666666666663,17.899999999999999,17.733333333333334,null,null,null,null,-1,null,null,null,null,null,null,null,null,15,4.6637026903784768,4.2790697674418601,3.8944368445052437,3.5098039215686274,3.1975249116039861,2.8852459016393448]
[null,null,null,null,null,null,null,null,null,null,null,null,null,null,null,17.5,19.7,19.399999999999999,19.099999999999998,18.799999999999997,18.5,18.200000000000003,null,null,null,null,-1,null,null,null,null,null,null,null,null,17.5,4.9980620155038764,4.558139534883721,4.1182170542635657,3.6782945736434103,3.3262855504873001,2.97427652733119]
[null,null,null,null,null,null,null,null,null,null,null,null,null,null,null,20,20.650000000000002,20.3,19.95,19.599999999999998,19.25,18.900000000000002,null,null,null,null,-1,null,null,null,null,null,null,null,null,20,5.222048300536672,4.7441860465116275,4.2663237924865829,3.7884615384615383,3.410103785103785,3.0317460317460321]
[null,null,null,null,null,null,null,null,null,null,null,null,null,null,null,22.5,21.400000000000002,21.1,20.8,20.5,20.2,19.899999999999999,null,null,null,null,-1,null,null,null,null,null,null,null,null,22.5]
[null,null,null,null,null,null,null,null,null,null,null,null,null,null,null,25,22.066666666666666,21.9,21.733333333333331,21.566666666666663,21.4,21.233333333333334,null,null,null,null,-1,null,null,null,null,null,null,null,null,25]
[null,null,null,null,null,null,null,null,null,null,null,null,null,null,null,27.5,22.633333333333336,22.6,22.566666666666666,22.533333333333331,22.5,22.466666666666669,null,null,null,null,-1,null,null,null,null,null,null,null,null,27.5]
[null,null,null,null,null,null,null,null,null,null,null,null,null,null,null,30,23.366666666666664,23.4,23.433333333333334,23.466666666666669,23.5,23.533333333333331,null,null,null,null,-1,null,null,null,null,null,null,null,null,30]
[null,null,null,null,null,null,null,null,null,null,null,null,null,null,null,null,"WPL 33 HT",null,null,null,null,null,null,null,null,null,"Heizlast",null,null,null,null,null,null,null,null,null,"WPL 33 HT"]
[null,null,null,null,null,null,null,null,null,null,null,null,null,null,null,"Außentemp","30 °C","35 °C","40 °C","45 °C","50 °C","55 °C","60 °C","65 °C","70 °C","75 °C","Min",null,null,null,null,null,null,null,null,"Außentemp","30 °C","35 °C","40 °C","45 °C","50 °C","55 °C","60 °C","65 °C","70 °C","75 °C"]
[null,null,null,null,null,null,null,null,null,null,null,null,null,null,null,-20,12.6,12.6,12.6,12.6,12.6,12.6,11.8,11.8,10.85,10.85,2.0499999999999998,null,null,null,null,null,null,null,null,-20,1.6681500527426159,1.5949367088607593,1.5217233649789028,1.4485100210970465,1.37529667721519,1.3020833333333335,1.3020833333333335,1.3020833333333335,1.3020833333333335,1.3020833333333335]
[null,null,null,null,null,null,null,null,null,null,null,null,null,null,null,-17.5,13.380000000000003,13.380000000000003,13.380000000000003,13.380000000000003,13.380000000000003,13.380000000000003,12.740000000000002,12.740000000000002,11.980000000000004,11.980000000000004,{"$f":"AVERAGE(AA373,AA375)","v":2.5343749999999998},null,null,null,null,null,null,null,null,-17.5,1.894738683049058,1.821727019498607,1.7487153559481561,1.6757036923977053,1.6026920288472546,1.5296803652968036,1.5296803652968036,1.5296803652968036,1.5296803652968036,1.5296803652968036]
[null,null,null,null,null,null,null,null,null,null,null,null,null,null,null,-15,14.160000000000002,14.160000000000002,14.160000000000002,14.160000000000002,14.160000000000002,14.160000000000002,13.680000000000001,13.680000000000001,13.110000000000003,13.110000000000003,{"$f":"AVERAGE(AA373,AA377)","v":3.0187499999999998},null,null,null,null,null,null,null,null,-15,2.0731707317073171,2,1.9268292682926829,1.8536585365853659,1.780487804878049,1.7073170731707319,1.7073170731707319,1.7073170731707319,1.7073170731707319,1.7073170731707319]
[null,null,null,null,null,null,null,null,null,null,null,null,null,null,null,-12.5,15,15,15,15,15,15,14.62,14.62,14.240000000000002,14.240000000000002,{"$f":"AVERAGE(AA375,AA377)","v":3.5031249999999998},null,null,null,null,null,null,null,null,-12.5,2.0898915425632878,2.0216138328530255,1.9533361231427633,1.8850584134325008,1.8167807037222383,1.7485029940119761,1.7485029940119761,1.7485029940119761,1.7485029940119761,1.7485029940119761]
[null,null,null,null,null,null,null,null,null,null,null,null,null,null,null,-10,15.9,15.9,15.9,15.9,15.9,15.9,15.7,15.7,15.5,15.5,{"$f":"AVERAGE(AA373,AA381)","v":3.9875000000000003},null,null,null,null,null,null,null,null,-10,2.1002271022585219,2.035211267605634,1.9701954329527462,1.9051795982998585,1.8401637636469708,1.775147928994083,1.775147928994083,1.775147928994083,1.775147928994083,1.775147928994083]
[null,null,null,null,null,null,null,null,null,null,null,null,null,null,null,-7.5,16.5,16.5,16.5,16.5,16.5,16.5,16.5,16.5,16.5,16.5,{"$f":"AVERAGE(AA377,AA379)","v":4.4718750000000007},null,null,null,null,null,null,null,null,-7.5,2.1178160919540234,2.0666666666666669,2.0155172413793103,1.9643678160919542,1.9132183908045979,1.8620689655172415,1.8620689655172415,1.8620689655172415,1.8620689655172415,1.8620689655172415]
[null,null,null,null,null,null,null,null,null,null,null,null,null,null,null,-5,15,15,15,15,15,15,15,15,15,15,{"$f":"AVERAGE(AA377,AA381)","v":4.9562500000000007},null,null,null,null,null,null,null,null,-5,2.2241992018911141,2.1616341030195381,2.099069004147962,2.0365039052763865,1.9739388064048105,1.9113737075332347,1.9113737075332347,1.9113737075332347,1.9113737075332347,1.9113737075332347]
[null,null,null,null,null,null,null,null,null,null,null,null,null,null,null,-2.5,13.3,13.3,13.3,13.3,13.3,13.3,13.3,13.3,13.3,13.3,{"$f":"AVERAGE(AA379,AA381)","v":5.4406250000000007},null,null,null,null,null,null,null,null,-2.5,2.5005376081325448,2.4050632911392404,2.3095889741459361,2.2141146571526318,2.1186403401593275,2.0231660231660231,2.0231660231660231,2.0231660231660231,2.0231660231660231,2.0231660231660231]
[null,null,null,null,null,null,null,null,null,null,null,null,null,null,null,0,12,12,12,12,12,12,12,12,12,12,{"$f":"AVERAGE(AA373,AA389)","v":5.9250000000000007},null,null,null,null,null,null,null,null,0,2.8734862259425706,2.7279151943462896,2.5823441627500086,2.4367731311537275,2.291202099557446,2.145631067961165,2.145631067961165,2.145631067961165,2.145631067961165,2.145631067961165]
[null,null,null,null,null,null,null,null,null,null,null,null,null,null,null,2.5,10.95,10.95,10.95,10.95,10.95,10.95,10.95,10.95,10.95,10.95,{"$f":"AVERAGE(AA381,AA383)","v":6.4093750000000007},null,null,null,null,null,null,null,null,2.5,3.85,3.5,3.15,2.8,2.580379746835443,2.3607594936708858,2.3607594936708858,2.3607594936708858,2.3607594936708858,2.3607594936708858]
[null,null,null,null,null,null,null,null,null,null,null,null,null,null,null,5,10.050000000000001,10.050000000000001,10.050000000000001,10.050000000000001,10.050000000000001,10.050000000000001,10.050000000000001,10.050000000000001,10.050000000000001,10.050000000000001,{"$f":"AVERAGE(AA381,AA385)","v":6.8937500000000007},null,null,null,null,null,null,null,null,5,4.6499999999999995,4.0999999999999996,3.55,3,2.6902985074626864,2.3805970149253728,2.3805970149253728,2.3805970149253728,2.3805970149253728,2.3805970149253728]
[null,null,null,null,null,null,null,null,null,null,null,null,null,null,null,7.5,9.5,9.5,9.5,9.5,9.5,9.5,9.5,9.5,9.5,9.5,{"$f":"AVERAGE(AA383,AA385)","v":7.3781250000000007},null,null,null,null,null,null,null,null,7.5,4.6768656716417905,4.2399999999999993,3.8031343283582082,3.3662686567164175,2.9294029850746268,2.4925373134328357,2.4925373134328357,2.4925373134328357,2.4925373134328357,2.4925373134328357]
[null,null,null,null,null,null,null,null,null,null,null,null,null,null,null,10,9.4,9.4,9.4,9.4,9.4,9.4,9.4,9.4,9.4,9.4,{"$f":"AVERAGE(AA381,AA389)","v":7.8625000000000007},null,null,null,null,null,null,null,null,10,5.408385093167702,4.8571428571428577,4.3059006211180133,3.7546583850931681,3.2034161490683233,2.6521739130434785,2.6521739130434785,2.6521739130434785,2.6521739130434785,2.6521739130434785]
[null,null,null,null,null,null,null,null,null,null,null,null,null,null,null,12.5,9.5,9.5,9.5,9.5,9.5,9.5,9.5,9.5,9.5,9.5,{"$f":"AVERAGE(AA385,AA387)","v":8.3468750000000007},null,null,null,null,null,null,null,null,12.5,5.7557506053268783,5.1571428571428584,4.5585351089588384,3.9599273607748189,3.3613196125907994,2.7627118644067794,2.7627118644067794,2.7627118644067794,2.7627118644067794,2.7627118644067794]
[null,null,null,null,null,null,null,null,null,null,null,null,null,null,null,15,10.050000000000001,10.050000000000001,10.050000000000001,10.050000000000001,10.050000000000001,10.050000000000001,10.050000000000001,10.050000000000001,10.050000000000001,10.050000000000001,{"$f":"AVERAGE(AA385,AA389)","v":8.8312500000000007},null,null,null,null,null,null,null,null,15,5.988095238095239,5.3571428571428577,4.7261904761904763,4.0952380952380958,3.4642857142857144,2.8333333333333335,2.8333333333333335,2.8333333333333335,2.8333333333333335,2.8333333333333335]
[null,null,null,null,null,null,null,null,null,null,null,null,null,null,null,17.5,10.5,10.5,10.5,10.5,10.5,10.5,10.5,10.5,10.5,10.5,{"$f":"AVERAGE(AA387,AA389)","v":9.3156250000000007},null,null,null,null,null,null,null,null,17.5,6.3376887340301966,5.6571428571428566,4.9765969802555166,4.2960511033681765,3.6155052264808365,2.934959349593496,2.934959349593496,2.934959349593496,2.934959349593496,2.934959349593496]
[null,null,null,null,null,null,null,null,null,null,null,null,null,null,null,20,10.9,10.9,10.9,10.9,10.9,10.9,10.9,10.9,10.9,10.9,9.8000000000000007,null,null,null,null,null,null,null,null,20,6.5714285714285712,5.8571428571428568,5.1428571428571423,4.4285714285714288,3.7142857142857144,3,3,3,3,3]
[null,null,null,null,null,null,null,null,null,null,null,null,null,null,null,22.5,{"$f":"Q389+0.4","v":11.3},{"$f":"R389+0.4","v":11.3},11.3,11.3,11.3,11.3,11.3,11.3,11.3,11.3,{"$f":"AA389+0.5","v":10.3},null,null,null,null,null,null,null,null,22.5]
[null,null,null,null,null,null,null,null,null,null,null,null,null,null,null,25,{"$f":"Q390+0.4","v":11.700000000000001},11.700000000000001,11.700000000000001,11.700000000000001,11.700000000000001,11.700000000000001,11.700000000000001,11.700000000000001,11.700000000000001,11.700000000000001,{"$f":"AA390+0.5","v":10.8},null,null,null,null,null,null,null,null,25]
[null,null,null,null,null,null,null,null,null,null,null,null,null,null,null,27.5,12.100000000000001,12.100000000000001,12.100000000000001,12.100000000000001,12.100000000000001,12.100000000000001,12.100000000000001,12.100000000000001,12.100000000000001,12.100000000000001,11.3,null,null,null,null,null,null,null,null,27.5]
[null,null,null,null,null,null,null,null,null,null,null,null,null,null,null,30,12.500000000000002,12.500000000000002,12.500000000000002,12.500000000000002,12.500000000000002,12.500000000000002,12.500000000000002,12.500000000000002,12.500000000000002,12.500000000000002,11.8,null,null,null,null,null,null,null,null,30]
[null,null,null,null,null,null,null,null,null,null,null,null,null,null,null,null,"WPL 34",null,null,null,null,null,null,null,null,null,"Heizlast",null,null,null,null,null,null,null,null,null,"WPL 34"]
[null,null,null,null,null,null,null,null,null,null,null,null,null,null,null,"Außentemp","30 °C","35 °C","40 °C","45 °C","50 °C","55 °C","60 °C","65 °C","70 °C","75 °C","Min",null,null,null,null,null,null,null,null,"Außentemp","30 °C","35 °C","40 °C","45 °C","50 °C","55 °C","60 °C","65 °C","70 °C","75 °C"]
[null,null,null,null,null,null,null,null,null,null,null,null,null,null,null,-20,8.75,9,9.25,9.5,9.75,10,null,null,null,null,-1,null,null,null,null,null,null,null,null,-20,1.8300248138957813,1.7307692307692306,1.6315136476426799,1.532258064516129,1.4306027164685908,1.3289473684210527]
[null,null,null,null,null,null,null,null,null,null,null,null,null,null,null,-17.5,9.4499999999999993,10,10.55,11.1,11.2,11.3,null,null,null,null,-1,null,null,null,null,null,null,null,null,-17.5,2.1291487795903343,2.0076045627376424,1.8860603458849503,1.7645161290322582,1.6355217720879307,1.5065274151436034]
[null,null,null,null,null,null,null,null,null,null,null,null,null,null,null,-15,10.549999999999999,11.2,11.85,12.5,12.55,12.6,null,null,null,null,-1,null,null,null,null,null,null,null,null,-15,2.3233414485696895,2.1886792452830188,2.0540170419963482,1.9193548387096775,1.7713657310431503,1.6233766233766234]
[null,null,null,null,null,null,null,null,null,null,null,null,null,null,null,-12.5,11.85,12.5,13.15,13.8,13.850000000000001,13.9,null,null,null,null,-1,null,null,null,null,null,null,null,null,-12.5,2.5615522311650456,2.413003324713705,2.2644544182623645,2.1159055118110239,1.9505986803076718,1.7852918488043199]
[null,null,null,null,null,null,null,null,null,null,null,null,null,null,null,-10,13.375,13.9,14.425000000000001,14.95,14.975,15,null,null,null,null,-1,null,null,null,null,null,null,null,null,-10,2.7151353412123518,2.5573770491803276,2.3996187571483034,2.2418604651162792,2.0666518162107579,1.8914431673052363]
[null,null,null,null,null,null,null,null,null,null,null,null,null,null,null,-7.5,14.675000000000001,15.15,15.625,16.100000000000001,16.05,16,null,null,null,null,-1,null,null,null,null,null,null,null,null,-7.5,2.9396645021645025,2.7678571428571432,2.596049783549784,2.4242424242424243,2.2374376678174146,2.0506329113924049]
[null,null,null,null,null,null,null,null,null,null,null,null,null,null,null,-5,16,16.399999999999999,16.799999999999997,17.2,17.100000000000001,17,null,null,null,null,-1,null,null,null,null,null,null,null,null,-5,3.0742650918635173,2.8917322834645671,2.709199475065617,2.5266666666666668,2.3195921237693389,2.1125175808720105]
[null,null,null,null,null,null,null,null,null,null,null,null,null,null,null,-2.5,17.149999999999999,17.5,17.850000000000001,18.2,18,17.8,null,null,null,null,-1,null,null,null,null,null,null,null,null,-2.5,3.2726354999265239,3.0739299610894943,2.8752244222524648,2.6765188834154352,2.4409317342534278,2.2053445850914208]
[null,null,null,null,null,null,null,null,null,null,null,null,null,null,null,0,18.149999999999999,18.5,18.850000000000001,19.2,18.75,18.3,null,null,null,null,-1,null,null,null,null,null,null,null,null,0,3.4025834196565912,3.1930501930501936,2.9835169664437959,2.7739837398373983,2.5206064972042124,2.2672292545710264]
[null,null,null,null,null,null,null,null,null,null,null,null,null,null,null,2.5,19.350000000000001,19.600000000000001,19.850000000000001,20.100000000000001,19.3,18.5,null,null,null,null,-1,null,null,null,null,null,null,null,null,2.5,3.4088235294117646,3.25,3.0911764705882354,2.9323529411764708,2.6594754396604001,2.3865979381443299]
[null,null,null,null,null,null,null,null,null,null,null,null,null,null,null,5,20.65,20.7,20.75,20.8,19.850000000000001,18.899999999999999,null,null,null,null,-1,null,null,null,null,null,null,null,null,5,3.3576480103526363,3.2596441281138788,3.1616402458751214,3.0636363636363635,2.785828877005347,2.5080213903743309]
[null,null,null,null,null,null,null,null,null,null,null,null,null,null,null,7.5,22.5,22,21.5,21,20.5,20,null,null,null,null,-1,null,null,null,null,null,null,null,null,7.5,4.3988388788313868,4.0240963855421681,3.6493538922529494,3.2746113989637302,2.9859295526928742,2.6972477064220182]
[null,null,null,null,null,null,null,null,null,null,null,null,null,null,null,10,24,23.5,23,22.5,22,21.5,null,null,null,null,-1,null,null,null,null,null,null,null,null,10,4.5601648351648354,4.1785714285714288,3.7969780219780223,3.4153846153846152,3.1130977130977131,2.810810810810811]
[null,null,null,null,null,null,null,null,null,null,null,null,null,null,null,12.5,25.25,24.8,24.35,23.9,23.35,22.8,null,null,null,null,-1,null,null,null,null,null,null,null,null,12.5,4.803865379643196,4.4098939929328624,4.0159226062225288,3.6219512195121957,3.3015922317400124,2.9812332439678286]
[null,null,null,null,null,null,null,null,null,null,null,null,null,null,null,15,26.5,26,25.5,25,24.5,24,null,null,null,null,-1,null,null,null,null,null,null,null,null,15,4.9633173843700158,4.5614035087719298,4.1594896331738438,3.7575757575757578,3.4254545454545458,3.0933333333333333]
[null,null,null,null,null,null,null,null,null,null,null,null,null,null,null,17.5,27.650000000000002,27.1,26.55,26,25.5,25,null,null,null,null,-1,null,null,null,null,null,null,null,null,17.5,5.1201704545454554,4.7326388888888893,4.3451073232323232,3.9575757575757575,3.6034597947983773,3.2493438320209975]
[null,null,null,null,null,null,null,null,null,null,null,null,null,null,null,20,28.650000000000002,28.1,27.55,27,26.5,26,null,null,null,null,-1,null,null,null,null,null,null,null,null,20,5.2217868338558002,4.8448275862068968,4.4678683385579934,4.0909090909090908,3.720779220779221,3.3506493506493507]
[null,null,null,null,null,null,null,null,null,null,null,null,null,null,null,22.5,29.55,29,28.45,27.9,27.4,26.9,null,null,null,null,-1,null,null,null,null,null,null,null,null,22.5]
[null,null,null,null,null,null,null,null,null,null,null,null,null,null,null,25,30.35,29.8,29.25,28.7,28.2,27.7,null,null,null,null,-1,null,null,null,null,null,null,null,null,25]
[null,null,null,null,null,null,null,null,null,null,null,null,null,null,null,27.5,31.05,30.5,29.95,29.4,28.9,28.4,null,null,null,null,-1,null,null,null,null,null,null,null,null,27.5]
[null,null,null,null,null,null,null,null,null,null,null,null,null,null,null,30,31.5,31,30.5,30,29.5,29,null,null,null,null,-1,null,null,null,null,null,null,null,null,30]
[null,null,null,null,null,null,null,null,null,null,null,null,null,null,null,null,"WPL 47",null,null,null,null,null,null,null,null,null,"Heizlast",null,null,null,null,null,null,null,null,null,"WPL 47"]
[null,null,null,null,null,null,null,null,null,null,null,null,null,null,null,"Außentemp","30 °C","35 °C","40 °C","45 °C","50 °C","55 °C","60 °C","65 °C","70 °C","75 °C","Min",null,null,null,null,null,null,null,null,"Außentemp","30 °C","35 °C","40 °C","45 °C","50 °C","55 °C","60 °C","65 °C","70 °C","75 °C"]
[null,null,null,null,null,null,null,null,null,null,null,null,null,null,null,-20,14.55,14.6,14.649999999999999,14.7,14.95,15.2,null,null,null,null,-1,null,null,null,null,null,null,null,null,-20,2.2564935064935066,2.1363636363636362,2.0162337662337659,1.8961038961038961,1.7850084697910784,1.673913043478261]
[null,null,null,null,null,null,null,null,null,null,null,null,null,null,null,-17.5,15.5,15.6,15.7,15.8,16,16.2,null,null,null,null,-1,null,null,null,null,null,null,null,null,-17.5,2.4767783989317156,2.3451327433628317,2.2134870877939479,2.0818414322250636,1.9534477139527047,1.8250539956803455]
[null,null,null,null,null,null,null,null,null,null,null,null,null,null,null,-15,16.75,16.899999999999999,17.049999999999997,17.2,17.350000000000001,17.5,null,null,null,null,-1,null,null,null,null,null,null,null,null,-15,2.6161254815630159,2.4782608695652173,2.3403962575674186,2.20253164556962,2.0636314141826593,1.9247311827956985]
[null,null,null,null,null,null,null,null,null,null,null,null,null,null,null,-12.5,18.450000000000003,18.600000000000001,18.75,18.899999999999999,19,19.100000000000001,null,null,null,null,-1,null,null,null,null,null,null,null,null,-12.5,2.8392591999488888,2.6782387806943269,2.517218361439765,2.3561979421852035,2.2021753513333655,2.0481527604815279]
[null,null,null,null,null,null,null,null,null,null,null,null,null,null,null,-10,20.299999999999997,20.399999999999999,20.5,20.6,20.700000000000003,20.8,null,null,null,null,-1,null,null,null,null,null,null,null,null,-10,2.9821191590416989,2.8058252427184467,2.6295313263951945,2.4532374100719427,2.2894990295795821,2.1257606490872214]
[null,null,null,null,null,null,null,null,null,null,null,null,null,null,null,-7.5,22.050000000000004,22.1,22.15,22.2,22.299999999999997,22.4,null,null,null,null,-1,null,null,null,null,null,null,null,null,-7.5,3.183218101822753,2.9864864864864864,2.7897548711502198,2.5930232558139537,2.4141586867305063,2.2352941176470589]
[null,null,null,null,null,null,null,null,null,null,null,null,null,null,null,-5,23.8,23.8,23.8,23.8,23.814999999999998,23.83,null,null,null,null,-1,null,null,null,null,null,null,null,null,-5,3.3230716402247049,3.1092814371257482,2.8954912340267915,2.6817010309278349,2.4793786539920557,2.277056277056277]
[null,null,null,null,null,null,null,null,null,null,null,null,null,null,null,-2.5,25.25,25.2,25.15,25.1,24.85,24.6,null,null,null,null,-1,null,null,null,null,null,null,null,null,-2.5,3.5312200478660216,3.2921013412816693,3.052982634697317,2.8138639281129647,2.5762781591261499,2.3386923901393355]
[null,null,null,null,null,null,null,null,null,null,null,null,null,null,null,0,26.1,26,25.9,25.8,25.4,25,null,null,null,null,-1,null,null,null,null,null,null,null,null,0,3.6689094447816166,3.4130757800891529,3.1572421153966892,2.9014084507042255,2.6402675906343278,2.3791267305644297]
[null,null,null,null,null,null,null,null,null,null,null,null,null,null,null,2.5,26.25,26.2,26.15,26.1,25.8,25.5,null,null,null,null,-1,null,null,null,null,null,null,null,null,2.5,4.0337587006960565,3.7,3.3662412993039443,3.0324825986078885,2.7512509704838282,2.4700193423597678]
[null,null,null,null,null,null,null,null,null,null,null,null,null,null,null,5,26.15,26.2,26.25,26.3,26.15,26,null,null,null,null,-1,null,null,null,null,null,null,null,null,5,4.1385342789598107,3.8,3.4614657210401889,3.1229314420803784,2.8498888747328044,2.5768463073852299]
[null,null,null,null,null,null,null,null,null,null,null,null,null,null,null,7.5,26.825000000000003,26.8,26.774999999999999,26.75,26.675000000000001,26.6,null,null,null,null,-1,null,null,null,null,null,null,null,null,7.5,4.318788732394367,3.9765258215962449,3.6342629107981224,3.2919999999999998,3.007301369863014,2.7226027397260277]
[null,null,null,null,null,null,null,null,null,null,null,null,null,null,null,10,31.950000000000003,30.8,29.65,28.5,28,27.5,null,null,null,null,-1,null,null,null,null,null,null,null,null,10,4.7234238765928911,4.295774647887324,3.8681254191817569,3.4404761904761902,3.1130952380952381,2.7857142857142856]
[null,null,null,null,null,null,null,null,null,null,null,null,null,null,null,12.5,33.349999999999994,32.299999999999997,31.25,30.2,29.549999999999997,28.9,null,null,null,null,-1,null,null,null,null,null,null,null,null,12.5,4.8911043755035202,4.4608938547486039,4.0306833339936876,3.6004728132387713,3.2699944711355142,2.9395161290322576]
[null,null,null,null,null,null,null,null,null,null,null,null,null,null,null,15,34.050000000000004,33.200000000000003,32.35,31.5,30.85,30.2,null,null,null,null,-1,null,null,null,null,null,null,null,null,15,5.0012254901960773,4.5694444444444438,4.1376633986928102,3.7058823529411766,3.3729411764705883,3.04]
[null,null,null,null,null,null,null,null,null,null,null,null,null,null,null,17.5,34.799999999999997,34.1,33.400000000000006,32.700000000000003,32,31.3,null,null,null,null,-1,null,null,null,null,null,null,null,null,17.5,5.0729411764705885,4.666666666666667,4.2603921568627454,3.8541176470588243,3.4853592187863294,3.116600790513834]
[null,null,null,null,null,null,null,null,null,null,null,null,null,null,null,20,35.625,35.049999999999997,34.474999999999994,33.9,33.049999999999997,32.200000000000003,null,null,null,null,-1,null,null,null,null,null,null,null,null,20,5.0500000000000007,4.7,4.3499999999999996,4,3.6,3.2]
[null,null,null,null,null,null,null,null,null,null,null,null,null,null,null,22.5,36.4,35.9,35.4,34.9,33.950000000000003,33,null,null,null,null,-1,null,null,null,null,null,null,null,null,22.5]
[null,null,null,null,null,null,null,null,null,null,null,null,null,null,null,25,37.349999999999994,36.799999999999997,36.25,35.700000000000003,34.75,33.799999999999997,null,null,null,null,-1,null,null,null,null,null,null,null,null,25]
[null,null,null,null,null,null,null,null,null,null,null,null,null,null,null,27.5,38.25,37.700000000000003,37.150000000000006,36.6,35.549999999999997,34.5,null,null,null,null,-1,null,null,null,null,null,null,null,null,27.5]
[null,null,null,null,null,null,null,null,null,null,null,null,null,null,null,30,39.049999999999997,38.5,37.950000000000003,37.4,36.299999999999997,35.200000000000003,null,null,null,null,-1,null,null,null,null,null,null,null,null,30]
[null,null,null,null,null,null,null,null,null,null,null,null,null,null,null,null,"WPL 57",null,null,null,null,null,null,null,null,null,"Heizlast",null,null,null,null,null,null,null,null,null,"WPL 57"]
[null,null,null,null,null,null,null,null,null,null,null,null,null,null,null,"Außentemp","30 °C","35 °C","40 °C","45 °C","50 °C","55 °C","60 °C","65 °C","70 °C","75 °C","Min",null,null,null,null,null,null,null,null,"Außentemp","30 °C","35 °C","40 °C","45 °C","50 °C","55 °C","60 °C","65 °C","70 °C","75 °C"]
[null,null,null,null,null,null,null,null,null,null,null,null,null,null,null,-20,{"$f":"R442-(S442-R442)","v":16.949999999999996},16.899999999999999,{"$f":"AVERAGE(R442,T442)","v":16.850000000000001},16.8,{"$f":"AVERAGE(T442,V442)","v":17.649999999999999},18.5,null,null,null,null,-1,null,null,null,null,null,null,null,null,-20,2.2089983489268024,2.0886075949367089,1.9682168409466154,1.847826086956522,1.7601962293189688,1.6725663716814156]
[null,null,null,null,null,null,null,null,null,null,null,null,null,null,null,-17.5,{"$f":"R443-(S443-R443)","v":17.45},17.7,17.95,18.2,19.25,20.3,null,null,null,null,-1,null,null,null,null,null,null,null,null,-17.5,2.392509439738749,2.2609756097560978,2.1294417797734466,1.9979079497907954,1.8900689574737948,1.7822299651567943]
[null,null,null,null,null,null,null,null,null,null,null,null,null,null,null,-15,18.050000000000004,18.600000000000001,19.149999999999999,19.7,20.799999999999997,21.9,null,null,null,null,-1,null,null,null,null,null,null,null,null,-15,2.5076530612244889,2.3690476190476186,2.2304421768707483,2.0918367346938775,1.9726425052779732,1.853448275862069]
[null,null,null,null,null,null,null,null,null,null,null,null,null,null,null,-12.5,19.299999999999997,19.899999999999999,20.5,21.1,22.200000000000003,23.3,null,null,null,null,-1,null,null,null,null,null,null,null,null,-12.5,2.6417643364785421,2.4924295364546931,2.3430947364308441,2.1937599364069951,2.0646817214064646,1.9356035064059343]
[null,null,null,null,null,null,null,null,null,null,null,null,null,null,null,-10,20.725000000000001,21.3,21.875,22.45,23.524999999999999,24.6,null,null,null,null,-1,null,null,null,null,null,null,null,null,-10,2.7282403711610215,2.5717566016073476,2.4152728320536738,2.2587890625,2.1235805777616279,1.988372093023256]
[null,null,null,null,null,null,null,null,null,null,null,null,null,null,null,-7.5,22.4,22.9,23.4,23.9,24.75,25.6,null,null,null,null,-1,null,null,null,null,null,null,null,null,-7.5,2.8518994114499727,2.685393258426966,2.5188871054039592,2.3523809523809525,2.2087108013937282,2.065040650406504]
[null,null,null,null,null,null,null,null,null,null,null,null,null,null,null,-5,24.450000000000003,24.8,25.15,25.5,26.074999999999999,26.65,null,null,null,null,-1,null,null,null,null,null,null,null,null,-5,2.9949617958847536,2.8141263940520442,2.6332909922193348,2.452455590386625,2.2945507765597721,2.1366459627329188]
[null,null,null,null,null,null,null,null,null,null,null,null,null,null,null,-2.5,26.75,26.9,27.049999999999997,27.2,27.35,27.5,null,null,null,null,-1,null,null,null,null,null,null,null,null,-2.5,3.2065403469079943,3.0036764705882355,2.8008125942684767,2.597948717948718,2.4186804955344279,2.2394122731201382]
[null,null,null,null,null,null,null,null,null,null,null,null,null,null,null,0,29.05,29,28.95,28.9,28.65,28.4,null,null,null,null,-1,null,null,null,null,null,null,null,null,0,3.3456078657585104,3.1277372262773722,2.9098665867962339,2.6919959473150961,2.4985043457900886,2.3050127442650807]
[null,null,null,null,null,null,null,null,null,null,null,null,null,null,null,2.5,31.475000000000001,31,30.524999999999999,30.05,29.675000000000001,29.3,null,null,null,null,-1,null,null,null,null,null,null,null,null,2.5,3.4055045871559635,3.2,2.9944954128440369,2.7889908256880731,2.5776484267543918,2.3663060278207104]
[null,null,null,null,null,null,null,null,null,null,null,null,null,null,null,5,32.15,31.5,30.85,30.2,30.1,30,null,null,null,null,-1,null,null,null,null,null,null,null,null,5,3.7,3.4,3.0999999999999996,2.8,2.5808510638297872,2.3617021276595747]
[null,null,null,null,null,null,null,null,null,null,null,null,null,null,null,7.5,32.049999999999997,31.7,31.35,31,30.9,30.8,null,null,null,null,-1,null,null,null,null,null,null,null,null,7.5,3.8463951018368112,3.5245283018867926,3.2026615019367739,2.8807947019867552,2.6702824084646419,2.4597701149425286]
[null,null,null,null,null,null,null,null,null,null,null,null,null,null,null,10,32.949999999999996,32.799999999999997,32.65,32.5,32.25,32,null,null,null,null,-1,null,null,null,null,null,null,null,null,10,4.1529213483146066,3.7752808988764044,3.3976404494382022,3.02,2.840508474576271,2.6610169491525419]
[null,null,null,null,null,null,null,null,null,null,null,null,null,null,null,12.5,35.199999999999996,35.049999999999997,34.9,34.75,34.125,33.5,null,null,null,null,-1,null,null,null,null,null,null,null,null,12.5,4.3707372572815544,3.9843750000000009,3.598012742718447,3.211650485436893,3.0020046447118025,2.7923588039867115]
[null,null,null,null,null,null,null,null,null,null,null,null,null,null,null,15,37.75,37.5,37.25,37,36.200000000000003,35.4,null,null,null,null,-1,null,null,null,null,null,null,null,null,15,4.5166666666666675,4.1222222222222227,3.7277777777777779,3.3333333333333335,3.1051912568306013,2.877049180327869]
[null,null,null,null,null,null,null,null,null,null,null,null,null,null,null,17.5,39.700000000000003,39.5,39.299999999999997,39.1,38.299999999999997,37.5,null,null,null,null,-1,null,null,null,null,null,null,null,null,17.5,4.7460514922005554,4.3267108167770427,3.9073701413535304,3.4880294659300182,3.2318984163252678,2.9757673667205169]
[null,null,null,null,null,null,null,null,null,null,null,null,null,null,null,20,41.5,41.3,41.099999999999994,40.9,40.15,39.4,null,null,null,null,-1,null,null,null,null,null,null,null,null,20,4.8995148995148998,4.4615384615384617,4.0235620235620235,3.5855855855855854,3.3127927927927927,3.04]
[null,null,null,null,null,null,null,null,null,null,null,null,null,null,null,22.5,43.15,43,42.85,42.7,41.95,41.2,null,null,null,null,-1,null,null,null,null,null,null,null,null,22.5]
[null,null,null,null,null,null,null,null,null,null,null,null,null,null,null,25,45.075000000000003,44.85,44.625,44.4,43.7,43,null,null,null,null,-1,null,null,null,null,null,null,null,null,25]
[null,null,null,null,null,null,null,null,null,null,null,null,null,null,null,27.5,46.7,46.5,46.3,46.1,45.5,44.9,null,null,null,null,-1,null,null,null,null,null,null,null,null,27.5]
[null,null,null,null,null,null,null,null,null,null,null,null,null,null,null,30,48.35,48.2,48.050000000000004,47.900000000000006,47.35,46.8,null,null,null,null,-1,null,null,null,null,null,null,null,null,30]
[null,null,null,null,null,null,null,null,null,null,null,null,null,null,null,null,"LWZ 304 SOL",null,null,null,null,null,null,null,null,null,"Heizlast",null,null,null,null,null,null,null,null,null,"LWZ 304 SOL"]
[null,null,null,null,null,null,null,null,null,null,null,null,null,null,null,"Außentemp","30 °C","35 °C","40 °C","45 °C","50 °C","55 °C","60 °C","65 °C","70 °C","75 °C","Min",null,null,null,null,null,null,null,null,"Außentemp","30 °C","35 °C","40 °C","45 °C","50 °C","55 °C","60 °C","65 °C","70 °C","75 °C"]
[null,null,null,null,null,null,null,null,null,null,null,null,null,null,null,-20,{"$f":"R465-(S465-R465)","v":2.6666666666666665},2.5,{"$f":"R465-(R465-U465)/3","v":2.3333333333333335},{"$f":"AVERAGE(S465,U465)","v":2.166666666666667},2,{"$f":"U465-(T465-U465)","v":1.833333333333333},null,null,null,null,-1,null,null,null,null,null,null,null,null,-20,4.16,3.9,3.6399999999999997,3.38,3.12,2.86]
[null,null,null,null,null,null,null,null,null,null,null,null,null,null,null,-17.5,{"$f":"R466-(S466-R466)","v":3.1666666666666665},3,{"$f":"R466-(R466-U466)/3","v":2.8333333333333335},{"$f":"AVERAGE(S466,U466)","v":2.666666666666667},2.5,{"$f":"U466-(T466-U466)","v":2.333333333333333},null,null,null,null,-1,null,null,null,null,null,null,null,null,-17.5,4.2175000000000002,3.95,3.6825000000000001,3.415,3.1475,2.88]
[null,null,null,null,null,null,null,null,null,null,null,null,null,null,null,-15,3.7,3.5,3.3,3.0999999999999996,2.9,2.7,null,null,null,null,-1,null,null,null,null,null,null,null,null,-15,4.2750000000000004,4,3.7249999999999996,3.4499999999999997,3.1749999999999998,2.9]
[null,null,null,null,null,null,null,null,null,null,null,null,null,null,null,-12.5,4.2333333333333334,4,3.7666666666666666,3.5333333333333332,3.3,3.0666666666666664,null,null,null,null,-1,null,null,null,null,null,null,null,null,-12.5,4.3110294117647054,4.0352941176470578,3.7595588235294102,3.4838235294117634,3.2080882352941167,2.9323529411764699]
[null,null,null,null,null,null,null,null,null,null,null,null,null,null,null,-10,4.7666666666666666,4.5,4.2333333333333334,3.9666666666666668,3.7,3.4333333333333336,null,null,null,null,-1,null,null,null,null,null,null,null,null,-10,4.3470588235294088,4.0705882352941156,3.794117647058822,3.517647058823528,3.241176470588234,2.96470588235294]
[null,null,null,null,null,null,null,null,null,null,null,null,null,null,null,-7.5,5.2666666666666666,4.95,4.6333333333333337,4.3166666666666664,4,3.6833333333333336,null,null,null,null,-1,null,null,null,null,null,null,null,null,-7.5,4.3830882352941138,4.1058823529411734,3.8286764705882326,3.5514705882352917,3.2742647058823509,2.99705882352941]
[null,null,null,null,null,null,null,null,null,null,null,null,null,null,null,-5,5.5166666666666675,5.15,4.7833333333333332,4.4166666666666661,4.05,3.6833333333333336,null,null,null,null,-1,null,null,null,null,null,null,null,null,-5,4.4174999999999986,4.1377777777777771,3.8580555555555556,3.5783333333333331,3.2986111111111107,3.0188888888888883]
[null,null,null,null,null,null,null,null,null,null,null,null,null,null,null,-2.5,5.64,5.25,4.8600000000000003,4.4700000000000006,4.08,3.6899999999999995,null,null,null,null,-1,null,null,null,null,null,null,null,null,-2.5,4.442499999999999,4.1599999999999984,3.8774999999999982,3.5949999999999984,3.3124999999999987,3.0299999999999989]
[null,null,null,null,null,null,null,null,null,null,null,null,null,null,null,0,5.7499999999999991,5.35,4.95,4.5500000000000007,4.1500000000000004,3.75,null,null,null,null,-1,null,null,null,null,null,null,null,null,0,4.4674999999999976,4.1822222222222196,3.8969444444444421,3.6116666666666646,3.3263888888888871,3.0411111111111095]
[null,null,null,null,null,null,null,null,null,null,null,null,null,null,null,2.5,5.8166666666666673,5.45,5.083333333333333,4.7166666666666668,4.3499999999999996,3.9833333333333325,null,null,null,null,-1,null,null,null,null,null,null,null,null,2.5,4.5022500000000001,4.2119999999999997,3.9217499999999994,3.6314999999999995,3.3412499999999996,3.0509999999999997]
[null,null,null,null,null,null,null,null,null,null,null,null,null,null,null,5,5.8,5.5,5.2,4.9000000000000004,4.5999999999999996,4.2999999999999989,null,null,null,null,-1,null,null,null,null,null,null,null,null,5,4.5760000000000023,4.272000000000002,3.9680000000000013,3.6640000000000006,3.36,3.0559999999999992]
[null,null,null,null,null,null,null,null,null,null,null,null,null,null,null,7.5,5.75,5.55,5.35,5.15,4.95,4.75,null,null,null,null,-1,null,null,null,null,null,null,null,null,7.5,4.643076923076924,4.3269230769230775,4.0107692307692311,3.6946153846153851,3.3784615384615386,3.0623076923076922]
[null,null,null,null,null,null,null,null,null,null,null,null,null,null,null,10,5.9833333333333334,5.8,5.6166666666666663,5.4333333333333336,5.25,5.0666666666666664,null,null,null,null,-1,null,null,null,null,null,null,null,null,10,4.6834615384615415,4.3615384615384638,4.0396153846153862,3.7176923076923081,3.3957692307692304,3.0738461538461528]
[null,null,null,null,null,null,null,null,null,null,null,null,null,null,null,12.5,6.1333333333333337,6,5.8666666666666663,5.7333333333333325,5.6,5.4666666666666668,null,null,null,null,-1,null,null,null,null,null,null,null,null,12.5,4.7238461538461589,4.3961538461538501,4.0684615384615412,3.740769230769232,3.4130769230769227,3.0853846153846134]
[null,null,null,null,null,null,null,null,null,null,null,null,null,null,null,15,6.2133333333333338,6.15,6.0866666666666669,6.0233333333333334,5.96,5.8966666666666665,null,null,null,null,-1,null,null,null,null,null,null,null,null,15,4.7642307692307773,4.4307692307692363,4.0973076923076954,3.763846153846155,3.4303846153846145,3.096923076923074]
[null,null,null,null,null,null,null,null,null,null,null,null,null,null,null,17.5,6.4833333333333334,6.3,6.1166666666666663,5.9333333333333336,5.75,5.5666666666666664,null,null,null,null,-1,null,null,null,null,null,null,null,null,17.5,4.8046153846153947,4.4653846153846226,4.1261538461538505,3.7869230769230788,3.4476923076923067,3.1084615384615346]
[null,null,null,null,null,null,null,null,null,null,null,null,null,null,null,20,6.75,6.5,6.25,6,5.75,5.5,null,null,null,null,-1,null,null,null,null,null,null,null,null,20,4.8450000000000006,4.5,4.1549999999999994,3.8099999999999996,3.4649999999999999,3.12]
[null,null,null,null,null,null,null,null,null,null,null,null,null,null,null,22.5,7.2666666666666666,6.95,6.6333333333333337,6.3166666666666664,6,5.6833333333333336,null,null,null,null,-1,null,null,null,null,null,null,null,null,22.5]
[null,null,null,null,null,null,null,null,null,null,null,null,null,null,null,25,7.7166666666666668,7.4,7.0833333333333339,6.7666666666666675,6.45,6.1333333333333329,null,null,null,null,-1,null,null,null,null,null,null,null,null,25]
[null,null,null,null,null,null,null,null,null,null,null,null,null,null,null,27.5,8.0333333333333332,7.75,7.4666666666666668,7.1833333333333336,6.9,6.6166666666666671,null,null,null,null,-1,null,null,null,null,null,null,null,null,27.5]
[null,null,null,null,null,null,null,null,null,null,null,null,null,null,null,30,8.3833333333333329,8.1,7.8166666666666664,7.5333333333333332,7.25,6.9666666666666668,null,null,null,null,-1,null,null,null,null,null,null,null,null,30]
[null,null,null,null,null,null,null,null,null,null,null,null,null,null,null,null,"LWZ 404 SOL",null,null,null,null,null,null,null,null,null,"Heizlast",null,null,null,null,null,null,null,null,null,"LWZ 404 SOL"]
[null,null,null,null,null,null,null,null,null,null,null,null,null,null,null,"Außentemp","30 °C","35 °C","40 °C","45 °C","50 °C","55 °C","60 °C","65 °C","70 °C","75 °C","Min",null,null,null,null,null,null,null,null,"Außentemp","30 °C","35 °C","40 °C","45 °C","50 °C","55 °C","60 °C","65 °C","70 °C","75 °C"]
[null,null,null,null,null,null,null,null,null,null,null,null,null,null,null,-20,{"$f":"R488-(S488-R488)","v":4.7666666666666675},4.2,{"$f":"R488-(R488-U488)/3","v":3.6333333333333333},{"$f":"AVERAGE(S488,U488)","v":3.0666666666666664},2.5,{"$f":"U488-(T488-U488)","v":1.9333333333333336},null,null,null,null,-1,null,null,null,null,null,null,null,null,-20,4.16,3.9,3.6399999999999997,3.38,3.12,2.86]
[null,null,null,null,null,null,null,null,null,null,null,null,null,null,null,-17.5,{"$f":"R489-(S489-R489)","v":5.4666666666666668},4.9000000000000004,{"$f":"R489-(R489-U489)/3","v":4.3333333333333339},{"$f":"AVERAGE(S489,U489)","v":3.7666666666666671},3.2,{"$f":"U489-(T489-U489)","v":2.6333333333333333},null,null,null,null,-1,null,null,null,null,null,null,null,null,-17.5,4.2175000000000002,3.95,3.6825000000000001,3.415,3.1475,2.88]
[null,null,null,null,null,null,null,null,null,null,null,null,null,null,null,-15,6.0666666666666664,5.5,4.9333333333333336,4.3666666666666671,3.8,3.2333333333333325,null,null,null,null,-1,null,null,null,null,null,null,null,null,-15,4.2750000000000004,4,3.7249999999999996,3.4499999999999997,3.1749999999999998,2.9]
[null,null,null,null,null,null,null,null,null,null,null,null,null,null,null,-12.5,6.4833333333333334,5.95,5.416666666666667,4.8833333333333329,4.3499999999999996,3.8166666666666664,null,null,null,null,-1,null,null,null,null,null,null,null,null,-12.5,4.3110294117647054,4.0352941176470578,3.7595588235294102,3.4838235294117634,3.2080882352941167,2.9323529411764699]
[null,null,null,null,null,null,null,null,null,null,null,null,null,null,null,-10,6.6933333333333334,6.25,5.8066666666666666,5.3633333333333333,4.92,4.4766666666666666,null,null,null,null,-1,null,null,null,null,null,null,null,null,-10,4.3470588235294088,4.0705882352941156,3.794117647058822,3.517647058823528,3.241176470588234,2.96470588235294]
[null,null,null,null,null,null,null,null,null,null,null,null,null,null,null,-7.5,6.8666666666666663,6.5,6.1333333333333337,5.7666666666666675,5.4,5.0333333333333332,null,null,null,null,-1,null,null,null,null,null,null,null,null,-7.5,4.3830882352941138,4.1058823529411734,3.8286764705882326,3.5514705882352917,3.2742647058823509,2.99705882352941]
[null,null,null,null,null,null,null,null,null,null,null,null,null,null,null,-5,7.1333333333333337,6.75,6.3666666666666663,5.9833333333333325,5.6,5.2166666666666668,null,null,null,null,-1,null,null,null,null,null,null,null,null,-5,4.4174999999999986,4.1377777777777771,3.8580555555555556,3.5783333333333331,3.2986111111111107,3.0188888888888883]
[null,null,null,null,null,null,null,null,null,null,null,null,null,null,null,-2.5,7.416666666666667,7,6.583333333333333,6.1666666666666661,5.75,5.3333333333333339,null,null,null,null,-1,null,null,null,null,null,null,null,null,-2.5,4.442499999999999,4.1599999999999984,3.8774999999999982,3.5949999999999984,3.3124999999999987,3.0299999999999989]
[null,null,null,null,null,null,null,null,null,null,null,null,null,null,null,0,7.65,7.2,6.75,6.3,5.85,5.3999999999999995,null,null,null,null,-1,null,null,null,null,null,null,null,null,0,4.4674999999999976,4.1822222222222196,3.8969444444444421,3.6116666666666646,3.3263888888888871,3.0411111111111095]
[null,null,null,null,null,null,null,null,null,null,null,null,null,null,null,2.5,7.8500000000000005,7.4,6.95,6.5,6.05,5.6,null,null,null,null,-1,null,null,null,null,null,null,null,null,2.5,4.5022500000000001,4.2119999999999997,3.9217499999999994,3.6314999999999995,3.3412499999999996,3.0509999999999997]
[null,null,null,null,null,null,null,null,null,null,null,null,null,null,null,5,8.1999999999999993,7.85,7.5,7.15,6.8,6.4499999999999993,null,null,null,null,-1,null,null,null,null,null,null,null,null,5,4.5760000000000023,4.272000000000002,3.9680000000000013,3.6640000000000006,3.36,3.0559999999999992]
[null,null,null,null,null,null,null,null,null,null,null,null,null,null,null,7.5,8.4733333333333327,8.18,7.8866666666666667,7.5933333333333337,7.3,7.0066666666666659,null,null,null,null,-1,null,null,null,null,null,null,null,null,7.5,4.643076923076924,4.3269230769230775,4.0107692307692311,3.6946153846153851,3.3784615384615386,3.0623076923076922]
[null,null,null,null,null,null,null,null,null,null,null,null,null,null,null,10,8.6666666666666679,8.4,8.1333333333333329,7.8666666666666663,7.6,7.333333333333333,null,null,null,null,-1,null,null,null,null,null,null,null,null,10,4.6834615384615415,4.3615384615384638,4.0396153846153862,3.7176923076923081,3.3957692307692304,3.0738461538461528]
[null,null,null,null,null,null,null,null,null,null,null,null,null,null,null,12.5,8.85,8.6,8.35,8.1,7.85,7.6,null,null,null,null,-1,null,null,null,null,null,null,null,null,12.5,4.7238461538461589,4.3961538461538501,4.0684615384615412,3.740769230769232,3.4130769230769227,3.0853846153846134]
[null,null,null,null,null,null,null,null,null,null,null,null,null,null,null,15,8.9833333333333325,8.75,8.5166666666666675,8.283333333333335,8.0500000000000007,7.8166666666666664,null,null,null,null,-1,null,null,null,null,null,null,null,null,15,4.7642307692307773,4.4307692307692363,4.0973076923076954,3.763846153846155,3.4303846153846145,3.096923076923074]
[null,null,null,null,null,null,null,null,null,null,null,null,null,null,null,17.5,9.1833333333333336,8.9,8.6166666666666671,8.3333333333333339,8.0500000000000007,7.7666666666666675,null,null,null,null,-1,null,null,null,null,null,null,null,null,17.5,4.8046153846153947,4.4653846153846226,4.1261538461538505,3.7869230769230788,3.4476923076923067,3.1084615384615346]
[null,null,null,null,null,null,null,null,null,null,null,null,null,null,null,20,9.35,9.0299999999999994,8.7099999999999991,8.39,8.07,7.75,null,null,null,null,-1,null,null,null,null,null,null,null,null,20,4.8450000000000006,4.5,4.1549999999999994,3.8099999999999996,3.4649999999999999,3.12]
[null,null,null,null,null,null,null,null,null,null,null,null,null,null,null,22.5,9.4333333333333318,9.1999999999999993,8.9666666666666668,8.7333333333333343,8.5,8.2666666666666657,null,null,null,null,-1,null,null,null,null,null,null,null,null,22.5]
[null,null,null,null,null,null,null,null,null,null,null,null,null,null,null,25,9.4499999999999993,9.35,9.25,9.15,9.0500000000000007,8.9500000000000011,null,null,null,null,-1,null,null,null,null,null,null,null,null,25]
[null,null,null,null,null,null,null,null,null,null,null,null,null,null,null,27.5,9.4166666666666661,9.5,9.5833333333333339,9.6666666666666679,9.75,9.8333333333333321,null,null,null,null,-1,null,null,null,null,null,null,null,null,27.5]
[null,null,null,null,null,null,null,null,null,null,null,null,null,null,null,30,9.2999999999999989,9.6,9.9,10.199999999999999,10.5,10.8,null,null,null,null,-1,null,null,null,null,null,null,null,null,30]
[null,null,null,null,null,null,null,null,null,null,null,null,null,null,null,null,"LWZ 504",null,null,null,null,null,null,null,null,null,"Heizlast",null,null,null,null,null,null,null,null,null,"LWZ 504"]
[null,null,null,null,null,null,null,null,null,null,null,null,null,null,null,"Außentemp","30 °C","35 °C","40 °C","45 °C","50 °C","55 °C","60 °C","65 °C","70 °C","75 °C","Min",null,null,null,null,null,null,null,null,"Außentemp","30 °C","35 °C","40 °C","45 °C","50 °C","55 °C","60 °C","65 °C","70 °C","75 °C"]
[null,null,null,null,null,null,null,null,null,null,null,null,null,null,null,-20,5.8,5.8,5.8,5.8,5.8,5.8,null,null,null,null,2.52,null,null,null,null,null,null,null,null,-20,{"$f":"AK488+0.1","v":4.26},{"$f":"AL488+0.1","v":4},3.7399999999999998,3.48,3.22,2.96]
[null,null,null,null,null,null,null,null,null,null,null,null,null,null,null,-17.5,6.44,6.44,6.44,6.44,6.44,6.44,null,null,null,null,2.59,null,null,null,null,null,null,null,null,-17.5,{"$f":"AK489+0.1","v":4.3174999999999999},4.05,3.7825000000000002,3.5150000000000001,3.2475000000000001,2.98]
[null,null,null,null,null,null,null,null,null,null,null,null,null,null,null,-15,7.08,7.08,7.08,7.08,7.08,7.08,null,null,null,null,2.65,null,null,null,null,null,null,null,null,-15,4.375,4.0999999999999996,3.8249999999999997,3.55,3.2749999999999999,3]
[null,null,null,null,null,null,null,null,null,null,null,null,null,null,null,-12.5,7.72,7.72,7.72,7.72,7.72,7.72,null,null,null,null,2.72,null,null,null,null,null,null,null,null,-12.5,4.4110294117647051,4.1352941176470575,3.8595588235294103,3.5838235294117635,3.3080882352941168,3.03235294117647]
[null,null,null,null,null,null,null,null,null,null,null,null,null,null,null,-10,8.36,8.36,8.36,8.36,8.36,8.36,null,null,null,null,2.79,null,null,null,null,null,null,null,null,-10,4.4470588235294084,4.1705882352941153,3.8941176470588221,3.6176470588235281,3.3411764705882341,3.0647058823529401]
[null,null,null,null,null,null,null,null,null,null,null,null,null,null,null,-7.5,9,9,9,9,9,9,null,null,null,null,2.86,null,null,null,null,null,null,null,null,-7.5,4.4830882352941135,4.2058823529411731,3.9286764705882327,3.6514705882352918,3.3742647058823509,3.0970588235294101]
[null,null,null,null,null,null,null,null,null,null,null,null,null,null,null,-5,9.4600000000000009,9.4600000000000009,9.4600000000000009,9.4600000000000009,9.4600000000000009,9.4600000000000009,null,null,null,null,2.76,null,null,null,null,null,null,null,null,-5,4.5174999999999983,4.2377777777777768,3.9580555555555557,3.6783333333333332,3.3986111111111108,3.1188888888888884]
[null,null,null,null,null,null,null,null,null,null,null,null,null,null,null,-2.5,9.92,9.92,9.92,9.92,9.92,9.92,null,null,null,null,2.64,null,null,null,null,null,null,null,null,-2.5,4.5424999999999986,4.259999999999998,3.9774999999999983,3.6949999999999985,3.4124999999999988,3.129999999999999]
[null,null,null,null,null,null,null,null,null,null,null,null,null,null,null,0,9.9600000000000009,9.9600000000000009,9.9600000000000009,9.9600000000000009,9.9600000000000009,9.9600000000000009,null,null,null,null,2.57,null,null,null,null,null,null,null,null,0,4.5674999999999972,4.2822222222222193,3.9969444444444422,3.7116666666666647,3.4263888888888872,3.1411111111111096]
[null,null,null,null,null,null,null,null,null,null,null,null,null,null,null,2.5,10,10,10,10,10,10,null,null,null,null,2.56,null,null,null,null,null,null,null,null,2.5,4.6022499999999997,4.3119999999999994,4.021749999999999,3.7314999999999996,3.4412499999999997,3.1509999999999998]
[null,null,null,null,null,null,null,null,null,null,null,null,null,null,null,5,10,10,10,10,10,10,null,null,null,null,2.73,null,null,null,null,null,null,null,null,5,4.6760000000000019,4.3720000000000017,4.0680000000000014,3.7640000000000007,3.46,3.1559999999999993]
[null,null,null,null,null,null,null,null,null,null,null,null,null,null,null,7.5,10,10,10,10,10,10,null,null,null,null,2.9,null,null,null,null,null,null,null,null,7.5,4.7430769230769236,4.4269230769230772,4.1107692307692307,3.7946153846153852,3.4784615384615387,3.1623076923076923]
[null,null,null,null,null,null,null,null,null,null,null,null,null,null,null,10,10,10,10,10,10,10,null,null,null,null,3.03,null,null,null,null,null,null,null,null,10,4.7834615384615411,4.4615384615384635,4.1396153846153858,3.8176923076923082,3.4957692307692305,3.1738461538461529]
[null,null,null,null,null,null,null,null,null,null,null,null,null,null,null,12.5,10,10,10,10,10,10,null,null,null,null,3.16,null,null,null,null,null,null,null,null,12.5,4.8238461538461586,4.4961538461538497,4.1684615384615409,3.840769230769232,3.5130769230769228,3.1853846153846135]
[null,null,null,null,null,null,null,null,null,null,null,null,null,null,null,15,10,10,10,10,10,10,null,null,null,null,3.29,null,null,null,null,null,null,null,null,15,4.8642307692307769,4.530769230769236,4.1973076923076951,3.863846153846155,3.5303846153846146,3.1969230769230741]
[null,null,null,null,null,null,null,null,null,null,null,null,null,null,null,17.5,10,10,10,10,10,10,null,null,null,null,3.42,null,null,null,null,null,null,null,null,17.5,4.9046153846153944,4.5653846153846223,4.2261538461538501,3.8869230769230789,3.5476923076923068,3.2084615384615347]
[null,null,null,null,null,null,null,null,null,null,null,null,null,null,null,20,10,10,10,10,10,10,null,null,null,null,3.55,null,null,null,null,null,null,null,null,20,4.9450000000000003,4.5999999999999996,4.254999999999999,3.9099999999999997,3.5649999999999999,3.22]
[null,null,null,null,null,null,null,null,null,null,null,null,null,null,null,22.5,10,10,10,10,10,10,null,null,null,null,3.68,null,null,null,null,null,null,null,null,22.5]
[null,null,null,null,null,null,null,null,null,null,null,null,null,null,null,25,10,10,10,10,10,10,null,null,null,null,3.83,null,null,null,null,null,null,null,null,25]
[null,null,null,null,null,null,null,null,null,null,null,null,null,null,null,27.5,10,10,10,10,10,10,null,null,null,null,3.94,null,null,null,null,null,null,null,null,27.5]
[null,null,null,null,null,null,null,null,null,null,null,null,null,null,null,30,10,10,10,10,10,10,null,null,null,null,4.07,null,null,null,null,null,null,null,null,30]
[null,null,null,null,null,null,null,null,null,null,null,null,null,null,null,null,"LWZ 304 Trend",null,null,null,null,null,null,null,null,null,"Heizlast",null,null,null,null,null,null,null,null,null,"LWZ 304 Trend"]
[null,null,null,null,null,null,null,null,null,null,null,null,null,null,null,"Außentemp","30 °C","35 °C","40 °C","45 °C","50 °C","55 °C","60 °C","65 °C","70 °C","75 °C","Min",null,null,null,null,null,null,null,null,"Außentemp","30 °C","35 °C","40 °C","45 °C","50 °C","55 °C","60 °C","65 °C","70 °C","75 °C"]
[null,null,null,null,null,null,null,null,null,null,null,null,null,null,null,-20,{"$f":"R534-(S534-R534)","v":2.6666666666666665},2.5,{"$f":"R534-(R534-U534)/3","v":2.3333333333333335},{"$f":"AVERAGE(S534,U534)","v":2.166666666666667},2,{"$f":"U534-(T534-U534)","v":1.833333333333333},null,null,null,null,-1,null,null,null,null,null,null,null,null,-20,4.16,3.9,3.6399999999999997,3.38,3.12,2.86]
[null,null,null,null,null,null,null,null,null,null,null,null,null,null,null,-17.5,{"$f":"R535-(S535-R535)","v":3.1666666666666665},3,{"$f":"R535-(R535-U535)/3","v":2.8333333333333335},{"$f":"AVERAGE(S535,U535)","v":2.666666666666667},2.5,{"$f":"U535-(T535-U535)","v":2.333333333333333},null,null,null,null,-1,null,null,null,null,null,null,null,null,-17.5,4.2175000000000002,3.95,3.6825000000000001,3.415,3.1475,2.88]
[null,null,null,null,null,null,null,null,null,null,null,null,null,null,null,-15,3.7,3.5,3.3,3.0999999999999996,2.9,2.7,null,null,null,null,-1,null,null,null,null,null,null,null,null,-15,4.2750000000000004,4,3.7249999999999996,3.4499999999999997,3.1749999999999998,2.9]
[null,null,null,null,null,null,null,null,null,null,null,null,null,null,null,-12.5,4.2333333333333334,4,3.7666666666666666,3.5333333333333332,3.3,3.0666666666666664,null,null,null,null,-1,null,null,null,null,null,null,null,null,-12.5,4.3110294117647054,4.0352941176470578,3.7595588235294102,3.4838235294117634,3.2080882352941167,2.9323529411764699]
[null,null,null,null,null,null,null,null,null,null,null,null,null,null,null,-10,4.7666666666666666,4.5,4.2333333333333334,3.9666666666666668,3.7,3.4333333333333336,null,null,null,null,-1,null,null,null,null,null,null,null,null,-10,4.3470588235294088,4.0705882352941156,3.794117647058822,3.517647058823528,3.241176470588234,2.96470588235294]
[null,null,null,null,null,null,null,null,null,null,null,null,null,null,null,-7.5,5.2666666666666666,4.95,4.6333333333333337,4.3166666666666664,4,3.6833333333333336,null,null,null,null,-1,null,null,null,null,null,null,null,null,-7.5,4.3830882352941138,4.1058823529411734,3.8286764705882326,3.5514705882352917,3.2742647058823509,2.99705882352941]
[null,null,null,null,null,null,null,null,null,null,null,null,null,null,null,-5,5.5166666666666675,5.15,4.7833333333333332,4.4166666666666661,4.05,3.6833333333333336,null,null,null,null,-1,null,null,null,null,null,null,null,null,-5,4.4174999999999986,4.1377777777777771,3.8580555555555556,3.5783333333333331,3.2986111111111107,3.0188888888888883]
[null,null,null,null,null,null,null,null,null,null,null,null,null,null,null,-2.5,5.64,5.25,4.8600000000000003,4.4700000000000006,4.08,3.6899999999999995,null,null,null,null,-1,null,null,null,null,null,null,null,null,-2.5,4.442499999999999,4.1599999999999984,3.8774999999999982,3.5949999999999984,3.3124999999999987,3.0299999999999989]
[null,null,null,null,null,null,null,null,null,null,null,null,null,null,null,0,5.7499999999999991,5.35,4.95,4.5500000000000007,4.1500000000000004,3.75,null,null,null,null,-1,null,null,null,null,null,null,null,null,0,4.4674999999999976,4.1822222222222196,3.8969444444444421,3.6116666666666646,3.3263888888888871,3.0411111111111095]
[null,null,null,null,null,null,null,null,null,null,null,null,null,null,null,2.5,5.8166666666666673,5.45,5.083333333333333,4.7166666666666668,4.3499999999999996,3.9833333333333325,null,null,null,null,-1,null,null,null,null,null,null,null,null,2.5,4.5022500000000001,4.2119999999999997,3.9217499999999994,3.6314999999999995,3.3412499999999996,3.0509999999999997]
[null,null,null,null,null,null,null,null,null,null,null,null,null,null,null,5,5.8,5.5,5.2,4.9000000000000004,4.5999999999999996,4.2999999999999989,null,null,null,null,-1,null,null,null,null,null,null,null,null,5,4.5760000000000023,4.272000000000002,3.9680000000000013,3.6640000000000006,3.36,3.0559999999999992]
[null,null,null,null,null,null,null,null,null,null,null,null,null,null,null,7.5,5.75,5.55,5.35,5.15,4.95,4.75,null,null,null,null,-1,null,null,null,null,null,null,null,null,7.5,4.643076923076924,4.3269230769230775,4.0107692307692311,3.6946153846153851,3.3784615384615386,3.0623076923076922]
[null,null,null,null,null,null,null,null,null,null,null,null,null,null,null,10,5.9833333333333334,5.8,5.6166666666666663,5.4333333333333336,5.25,5.0666666666666664,null,null,null,null,-1,null,null,null,null,null,null,null,null,10,4.6834615384615415,4.3615384615384638,4.0396153846153862,3.7176923076923081,3.3957692307692304,3.0738461538461528]
[null,null,null,null,null,null,null,null,null,null,null,null,null,null,null,12.5,6.1333333333333337,6,5.8666666666666663,5.7333333333333325,5.6,5.4666666666666668,null,null,null,null,-1,null,null,null,null,null,null,null,null,12.5,4.7238461538461589,4.3961538461538501,4.0684615384615412,3.740769230769232,3.4130769230769227,3.0853846153846134]
[null,null,null,null,null,null,null,null,null,null,null,null,null,null,null,15,6.2133333333333338,6.15,6.0866666666666669,6.0233333333333334,5.96,5.8966666666666665,null,null,null,null,-1,null,null,null,null,null,null,null,null,15,4.7642307692307773,4.4307692307692363,4.0973076923076954,3.763846153846155,3.4303846153846145,3.096923076923074]
[null,null,null,null,null,null,null,null,null,null,null,null,null,null,null,17.5,6.4833333333333334,6.3,6.1166666666666663,5.9333333333333336,5.75,5.5666666666666664,null,null,null,null,-1,null,null,null,null,null,null,null,null,17.5,4.8046153846153947,4.4653846153846226,4.1261538461538505,3.7869230769230788,3.4476923076923067,3.1084615384615346]
[null,null,null,null,null,null,null,null,null,null,null,null,null,null,null,20,6.75,6.5,6.25,6,5.75,5.5,null,null,null,null,-1,null,null,null,null,null,null,null,null,20,4.8450000000000006,4.5,4.1549999999999994,3.8099999999999996,3.4649999999999999,3.12]
[null,null,null,null,null,null,null,null,null,null,null,null,null,null,null,22.5,7.2666666666666666,6.95,6.6333333333333337,6.3166666666666664,6,5.6833333333333336,null,null,null,null,-1,null,null,null,null,null,null,null,null,22.5]
[null,null,null,null,null,null,null,null,null,null,null,null,null,null,null,25,7.7166666666666668,7.4,7.0833333333333339,6.7666666666666675,6.45,6.1333333333333329,null,null,null,null,-1,null,null,null,null,null,null,null,null,25]
[null,null,null,null,null,null,null,null,null,null,null,null,null,null,null,27.5,8.0333333333333332,7.75,7.4666666666666668,7.1833333333333336,6.9,6.6166666666666671,null,null,null,null,-1,null,null,null,null,null,null,null,null,27.5]
[null,null,null,null,null,null,null,null,null,null,null,null,null,null,null,30,8.3833333333333329,8.1,7.8166666666666664,7.5333333333333332,7.25,6.9666666666666668,null,null,null,null,-1,null,null,null,null,null,null,null,null,30]
[null,null,null,null,null,null,null,null,null,null,null,null,null,null,null,null,"LWZ 404 Trend",null,null,null,null,null,null,null,null,null,"Heizlast",null,null,null,null,null,null,null,null,null,"LWZ 404 Trend"]
[null,null,null,null,null,null,null,null,null,null,null,null,null,null,null,"Außentemp","30 °C","35 °C","40 °C","45 °C","50 °C","55 °C","60 °C","65 °C","70 °C","75 °C","Min",null,null,null,null,null,null,null,null,"Außentemp","30 °C","35 °C","40 °C","45 °C","50 °C","55 °C","60 °C","65 °C","70 °C","75 °C"]
[null,null,null,null,null,null,null,null,null,null,null,null,null,null,null,-20,{"$f":"R557-(S557-R557)","v":4.7666666666666675},4.2,{"$f":"R557-(R557-U557)/3","v":3.6333333333333333},{"$f":"AVERAGE(S557,U557)","v":3.0666666666666664},2.5,{"$f":"U557-(T557-U557)","v":1.9333333333333336},null,null,null,null,-1,null,null,null,null,null,null,null,null,-20,4.16,3.9,3.6399999999999997,3.38,3.12,2.86]
[null,null,null,null,null,null,null,null,null,null,null,null,null,null,null,-17.5,{"$f":"R558-(S558-R558)","v":5.4666666666666668},4.9000000000000004,{"$f":"R558-(R558-U558)/3","v":4.3333333333333339},{"$f":"AVERAGE(S558,U558)","v":3.7666666666666671},3.2,{"$f":"U558-(T558-U558)","v":2.6333333333333333},null,null,null,null,-1,null,null,null,null,null,null,null,null,-17.5,4.2175000000000002,3.95,3.6825000000000001,3.415,3.1475,2.88]
[null,null,null,null,null,null,null,null,null,null,null,null,null,null,null,-15,6.0666666666666664,5.5,4.9333333333333336,4.3666666666666671,3.8,3.2333333333333325,null,null,null,null,-1,null,null,null,null,null,null,null,null,-15,4.2750000000000004,4,3.7249999999999996,3.4499999999999997,3.1749999999999998,2.9]
[null,null,null,null,null,null,null,null,null,null,null,null,null,null,null,-12.5,6.4833333333333334,5.95,5.416666666666667,4.8833333333333329,4.3499999999999996,3.8166666666666664,null,null,null,null,-1,null,null,null,null,null,null,null,null,-12.5,4.3110294117647054,4.0352941176470578,3.7595588235294102,3.4838235294117634,3.2080882352941167,2.9323529411764699]
[null,null,null,null,null,null,null,null,null,null,null,null,null,null,null,-10,6.6933333333333334,6.25,5.8066666666666666,5.3633333333333333,4.92,4.4766666666666666,null,null,null,null,-1,null,null,null,null,null,null,null,null,-10,4.3470588235294088,4.0705882352941156,3.794117647058822,3.517647058823528,3.241176470588234,2.96470588235294]
[null,null,null,null,null,null,null,null,null,null,null,null,null,null,null,-7.5,6.8666666666666663,6.5,6.1333333333333337,5.7666666666666675,5.4,5.0333333333333332,null,null,null,null,-1,null,null,null,null,null,null,null,null,-7.5,4.3830882352941138,4.1058823529411734,3.8286764705882326,3.5514705882352917,3.2742647058823509,2.99705882352941]
[null,null,null,null,null,null,null,null,null,null,null,null,null,null,null,-5,7.1333333333333337,6.75,6.3666666666666663,5.9833333333333325,5.6,5.2166666666666668,null,null,null,null,-1,null,null,null,null,null,null,null,null,-5,4.4174999999999986,4.1377777777777771,3.8580555555555556,3.5783333333333331,3.2986111111111107,3.0188888888888883]
[null,null,null,null,null,null,null,null,null,null,null,null,null,null,null,-2.5,7.416666666666667,7,6.583333333333333,6.1666666666666661,5.75,5.3333333333333339,null,null,null,null,-1,null,null,null,null,null,null,null,null,-2.5,4.442499999999999,4.1599999999999984,3.8774999999999982,3.5949999999999984,3.3124999999999987,3.0299999999999989]
[null,null,null,null,null,null,null,null,null,null,null,null,null,null,null,0,7.65,7.2,6.75,6.3,5.85,5.3999999999999995,null,null,null,null,-1,null,null,null,null,null,null,null,null,0,4.4674999999999976,4.1822222222222196,3.8969444444444421,3.6116666666666646,3.3263888888888871,3.0411111111111095]
[null,null,null,null,null,null,null,null,null,null,null,null,null,null,null,2.5,7.8500000000000005,7.4,6.95,6.5,6.05,5.6,null,null,null,null,-1,null,null,null,null,null,null,null,null,2.5,4.5022500000000001,4.2119999999999997,3.9217499999999994,3.6314999999999995,3.3412499999999996,3.0509999999999997]
[null,null,null,null,null,null,null,null,null,null,null,null,null,null,null,5,8.1999999999999993,7.85,7.5,7.15,6.8,6.4499999999999993,null,null,null,null,-1,null,null,null,null,null,null,null,null,5,4.5760000000000023,4.272000000000002,3.9680000000000013,3.6640000000000006,3.36,3.0559999999999992]
[null,null,null,null,null,null,null,null,null,null,null,null,null,null,null,7.5,8.4733333333333327,8.18,7.8866666666666667,7.5933333333333337,7.3,7.0066666666666659,null,null,null,null,-1,null,null,null,null,null,null,null,null,7.5,4.643076923076924,4.3269230769230775,4.0107692307692311,3.6946153846153851,3.3784615384615386,3.0623076923076922]
[null,null,null,null,null,null,null,null,null,null,null,null,null,null,null,10,8.6666666666666679,8.4,8.1333333333333329,7.8666666666666663,7.6,7.333333333333333,null,null,null,null,-1,null,null,null,null,null,null,null,null,10,4.6834615384615415,4.3615384615384638,4.0396153846153862,3.7176923076923081,3.3957692307692304,3.0738461538461528]
[null,null,null,null,null,null,null,null,null,null,null,null,null,null,null,12.5,8.85,8.6,8.35,8.1,7.85,7.6,null,null,null,null,-1,null,null,null,null,null,null,null,null,12.5,4.7238461538461589,4.3961538461538501,4.0684615384615412,3.740769230769232,3.4130769230769227,3.0853846153846134]
[null,null,null,null,null,null,null,null,null,null,null,null,null,null,null,15,8.9833333333333325,8.75,8.5166666666666675,8.283333333333335,8.0500000000000007,7.8166666666666664,null,null,null,null,-1,null,null,null,null,null,null,null,null,15,4.7642307692307773,4.4307692307692363,4.0973076923076954,3.763846153846155,3.4303846153846145,3.096923076923074]
[null,null,null,null,null,null,null,null,null,null,null,null,null,null,null,17.5,9.1833333333333336,8.9,8.6166666666666671,8.3333333333333339,8.0500000000000007,7.7666666666666675,null,null,null,null,-1,null,null,null,null,null,null,null,null,17.5,4.8046153846153947,4.4653846153846226,4.1261538461538505,3.7869230769230788,3.4476923076923067,3.1084615384615346]
[null,null,null,null,null,null,null,null,null,null,null,null,null,null,null,20,9.35,9.0299999999999994,8.7099999999999991,8.39,8.07,7.75,null,null,null,null,-1,null,null,null,null,null,null,null,null,20,4.8450000000000006,4.5,4.1549999999999994,3.8099999999999996,3.4649999999999999,3.12]
[null,null,null,null,null,null,null,null,null,null,null,null,null,null,null,22.5,9.4333333333333318,9.1999999999999993,8.9666666666666668,8.7333333333333343,8.5,8.2666666666666657,null,null,null,null,-1,null,null,null,null,null,null,null,null,22.5]
[null,null,null,null,null,null,null,null,null,null,null,null,null,null,null,25,9.4499999999999993,9.35,9.25,9.15,9.0500000000000007,8.9500000000000011,null,null,null,null,-1,null,null,null,null,null,null,null,null,25]
[null,null,null,null,null,null,null,null,null,null,null,null,null,null,null,27.5,9.4166666666666661,9.5,9.5833333333333339,9.6666666666666679,9.75,9.8333333333333321,null,null,null,null,-1,null,null,null,null,null,null,null,null,27.5]
[null,null,null,null,null,null,null,null,null,null,null,null,null,null,null,30,9.2999999999999989,9.6,9.9,10.199999999999999,10.5,10.8,null,null,null,null,-1,null,null,null,null,null,null,null,null,30]
[null,null,null,null,null,null,null,null,null,null,null,null,null,null,null,null,"LWA 403",null,null,null,null,null,null,null,null,null,"Heizlast",null,null,null,null,null,null,null,null,null,"LWA 403"]
[null,null,null,null,null,null,null,null,null,null,null,null,null,null,null,"Außentemp","30 °C","35 °C","40 °C","45 °C","50 °C","55 °C","60 °C","65 °C","70 °C","75 °C","Min",null,null,null,null,null,null,null,null,"Außentemp","30 °C","35 °C","40 °C","45 °C","50 °C","55 °C","60 °C","65 °C","70 °C","75 °C"]
[null,null,null,null,null,null,null,null,null,null,null,null,null,null,null,-20,{"$f":"R580-(S580-R580)","v":3.6333333333333337},3.2,{"$f":"R580-(R580-U580)/3","v":2.7666666666666666},{"$f":"AVERAGE(S580,U580)","v":2.333333333333333},1.9,{"$f":"U580-(T580-U580)","v":1.4666666666666668},null,null,null,null,-1,null,null,null,null,null,null,null,null,-20,2.374074074074076,2.2222222222222241,2.0703703703703722,1.9185185185185203,1.7666666666666684,1.6148148148148165]
[null,null,null,null,null,null,null,null,null,null,null,null,null,null,null,-17.5,{"$f":"R581-(S581-R581)","v":3.9166666666666665},3.5,{"$f":"R581-(R581-U581)/3","v":3.0833333333333335},{"$f":"AVERAGE(S581,U581)","v":2.666666666666667},2.25,{"$f":"U581-(T581-U581)","v":1.833333333333333},null,null,null,null,-1,null,null,null,null,null,null,null,null,-17.5,2.4944444444444462,2.3333333333333348,2.1722222222222234,2.0111111111111124,1.8500000000000014,1.6888888888888904]
[null,null,null,null,null,null,null,null,null,null,null,null,null,null,null,-15,4.12,3.75,3.38,3.01,2.64,2.2700000000000005,null,null,null,null,-1,null,null,null,null,null,null,null,null,-15,2.6148148148148156,2.4444444444444455,2.2740740740740755,2.103703703703705,1.9333333333333345,1.762962962962964]
[null,null,null,null,null,null,null,null,null,null,null,null,null,null,null,-12.5,4.25,3.95,3.65,3.3499999999999996,3.05,2.75,null,null,null,null,-1,null,null,null,null,null,null,null,null,-12.5,2.7351851851851858,2.5555555555555562,2.3759259259259267,2.1962962962962971,2.0166666666666675,1.8370370370370379]
[null,null,null,null,null,null,null,null,null,null,null,null,null,null,null,-10,4.3933333333333326,4.17,3.9466666666666668,3.7233333333333336,3.5,3.2766666666666664,null,null,null,null,-1,null,null,null,null,null,null,null,null,-10,2.8555555555555561,2.666666666666667,2.4777777777777779,2.2888888888888892,2.1000000000000005,1.9111111111111119]
[null,null,null,null,null,null,null,null,null,null,null,null,null,null,null,-7.5,4.6833333333333336,4.5,4.3166666666666664,4.1333333333333329,3.95,3.7666666666666675,null,null,null,null,-1,null,null,null,null,null,null,null,null,-7.5,2.9759259259259254,2.7777777777777777,2.5796296296296299,2.3814814814814818,2.1833333333333336,1.9851851851851854]
[null,null,null,null,null,null,null,null,null,null,null,null,null,null,null,-5,5.1766666666666667,4.97,4.7633333333333328,4.5566666666666666,4.3499999999999996,4.1433333333333326,null,null,null,null,-1,null,null,null,null,null,null,null,null,-5,3.0962962962962957,2.8888888888888884,2.6814814814814811,2.4740740740740739,2.2666666666666666,2.0592592592592593]
[null,null,null,null,null,null,null,null,null,null,null,null,null,null,null,-2.5,5.6266666666666669,5.4,5.1733333333333338,4.9466666666666672,4.72,4.4933333333333323,null,null,null,null,-1,null,null,null,null,null,null,null,null,-2.5,3.2166666666666659,2.9999999999999991,2.7833333333333323,2.566666666666666,2.3499999999999996,2.1333333333333333]
[null,null,null,null,null,null,null,null,null,null,null,null,null,null,null,0,6.1266666666666669,5.87,5.6133333333333333,5.3566666666666665,5.0999999999999996,4.8433333333333328,null,null,null,null,-1,null,null,null,null,null,null,null,null,0,3.3370370370370352,3.1111111111111098,2.8851851851851844,2.6592592592592585,2.4333333333333327,2.2074074074074068]
[null,null,null,null,null,null,null,null,null,null,null,null,null,null,null,2.5,6.6033333333333335,6.34,6.0766666666666662,5.8133333333333326,5.55,5.2866666666666671,null,null,null,null,-1,null,null,null,null,null,null,null,null,2.5,3.4666666666666663,3.23,2.9933333333333336,2.7566666666666668,2.52,2.2833333333333332]
[null,null,null,null,null,null,null,null,null,null,null,null,null,null,null,5,7.126666666666666,6.85,6.5733333333333333,6.2966666666666669,6.02,5.7433333333333323,null,null,null,null,-1,null,null,null,null,null,null,null,null,5,3.633333333333332,3.379999999999999,3.126666666666666,2.8733333333333331,2.62,2.3666666666666671]
[null,null,null,null,null,null,null,null,null,null,null,null,null,null,null,7.5,7.56,7.3,7.04,6.7799999999999994,6.52,6.26,null,null,null,null,-1,null,null,null,null,null,null,null,null,7.5,3.8055555555555554,3.5333333333333332,3.2611111111111111,2.9888888888888889,2.7166666666666668,2.4444444444444446]
[null,null,null,null,null,null,null,null,null,null,null,null,null,null,null,10,7.94,7.7,7.46,7.2200000000000006,6.98,6.74,null,null,null,null,-1,null,null,null,null,null,null,null,null,10,4,3.7,3.4000000000000004,3.1,2.8,2.4999999999999996]
[null,null,null,null,null,null,null,null,null,null,null,null,null,null,null,12.5,8.2466666666666661,8.0299999999999994,7.8133333333333326,7.5966666666666658,7.38,7.163333333333334,null,null,null,null,-1,null,null,null,null,null,null,null,null,12.5,4.1333333333333329,3.8249999999999997,3.5166666666666662,3.208333333333333,2.9,2.5916666666666668]
[null,null,null,null,null,null,null,null,null,null,null,null,null,null,null,15,8.5666666666666664,8.35,8.1333333333333329,7.9166666666666661,7.7,7.4833333333333343,null,null,null,null,-1,null,null,null,null,null,null,null,null,15,4.2666666666666657,3.9499999999999993,3.6333333333333329,3.3166666666666664,3,2.6833333333333336]
[null,null,null,null,null,null,null,null,null,null,null,null,null,null,null,17.5,8.9166666666666679,8.65,8.3833333333333329,8.1166666666666671,7.85,7.5833333333333321,null,null,null,null,-1,null,null,null,null,null,null,null,null,17.5,4.4000000000000004,4.0750000000000002,3.7500000000000004,3.4250000000000003,3.1,2.7749999999999999]
[null,null,null,null,null,null,null,null,null,null,null,null,null,null,null,20,9.2666666666666657,8.9499999999999993,8.6333333333333329,8.3166666666666664,8,7.6833333333333336,null,null,null,null,-1,null,null,null,null,null,null,null,null,20,4.5333333333333332,4.2,3.8666666666666671,3.5333333333333337,3.2,2.8666666666666667]
[null,null,null,null,null,null,null,null,null,null,null,null,null,null,null,22.5,9.3733333333333331,9.17,8.9666666666666668,8.7633333333333336,8.56,8.3566666666666674,null,null,null,null,-1,null,null,null,null,null,null,null,null,22.5]
[null,null,null,null,null,null,null,null,null,null,null,null,null,null,null,25,9.4333333333333336,9.35,9.2666666666666657,9.1833333333333336,9.1,9.0166666666666657,null,null,null,null,-1,null,null,null,null,null,null,null,null,25]
[null,null,null,null,null,null,null,null,null,null,null,null,null,null,null,27.5,9.4433333333333334,9.52,9.5966666666666658,9.673333333333332,9.75,9.826666666666668,null,null,null,null,-1,null,null,null,null,null,null,null,null,27.5]
[null,null,null,null,null,null,null,null,null,null,null,null,null,null,null,30,9.466666666666665,9.6999999999999993,9.9333333333333336,10.166666666666668,10.4,10.633333333333333,null,null,null,null,-1,null,null,null,null,null,null,null,null,30]
[null,null,null,null,null,null,null,null,null,null,null,null,null,null,null,null,"WPL 33",null,null,null,null,null,null,null,null,null,"Heizlast",null,null,null,null,null,null,null,null,null,"WPL 33"]
[null,null,null,null,null,null,null,null,null,null,null,null,null,null,null,"Außentemp","30 °C","35 °C","40 °C","45 °C","50 °C","55 °C","60 °C","65 °C","70 °C","75 °C","Min",null,null,null,null,null,null,null,null,"Außentemp","30 °C","35 °C","40 °C","45 °C","50 °C","55 °C","60 °C","65 °C","70 °C","75 °C"]
[null,null,null,null,null,null,null,null,null,null,null,null,null,null,null,-20,10.333333333333332,10.95,11.566666666666666,12.183333333333334,12.8,13.416666666666668,null,null,null,null,-1,null,null,null,null,null,null,null,null,-20,2.4554871220604699,2.2894736842105261,2.1234602463605823,1.957446808510638,1.8149303008070432,1.6724137931034482]
[null,null,null,null,null,null,null,null,null,null,null,null,null,null,null,-17.5,10.750000000000002,11.3,11.85,12.399999999999999,12.95,13.499999999999998,null,null,null,null,-1,null,null,null,null,null,null,null,null,-17.5,2.7036726607741546,2.5181347150259072,2.3325967692776599,2.1470588235294121,1.9789348171701115,1.810810810810811]
[null,null,null,null,null,null,null,null,null,null,null,null,null,null,null,-15,11.4,11.85,12.299999999999999,12.749999999999998,13.2,13.649999999999999,null,null,null,null,-1,null,null,null,null,null,null,null,null,-15,2.8645833333333339,2.666666666666667,2.46875,2.2708333333333335,2.0854166666666667,1.9000000000000001]
[null,null,null,null,null,null,null,null,null,null,null,null,null,null,null,-12.5,12.266666666666666,12.7,13.133333333333333,13.566666666666666,14,14.433333333333334,null,null,null,null,-1,null,null,null,null,null,null,null,null,-12.5,3.043280751800931,2.8345789735924263,2.6258771953839215,2.4171754171754172,2.2233952110556259,2.0296150049358346]
[null,null,null,null,null,null,null,null,null,null,null,null,null,null,null,-10,13.239999999999998,13.7,14.16,14.620000000000001,15.08,15.540000000000001,null,null,null,null,-1,null,null,null,null,null,null,null,null,-10,3.1564694180537112,2.9413202933985327,2.7261711687433543,2.5110220440881763,2.3126072700049365,2.1141924959216967]
[null,null,null,null,null,null,null,null,null,null,null,null,null,null,null,-7.5,14.166666666666666,14.6,15.033333333333333,15.466666666666667,15.9,16.333333333333336,null,null,null,null,-1,null,null,null,null,null,null,null,null,-7.5,3.3193277310924363,3.0952380952380949,2.8711484593837535,2.6470588235294121,2.4444971537001896,2.2419354838709675]
[null,null,null,null,null,null,null,null,null,null,null,null,null,null,null,-5,14.766666666666667,15.3,15.833333333333334,16.366666666666667,16.899999999999999,17.43333333333333,null,null,null,null,-1,null,null,null,null,null,null,null,null,-5,3.4332197087077772,3.1904761904761898,2.9477326722446024,2.7049891540130155,2.4962445770065074,2.2874999999999996]
[null,null,null,null,null,null,null,null,null,null,null,null,null,null,null,-2.5,15.633333333333335,16.100000000000001,16.566666666666666,17.033333333333331,17.5,17.966666666666665,null,null,null,null,-1,null,null,null,null,null,null,null,null,-2.5,3.6045258620689662,3.3333333333333339,3.0621408045977017,2.7909482758620694,2.5730940313590986,2.3552397868561279]
[null,null,null,null,null,null,null,null,null,null,null,null,null,null,null,0,16.55,16.95,17.349999999999998,17.749999999999996,18.149999999999999,18.549999999999997,null,null,null,null,-1,null,null,null,null,null,null,null,null,0,3.7190374003678728,3.4285714285714288,3.1381054567749849,2.8476394849785409,2.6238197424892702,2.4]
[null,null,null,null,null,null,null,null,null,null,null,null,null,null,null,2.5,17.256666666666668,17.68,18.103333333333332,18.526666666666664,18.95,19.373333333333331,null,null,null,null,-1,null,null,null,null,null,null,null,null,2.5,4.0752918287937749,3.7,3.3247081712062254,2.9494163424124511,2.7198694615288064,2.4903225806451612]
[null,null,null,null,null,null,null,null,null,null,null,null,null,null,null,5,18.133333333333336,18.600000000000001,19.066666666666666,19.533333333333331,20,20.466666666666665,null,null,null,null,-1,null,null,null,null,null,null,null,null,5,4.3280876494023905,3.9,3.4719123505976093,3.0438247011952191,2.815245683930943,2.5866666666666664]
[null,null,null,null,null,null,null,null,null,null,null,null,null,null,null,7.5,19.033333333333335,19.5,19.966666666666665,20.43333333333333,20.9,21.366666666666664,null,null,null,null,-1,null,null,null,null,null,null,null,null,7.5,4.5105442176870749,4.0999999999999996,3.6894557823129248,3.27891156462585,3.0245132535772927,2.7701149425287355]
[null,null,null,null,null,null,null,null,null,null,null,null,null,null,null,10,19.999999999999996,20.399999999999999,20.8,21.200000000000003,21.6,22.000000000000004,null,null,null,null,-1,null,null,null,null,null,null,null,null,10,4.5816326530612246,4.2380952380952381,3.8945578231292517,3.5510204081632648,3.2410274454609427,2.931034482758621]
[null,null,null,null,null,null,null,null,null,null,null,null,null,null,null,12.5,19.999999999999996,20.399999999999999,20.8,21.200000000000003,21.6,22.000000000000004,null,null,null,null,-1,null,null,null,null,null,null,null,null,12.5,4.6314179900117844,4.262910798122066,3.8944036062323475,3.525896414342629,3.2144532238937229,2.9030100334448168]
[null,null,null,null,null,null,null,null,null,null,null,null,null,null,null,15,19.999999999999996,20.399999999999999,20.8,21.200000000000003,21.6,22.000000000000004,null,null,null,null,-1,null,null,null,null,null,null,null,null,15,4.6637026903784768,4.2790697674418601,3.8944368445052437,3.5098039215686274,3.1975249116039861,2.8852459016393448]
[null,null,null,null,null,null,null,null,null,null,null,null,null,null,null,17.5,19.999999999999996,20.399999999999999,20.8,21.200000000000003,21.6,22.000000000000004,null,null,null,null,-1,null,null,null,null,null,null,null,null,17.5,4.9980620155038764,4.558139534883721,4.1182170542635657,3.6782945736434103,3.3262855504873001,2.97427652733119]
[null,null,null,null,null,null,null,null,null,null,null,null,null,null,null,20,19.999999999999996,20.399999999999999,20.8,21.200000000000003,21.6,22.000000000000004,null,null,null,null,-1,null,null,null,null,null,null,null,null,20,5.222048300536672,4.7441860465116275,4.2663237924865829,3.7884615384615383,3.410103785103785,3.0317460317460321]
[null,null,null,null,null,null,null,null,null,null,null,null,null,null,null,22.5,19.999999999999996,20.399999999999999,20.8,21.200000000000003,21.6,22.000000000000004,null,null,null,null,-1,null,null,null,null,null,null,null,null,22.5]
[null,null,null,null,null,null,null,null,null,null,null,null,null,null,null,25,19.999999999999996,20.399999999999999,20.8,21.200000000000003,21.6,22.000000000000004,null,null,null,null,-1,null,null,null,null,null,null,null,null,25]
[null,null,null,null,null,null,null,null,null,null,null,null,null,null,null,27.5,19.999999999999996,20.399999999999999,20.8,21.200000000000003,21.6,22.000000000000004,null,null,null,null,-1,null,null,null,null,null,null,null,null,27.5]
[null,null,null,null,null,null,null,null,null,null,null,null,null,null,null,30,19.999999999999996,20.399999999999999,20.8,21.200000000000003,21.6,22.000000000000004,null,null,null,null,-1,null,null,null,null,null,null,null,null,30]
[null,null,null,null,null,null,null,null,null,null,null,null,null,null,null,null,"WPL 7 AS / IKS",null,null,null,null,null,null,null,null,null,"Heizlast",null,null,null,null,null,null,null,null,null,"WPL 7 AS / IKS"]
[null,null,null,null,null,null,null,null,null,null,null,null,null,null,null,"Außentemp","30 °C","35 °C","40 °C","45 °C","50 °C","55 °C","60 °C","65 °C","70 °C","75 °C","Min",null,null,null,null,null,null,null,null,"Außentemp","30 °C","35 °C","40 °C","45 °C","50 °C","55 °C","60 °C","65 °C","70 °C","75 °C"]
[null,null,null,null,null,null,null,null,null,null,null,null,null,null,null,-20,1.85,1.6,1.35,1.1000000000000001,1.1000000000000001,1.1000000000000001,null,null,null,null,-1,null,null,null,null,null,null,null,null,-20,2.4230769230769234,2.2307692307692308,2.0384615384615383,1.846153846153846,1.7564102564102564,1.6666666666666667]
[null,null,null,null,null,null,null,null,null,null,null,null,null,null,null,-17.5,2.0999999999999996,1.9,1.7,1.5,1.375,1.25,null,null,null,null,-1,null,null,null,null,null,null,null,null,-17.5,2.8014705882352944,2.5294117647058827,2.257352941176471,1.9852941176470591,1.8259803921568629,1.6666666666666667]
[null,null,null,null,null,null,null,null,null,null,null,null,null,null,null,-15,2.4000000000000004,2.2000000000000002,2,1.8,1.65,1.5,null,null,null,null,-1,null,null,null,null,null,null,null,null,-15,3.0357142857142856,2.7142857142857144,2.3928571428571432,2.0714285714285716,1.8690476190476191,1.6666666666666667]
[null,null,null,null,null,null,null,null,null,null,null,null,null,null,null,-12.5,2.59,2.4,2.21,2.02,1.885,1.75,null,null,null,null,-1,null,null,null,null,null,null,null,null,-12.5,3.1160892738174546,2.8157894736842102,2.5154896735509658,2.2151898734177218,2.0643850601656513,1.9135802469135805]
[null,null,null,null,null,null,null,null,null,null,null,null,null,null,null,-10,2.7750000000000004,2.6,2.4249999999999998,2.25,2.1,1.95,null,null,null,null,-1,null,null,null,null,null,null,null,null,-10,3.1654411764705879,2.8749999999999996,2.5845588235294112,2.2941176470588234,2.1764705882352944,2.0588235294117649]
[null,null,null,null,null,null,null,null,null,null,null,null,null,null,null,-7.5,3.3249999999999997,3.05,2.7749999999999999,2.5,2.35,2.2000000000000002,null,null,null,null,-1,null,null,null,null,null,null,null,null,-7.5,3.1764705882352944,3,2.8235294117647056,2.6470588235294117,2.4346405228758172,2.2222222222222223]
[null,null,null,null,null,null,null,null,null,null,null,null,null,null,null,-5,3.8049999999999997,3.52,3.2350000000000003,2.95,2.7,2.4500000000000002,null,null,null,null,-1,null,null,null,null,null,null,null,null,-5,3.352573485777584,3.1273885350318467,2.9022035842861094,2.6770186335403725,2.4664162935143725,2.2558139534883721]
[null,null,null,null,null,null,null,null,null,null,null,null,null,null,null,-2.5,4.3,4,3.7,3.4,3.0750000000000002,2.75,null,null,null,null,-1,null,null,null,null,null,null,null,null,-2.5,3.60174119649633,3.3067484662576687,3.0117557360190075,2.7167630057803467,2.5081141232110289,2.2994652406417115]
[null,null,null,null,null,null,null,null,null,null,null,null,null,null,null,0,4.7750000000000004,4.5,4.2249999999999996,3.95,3.4750000000000001,3,null,null,null,null,-1,null,null,null,null,null,null,null,null,0,3.7585767691137062,3.4191616766467066,3.0797465841797069,2.7403314917127073,2.5326022940797044,2.324873096446701]
[null,null,null,null,null,null,null,null,null,null,null,null,null,null,null,2.5,5.2,4.95,4.7,4.45,3.875,3.3,null,null,null,null,-1,null,null,null,null,null,null,null,null,2.5,3.9747663551401868,3.6,3.2252336448598133,2.8504672897196266,2.6560028756290439,2.4615384615384617]
[null,null,null,null,null,null,null,null,null,null,null,null,null,null,null,5,5.3650000000000002,5.25,5.1349999999999998,5.0199999999999996,4.5350000000000001,4.05,null,null,null,null,-1,null,null,null,null,null,null,null,null,5,4.1909909909909908,3.8,3.4090090090090088,3.0180180180180183,2.8478519842156209,2.6776859504132235]
[null,null,null,null,null,null,null,null,null,null,null,null,null,null,null,7.5,5.6,5.6,5.6,5.6,5.1999999999999993,4.8,null,null,null,null,-1,null,null,null,null,null,null,null,null,7.5,4.2627634660421538,3.9180327868852456,3.5733021077283373,3.2285714285714286,3.0616541353383457,2.8947368421052633]
[null,null,null,null,null,null,null,null,null,null,null,null,null,null,null,10,7.45,7,6.55,6.1,5.6999999999999993,5.3,null,null,null,null,-1,null,null,null,null,null,null,null,null,10,4.2619047619047619,3.9523809523809526,3.6428571428571432,3.3333333333333335,3.1282051282051282,2.9230769230769229]
[null,null,null,null,null,null,null,null,null,null,null,null,null,null,null,12.5,8.2750000000000004,7.8,7.3249999999999993,6.85,6.3849999999999998,5.92,null,null,null,null,-1,null,null,null,null,null,null,null,null,12.5,4.3477048477048488,4.0360360360360366,3.7243672243672243,3.4126984126984121,3.1585550887021476,2.9044117647058827]
[null,null,null,null,null,null,null,null,null,null,null,null,null,null,null,15,8.5999999999999979,8.1999999999999993,7.8,7.4,7,6.6,null,null,null,null,-1,null,null,null,null,null,null,null,null,15,4.3996655518394654,4.0869565217391308,3.7742474916387962,3.4615384615384612,3.177197802197802,2.8928571428571428]
[null,null,null,null,null,null,null,null,null,null,null,null,null,null,null,17.5,8.5849999999999991,8.1999999999999993,7.8149999999999995,7.43,7.1150000000000002,6.8,null,null,null,null,-1,null,null,null,null,null,null,null,null,17.5,4.878914835164835,4.4910714285714288,4.1032280219780226,3.7153846153846155,3.390539023020775,3.0656934306569341]
[null,null,null,null,null,null,null,null,null,null,null,null,null,null,null,20,8.875,8.5,8.125,7.75,7.4249999999999998,7.1,null,null,null,null,-1,null,null,null,null,null,null,null,null,20,5.2167832167832167,4.7727272727272725,4.3286713286713283,3.8846153846153841,3.5349002849002842,3.1851851851851847]
[null,null,null,null,null,null,null,null,null,null,null,null,null,null,null,22.5,9.6499999999999986,9.1999999999999993,8.75,8.3000000000000007,7.9,7.5,null,null,null,null,-1,null,null,null,null,null,null,null,null,22.5]
[null,null,null,null,null,null,null,null,null,null,null,null,null,null,null,25,10.38,9.9,9.42,8.94,8.4849999999999994,8.0299999999999994,null,null,null,null,-1,null,null,null,null,null,null,null,null,25]
[null,null,null,null,null,null,null,null,null,null,null,null,null,null,null,27.5,11,10.5,10,9.5,9.0500000000000007,8.6,null,null,null,null,-1,null,null,null,null,null,null,null,null,27.5]
[null,null,null,null,null,null,null,null,null,null,null,null,null,null,null,30,11.54,11.03,10.52,10.01,9.6050000000000004,9.1999999999999993,null,null,null,null,-1,null,null,null,null,null,null,null,null,30]
[null,null,null,null,null,null,null,null,null,null,null,null,null,null,null,null,"WPL 10 AS / IKS",null,null,null,null,null,null,null,null,null,"Heizlast",null,null,null,null,null,null,null,null,null,"WPL 10 AS / IKS"]
[null,null,null,null,null,null,null,null,null,null,null,null,null,null,null,"Außentemp","30 °C","35 °C","40 °C","45 °C","50 °C","55 °C","60 °C","65 °C","70 °C","75 °C","Min",null,null,null,null,null,null,null,null,"Außentemp","30 °C","35 °C","40 °C","45 °C","50 °C","55 °C","60 °C","65 °C","70 °C","75 °C"]
[null,null,null,null,null,null,null,null,null,null,null,null,null,null,null,-20,3.3624999999999998,3.1,2.8375000000000004,2.5750000000000002,2.3125,2.0499999999999998,null,null,null,null,-1,null,null,null,null,null,null,null,null,-20,2.4230769230769234,2.2307692307692308,2.0384615384615383,1.846153846153846,1.7564102564102564,1.6666666666666667]
[null,null,null,null,null,null,null,null,null,null,null,null,null,null,null,-17.5,3.7749999999999999,3.5,3.2250000000000001,2.95,2.6749999999999998,2.4,null,null,null,null,-1,null,null,null,null,null,null,null,null,-17.5,2.8014705882352944,2.5294117647058827,2.257352941176471,1.9852941176470591,1.8259803921568629,1.6666666666666667]
[null,null,null,null,null,null,null,null,null,null,null,null,null,null,null,-15,4.3,4,3.7,3.4,3.0999999999999996,2.8,null,null,null,null,-1,null,null,null,null,null,null,null,null,-15,3.0357142857142856,2.7142857142857144,2.3928571428571432,2.0714285714285716,1.8690476190476191,1.6666666666666667]
[null,null,null,null,null,null,null,null,null,null,null,null,null,null,null,-12.5,4.8,4.5,4.2,3.9,3.5999999999999996,3.3,null,null,null,null,-1,null,null,null,null,null,null,null,null,-12.5,3.1160892738174546,2.8157894736842102,2.5154896735509658,2.2151898734177218,2.0643850601656513,1.9135802469135805]
[null,null,null,null,null,null,null,null,null,null,null,null,null,null,null,-10,5.2750000000000004,5,4.7249999999999996,4.45,4.1749999999999998,3.9,null,null,null,null,-1,null,null,null,null,null,null,null,null,-10,3.1654411764705879,2.8749999999999996,2.5845588235294112,2.2941176470588234,2.1764705882352944,2.0588235294117649]
[null,null,null,null,null,null,null,null,null,null,null,null,null,null,null,-7.5,5.6625000000000005,5.4,5.1375000000000002,4.875,4.6124999999999998,4.3499999999999996,null,null,null,null,-1,null,null,null,null,null,null,null,null,-7.5,3.1764705882352944,3,2.8235294117647056,2.6470588235294117,2.4346405228758172,2.2222222222222223]
[null,null,null,null,null,null,null,null,null,null,null,null,null,null,null,-5,6.05,5.8,5.55,5.3,5.05,4.8,null,null,null,null,-1,null,null,null,null,null,null,null,null,-5,3.352573485777584,3.1273885350318467,2.9022035842861094,2.6770186335403725,2.4664162935143725,2.2558139534883721]
[null,null,null,null,null,null,null,null,null,null,null,null,null,null,null,-2.5,6.3249999999999993,6.1,5.875,5.65,5.4250000000000007,5.2,null,null,null,null,-1,null,null,null,null,null,null,null,null,-2.5,3.60174119649633,3.3067484662576687,3.0117557360190075,2.7167630057803467,2.5081141232110289,2.2994652406417115]
[null,null,null,null,null,null,null,null,null,null,null,null,null,null,null,0,6.6000000000000005,6.4,6.2,6,5.8,5.6,null,null,null,null,-1,null,null,null,null,null,null,null,null,0,3.7585767691137062,3.4191616766467066,3.0797465841797069,2.7403314917127073,2.5326022940797044,2.324873096446701]
[null,null,null,null,null,null,null,null,null,null,null,null,null,null,null,2.5,7.1125000000000007,6.9,6.6875,6.4749999999999996,6.2624999999999993,6.05,null,null,null,null,-1,null,null,null,null,null,null,null,null,2.5,3.9747663551401868,3.6,3.2252336448598133,2.8504672897196266,2.6560028756290439,2.4615384615384617]
[null,null,null,null,null,null,null,null,null,null,null,null,null,null,null,5,7.65,7.5,7.35,7.2,7.0500000000000007,6.9,null,null,null,null,-1,null,null,null,null,null,null,null,null,5,4.1909909909909908,3.8,3.4090090090090088,3.0180180180180183,2.8478519842156209,2.6776859504132235]
[null,null,null,null,null,null,null,null,null,null,null,null,null,null,null,7.5,8.6624999999999996,8.4499999999999993,8.2374999999999989,8.0249999999999986,7.8124999999999991,7.6,null,null,null,null,-1,null,null,null,null,null,null,null,null,7.5,4.2627634660421538,3.9180327868852456,3.5733021077283373,3.2285714285714286,3.0616541353383457,2.8947368421052633]
[null,null,null,null,null,null,null,null,null,null,null,null,null,null,null,10,9.4949999999999992,9.1999999999999993,8.9049999999999994,8.61,8.3149999999999995,8.02,null,null,null,null,-1,null,null,null,null,null,null,null,null,10,4.2619047619047619,3.9523809523809526,3.6428571428571432,3.3333333333333335,3.1282051282051282,2.9230769230769229]
[null,null,null,null,null,null,null,null,null,null,null,null,null,null,null,12.5,10.137500000000001,9.8000000000000007,9.4625000000000004,9.125,8.7874999999999996,8.4499999999999993,null,null,null,null,-1,null,null,null,null,null,null,null,null,12.5,4.3477048477048488,4.0360360360360366,3.7243672243672243,3.4126984126984121,3.1585550887021476,2.9044117647058827]
[null,null,null,null,null,null,null,null,null,null,null,null,null,null,null,15,10.775,10.4,10.025,9.65,9.2750000000000004,8.9,null,null,null,null,-1,null,null,null,null,null,null,null,null,15,4.3996655518394654,4.0869565217391308,3.7742474916387962,3.4615384615384612,3.177197802197802,2.8928571428571428]
[null,null,null,null,null,null,null,null,null,null,null,null,null,null,null,17.5,11.287500000000001,10.9,10.512499999999999,10.125,9.7375000000000007,9.35,null,null,null,null,-1,null,null,null,null,null,null,null,null,17.5,4.878914835164835,4.4910714285714288,4.1032280219780226,3.7153846153846155,3.390539023020775,3.0656934306569341]
[null,null,null,null,null,null,null,null,null,null,null,null,null,null,null,20,11.9,11.5,11.1,10.7,10.3,9.9,null,null,null,null,-1,null,null,null,null,null,null,null,null,20,5.2167832167832167,4.7727272727272725,4.3286713286713283,3.8846153846153841,3.5349002849002842,3.1851851851851847]
[null,null,null,null,null,null,null,null,null,null,null,null,null,null,null,22.5,12.625,12.2,11.774999999999999,11.35,10.925000000000001,10.5,null,null,null,null,-1,null,null,null,null,null,null,null,null,22.5]
[null,null,null,null,null,null,null,null,null,null,null,null,null,null,null,25,13.45,13,12.55,12.1,11.649999999999999,11.2,null,null,null,null,-1,null,null,null,null,null,null,null,null,25]
[null,null,null,null,null,null,null,null,null,null,null,null,null,null,null,27.5,14.25,13.8,13.350000000000001,12.9,12.45,12,null,null,null,null,-1,null,null,null,null,null,null,null,null,27.5]
[null,null,null,null,null,null,null,null,null,null,null,null,null,null,null,30,14.95,14.5,14.05,13.6,13.149999999999999,12.7,null,null,null,null,-1,null,null,null,null,null,null,null,null,30]
[null,null,null,null,null,null,null,null,null,null,null,null,null,null,null,null,"WPL 13 S",null,null,null,null,null,null,null,null,null,"Heizlast",null,null,null,null,null,null,null,null,null,"WPL 13 S"]
[null,null,null,null,null,null,null,null,null,null,null,null,null,null,null,"Außentemp","30 °C","35 °C","40 °C","45 °C","50 °C","55 °C","60 °C","65 °C","70 °C","75 °C","Min",null,null,null,null,null,null,null,null,"Außentemp","30 °C","35 °C","40 °C","45 °C","50 °C","55 °C","60 °C","65 °C","70 °C","75 °C"]
[null,null,null,null,null,null,null,null,null,null,null,null,null,null,null,-20,3.9666666666666668,4,4.0333333333333332,4.0666666666666664,4.0999999999999996,4.1333333333333329,null,null,null,null,-1,null,null,null,null,null,null,null,null,-20,2.2000000000000002,2,1.8,1.6,1.55,1.5]
[null,null,null,null,null,null,null,null,null,null,null,null,null,null,null,-17.5,4.1333333333333337,4.2,4.2666666666666666,4.333333333333333,4.4000000000000004,4.4666666666666668,null,null,null,null,-1,null,null,null,null,null,null,null,null,-17.5,2.0648791965163649,1.9705014749262537,1.8761237533361426,1.7817460317460314,1.6908730158730156,1.6]
[null,null,null,null,null,null,null,null,null,null,null,null,null,null,null,-15,4.416666666666667,4.5,4.583333333333333,4.6666666666666661,4.75,4.833333333333333,null,null,null,null,-1,null,null,null,null,null,null,null,null,-15,2.4616721616972472,2.2752293577981648,2.0887865538990824,1.90234375,1.8011718750000001,1.7]
[null,null,null,null,null,null,null,null,null,null,null,null,null,null,null,-12.5,5.25,5.25,5.25,5.25,5.25,5.25,null,null,null,null,-1,null,null,null,null,null,null,null,null,-12.5,2.4455409911584116,2.3373702422145333,2.2291994932706549,2.121028744326777,2.0105143721633887,1.9]
[null,null,null,null,null,null,null,null,null,null,null,null,null,null,null,-10,5.8666666666666671,5.9,5.9333333333333336,5.9666666666666668,6,6.0333333333333332,null,null,null,null,-1,null,null,null,null,null,null,null,null,-10,2.4328703703703702,2.375,2.3171296296296298,2.2592592592592591,2.1712962962962963,2.0833333333333335]
[null,null,null,null,null,null,null,null,null,null,null,null,null,null,null,-7.5,6.5,6.5,6.5,6.5,6.5,6.5,null,null,null,null,-1,null,null,null,null,null,null,null,null,-7.5,1.9217292832400743,2.0617283950617282,2.2017275068833824,2.3417266187050361,2.1311079576705607,1.9204892966360856]
[null,null,null,null,null,null,null,null,null,null,null,null,null,null,null,-5,6.9333333333333336,6.95,6.9666666666666668,6.9833333333333334,7,7.0166666666666666,null,null,null,null,-1,null,null,null,null,null,null,null,null,-5,2.2795674913791828,2.3480463096960928,2.4165251280130029,2.4850039463299134,2.2689322173937958,2.0528604884576782]
[null,null,null,null,null,null,null,null,null,null,null,null,null,null,null,-2.5,7.2,7.2,7.2,7.2,7.2,7.2,null,null,null,null,-1,null,null,null,null,null,null,null,null,-2.5,2.9161849384357121,2.8418769716088326,2.767569004781953,2.6932610379550734,2.4686056661325404,2.2439502943100069]
[null,null,null,null,null,null,null,null,null,null,null,null,null,null,null,0,7.5149999999999997,7.51,7.5049999999999999,7.5,7.4950000000000001,7.49,null,null,null,null,-1,null,null,null,null,null,null,null,null,0,3.4214357191272593,3.223573825503355,3.0257119318794508,2.8278500382555465,2.5972368747978765,2.366623711340206]
[null,null,null,null,null,null,null,null,null,null,null,null,null,null,null,2.5,8.1000000000000014,8.0500000000000007,8,7.95,7.9,7.8500000000000005,null,null,null,null,-1,null,null,null,null,null,null,null,null,2.5,4.1356533875749246,3.7742193755004001,3.4127853634258756,3.0513513513513515,2.793573402948403,2.535795454545454]
[null,null,null,null,null,null,null,null,null,null,null,null,null,null,null,5,9.5333333333333332,9.4,9.2666666666666675,9.1333333333333346,9,8.8666666666666671,null,null,null,null,-1,null,null,null,null,null,null,null,null,5,4.3887355958958176,4.0031570639305452,3.6175785319652727,3.2319999999999998,2.933134831460674,2.6342696629213482]
[null,null,null,null,null,null,null,null,null,null,null,null,null,null,null,7.5,10.766666666666666,10.6,10.433333333333334,10.266666666666667,10.1,9.9333333333333336,null,null,null,null,-1,null,null,null,null,null,null,null,null,7.5,4.7381385266249429,4.3389391979301424,3.9397398692353418,3.5405405405405408,3.1834778174400817,2.8264150943396227]
[null,null,null,null,null,null,null,null,null,null,null,null,null,null,null,10,11.5,11.25,11,10.75,10.5,10.25,null,null,null,null,-1,null,null,null,null,null,null,null,null,10,4.9312741312741313,4.5637065637065639,4.1961389961389965,3.8285714285714292,3.4289915966386557,3.0294117647058827]
[null,null,null,null,null,null,null,null,null,null,null,null,null,null,null,12.5,12.25,12,11.75,11.5,11.25,11,null,null,null,null,-1,null,null,null,null,null,null,null,null,12.5,5.2201632817909074,4.8198707592891763,4.4195782367874452,4.0192857142857141,3.550105284888522,3.0809248554913298]
[null,null,null,null,null,null,null,null,null,null,null,null,null,null,null,15,13.100000000000001,12.8,12.5,12.2,11.9,11.6,null,null,null,null,-1,null,null,null,null,null,null,null,null,15,5.4330357142857135,5.0041666666666664,4.5752976190476193,4.1464285714285714,3.6303571428571431,3.1142857142857143]
[null,null,null,null,null,null,null,null,null,null,null,null,null,null,null,17.5,13.733333333333334,13.4,13.066666666666666,12.733333333333333,12.4,12.066666666666666,null,null,null,null,-1,null,null,null,null,null,null,null,null,17.5,5.289502714815133,4.9284552845528449,4.5674078542905567,4.2063604240282686,3.7374659262998486,3.2685714285714291]
[null,null,null,null,null,null,null,null,null,null,null,null,null,null,null,20,14.216666666666667,13.9,13.583333333333334,13.266666666666667,12.95,12.633333333333333,null,null,null,null,-1,null,null,null,null,null,null,null,null,20,5.1971929824561407,4.88,4.5628070175438591,4.2456140350877192,3.8085213032581455,3.3714285714285714]
[null,null,null,null,null,null,null,null,null,null,null,null,null,null,null,22.5,14.416666666666666,14.25,14.083333333333334,13.916666666666668,13.75,13.583333333333334,null,null,null,null,-1,null,null,null,null,null,null,null,null,22.5]
[null,null,null,null,null,null,null,null,null,null,null,null,null,null,null,25,14.566666666666668,14.55,14.533333333333333,14.516666666666666,14.5,14.483333333333333,null,null,null,null,-1,null,null,null,null,null,null,null,null,25]
[null,null,null,null,null,null,null,null,null,null,null,null,null,null,null,27.5,14.766666666666667,14.9,15.033333333333333,15.166666666666666,15.3,15.433333333333334,null,null,null,null,-1,null,null,null,null,null,null,null,null,27.5]
[null,null,null,null,null,null,null,null,null,null,null,null,null,null,null,30,14.933333333333332,15.2,15.466666666666667,15.733333333333334,16,16.266666666666666,null,null,null,null,-1,null,null,null,null,null,null,null,null,30]
[null,null,null,null,null,null,null,null,null,null,null,null,null,null,null,null,"WPL 16 S",null,null,null,null,null,null,null,null,null,"Heizlast",null,null,null,null,null,null,null,null,null,"WPL 16 S"]
[null,null,null,null,null,null,null,null,null,null,null,null,null,null,null,"Außentemp","30 °C","35 °C","40 °C","45 °C","50 °C","55 °C","60 °C","65 °C","70 °C","75 °C","Min",null,null,null,null,null,null,null,null,"Außentemp","30 °C","35 °C","40 °C","45 °C","50 °C","55 °C","60 °C","65 °C","70 °C","75 °C"]
[null,null,null,null,null,null,null,null,null,null,null,null,null,null,null,-20,5.6,5.6,5.6,5.6,5.6,5.6,null,null,null,null,-1,null,null,null,null,null,null,null,null,-20,{"$f":"AK696-(AK697-AK696)","v":2.3999999999999986},{"$f":"AL696-(AL697-AL696)","v":2.1999999999999997},2.0000000000000009,1.7999999999999998,1.0000000000000004,0.19999999999999996]
[null,null,null,null,null,null,null,null,null,null,null,null,null,null,null,-17.5,5.9,5.9,5.9,5.9,5.9,5.9,null,null,null,null,-1,null,null,null,null,null,null,null,null,-17.5,{"$f":"AK697-(AK698-AK697)","v":2.4999999999999991},{"$f":"AL697-(AL698-AL697)","v":2.2999999999999998},2.1000000000000005,1.9,1.3000000000000003,0.7]
[null,null,null,null,null,null,null,null,null,null,null,null,null,null,null,-15,6.25,6.25,6.25,6.25,6.25,6.2,null,null,null,null,-1,null,null,null,null,null,null,null,null,-15,{"$f":"AL697+(AL697-AM697)","v":2.5999999999999996},2.4,{"$f":"(AL697+AN697)/2","v":2.2000000000000002},2,1.6,1.2]
[null,null,null,null,null,null,null,null,null,null,null,null,null,null,null,-12.5,6.55,6.55,6.55,6.55,6.55,6.55,null,null,null,null,-1,null,null,null,null,null,null,null,null,-12.5,{"$f":"AL698+(AL698-AM698)","v":2.7},2.5,{"$f":"(AL698+AN698)/2","v":2.2999999999999998},2.1,{"$f":"(AN698+AP698)/2","v":1.9},1.7]
[null,null,null,null,null,null,null,null,null,null,null,null,null,null,null,-10,7,7.05,7,7,7,7,null,null,null,null,-1,null,null,null,null,null,null,null,null,-10,2.8,2.6,2.4000000000000004,2.2000000000000002,2,1.8]
[null,null,null,null,null,null,null,null,null,null,null,null,null,null,null,-7.5,8.1,7.95,7.9,7.8,7.8,7.8,null,null,null,null,-1,null,null,null,null,null,null,null,null,-7.5,3,2.8,2.5999999999999996,2.4,2.2000000000000002,2]
[null,null,null,null,null,null,null,null,null,null,null,null,null,null,null,-5,8.4499999999999993,8.4,8.3500000000000014,8.3000000000000007,8.3000000000000007,8.3000000000000007,null,null,null,null,-1,null,null,null,null,null,null,null,null,-5,3.45,3.1,2.75,2.4,2.25,2.1]
[null,null,null,null,null,null,null,null,null,null,null,null,null,null,null,-2.5,8.875,8.8000000000000007,8.7250000000000014,8.65,8.65,8.65,null,null,null,null,-1,null,null,null,null,null,null,null,null,-2.5,3.5,3.2,2.9000000000000004,2.6,2.4000000000000004,2.2000000000000002]
[null,null,null,null,null,null,null,null,null,null,null,null,null,null,null,0,9.4500000000000011,9.3000000000000007,9.15,9,9,9,null,null,null,null,-1,null,null,null,null,null,null,null,null,0,3.5999999999999996,3.3,3,2.7,2.4500000000000002,2.2000000000000002]
[null,null,null,null,null,null,null,null,null,null,null,null,null,null,null,2.5,10.024999999999999,9.9499999999999993,9.875,9.8000000000000007,9.8000000000000007,9.8000000000000007,null,null,null,null,-1,null,null,null,null,null,null,null,null,2.5,3.7,3.4,3.0999999999999996,2.8,2.5499999999999998,2.2999999999999998]
[null,null,null,null,null,null,null,null,null,null,null,null,null,null,null,5,11.04,11,10.96,10.92,10.92,10.92,null,null,null,null,-1,null,null,null,null,null,null,null,null,5,3.8,3.6,3.4000000000000004,3.2,2.8,2.4]
[null,null,null,null,null,null,null,null,null,null,null,null,null,null,null,7.5,12.375,12.25,12.125,12,11.85,11.7,null,null,null,null,-1,null,null,null,null,null,null,null,null,7.5,4.1500000000000004,3.9,3.65,3.4,3,2.6]
[null,null,null,null,null,null,null,null,null,null,null,null,null,null,null,10,12.899999999999999,12.72,12.3,12,12,12,null,null,null,null,-1,null,null,null,null,null,null,null,null,10,4.3,4,3.7,3.4,3,2.6]
[null,null,null,null,null,null,null,null,null,null,null,null,null,null,null,12.5,13.525,13.25,12.975,12.7,12.7,12.7,null,null,null,null,-1,null,null,null,null,null,null,null,null,12.5,4.5500000000000007,4.2,3.85,3.5,3.15,2.8]
[null,null,null,null,null,null,null,null,null,null,null,null,null,null,null,15,13.950000000000001,13.8,13.65,13.5,13.35,13.3,null,null,null,null,-1,null,null,null,null,null,null,null,null,15,4.5999999999999996,4.3,4,3.7,3.35,3]
[null,null,null,null,null,null,null,null,null,null,null,null,null,null,null,17.5,14.12,14.18,14.24,14.3,14.15,14,null,null,null,null,-1,null,null,null,null,null,null,null,null,17.5,4.6500000000000004,4.4000000000000004,4.1500000000000004,3.9,3.55,3.2]
[null,null,null,null,null,null,null,null,null,null,null,null,null,null,null,20,14.325000000000001,14.55,14.775,15,14.8,14.6,null,null,null,null,-1,null,null,null,null,null,null,null,null,20,4.75,4.5,4.25,4,3.65,3.3]
[null,null,null,null,null,null,null,null,null,null,null,null,null,null,null,22.5,14.75,15,15.25,15.5,15.4,15.3,null,null,null,null,-1,null,null,null,null,null,null,null,null,22.5]
[null,null,null,null,null,null,null,null,null,null,null,null,null,null,null,25,15.225,15.5,15.775,16.05,16.024999999999999,16,null,null,null,null,-1,null,null,null,null,null,null,null,null,25]
[null,null,null,null,null,null,null,null,null,null,null,null,null,null,null,27.5,15.725000000000001,16,16.274999999999999,16.55,16.55,16.55,null,null,null,null,-1,null,null,null,null,null,null,null,null,27.5]
[null,null,null,null,null,null,null,null,null,null,null,null,null,null,null,30,16.2,16.5,16.8,17.100000000000001,17.100000000000001,17.100000000000001,null,null,null,null,-1,null,null,null,null,null,null,null,null,30]

{"sheet":"LeistungsdatenWW","index":9,"n_rows":646,"n_cols":34,"rows_kept":646,"cut":false,"hidden":true,"merged":[[646,24,646,33],[669,24,669,33],[830,24,830,33],[692,24,692,33],[715,24,715,33],[738,24,738,33],[761,24,761,33],[784,24,784,33],[807,24,807,33],[301,24,301,33],[324,24,324,33],[347,24,347,33],[370,24,370,33],[393,24,393,33],[416,24,416,33],[600,24,600,33],[623,24,623,33],[439,24,439,33],[462,24,462,33],[485,24,485,33],[531,24,531,33],[508,24,508,33],[554,24,554,33],[577,24,577,33],[232,24,232,33],[255,24,255,33],[278,24,278,33],[163,24,163,33],[186,24,186,33],[209,24,209,33],[2,24,2,33],[94,24,94,33],[117,24,117,33],[140,24,140,33],[71,24,71,33],[25,24,25,33],[48,24,48,33]]}
[]
["WP-Typ","Max. Vorlauf","Haushaltsstrom ?","Durchlauferhitzer?","Bivalent Öl/Gas ?",null,null,null,null,null,"Artikelnr.","mediando",null,null,null,null,null,null,null,null,null,null,null,"Wärmepumpen COP"]
[{"$f":"Translation!A235","v":"with heat pump for heating"},{"$f":"Berechnung!D66","v":55},false,false,true,null,null,null,null,null,{"$f":"VLOOKUP(Berechnung!C61,Leistungsdaten!A:L,11,FALSE)","v":227757},{"$f":"VLOOKUP(Berechnung!C61,Leistungsdaten!A:L,12,FALSE)","v":5968},null,null,null,null,null,null,null,null,null,null,null,null,"Platzhalter \"Mit Heizungswärmepumpe\""]
["WPL 13 E",55,false,false,true,null,null,null,null,null,227756,5968]
["WPL 18 E",55,false,false,true,null,null,null,null,null,227757,5968]
["WPL 23 E",55,false,false,true,null,null,null,null,null,227758,5968]
["WPL 33 HT",75,false,false,true,null,null,null,null,null,229938,8158,null,null,null,null,null,null,null,null,null,null,null,null,null,"Auszulesende Zeile wird über ListIndex angesprochen"]
["WPL 34",55,false,false,true,null,null,null,null,null,228835,7124]
["WPL 47",55,false,false,true,null,null,null,null,null,228836,7124]
["WPL 57",55,false,false,true,null,null,null,null,null,228837,7124]
["WPF 10 M",55,false,false,true,null,null,null,null,null,185349,5975]
["WPF 13 M",55,false,false,true,null,null,null,null,null,182135,5975]
["WPF 16 M",55,false,false,true,null,null,null,null,null,220894,5975]
["WPF 20",55,false,false,true,null,null,null,null,null,233003,6557]
["WPF 27",55,false,false,true,null,null,null,null,null,233004,6557]
["WPF 27 HT",75,false,false,true,null,null,null,null,null,233009,7700]
["WPF 35",55,false,false,true,null,null,null,null,null,233005,6557]
["WPF 40",55,false,false,true,null,null,null,null,null,233006,6557]
["WPF 52",55,false,false,true,null,null,null,null,null,233007,6557]
["WPF 66",55,false,false,true,null,null,null,null,null,233008,6557]
["WWK 300",60,true,false,false,null,null,null,null,null,74361,5982]
["LWA 252",60,true,false,false,null,null,null,null,null,74264,6017]
["LWA 100",60,true,false,false,null,null,null,null,null,221470,6018]
["WWK 220 electronic",60,true,false,false,null,null,null,null,null,231208,8781]
["WWK 221 electronic",60,true,false,false,null,null,null,null,null,230949]
["WWK 300 electronic",60,true,false,false,null,null,null,null,null,231210,8781,null,null,null,null,null,null,null,null,null,null,null,null,"WPL 13 E / cool"]
["WWK 301 electronic",60,true,false,false,null,null,null,null,null,230950,null,null,null,null,null,null,null,null,null,null,null,null,"Außentemp","30 °C","35 °C","40 °C","45 °C","50 °C","55 °C","60 °C","65 °C","70 °C","75 °C"]
["WWS 20",60,true,false,false,null,null,null,null,null,233898,null,null,null,null,null,null,null,null,null,null,null,null,-20,2.4903846153846154,2.25,2.0096153846153846,1.7692307692307689,1.7,1.5666666666666667]
["Durchlauferhitzer Typ DHE",60,true,true,false,null,null,null,null,null,234467,5827,null,null,null,null,null,null,null,null,null,null,null,-17.5,2.7037374990875254,2.4466019417475731,2.1894663844076208,1.9323308270676689,1.8321784854292593,1.7320261437908495]
["Durchlauferhitzer Typ DEL",60,true,true,false,null,null,null,null,null,233678,8587,null,null,null,null,null,null,null,null,null,null,null,-15,2.838624338624339,2.5714285714285716,2.3042328042328042,2.0370370370370368,1.9378733572281956,1.8387096774193548]
[null,"Bei neuen Maschinen COP-Tabelle an richtige Stelle einfügen!!",null,null,null,null,null,null,null,null,null,null,null,null,null,null,null,null,null,null,null,null,null,-12.5,3.0062942155638788,2.7387640449438204,2.4712338743237621,2.2037037037037037,2.0881401171579741,1.9725765306122447]
[null,null,null,null,null,null,null,null,null,null,null,null,null,null,null,null,null,null,null,null,null,null,null,-10,3.113425925925926,2.8472222222222223,2.5810185185185186,2.3148148148148149,2.1874706985466479,2.0601265822784809]
[null,null,null,null,null,null,null,null,null,null,null,null,null,null,null,null,null,null,null,null,null,null,null,-7.5,3.2592592592592586,2.9999999999999996,2.7407407407407405,2.4814814814814814,2.3344907407407405,2.1875]
[null,null,null,null,null,null,null,null,null,null,null,null,null,null,null,null,null,null,null,null,null,null,null,-5,3.3394246832090611,3.0891089108910883,2.8387931385731155,2.5884773662551432,2.4149283382999851,2.2413793103448274]
[null,null,null,null,null,null,null,null,null,null,null,null,null,null,null,null,null,null,null,null,null,null,null,-2.5,3.4500336340614117,3.2163461538461537,2.9826586736308958,2.7489711934156373,2.5348951530218118,2.3208191126279862]
[null,null,null,null,null,null,null,null,null,null,null,null,null,null,null,null,null,null,null,null,null,null,null,0,3.5177711778864804,3.2971698113207535,3.0765684447550266,2.8559670781893001,2.6144242170607517,2.3728813559322033]
[null,null,null,null,null,null,null,null,null,null,null,null,null,null,null,null,null,null,null,null,null,null,null,2.5,3.9036764705882354,3.6,3.2963235294117648,2.9926470588235294,2.726626559714795,2.4606060606060609]
[null,null,null,null,null,null,null,null,null,null,null,null,null,null,null,null,null,null,null,null,null,null,null,5,4.3996376811594207,3.95,3.5003623188405797,3.0507246376811592,2.7920289855072462,2.5333333333333332]
[null,null,null,null,null,null,null,null,null,null,null,null,null,null,null,null,null,null,null,null,null,null,null,7.5,4.3685047720042416,3.9855072463768115,3.6025097207493815,3.2195121951219514,2.9551169223032439,2.6907216494845367]
[null,null,null,null,null,null,null,null,null,null,null,null,null,null,null,null,null,null,null,null,null,null,null,10,4.464882943143814,4.1304347826086962,3.7959866220735785,3.4615384615384612,3.1662531017369728,2.870967741935484]
[null,null,null,null,null,null,null,null,null,null,null,null,null,null,null,null,null,null,null,null,null,null,null,12.5,4.5933398152649483,4.2975206611570247,4.0017015070491011,3.7058823529411775,3.3746803069053719,3.0434782608695659]
[null,null,null,null,null,null,null,null,null,null,null,null,null,null,null,null,null,null,null,null,null,null,null,15,4.6714285714285717,4.4000000000000004,4.128571428571429,3.8571428571428577,3.504329004329005,3.1515151515151518]
[null,null,null,null,null,null,null,null,null,null,null,null,null,null,null,null,null,null,null,null,null,null,null,17.5,4.9820139860139854,4.6639999999999997,4.345986013986014,4.0279720279720284,3.6776764901764905,3.3273809523809526]
[null,null,null,null,null,null,null,null,null,null,null,null,null,null,null,null,null,null,null,null,null,null,null,20,5.1910344827586208,4.84,4.4889655172413789,4.1379310344827589,3.7895537525354968,3.4411764705882351]
[null,null,null,null,null,null,null,null,null,null,null,null,null,null,null,null,null,null,null,null,null,null,null,22.5]
[null,null,null,null,null,null,null,null,null,null,null,null,null,null,null,null,null,null,null,null,null,null,null,25]
[null,null,null,null,null,null,null,null,null,null,null,null,null,null,null,null,null,null,null,null,null,null,null,27.5]
[null,null,null,null,null,null,null,null,null,null,null,null,null,null,null,null,null,null,null,null,null,null,null,30]
[null,null,null,null,null,null,null,null,null,null,null,null,null,null,null,null,null,null,null,null,null,null,null,null,"WPL 18 E / cool"]
[null,null,null,null,null,null,null,null,null,null,null,null,null,null,null,null,null,null,null,null,null,null,null,"Außentemp","30 °C","35 °C","40 °C","45 °C","50 °C","55 °C","60 °C","65 °C","70 °C","75 °C"]
[null,null,null,null,null,null,null,null,null,null,null,null,null,null,null,null,null,null,null,null,null,null,null,-20,2.5892857142857149,2.3928571428571432,2.1964285714285716,2,1.8636363636363635,1.7272727272727271]
[null,null,null,null,null,null,null,null,null,null,null,null,null,null,null,null,null,null,null,null,null,null,null,-17.5,2.7612555983342499,2.5524475524475525,2.3436395065608551,2.1348314606741572,1.9924157303370786,1.85]
[null,null,null,null,null,null,null,null,null,null,null,null,null,null,null,null,null,null,null,null,null,null,null,-15,2.8716475095785441,2.6551724137931036,2.4386973180076632,2.2222222222222223,2.077020202020202,1.9318181818181817]
[null,null,null,null,null,null,null,null,null,null,null,null,null,null,null,null,null,null,null,null,null,null,null,-12.5,3.1004108925878962,2.8658038147138964,2.6311967368398967,2.3965896589658966,2.2230826812024658,2.0495757034390354]
[null,null,null,null,null,null,null,null,null,null,null,null,null,null,null,null,null,null,null,null,null,null,null,-10,3.2496030866932513,3.0033783783783785,2.7571536700635058,2.5109289617486334,2.3183783881590849,2.1258278145695364]
[null,null,null,null,null,null,null,null,null,null,null,null,null,null,null,null,null,null,null,null,null,null,null,-7.5,3.4621621621621621,3.1999999999999997,2.9378378378378374,2.6756756756756754,2.4574030552291424,2.2391304347826089]
[null,null,null,null,null,null,null,null,null,null,null,null,null,null,null,null,null,null,null,null,null,null,null,-5,3.5969969969969982,3.3259259259259264,3.0548548548548546,2.7837837837837829,2.5476889933411675,2.3115942028985517]
[null,null,null,null,null,null,null,null,null,null,null,null,null,null,null,null,null,null,null,null,null,null,null,-2.5,3.7992492492492493,3.5148148148148146,3.2303803803803799,2.9459459459459456,2.6831179005092047,2.4202898550724639]
[null,null,null,null,null,null,null,null,null,null,null,null,null,null,null,null,null,null,null,null,null,null,null,0,3.9340840840840854,3.6407407407407413,3.3473973973973972,3.0540540540540531,2.7734038386212303,2.4927536231884071]
[null,null,null,null,null,null,null,null,null,null,null,null,null,null,null,null,null,null,null,null,null,null,null,2.5,4.2102493857043317,3.8742281879194631,3.5382069901345945,3.2021857923497263,2.897553073166014,2.5929203539823011]
[null,null,null,null,null,null,null,null,null,null,null,null,null,null,null,null,null,null,null,null,null,null,null,5,4.5825418994413409,4.1500000000000004,3.7174581005586598,3.2849162011173192,2.9681461739531549,2.6513761467889907]
[null,null,null,null,null,null,null,null,null,null,null,null,null,null,null,null,null,null,null,null,null,null,null,7.5,4.801149425287357,4.3563218390804606,3.9114942528735641,3.4666666666666672,3.1261904761904766,2.785714285714286]
[null,null,null,null,null,null,null,null,null,null,null,null,null,null,null,null,null,null,null,null,null,null,null,10,5.050738916256158,4.5862068965517242,4.1216748768472904,3.6571428571428575,3.2928571428571431,2.9285714285714288]
[null,null,null,null,null,null,null,null,null,null,null,null,null,null,null,null,null,null,null,null,null,null,null,12.5,5.3765563316125107,4.8783783783783781,4.3802004251442455,3.882022471910112,3.4973492641240704,3.1126760563380289]
[null,null,null,null,null,null,null,null,null,null,null,null,null,null,null,null,null,null,null,null,null,null,null,15,5.5861111111111104,5.0666666666666664,4.5472222222222225,4.0277777777777777,3.6301679586563309,3.2325581395348841]
[null,null,null,null,null,null,null,null,null,null,null,null,null,null,null,null,null,null,null,null,null,null,null,17.5,5.7727777777777778,5.246666666666667,4.7205555555555563,4.1944444444444446,3.7832687338501296,3.3720930232558142]
[null,null,null,null,null,null,null,null,null,null,null,null,null,null,null,null,null,null,null,null,null,null,null,20,5.897222222222223,5.3666666666666671,4.8361111111111112,4.3055555555555554,3.8853359173126618,3.4651162790697678]
[null,null,null,null,null,null,null,null,null,null,null,null,null,null,null,null,null,null,null,null,null,null,null,22.5]
[null,null,null,null,null,null,null,null,null,null,null,null,null,null,null,null,null,null,null,null,null,null,null,25]
[null,null,null,null,null,null,null,null,null,null,null,null,null,null,null,null,null,null,null,null,null,null,null,27.5]
[null,null,null,null,null,null,null,null,null,null,null,null,null,null,null,null,null,null,null,null,null,null,null,30]
[null,null,null,null,null,null,null,null,null,null,null,null,null,null,null,null,null,null,null,null,null,null,null,null,"WPL 23 E / cool"]
[null,null,null,null,null,null,null,null,null,null,null,null,null,null,null,null,null,null,null,null,null,null,null,"Außentemp","30 °C","35 °C","40 °C","45 °C","50 °C","55 °C","60 °C","65 °C","70 °C","75 °C"]
[null,null,null,null,null,null,null,null,null,null,null,null,null,null,null,null,null,null,null,null,null,null,null,-20,2.4554871220604699,2.2894736842105261,2.1234602463605823,1.957446808510638,1.8149303008070432,1.6724137931034482]
[null,null,null,null,null,null,null,null,null,null,null,null,null,null,null,null,null,null,null,null,null,null,null,-17.5,2.7036726607741546,2.5181347150259072,2.3325967692776599,2.1470588235294121,1.9789348171701115,1.810810810810811]
[null,null,null,null,null,null,null,null,null,null,null,null,null,null,null,null,null,null,null,null,null,null,null,-15,2.8645833333333339,2.666666666666667,2.46875,2.2708333333333335,2.0854166666666667,1.9000000000000001]
[null,null,null,null,null,null,null,null,null,null,null,null,null,null,null,null,null,null,null,null,null,null,null,-12.5,3.043280751800931,2.8345789735924263,2.6258771953839215,2.4171754171754172,2.2233952110556259,2.0296150049358346]
[null,null,null,null,null,null,null,null,null,null,null,null,null,null,null,null,null,null,null,null,null,null,null,-10,3.1564694180537112,2.9413202933985327,2.7261711687433543,2.5110220440881763,2.3126072700049365,2.1141924959216967]
[null,null,null,null,null,null,null,null,null,null,null,null,null,null,null,null,null,null,null,null,null,null,null,-7.5,3.3193277310924363,3.0952380952380949,2.8711484593837535,2.6470588235294121,2.4444971537001896,2.2419354838709675]
[null,null,null,null,null,null,null,null,null,null,null,null,null,null,null,null,null,null,null,null,null,null,null,-5,3.4332197087077772,3.1904761904761898,2.9477326722446024,2.7049891540130155,2.4962445770065074,2.2874999999999996]
[null,null,null,null,null,null,null,null,null,null,null,null,null,null,null,null,null,null,null,null,null,null,null,-2.5,3.6045258620689662,3.3333333333333339,3.0621408045977017,2.7909482758620694,2.5730940313590986,2.3552397868561279]
[null,null,null,null,null,null,null,null,null,null,null,null,null,null,null,null,null,null,null,null,null,null,null,0,3.7190374003678728,3.4285714285714288,3.1381054567749849,2.8476394849785409,2.6238197424892702,2.4]
[null,null,null,null,null,null,null,null,null,null,null,null,null,null,null,null,null,null,null,null,null,null,null,2.5,4.0752918287937749,3.7,3.3247081712062254,2.9494163424124511,2.7198694615288064,2.4903225806451612]
[null,null,null,null,null,null,null,null,null,null,null,null,null,null,null,null,null,null,null,null,null,null,null,5,4.3280876494023905,3.9,3.4719123505976093,3.0438247011952191,2.815245683930943,2.5866666666666664]
[null,null,null,null,null,null,null,null,null,null,null,null,null,null,null,null,null,null,null,null,null,null,null,7.5,4.5105442176870749,4.0999999999999996,3.6894557823129248,3.27891156462585,3.0245132535772927,2.7701149425287355]
[null,null,null,null,null,null,null,null,null,null,null,null,null,null,null,null,null,null,null,null,null,null,null,10,4.5816326530612246,4.2380952380952381,3.8945578231292517,3.5510204081632648,3.2410274454609427,2.931034482758621]
[null,null,null,null,null,null,null,null,null,null,null,null,null,null,null,null,null,null,null,null,null,null,null,12.5,4.6314179900117844,4.262910798122066,3.8944036062323475,3.525896414342629,3.2144532238937229,2.9030100334448168]
[null,null,null,null,null,null,null,null,null,null,null,null,null,null,null,null,null,null,null,null,null,null,null,15,4.6637026903784768,4.2790697674418601,3.8944368445052437,3.5098039215686274,3.1975249116039861,2.8852459016393448]
[null,null,null,null,null,null,null,null,null,null,null,null,null,null,null,null,null,null,null,null,null,null,null,17.5,4.9980620155038764,4.558139534883721,4.1182170542635657,3.6782945736434103,3.3262855504873001,2.97427652733119]
[null,null,null,null,null,null,null,null,null,null,null,null,null,null,null,null,null,null,null,null,null,null,null,20,5.222048300536672,4.7441860465116275,4.2663237924865829,3.7884615384615383,3.410103785103785,3.0317460317460321]
[null,null,null,null,null,null,null,null,null,null,null,null,null,null,null,null,null,null,null,null,null,null,null,22.5]
[null,null,null,null,null,null,null,null,null,null,null,null,null,null,null,null,null,null,null,null,null,null,null,25]
[null,null,null,null,null,null,null,null,null,null,null,null,null,null,null,null,null,null,null,null,null,null,null,27.5]
[null,null,null,null,null,null,null,null,null,null,null,null,null,null,null,null,null,null,null,null,null,null,null,30]
[null,null,null,null,null,null,null,null,null,null,null,null,null,null,null,null,null,null,null,null,null,null,null,null,"WPL 33 HT"]
[null,null,null,null,null,null,null,null,null,null,null,null,null,null,null,null,null,null,null,null,null,null,null,"Außentemp","30 °C","35 °C","40 °C","45 °C","50 °C","55 °C","60 °C","65 °C","70 °C","75 °C"]
[null,null,null,null,null,null,null,null,null,null,null,null,null,null,null,null,null,null,null,null,null,null,null,-20,1.6681500527426159,1.5949367088607593,1.5217233649789028,1.4485100210970465,1.37529667721519,1.3020833333333335,1.3020833333333335,1.3020833333333335,1.3020833333333335,1.3020833333333335]
[null,null,null,null,null,null,null,null,null,null,null,null,null,null,null,null,null,null,null,null,null,null,null,-17.5,1.894738683049058,1.821727019498607,1.7487153559481561,1.6757036923977053,1.6026920288472546,1.5296803652968036,1.5296803652968036,1.5296803652968036,1.5296803652968036,1.5296803652968036]
[null,null,null,null,null,null,null,null,null,null,null,null,null,null,null,null,null,null,null,null,null,null,null,-15,2.0731707317073171,2,1.9268292682926829,1.8536585365853659,1.780487804878049,1.7073170731707319,1.7073170731707319,1.7073170731707319,1.7073170731707319,1.7073170731707319]
[null,null,null,null,null,null,null,null,null,null,null,null,null,null,null,null,null,null,null,null,null,null,null,-12.5,2.0898915425632878,2.0216138328530255,1.9533361231427633,1.8850584134325008,1.8167807037222383,1.7485029940119761,1.7485029940119761,1.7485029940119761,1.7485029940119761,1.7485029940119761]
[null,null,null,null,null,null,null,null,null,null,null,null,null,null,null,null,null,null,null,null,null,null,null,-10,2.1002271022585219,2.035211267605634,1.9701954329527462,1.9051795982998585,1.8401637636469708,1.775147928994083,1.775147928994083,1.775147928994083,1.775147928994083,1.775147928994083]
[null,null,null,null,null,null,null,null,null,null,null,null,null,null,null,null,null,null,null,null,null,null,null,-7.5,2.1178160919540234,2.0666666666666669,2.0155172413793103,1.9643678160919542,1.9132183908045979,1.8620689655172415,1.8620689655172415,1.8620689655172415,1.8620689655172415,1.8620689655172415]
[null,null,null,null,null,null,null,null,null,null,null,null,null,null,null,null,null,null,null,null,null,null,null,-5,2.2241992018911141,2.1616341030195381,2.099069004147962,2.0365039052763865,1.9739388064048105,1.9113737075332347,1.9113737075332347,1.9113737075332347,1.9113737075332347,1.9113737075332347]
[null,null,null,null,null,null,null,null,null,null,null,null,null,null,null,null,null,null,null,null,null,null,null,-2.5,2.5005376081325448,2.4050632911392404,2.3095889741459361,2.2141146571526318,2.1186403401593275,2.0231660231660231,2.0231660231660231,2.0231660231660231,2.0231660231660231,2.0231660231660231]
[null,null,null,null,null,null,null,null,null,null,null,null,null,null,null,null,null,null,null,null,null,null,null,0,2.8734862259425706,2.7279151943462896,2.5823441627500086,2.4367731311537275,2.291202099557446,2.145631067961165,2.145631067961165,2.145631067961165,2.145631067961165,2.145631067961165]
[null,null,null,null,null,null,null,null,null,null,null,null,null,null,null,null,null,null,null,null,null,null,null,2.5,3.85,3.5,3.15,2.8,2.580379746835443,2.3607594936708858,2.3607594936708858,2.3607594936708858,2.3607594936708858,2.3607594936708858]
[null,null,null,null,null,null,null,null,null,null,null,null,null,null,null,null,null,null,null,null,null,null,null,5,4.6499999999999995,4.0999999999999996,3.55,3,2.6902985074626864,2.3805970149253728,2.3805970149253728,2.3805970149253728,2.3805970149253728,2.3805970149253728]
[null,null,null,null,null,null,null,null,null,null,null,null,null,null,null,null,null,null,null,null,null,null,null,7.5,4.6768656716417905,4.2399999999999993,3.8031343283582082,3.3662686567164175,2.9294029850746268,2.4925373134328357,2.4925373134328357,2.4925373134328357,2.4925373134328357,2.4925373134328357]
[null,null,null,null,null,null,null,null,null,null,null,null,null,null,null,null,null,null,null,null,null,null,null,10,5.408385093167702,4.8571428571428577,4.3059006211180133,3.7546583850931681,3.2034161490683233,2.6521739130434785,2.6521739130434785,2.6521739130434785,2.6521739130434785,2.6521739130434785]
[null,null,null,null,null,null,null,null,null,null,null,null,null,null,null,null,null,null,null,null,null,null,null,12.5,5.7557506053268783,5.1571428571428584,4.5585351089588384,3.9599273607748189,3.3613196125907994,2.7627118644067794,2.7627118644067794,2.7627118644067794,2.7627118644067794,2.7627118644067794]
[null,null,null,null,null,null,null,null,null,null,null,null,null,null,null,null,null,null,null,null,null,null,null,15,5.988095238095239,5.3571428571428577,4.7261904761904763,4.0952380952380958,3.4642857142857144,2.8333333333333335,2.8333333333333335,2.8333333333333335,2.8333333333333335,2.8333333333333335]
[null,null,null,null,null,null,null,null,null,null,null,null,null,null,null,null,null,null,null,null,null,null,null,17.5,6.3376887340301966,5.6571428571428566,4.9765969802555166,4.2960511033681765,3.6155052264808365,2.934959349593496,2.934959349593496,2.934959349593496,2.934959349593496,2.934959349593496]
[null,null,null,null,null,null,null,null,null,null,null,null,null,null,null,null,null,null,null,null,null,null,null,20,6.5714285714285712,5.8571428571428568,5.1428571428571423,4.4285714285714288,3.7142857142857144,3,3,3,3,3]
[null,null,null,null,null,null,null,null,null,null,null,null,null,null,null,null,null,null,null,null,null,null,null,22.5]
[null,null,null,null,null,null,null,null,null,null,null,null,null,null,null,null,null,null,null,null,null,null,null,25]
[null,null,null,null,null,null,null,null,null,null,null,null,null,null,null,null,null,null,null,null,null,null,null,27.5]
[null,null,null,null,null,null,null,null,null,null,null,null,null,null,null,null,null,null,null,null,null,null,null,30]
[null,null,null,null,null,null,null,null,null,null,null,null,null,null,null,null,null,null,null,null,null,null,null,null,"WPL 34"]
[null,null,null,null,null,null,null,null,null,null,null,null,null,null,null,null,null,null,null,null,null,null,null,"Außentemp","30 °C","35 °C","40 °C","45 °C","50 °C","55 °C","60 °C","65 °C","70 °C","75 °C"]
[null,null,null,null,null,null,null,null,null,null,null,null,null,null,null,null,null,null,null,null,null,null,null,-20,1.8300248138957813,1.7307692307692306,1.6315136476426799,1.532258064516129,1.4306027164685908,1.3289473684210527]
[null,null,null,null,null,null,null,null,null,null,null,null,null,null,null,null,null,null,null,null,null,null,null,-17.5,2.1291487795903343,2.0076045627376424,1.8860603458849503,1.7645161290322582,1.6355217720879307,1.5065274151436034]
[null,null,null,null,null,null,null,null,null,null,null,null,null,null,null,null,null,null,null,null,null,null,null,-15,2.3233414485696895,2.1886792452830188,2.0540170419963482,1.9193548387096775,1.7713657310431503,1.6233766233766234]
[null,null,null,null,null,null,null,null,null,null,null,null,null,null,null,null,null,null,null,null,null,null,null,-12.5,2.5615522311650456,2.413003324713705,2.2644544182623645,2.1159055118110239,1.9505986803076718,1.7852918488043199]
[null,null,null,null,null,null,null,null,null,null,null,null,null,null,null,null,null,null,null,null,null,null,null,-10,2.7151353412123518,2.5573770491803276,2.3996187571483034,2.2418604651162792,2.0666518162107579,1.8914431673052363]
[null,null,null,null,null,null,null,null,null,null,null,null,null,null,null,null,null,null,null,null,null,null,null,-7.5,2.9396645021645025,2.7678571428571432,2.596049783549784,2.4242424242424243,2.2374376678174146,2.0506329113924049]
[null,null,null,null,null,null,null,null,null,null,null,null,null,null,null,null,null,null,null,null,null,null,null,-5,3.0742650918635173,2.8917322834645671,2.709199475065617,2.5266666666666668,2.3195921237693389,2.1125175808720105]
[null,null,null,null,null,null,null,null,null,null,null,null,null,null,null,null,null,null,null,null,null,null,null,-2.5,3.2726354999265239,3.0739299610894943,2.8752244222524648,2.6765188834154352,2.4409317342534278,2.2053445850914208]
[null,null,null,null,null,null,null,null,null,null,null,null,null,null,null,null,null,null,null,null,null,null,null,0,3.4025834196565912,3.1930501930501936,2.9835169664437959,2.7739837398373983,2.5206064972042124,2.2672292545710264]
[null,null,null,null,null,null,null,null,null,null,null,null,null,null,null,null,null,null,null,null,null,null,null,2.5,3.4088235294117646,3.25,3.0911764705882354,2.9323529411764708,2.6594754396604001,2.3865979381443299]
[null,null,null,null,null,null,null,null,null,null,null,null,null,null,null,null,null,null,null,null,null,null,null,5,3.3576480103526363,3.2596441281138788,3.1616402458751214,3.0636363636363635,2.785828877005347,2.5080213903743309]
[null,null,null,null,null,null,null,null,null,null,null,null,null,null,null,null,null,null,null,null,null,null,null,7.5,4.3988388788313868,4.0240963855421681,3.6493538922529494,3.2746113989637302,2.9859295526928702,2.6972477064220182]
[null,null,null,null,null,null,null,null,null,null,null,null,null,null,null,null,null,null,null,null,null,null,null,10,4.5601648351648354,4.1785714285714288,3.7969780219780223,3.4153846153846152,3.1130977130977131,2.810810810810811]
[null,null,null,null,null,null,null,null,null,null,null,null,null,null,null,null,null,null,null,null,null,null,null,12.5,4.803865379643196,4.4098939929328624,4.0159226062225288,3.6219512195121957,3.3015922317400124,2.9812332439678286]
[null,null,null,null,null,null,null,null,null,null,null,null,null,null,null,null,null,null,null,null,null,null,null,15,4.9633173843700158,4.5614035087719298,4.1594896331738438,3.7575757575757578,3.4254545454545458,3.0933333333333333]
[null,null,null,null,null,null,null,null,null,null,null,null,null,null,null,null,null,null,null,null,null,null,null,17.5,5.1201704545454554,4.7326388888888893,4.3451073232323232,3.9575757575757575,3.6034597947983773,3.2493438320209975]
[null,null,null,null,null,null,null,null,null,null,null,null,null,null,null,null,null,null,null,null,null,null,null,20,5.2217868338558002,4.8448275862068968,4.4678683385579934,4.0909090909090908,3.720779220779221,3.3506493506493507]
[null,null,null,null,null,null,null,null,null,null,null,null,null,null,null,null,null,null,null,null,null,null,null,22.5]
[null,null,null,null,null,null,null,null,null,null,null,null,null,null,null,null,null,null,null,null,null,null,null,25]
[null,null,null,null,null,null,null,null,null,null,null,null,null,null,null,null,null,null,null,null,null,null,null,27.5]
[null,null,null,null,null,null,null,null,null,null,null,null,null,null,null,null,null,null,null,null,null,null,null,30]
[null,null,null,null,null,null,null,null,null,null,null,null,null,null,null,null,null,null,null,null,null,null,null,null,"WPL 47"]
[null,null,null,null,null,null,null,null,null,null,null,null,null,null,null,null,null,null,null,null,null,null,null,"Außentemp","30 °C","35 °C","40 °C","45 °C","50 °C","55 °C","60 °C","65 °C","70 °C","75 °C"]
[null,null,null,null,null,null,null,null,null,null,null,null,null,null,null,null,null,null,null,null,null,null,null,-20,2.2564935064935066,2.1363636363636362,2.0162337662337659,1.8961038961038961,1.7850084697910784,1.673913043478261]
[null,null,null,null,null,null,null,null,null,null,null,null,null,null,null,null,null,null,null,null,null,null,null,-17.5,2.4767783989317156,2.3451327433628317,2.2134870877939479,2.0818414322250636,1.9534477139527047,1.8250539956803455]
[null,null,null,null,null,null,null,null,null,null,null,null,null,null,null,null,null,null,null,null,null,null,null,-15,2.6161254815630159,2.4782608695652173,2.3403962575674186,2.20253164556962,2.0636314141826593,1.9247311827956985]
[null,null,null,null,null,null,null,null,null,null,null,null,null,null,null,null,null,null,null,null,null,null,null,-12.5,2.8392591999488888,2.6782387806943269,2.517218361439765,2.3561979421852035,2.2021753513333655,2.0481527604815279]
[null,null,null,null,null,null,null,null,null,null,null,null,null,null,null,null,null,null,null,null,null,null,null,-10,2.9821191590416989,2.8058252427184467,2.6295313263951945,2.4532374100719427,2.2894990295795821,2.1257606490872214]
[null,null,null,null,null,null,null,null,null,null,null,null,null,null,null,null,null,null,null,null,null,null,null,-7.5,3.183218101822753,2.9864864864864864,2.7897548711502198,2.5930232558139537,2.4141586867305063,2.2352941176470589]
[null,null,null,null,null,null,null,null,null,null,null,null,null,null,null,null,null,null,null,null,null,null,null,-5,3.3230716402247049,3.1092814371257482,2.8954912340267915,2.6817010309278349,2.4793786539920557,2.277056277056277]
[null,null,null,null,null,null,null,null,null,null,null,null,null,null,null,null,null,null,null,null,null,null,null,-2.5,3.5312200478660216,3.2921013412816693,3.052982634697317,2.8138639281129647,2.5762781591261499,2.3386923901393355]
[null,null,null,null,null,null,null,null,null,null,null,null,null,null,null,null,null,null,null,null,null,null,null,0,3.6689094447816166,3.4130757800891529,3.1572421153966892,2.9014084507042255,2.6402675906343278,2.3791267305644297]
[null,null,null,null,null,null,null,null,null,null,null,null,null,null,null,null,null,null,null,null,null,null,null,2.5,4.0337587006960565,3.7,3.3662412993039443,3.0324825986078885,2.7512509704838282,2.4700193423597678]
[null,null,null,null,null,null,null,null,null,null,null,null,null,null,null,null,null,null,null,null,null,null,null,5,4.1385342789598107,3.8,3.4614657210401889,3.1229314420803784,2.8498888747328044,2.5768463073852299]
[null,null,null,null,null,null,null,null,null,null,null,null,null,null,null,null,null,null,null,null,null,null,null,7.5,4.318788732394367,3.9765258215962449,3.6342629107981224,3.2919999999999998,3.007301369863014,2.7226027397260277]
[null,null,null,null,null,null,null,null,null,null,null,null,null,null,null,null,null,null,null,null,null,null,null,10,4.7234238765928911,4.295774647887324,3.8681254191817569,3.4404761904761902,3.1130952380952381,2.7857142857142856]
[null,null,null,null,null,null,null,null,null,null,null,null,null,null,null,null,null,null,null,null,null,null,null,12.5,4.8911043755035202,4.4608938547486039,4.0306833339936876,3.6004728132387713,3.2699944711355142,2.9395161290322576]
[null,null,null,null,null,null,null,null,null,null,null,null,null,null,null,null,null,null,null,null,null,null,null,15,5.0012254901960773,4.5694444444444438,4.1376633986928102,3.7058823529411766,3.3729411764705883,3.04]
[null,null,null,null,null,null,null,null,null,null,null,null,null,null,null,null,null,null,null,null,null,null,null,17.5,5.0729411764705885,4.666666666666667,4.2603921568627454,3.8541176470588243,3.4853592187863294,3.116600790513834]
[null,null,null,null,null,null,null,null,null,null,null,null,null,null,null,null,null,null,null,null,null,null,null,20,5.0500000000000007,4.7,4.3499999999999996,4,3.6,3.2]
[null,null,null,null,null,null,null,null,null,null,null,null,null,null,null,null,null,null,null,null,null,null,null,22.5]
[null,null,null,null,null,null,null,null,null,null,null,null,null,null,null,null,null,null,null,null,null,null,null,25]
[null,null,null,null,null,null,null,null,null,null,null,null,null,null,null,null,null,null,null,null,null,null,null,27.5]
[null,null,null,null,null,null,null,null,null,null,null,null,null,null,null,null,null,null,null,null,null,null,null,30]
[null,null,null,null,null,null,null,null,null,null,null,null,null,null,null,null,null,null,null,null,null,null,null,null,"WPL 57"]
[null,null,null,null,null,null,null,null,null,null,null,null,null,null,null,null,null,null,null,null,null,null,null,"Außentemp","30 °C","35 °C","40 °C","45 °C","50 °C","55 °C","60 °C","65 °C","70 °C","75 °C"]
[null,null,null,null,null,null,null,null,null,null,null,null,null,null,null,null,null,null,null,null,null,null,null,-20,2.2089983489268024,2.0886075949367089,1.9682168409466154,1.847826086956522,1.7601962293189688,1.6725663716814156]
[null,null,null,null,null,null,null,null,null,null,null,null,null,null,null,null,null,null,null,null,null,null,null,-17.5,2.392509439738749,2.2609756097560978,2.1294417797734466,1.9979079497907954,1.8900689574737948,1.7822299651567943]
[null,null,null,null,null,null,null,null,null,null,null,null,null,null,null,null,null,null,null,null,null,null,null,-15,2.5076530612244889,2.3690476190476186,2.2304421768707483,2.0918367346938775,1.9726425052779732,1.853448275862069]
[null,null,null,null,null,null,null,null,null,null,null,null,null,null,null,null,null,null,null,null,null,null,null,-12.5,2.6417643364785421,2.4924295364546931,2.3430947364308441,2.1937599364069951,2.0646817214064646,1.9356035064059343]
[null,null,null,null,null,null,null,null,null,null,null,null,null,null,null,null,null,null,null,null,null,null,null,-10,2.7282403711610215,2.5717566016073476,2.4152728320536738,2.2587890625,2.1235805777616279,1.988372093023256]
[null,null,null,null,null,null,null,null,null,null,null,null,null,null,null,null,null,null,null,null,null,null,null,-7.5,2.8518994114499727,2.685393258426966,2.5188871054039592,2.3523809523809525,2.2087108013937282,2.065040650406504]
[null,null,null,null,null,null,null,null,null,null,null,null,null,null,null,null,null,null,null,null,null,null,null,-5,2.9949617958847536,2.8141263940520442,2.6332909922193348,2.452455590386625,2.2945507765597721,2.1366459627329188]
[null,null,null,null,null,null,null,null,null,null,null,null,null,null,null,null,null,null,null,null,null,null,null,-2.5,3.2065403469079943,3.0036764705882355,2.8008125942684767,2.597948717948718,2.4186804955344279,2.2394122731201382]
[null,null,null,null,null,null,null,null,null,null,null,null,null,null,null,null,null,null,null,null,null,null,null,0,3.3456078657585104,3.1277372262773722,2.9098665867962339,2.6919959473150961,2.4985043457900886,2.3050127442650807]
[null,null,null,null,null,null,null,null,null,null,null,null,null,null,null,null,null,null,null,null,null,null,null,2.5,3.4055045871559635,3.2,2.9944954128440369,2.7889908256880731,2.5776484267543918,2.3663060278207104]
[null,null,null,null,null,null,null,null,null,null,null,null,null,null,null,null,null,null,null,null,null,null,null,5,3.7,3.4,3.0999999999999996,2.8,2.5808510638297872,2.3617021276595747]
[null,null,null,null,null,null,null,null,null,null,null,null,null,null,null,null,null,null,null,null,null,null,null,7.5,3.8463951018368112,3.5245283018867926,3.2026615019367739,2.8807947019867552,2.6702824084646419,2.4597701149425286]
[null,null,null,null,null,null,null,null,null,null,null,null,null,null,null,null,null,null,null,null,null,null,null,10,4.1529213483146066,3.7752808988764044,3.3976404494382022,3.02,2.840508474576271,2.6610169491525419]
[null,null,null,null,null,null,null,null,null,null,null,null,null,null,null,null,null,null,null,null,null,null,null,12.5,4.3707372572815544,3.9843750000000009,3.598012742718447,3.211650485436893,3.0020046447118025,2.7923588039867115]
[null,null,null,null,null,null,null,null,null,null,null,null,null,null,null,null,null,null,null,null,null,null,null,15,4.5166666666666675,4.1222222222222227,3.7277777777777779,3.3333333333333335,3.1051912568306013,2.877049180327869]
[null,null,null,null,null,null,null,null,null,null,null,null,null,null,null,null,null,null,null,null,null,null,null,17.5,4.7460514922005554,4.3267108167770427,3.9073701413535304,3.4880294659300182,3.2318984163252678,2.9757673667205169]
[null,null,null,null,null,null,null,null,null,null,null,null,null,null,null,null,null,null,null,null,null,null,null,20,4.8995148995148998,4.4615384615384617,4.0235620235620235,3.5855855855855854,3.3127927927927927,3.04]
[null,null,null,null,null,null,null,null,null,null,null,null,null,null,null,null,null,null,null,null,null,null,null,22.5]
[null,null,null,null,null,null,null,null,null,null,null,null,null,null,null,null,null,null,null,null,null,null,null,25]
[null,null,null,null,null,null,null,null,null,null,null,null,null,null,null,null,null,null,null,null,null,null,null,27.5]
[null,null,null,null,null,null,null,null,null,null,null,null,null,null,null,null,null,null,null,null,null,null,null,30]
[null,null,null,null,null,null,null,null,null,null,null,null,null,null,null,null,null,null,null,null,null,null,null,null,"WPF 10 M"]
[null,null,null,null,null,null,null,null,null,null,null,null,null,null,null,null,null,null,null,null,null,null,null,"Außentemp","30 °C","35 °C","40 °C","45 °C","50 °C","55 °C","60 °C","65 °C","70 °C","75 °C"]
[null,null,null,null,null,null,null,null,null,null,null,null,null,null,null,null,null,null,null,null,null,null,null,-20,5.0075000000000003,4.49,3.93,3.37,2.895,2.42]
[null,null,null,null,null,null,null,null,null,null,null,null,null,null,null,null,null,null,null,null,null,null,null,-17.5,5.0075000000000003,4.49,3.93,3.37,2.895,2.42]
[null,null,null,null,null,null,null,null,null,null,null,null,null,null,null,null,null,null,null,null,null,null,null,-15,5.0075000000000003,4.49,3.93,3.37,2.895,2.42]
[null,null,null,null,null,null,null,null,null,null,null,null,null,null,null,null,null,null,null,null,null,null,null,-12.5,5.0075000000000003,4.49,3.93,3.37,2.895,2.42]
[null,null,null,null,null,null,null,null,null,null,null,null,null,null,null,null,null,null,null,null,null,null,null,-10,5.0075000000000003,4.49,3.93,3.37,2.895,2.42]
[null,null,null,null,null,null,null,null,null,null,null,null,null,null,null,null,null,null,null,null,null,null,null,-7.5,5.0075000000000003,4.49,3.93,3.37,2.895,2.42]
[null,null,null,null,null,null,null,null,null,null,null,null,null,null,null,null,null,null,null,null,null,null,null,-5,5.0075000000000003,4.49,3.93,3.37,2.895,2.42]
[null,null,null,null,null,null,null,null,null,null,null,null,null,null,null,null,null,null,null,null,null,null,null,-2.5,5.0075000000000003,4.49,3.93,3.37,2.895,2.42]
[null,null,null,null,null,null,null,null,null,null,null,null,null,null,null,null,null,null,null,null,null,null,null,0,5.0075000000000003,4.49,3.93,3.37,2.895,2.42]
[null,null,null,null,null,null,null,null,null,null,null,null,null,null,null,null,null,null,null,null,null,null,null,2.5,5.0075000000000003,4.49,3.93,3.37,2.895,2.42]
[null,null,null,null,null,null,null,null,null,null,null,null,null,null,null,null,null,null,null,null,null,null,null,5,5.0075000000000003,4.49,3.93,3.37,2.895,2.42]
[null,null,null,null,null,null,null,null,null,null,null,null,null,null,null,null,null,null,null,null,null,null,null,7.5,5.0075000000000003,4.49,3.93,3.37,2.895,2.42]
[null,null,null,null,null,null,null,null,null,null,null,null,null,null,null,null,null,null,null,null,null,null,null,10,5.0075000000000003,4.49,3.93,3.37,2.895,2.42]
[null,null,null,null,null,null,null,null,null,null,null,null,null,null,null,null,null,null,null,null,null,null,null,12.5,5.0075000000000003,4.49,3.93,3.37,2.895,2.42]
[null,null,null,null,null,null,null,null,null,null,null,null,null,null,null,null,null,null,null,null,null,null,null,15,5.0075000000000003,4.49,3.93,3.37,2.895,2.42]
[null,null,null,null,null,null,null,null,null,null,null,null,null,null,null,null,null,null,null,null,null,null,null,17.5,5.0075000000000003,4.49,3.93,3.37,2.895,2.42]
[null,null,null,null,null,null,null,null,null,null,null,null,null,null,null,null,null,null,null,null,null,null,null,20,5.0075000000000003,4.49,3.93,3.37,2.895,2.42]
[null,null,null,null,null,null,null,null,null,null,null,null,null,null,null,null,null,null,null,null,null,null,null,22.5,5.0075000000000003,4.49,3.93,3.37,2.895,2.42]
[null,null,null,null,null,null,null,null,null,null,null,null,null,null,null,null,null,null,null,null,null,null,null,25,5.0075000000000003,4.49,3.93,3.37,2.895,2.42]
[null,null,null,null,null,null,null,null,null,null,null,null,null,null,null,null,null,null,null,null,null,null,null,27.5,5.0075000000000003,4.49,3.93,3.37,2.895,2.42]
[null,null,null,null,null,null,null,null,null,null,null,null,null,null,null,null,null,null,null,null,null,null,null,30,5.0075000000000003,4.49,3.93,3.37,2.895,2.42]
[null,null,null,null,null,null,null,null,null,null,null,null,null,null,null,null,null,null,null,null,null,null,null,null,"WPF 13 M"]
[null,null,null,null,null,null,null,null,null,null,null,null,null,null,null,null,null,null,null,null,null,null,null,"Außentemp","30 °C","35 °C","40 °C","45 °C","50 °C","55 °C","60 °C","65 °C","70 °C","75 °C"]
[null,null,null,null,null,null,null,null,null,null,null,null,null,null,null,null,null,null,null,null,null,null,null,-20,5.0625,4.57,4.0350000000000001,3.5,3.05,2.6]
[null,null,null,null,null,null,null,null,null,null,null,null,null,null,null,null,null,null,null,null,null,null,null,-17.5,5.0625,4.57,4.0350000000000001,3.5,3.05,2.6]
[null,null,null,null,null,null,null,null,null,null,null,null,null,null,null,null,null,null,null,null,null,null,null,-15,5.0625,4.57,4.0350000000000001,3.5,3.05,2.6]
[null,null,null,null,null,null,null,null,null,null,null,null,null,null,null,null,null,null,null,null,null,null,null,-12.5,5.0625,4.57,4.0350000000000001,3.5,3.05,2.6]
[null,null,null,null,null,null,null,null,null,null,null,null,null,null,null,null,null,null,null,null,null,null,null,-10,5.0625,4.57,4.0350000000000001,3.5,3.05,2.6]
[null,null,null,null,null,null,null,null,null,null,null,null,null,null,null,null,null,null,null,null,null,null,null,-7.5,5.0625,4.57,4.0350000000000001,3.5,3.05,2.6]
[null,null,null,null,null,null,null,null,null,null,null,null,null,null,null,null,null,null,null,null,null,null,null,-5,5.0625,4.57,4.0350000000000001,3.5,3.05,2.6]
[null,null,null,null,null,null,null,null,null,null,null,null,null,null,null,null,null,null,null,null,null,null,null,-2.5,5.0625,4.57,4.0350000000000001,3.5,3.05,2.6]
[null,null,null,null,null,null,null,null,null,null,null,null,null,null,null,null,null,null,null,null,null,null,null,0,5.0625,4.57,4.0350000000000001,3.5,3.05,2.6]
[null,null,null,null,null,null,null,null,null,null,null,null,null,null,null,null,null,null,null,null,null,null,null,2.5,5.0625,4.57,4.0350000000000001,3.5,3.05,2.6]
[null,null,null,null,null,null,null,null,null,null,null,null,null,null,null,null,null,null,null,null,null,null,null,5,5.0625,4.57,4.0350000000000001,3.5,3.05,2.6]
[null,null,null,null,null,null,null,null,null,null,null,null,null,null,null,null,null,null,null,null,null,null,null,7.5,5.0625,4.57,4.0350000000000001,3.5,3.05,2.6]
[null,null,null,null,null,null,null,null,null,null,null,null,null,null,null,null,null,null,null,null,null,null,null,10,5.0625,4.57,4.0350000000000001,3.5,3.05,2.6]
[null,null,null,null,null,null,null,null,null,null,null,null,null,null,null,null,null,null,null,null,null,null,null,12.5,5.0625,4.57,4.0350000000000001,3.5,3.05,2.6]
[null,null,null,null,null,null,null,null,null,null,null,null,null,null,null,null,null,null,null,null,null,null,null,15,5.0625,4.57,4.0350000000000001,3.5,3.05,2.6]
[null,null,null,null,null,null,null,null,null,null,null,null,null,null,null,null,null,null,null,null,null,null,null,17.5,5.0625,4.57,4.0350000000000001,3.5,3.05,2.6]
[null,null,null,null,null,null,null,null,null,null,null,null,null,null,null,null,null,null,null,null,null,null,null,20,5.0625,4.57,4.0350000000000001,3.5,3.05,2.6]
[null,null,null,null,null,null,null,null,null,null,null,null,null,null,null,null,null,null,null,null,null,null,null,22.5,5.0625,4.57,4.0350000000000001,3.5,3.05,2.6]
[null,null,null,null,null,null,null,null,null,null,null,null,null,null,null,null,null,null,null,null,null,null,null,25,5.0625,4.57,4.0350000000000001,3.5,3.05,2.6]
[null,null,null,null,null,null,null,null,null,null,null,null,null,null,null,null,null,null,null,null,null,null,null,27.5,5.0625,4.57,4.0350000000000001,3.5,3.05,2.6]
[null,null,null,null,null,null,null,null,null,null,null,null,null,null,null,null,null,null,null,null,null,null,null,30,5.0625,4.57,4.0350000000000001,3.5,3.05,2.6]
[null,null,null,null,null,null,null,null,null,null,null,null,null,null,null,null,null,null,null,null,null,null,null,null,"WPF 16 M"]
[null,null,null,null,null,null,null,null,null,null,null,null,null,null,null,null,null,null,null,null,null,null,null,"Außentemp","30 °C","35 °C","40 °C","45 °C","50 °C","55 °C","60 °C","65 °C","70 °C","75 °C"]
[null,null,null,null,null,null,null,null,null,null,null,null,null,null,null,null,null,null,null,null,null,null,null,-20,4.8174999999999999,4.3499999999999996,3.7850000000000001,3.22,2.85,2.48]
[null,null,null,null,null,null,null,null,null,null,null,null,null,null,null,null,null,null,null,null,null,null,null,-17.5,4.8174999999999999,4.3499999999999996,3.7850000000000001,3.22,2.85,2.48]
[null,null,null,null,null,null,null,null,null,null,null,null,null,null,null,null,null,null,null,null,null,null,null,-15,4.8174999999999999,4.3499999999999996,3.7850000000000001,3.22,2.85,2.48]
[null,null,null,null,null,null,null,null,null,null,null,null,null,null,null,null,null,null,null,null,null,null,null,-12.5,4.8174999999999999,4.3499999999999996,3.7850000000000001,3.22,2.85,2.48]
[null,null,null,null,null,null,null,null,null,null,null,null,null,null,null,null,null,null,null,null,null,null,null,-10,4.8174999999999999,4.3499999999999996,3.7850000000000001,3.22,2.85,2.48]
[null,null,null,null,null,null,null,null,null,null,null,null,null,null,null,null,null,null,null,null,null,null,null,-7.5,4.8174999999999999,4.3499999999999996,3.7850000000000001,3.22,2.85,2.48]
[null,null,null,null,null,null,null,null,null,null,null,null,null,null,null,null,null,null,null,null,null,null,null,-5,4.8174999999999999,4.3499999999999996,3.7850000000000001,3.22,2.85,2.48]
[null,null,null,null,null,null,null,null,null,null,null,null,null,null,null,null,null,null,null,null,null,null,null,-2.5,4.8174999999999999,4.3499999999999996,3.7850000000000001,3.22,2.85,2.48]
[null,null,null,null,null,null,null,null,null,null,null,null,null,null,null,null,null,null,null,null,null,null,null,0,4.8174999999999999,4.3499999999999996,3.7850000000000001,3.22,2.85,2.48]
[null,null,null,null,null,null,null,null,null,null,null,null,null,null,null,null,null,null,null,null,null,null,null,2.5,4.8174999999999999,4.3499999999999996,3.7850000000000001,3.22,2.85,2.48]
[null,null,null,null,null,null,null,null,null,null,null,null,null,null,null,null,null,null,null,null,null,null,null,5,4.8174999999999999,4.3499999999999996,3.7850000000000001,3.22,2.85,2.48]
[null,null,null,null,null,null,null,null,null,null,null,null,null,null,null,null,null,null,null,null,null,null,null,7.5,4.8174999999999999,4.3499999999999996,3.7850000000000001,3.22,2.85,2.48]
[null,null,null,null,null,null,null,null,null,null,null,null,null,null,null,null,null,null,null,null,null,null,null,10,4.8174999999999999,4.3499999999999996,3.7850000000000001,3.22,2.85,2.48]
[null,null,null,null,null,null,null,null,null,null,null,null,null,null,null,null,null,null,null,null,null,null,null,12.5,4.8174999999999999,4.3499999999999996,3.7850000000000001,3.22,2.85,2.48]
[null,null,null,null,null,null,null,null,null,null,null,null,null,null,null,null,null,null,null,null,null,null,null,15,4.8174999999999999,4.3499999999999996,3.7850000000000001,3.22,2.85,2.48]
[null,null,null,null,null,null,null,null,null,null,null,null,null,null,null,null,null,null,null,null,null,null,null,17.5,4.8174999999999999,4.3499999999999996,3.7850000000000001,3.22,2.85,2.48]
[null,null,null,null,null,null,null,null,null,null,null,null,null,null,null,null,null,null,null,null,null,null,null,20,4.8174999999999999,4.3499999999999996,3.7850000000000001,3.22,2.85,2.48]
[null,null,null,null,null,null,null,null,null,null,null,null,null,null,null,null,null,null,null,null,null,null,null,22.5,4.8174999999999999,4.3499999999999996,3.7850000000000001,3.22,2.85,2.48]
[null,null,null,null,null,null,null,null,null,null,null,null,null,null,null,null,null,null,null,null,null,null,null,25,4.8174999999999999,4.3499999999999996,3.7850000000000001,3.22,2.85,2.48]
[null,null,null,null,null,null,null,null,null,null,null,null,null,null,null,null,null,null,null,null,null,null,null,27.5,4.8174999999999999,4.3499999999999996,3.7850000000000001,3.22,2.85,2.48]
[null,null,null,null,null,null,null,null,null,null,null,null,null,null,null,null,null,null,null,null,null,null,null,30,4.8174999999999999,4.3499999999999996,3.7850000000000001,3.22,2.85,2.48]
[null,null,null,null,null,null,null,null,null,null,null,null,null,null,null,null,null,null,null,null,null,null,null,null,"WPF 20"]
[null,null,null,null,null,null,null,null,null,null,null,null,null,null,null,null,null,null,null,null,null,null,null,"Außentemp","30 °C","35 °C","40 °C","45 °C","50 °C","55 °C","60 °C","65 °C","70 °C","75 °C"]
[null,null,null,null,null,null,null,null,null,null,null,null,null,null,null,null,null,null,null,null,null,null,null,-20,5.1000000000000005,4.66,4.2300000000000004,3.8,3.3499999999999996,2.9]
[null,null,null,null,null,null,null,null,null,null,null,null,null,null,null,null,null,null,null,null,null,null,null,-17.5,5.1000000000000005,4.66,4.2300000000000004,3.8,3.3499999999999996,2.9]
[null,null,null,null,null,null,null,null,null,null,null,null,null,null,null,null,null,null,null,null,null,null,null,-15,5.1000000000000005,4.66,4.2300000000000004,3.8,3.3499999999999996,2.9]
[null,null,null,null,null,null,null,null,null,null,null,null,null,null,null,null,null,null,null,null,null,null,null,-12.5,5.1000000000000005,4.66,4.2300000000000004,3.8,3.3499999999999996,2.9]
[null,null,null,null,null,null,null,null,null,null,null,null,null,null,null,null,null,null,null,null,null,null,null,-10,5.1000000000000005,4.66,4.2300000000000004,3.8,3.3499999999999996,2.9]
[null,null,null,null,null,null,null,null,null,null,null,null,null,null,null,null,null,null,null,null,null,null,null,-7.5,5.1000000000000005,4.66,4.2300000000000004,3.8,3.3499999999999996,2.9]
[null,null,null,null,null,null,null,null,null,null,null,null,null,null,null,null,null,null,null,null,null,null,null,-5,5.1000000000000005,4.66,4.2300000000000004,3.8,3.3499999999999996,2.9]
[null,null,null,null,null,null,null,null,null,null,null,null,null,null,null,null,null,null,null,null,null,null,null,-2.5,5.1000000000000005,4.66,4.2300000000000004,3.8,3.3499999999999996,2.9]
[null,null,null,null,null,null,null,null,null,null,null,null,null,null,null,null,null,null,null,null,null,null,null,0,5.1000000000000005,4.66,4.2300000000000004,3.8,3.3499999999999996,2.9]
[null,null,null,null,null,null,null,null,null,null,null,null,null,null,null,null,null,null,null,null,null,null,null,2.5,5.1000000000000005,4.66,4.2300000000000004,3.8,3.3499999999999996,2.9]
[null,null,null,null,null,null,null,null,null,null,null,null,null,null,null,null,null,null,null,null,null,null,null,5,5.1000000000000005,4.66,4.2300000000000004,3.8,3.3499999999999996,2.9]
[null,null,null,null,null,null,null,null,null,null,null,null,null,null,null,null,null,null,null,null,null,null,null,7.5,5.1000000000000005,4.66,4.2300000000000004,3.8,3.3499999999999996,2.9]
[null,null,null,null,null,null,null,null,null,null,null,null,null,null,null,null,null,null,null,null,null,null,null,10,5.1000000000000005,4.66,4.2300000000000004,3.8,3.3499999999999996,2.9]
[null,null,null,null,null,null,null,null,null,null,null,null,null,null,null,null,null,null,null,null,null,null,null,12.5,5.1000000000000005,4.66,4.2300000000000004,3.8,3.3499999999999996,2.9]
[null,null,null,null,null,null,null,null,null,null,null,null,null,null,null,null,null,null,null,null,null,null,null,15,5.1000000000000005,4.66,4.2300000000000004,3.8,3.3499999999999996,2.9]
[null,null,null,null,null,null,null,null,null,null,null,null,null,null,null,null,null,null,null,null,null,null,null,17.5,5.1000000000000005,4.66,4.2300000000000004,3.8,3.3499999999999996,2.9]
[null,null,null,null,null,null,null,null,null,null,null,null,null,null,null,null,null,null,null,null,null,null,null,20,5.1000000000000005,4.66,4.2300000000000004,3.8,3.3499999999999996,2.9]
[null,null,null,null,null,null,null,null,null,null,null,null,null,null,null,null,null,null,null,null,null,null,null,22.5,5.1000000000000005,4.66,4.2300000000000004,3.8,3.3499999999999996,2.9]
[null,null,null,null,null,null,null,null,null,null,null,null,null,null,null,null,null,null,null,null,null,null,null,25,5.1000000000000005,4.66,4.2300000000000004,3.8,3.3499999999999996,2.9]
[null,null,null,null,null,null,null,null,null,null,null,null,null,null,null,null,null,null,null,null,null,null,null,27.5,5.1000000000000005,4.66,4.2300000000000004,3.8,3.3499999999999996,2.9]
[null,null,null,null,null,null,null,null,null,null,null,null,null,null,null,null,null,null,null,null,null,null,null,30,5.1000000000000005,4.66,4.2300000000000004,3.8,3.3499999999999996,2.9]
[null,null,null,null,null,null,null,null,null,null,null,null,null,null,null,null,null,null,null,null,null,null,null,null,"WPF 27"]
[null,null,null,null,null,null,null,null,null,null,null,null,null,null,null,null,null,null,null,null,null,null,null,"Außentemp","30 °C","35 °C","40 °C","45 °C","50 °C","55 °C","60 °C","65 °C","70 °C","75 °C"]
[null,null,null,null,null,null,null,null,null,null,null,null,null,null,null,null,null,null,null,null,null,null,null,-20,5.3624999999999998,4.8499999999999996,4.3249999999999993,3.8,3.3,2.8]
[null,null,null,null,null,null,null,null,null,null,null,null,null,null,null,null,null,null,null,null,null,null,null,-17.5,5.3624999999999998,4.8499999999999996,4.3249999999999993,3.8,3.3,2.8]
[null,null,null,null,null,null,null,null,null,null,null,null,null,null,null,null,null,null,null,null,null,null,null,-15,5.3624999999999998,4.8499999999999996,4.3249999999999993,3.8,3.3,2.8]
[null,null,null,null,null,null,null,null,null,null,null,null,null,null,null,null,null,null,null,null,null,null,null,-12.5,5.3624999999999998,4.8499999999999996,4.3249999999999993,3.8,3.3,2.8]
[null,null,null,null,null,null,null,null,null,null,null,null,null,null,null,null,null,null,null,null,null,null,null,-10,5.3624999999999998,4.8499999999999996,4.3249999999999993,3.8,3.3,2.8]
[null,null,null,null,null,null,null,null,null,null,null,null,null,null,null,null,null,null,null,null,null,null,null,-7.5,5.3624999999999998,4.8499999999999996,4.3249999999999993,3.8,3.3,2.8]
[null,null,null,null,null,null,null,null,null,null,null,null,null,null,null,null,null,null,null,null,null,null,null,-5,5.3624999999999998,4.8499999999999996,4.3249999999999993,3.8,3.3,2.8]
[null,null,null,null,null,null,null,null,null,null,null,null,null,null,null,null,null,null,null,null,null,null,null,-2.5,5.3624999999999998,4.8499999999999996,4.3249999999999993,3.8,3.3,2.8]
[null,null,null,null,null,null,null,null,null,null,null,null,null,null,null,null,null,null,null,null,null,null,null,0,5.3624999999999998,4.8499999999999996,4.3249999999999993,3.8,3.3,2.8]
[null,null,null,null,null,null,null,null,null,null,null,null,null,null,null,null,null,null,null,null,null,null,null,2.5,5.3624999999999998,4.8499999999999996,4.3249999999999993,3.8,3.3,2.8]
[null,null,null,null,null,null,null,null,null,null,null,null,null,null,null,null,null,null,null,null,null,null,null,5,5.3624999999999998,4.8499999999999996,4.3249999999999993,3.8,3.3,2.8]
[null,null,null,null,null,null,null,null,null,null,null,null,null,null,null,null,null,null,null,null,null,null,null,7.5,5.3624999999999998,4.8499999999999996,4.3249999999999993,3.8,3.3,2.8]
[null,null,null,null,null,null,null,null,null,null,null,null,null,null,null,null,null,null,null,null,null,null,null,10,5.3624999999999998,4.8499999999999996,4.3249999999999993,3.8,3.3,2.8]
[null,null,null,null,null,null,null,null,null,null,null,null,null,null,null,null,null,null,null,null,null,null,null,12.5,5.3624999999999998,4.8499999999999996,4.3249999999999993,3.8,3.3,2.8]
[null,null,null,null,null,null,null,null,null,null,null,null,null,null,null,null,null,null,null,null,null,null,null,15,5.3624999999999998,4.8499999999999996,4.3249999999999993,3.8,3.3,2.8]
[null,null,null,null,null,null,null,null,null,null,null,null,null,null,null,null,null,null,null,null,null,null,null,17.5,5.3624999999999998,4.8499999999999996,4.3249999999999993,3.8,3.3,2.8]
[null,null,null,null,null,null,null,null,null,null,null,null,null,null,null,null,null,null,null,null,null,null,null,20,5.3624999999999998,4.8499999999999996,4.3249999999999993,3.8,3.3,2.8]
[null,null,null,null,null,null,null,null,null,null,null,null,null,null,null,null,null,null,null,null,null,null,null,22.5,5.3624999999999998,4.8499999999999996,4.3249999999999993,3.8,3.3,2.8]
[null,null,null,null,null,null,null,null,null,null,null,null,null,null,null,null,null,null,null,null,null,null,null,25,5.3624999999999998,4.8499999999999996,4.3249999999999993,3.8,3.3,2.8]
[null,null,null,null,null,null,null,null,null,null,null,null,null,null,null,null,null,null,null,null,null,null,null,27.5,5.3624999999999998,4.8499999999999996,4.3249999999999993,3.8,3.3,2.8]
[null,null,null,null,null,null,null,null,null,null,null,null,null,null,null,null,null,null,null,null,null,null,null,30,5.3624999999999998,4.8499999999999996,4.3249999999999993,3.8,3.3,2.8]
[null,null,null,null,null,null,null,null,null,null,null,null,null,null,null,null,null,null,null,null,null,null,null,null,"WPF 27 HT"]
[null,null,null,null,null,null,null,null,null,null,null,null,null,null,null,null,null,null,null,null,null,null,null,"Außentemp","30 °C","35 °C","40 °C","45 °C","50 °C","55 °C","60 °C","65 °C","70 °C","75 °C"]
[null,null,null,null,null,null,null,null,null,null,null,null,null,null,null,null,null,null,null,null,null,null,null,-20,4.6875,4.34,3.9299999999999997,3.52,3.2350000000000003,2.95,2.7166666666666668,2.4833333333333334,2.25,2]
[null,null,null,null,null,null,null,null,null,null,null,null,null,null,null,null,null,null,null,null,null,null,null,-17.5,4.6875,4.34,3.9299999999999997,3.52,3.2350000000000003,2.95,2.7166666666666668,2.4833333333333334,2.25,2]
[null,null,null,null,null,null,null,null,null,null,null,null,null,null,null,null,null,null,null,null,null,null,null,-15,4.6875,4.34,3.9299999999999997,3.52,3.2350000000000003,2.95,2.7166666666666668,2.4833333333333334,2.25,2]
[null,null,null,null,null,null,null,null,null,null,null,null,null,null,null,null,null,null,null,null,null,null,null,-12.5,4.6875,4.34,3.9299999999999997,3.52,3.2350000000000003,2.95,2.7166666666666668,2.4833333333333334,2.25,2]
[null,null,null,null,null,null,null,null,null,null,null,null,null,null,null,null,null,null,null,null,null,null,null,-10,4.6875,4.34,3.9299999999999997,3.52,3.2350000000000003,2.95,2.7166666666666668,2.4833333333333334,2.25,2]
[null,null,null,null,null,null,null,null,null,null,null,null,null,null,null,null,null,null,null,null,null,null,null,-7.5,4.6875,4.34,3.9299999999999997,3.52,3.2350000000000003,2.95,2.7166666666666668,2.4833333333333334,2.25,2]
[null,null,null,null,null,null,null,null,null,null,null,null,null,null,null,null,null,null,null,null,null,null,null,-5,4.6875,4.34,3.9299999999999997,3.52,3.2350000000000003,2.95,2.7166666666666668,2.4833333333333334,2.25,2]
[null,null,null,null,null,null,null,null,null,null,null,null,null,null,null,null,null,null,null,null,null,null,null,-2.5,4.6875,4.34,3.9299999999999997,3.52,3.2350000000000003,2.95,2.7166666666666668,2.4833333333333334,2.25,2]
[null,null,null,null,null,null,null,null,null,null,null,null,null,null,null,null,null,null,null,null,null,null,null,0,4.6875,4.34,3.9299999999999997,3.52,3.2350000000000003,2.95,2.7166666666666668,2.4833333333333334,2.25,2]
[null,null,null,null,null,null,null,null,null,null,null,null,null,null,null,null,null,null,null,null,null,null,null,2.5,4.6875,4.34,3.9299999999999997,3.52,3.2350000000000003,2.95,2.7166666666666668,2.4833333333333334,2.25,2]
[null,null,null,null,null,null,null,null,null,null,null,null,null,null,null,null,null,null,null,null,null,null,null,5,4.6875,4.34,3.9299999999999997,3.52,3.2350000000000003,2.95,2.7166666666666668,2.4833333333333334,2.25,2]
[null,null,null,null,null,null,null,null,null,null,null,null,null,null,null,null,null,null,null,null,null,null,null,7.5,4.6875,4.34,3.9299999999999997,3.52,3.2350000000000003,2.95,2.7166666666666668,2.4833333333333334,2.25,2]
[null,null,null,null,null,null,null,null,null,null,null,null,null,null,null,null,null,null,null,null,null,null,null,10,4.6875,4.34,3.9299999999999997,3.52,3.2350000000000003,2.95,2.7166666666666668,2.4833333333333334,2.25,2]
[null,null,null,null,null,null,null,null,null,null,null,null,null,null,null,null,null,null,null,null,null,null,null,12.5,4.6875,4.34,3.9299999999999997,3.52,3.2350000000000003,2.95,2.7166666666666668,2.4833333333333334,2.25,2]
[null,null,null,null,null,null,null,null,null,null,null,null,null,null,null,null,null,null,null,null,null,null,null,15,4.6875,4.34,3.9299999999999997,3.52,3.2350000000000003,2.95,2.7166666666666668,2.4833333333333334,2.25,2]
[null,null,null,null,null,null,null,null,null,null,null,null,null,null,null,null,null,null,null,null,null,null,null,17.5,4.6875,4.34,3.9299999999999997,3.52,3.2350000000000003,2.95,2.7166666666666668,2.4833333333333334,2.25,2]
[null,null,null,null,null,null,null,null,null,null,null,null,null,null,null,null,null,null,null,null,null,null,null,20,4.6875,4.34,3.9299999999999997,3.52,3.2350000000000003,2.95,2.7166666666666668,2.4833333333333334,2.25,2]
[null,null,null,null,null,null,null,null,null,null,null,null,null,null,null,null,null,null,null,null,null,null,null,22.5,4.6875,4.34,3.9299999999999997,3.52,3.2350000000000003,2.95,2.7166666666666668,2.4833333333333334,2.25,2]
[null,null,null,null,null,null,null,null,null,null,null,null,null,null,null,null,null,null,null,null,null,null,null,25,4.6875,4.34,3.9299999999999997,3.52,3.2350000000000003,2.95,2.7166666666666668,2.4833333333333334,2.25,2]
[null,null,null,null,null,null,null,null,null,null,null,null,null,null,null,null,null,null,null,null,null,null,null,27.5,4.6875,4.34,3.9299999999999997,3.52,3.2350000000000003,2.95,2.7166666666666668,2.4833333333333334,2.25,2]
[null,null,null,null,null,null,null,null,null,null,null,null,null,null,null,null,null,null,null,null,null,null,null,30,4.6875,4.34,3.9299999999999997,3.52,3.2350000000000003,2.95,2.7166666666666668,2.4833333333333334,2.25,2]
[null,null,null,null,null,null,null,null,null,null,null,null,null,null,null,null,null,null,null,null,null,null,null,null,"WPF 35"]
[null,null,null,null,null,null,null,null,null,null,null,null,null,null,null,null,null,null,null,null,null,null,null,"Außentemp","30 °C","35 °C","40 °C","45 °C","50 °C","55 °C","60 °C","65 °C","70 °C","75 °C"]
[null,null,null,null,null,null,null,null,null,null,null,null,null,null,null,null,null,null,null,null,null,null,null,-20,5.2750000000000004,4.78,4.1400000000000006,3.5,3.15,2.8]
[null,null,null,null,null,null,null,null,null,null,null,null,null,null,null,null,null,null,null,null,null,null,null,-17.5,5.2750000000000004,4.78,4.1400000000000006,3.5,3.15,2.8]
[null,null,null,null,null,null,null,null,null,null,null,null,null,null,null,null,null,null,null,null,null,null,null,-15,5.2750000000000004,4.78,4.1400000000000006,3.5,3.15,2.8]
[null,null,null,null,null,null,null,null,null,null,null,null,null,null,null,null,null,null,null,null,null,null,null,-12.5,5.2750000000000004,4.78,4.1400000000000006,3.5,3.15,2.8]
[null,null,null,null,null,null,null,null,null,null,null,null,null,null,null,null,null,null,null,null,null,null,null,-10,5.2750000000000004,4.78,4.1400000000000006,3.5,3.15,2.8]
[null,null,null,null,null,null,null,null,null,null,null,null,null,null,null,null,null,null,null,null,null,null,null,-7.5,5.2750000000000004,4.78,4.1400000000000006,3.5,3.15,2.8]
[null,null,null,null,null,null,null,null,null,null,null,null,null,null,null,null,null,null,null,null,null,null,null,-5,5.2750000000000004,4.78,4.1400000000000006,3.5,3.15,2.8]
[null,null,null,null,null,null,null,null,null,null,null,null,null,null,null,null,null,null,null,null,null,null,null,-2.5,5.2750000000000004,4.78,4.1400000000000006,3.5,3.15,2.8]
[null,null,null,null,null,null,null,null,null,null,null,null,null,null,null,null,null,null,null,null,null,null,null,0,5.2750000000000004,4.78,4.1400000000000006,3.5,3.15,2.8]
[null,null,null,null,null,null,null,null,null,null,null,null,null,null,null,null,null,null,null,null,null,null,null,2.5,5.2750000000000004,4.78,4.1400000000000006,3.5,3.15,2.8]
[null,null,null,null,null,null,null,null,null,null,null,null,null,null,null,null,null,null,null,null,null,null,null,5,5.2750000000000004,4.78,4.1400000000000006,3.5,3.15,2.8]
[null,null,null,null,null,null,null,null,null,null,null,null,null,null,null,null,null,null,null,null,null,null,null,7.5,5.2750000000000004,4.78,4.1400000000000006,3.5,3.15,2.8]
[null,null,null,null,null,null,null,null,null,null,null,null,null,null,null,null,null,null,null,null,null,null,null,10,5.2750000000000004,4.78,4.1400000000000006,3.5,3.15,2.8]
[null,null,null,null,null,null,null,null,null,null,null,null,null,null,null,null,null,null,null,null,null,null,null,12.5,5.2750000000000004,4.78,4.1400000000000006,3.5,3.15,2.8]
[null,null,null,null,null,null,null,null,null,null,null,null,null,null,null,null,null,null,null,null,null,null,null,15,5.2750000000000004,4.78,4.1400000000000006,3.5,3.15,2.8]
[null,null,null,null,null,null,null,null,null,null,null,null,null,null,null,null,null,null,null,null,null,null,null,17.5,5.2750000000000004,4.78,4.1400000000000006,3.5,3.15,2.8]
[null,null,null,null,null,null,null,null,null,null,null,null,null,null,null,null,null,null,null,null,null,null,null,20,5.2750000000000004,4.78,4.1400000000000006,3.5,3.15,2.8]
[null,null,null,null,null,null,null,null,null,null,null,null,null,null,null,null,null,null,null,null,null,null,null,22.5,5.2750000000000004,4.78,4.1400000000000006,3.5,3.15,2.8]
[null,null,null,null,null,null,null,null,null,null,null,null,null,null,null,null,null,null,null,null,null,null,null,25,5.2750000000000004,4.78,4.1400000000000006,3.5,3.15,2.8]
[null,null,null,null,null,null,null,null,null,null,null,null,null,null,null,null,null,null,null,null,null,null,null,27.5,5.2750000000000004,4.78,4.1400000000000006,3.5,3.15,2.8]
[null,null,null,null,null,null,null,null,null,null,null,null,null,null,null,null,null,null,null,null,null,null,null,30,5.2750000000000004,4.78,4.1400000000000006,3.5,3.15,2.8]
[null,null,null,null,null,null,null,null,null,null,null,null,null,null,null,null,null,null,null,null,null,null,null,null,"WPF 40"]
[null,null,null,null,null,null,null,null,null,null,null,null,null,null,null,null,null,null,null,null,null,null,null,"Außentemp","30 °C","35 °C","40 °C","45 °C","50 °C","55 °C","60 °C","65 °C","70 °C","75 °C"]
[null,null,null,null,null,null,null,null,null,null,null,null,null,null,null,null,null,null,null,null,null,null,null,-20,5.1124999999999998,4.67,4.21,3.75,3.3250000000000002,2.9]
[null,null,null,null,null,null,null,null,null,null,null,null,null,null,null,null,null,null,null,null,null,null,null,-17.5,5.1124999999999998,4.67,4.21,3.75,3.3250000000000002,2.9]
[null,null,null,null,null,null,null,null,null,null,null,null,null,null,null,null,null,null,null,null,null,null,null,-15,5.1124999999999998,4.67,4.21,3.75,3.3250000000000002,2.9]
[null,null,null,null,null,null,null,null,null,null,null,null,null,null,null,null,null,null,null,null,null,null,null,-12.5,5.1124999999999998,4.67,4.21,3.75,3.3250000000000002,2.9]
[null,null,null,null,null,null,null,null,null,null,null,null,null,null,null,null,null,null,null,null,null,null,null,-10,5.1124999999999998,4.67,4.21,3.75,3.3250000000000002,2.9]
[null,null,null,null,null,null,null,null,null,null,null,null,null,null,null,null,null,null,null,null,null,null,null,-7.5,5.1124999999999998,4.67,4.21,3.75,3.3250000000000002,2.9]
[null,null,null,null,null,null,null,null,null,null,null,null,null,null,null,null,null,null,null,null,null,null,null,-5,5.1124999999999998,4.67,4.21,3.75,3.3250000000000002,2.9]
[null,null,null,null,null,null,null,null,null,null,null,null,null,null,null,null,null,null,null,null,null,null,null,-2.5,5.1124999999999998,4.67,4.21,3.75,3.3250000000000002,2.9]
[null,null,null,null,null,null,null,null,null,null,null,null,null,null,null,null,null,null,null,null,null,null,null,0,5.1124999999999998,4.67,4.21,3.75,3.3250000000000002,2.9]
[null,null,null,null,null,null,null,null,null,null,null,null,null,null,null,null,null,null,null,null,null,null,null,2.5,5.1124999999999998,4.67,4.21,3.75,3.3250000000000002,2.9]
[null,null,null,null,null,null,null,null,null,null,null,null,null,null,null,null,null,null,null,null,null,null,null,5,5.1124999999999998,4.67,4.21,3.75,3.3250000000000002,2.9]
[null,null,null,null,null,null,null,null,null,null,null,null,null,null,null,null,null,null,null,null,null,null,null,7.5,5.1124999999999998,4.67,4.21,3.75,3.3250000000000002,2.9]
[null,null,null,null,null,null,null,null,null,null,null,null,null,null,null,null,null,null,null,null,null,null,null,10,5.1124999999999998,4.67,4.21,3.75,3.3250000000000002,2.9]
[null,null,null,null,null,null,null,null,null,null,null,null,null,null,null,null,null,null,null,null,null,null,null,12.5,5.1124999999999998,4.67,4.21,3.75,3.3250000000000002,2.9]
[null,null,null,null,null,null,null,null,null,null,null,null,null,null,null,null,null,null,null,null,null,null,null,15,5.1124999999999998,4.67,4.21,3.75,3.3250000000000002,2.9]
[null,null,null,null,null,null,null,null,null,null,null,null,null,null,null,null,null,null,null,null,null,null,null,17.5,5.1124999999999998,4.67,4.21,3.75,3.3250000000000002,2.9]
[null,null,null,null,null,null,null,null,null,null,null,null,null,null,null,null,null,null,null,null,null,null,null,20,5.1124999999999998,4.67,4.21,3.75,3.3250000000000002,2.9]
[null,null,null,null,null,null,null,null,null,null,null,null,null,null,null,null,null,null,null,null,null,null,null,22.5,5.1124999999999998,4.67,4.21,3.75,3.3250000000000002,2.9]
[null,null,null,null,null,null,null,null,null,null,null,null,null,null,null,null,null,null,null,null,null,null,null,25,5.1124999999999998,4.67,4.21,3.75,3.3250000000000002,2.9]
[null,null,null,null,null,null,null,null,null,null,null,null,null,null,null,null,null,null,null,null,null,null,null,27.5,5.1124999999999998,4.67,4.21,3.75,3.3250000000000002,2.9]
[null,null,null,null,null,null,null,null,null,null,null,null,null,null,null,null,null,null,null,null,null,null,null,30,5.1124999999999998,4.67,4.21,3.75,3.3250000000000002,2.9]
[null,null,null,null,null,null,null,null,null,null,null,null,null,null,null,null,null,null,null,null,null,null,null,null,"WPF 52"]
[null,null,null,null,null,null,null,null,null,null,null,null,null,null,null,null,null,null,null,null,null,null,null,"Außentemp","30 °C","35 °C","40 °C","45 °C","50 °C","55 °C","60 °C","65 °C","70 °C","75 °C"]
[null,null,null,null,null,null,null,null,null,null,null,null,null,null,null,null,null,null,null,null,null,null,null,-20,5.2749999999999995,4.8099999999999996,4.3049999999999997,3.8,3.375,2.95]
[null,null,null,null,null,null,null,null,null,null,null,null,null,null,null,null,null,null,null,null,null,null,null,-17.5,5.2749999999999995,4.8099999999999996,4.3049999999999997,3.8,3.375,2.95]
[null,null,null,null,null,null,null,null,null,null,null,null,null,null,null,null,null,null,null,null,null,null,null,-15,5.2749999999999995,4.8099999999999996,4.3049999999999997,3.8,3.375,2.95]
[null,null,null,null,null,null,null,null,null,null,null,null,null,null,null,null,null,null,null,null,null,null,null,-12.5,5.2749999999999995,4.8099999999999996,4.3049999999999997,3.8,3.375,2.95]
[null,null,null,null,null,null,null,null,null,null,null,null,null,null,null,null,null,null,null,null,null,null,null,-10,5.2749999999999995,4.8099999999999996,4.3049999999999997,3.8,3.375,2.95]
[null,null,null,null,null,null,null,null,null,null,null,null,null,null,null,null,null,null,null,null,null,null,null,-7.5,5.2749999999999995,4.8099999999999996,4.3049999999999997,3.8,3.375,2.95]
[null,null,null,null,null,null,null,null,null,null,null,null,null,null,null,null,null,null,null,null,null,null,null,-5,5.2749999999999995,4.8099999999999996,4.3049999999999997,3.8,3.375,2.95]
[null,null,null,null,null,null,null,null,null,null,null,null,null,null,null,null,null,null,null,null,null,null,null,-2.5,5.2749999999999995,4.8099999999999996,4.3049999999999997,3.8,3.375,2.95]
[null,null,null,null,null,null,null,null,null,null,null,null,null,null,null,null,null,null,null,null,null,null,null,0,5.2749999999999995,4.8099999999999996,4.3049999999999997,3.8,3.375,2.95]
[null,null,null,null,null,null,null,null,null,null,null,null,null,null,null,null,null,null,null,null,null,null,null,2.5,5.2749999999999995,4.8099999999999996,4.3049999999999997,3.8,3.375,2.95]
[null,null,null,null,null,null,null,null,null,null,null,null,null,null,null,null,null,null,null,null,null,null,null,5,5.2749999999999995,4.8099999999999996,4.3049999999999997,3.8,3.375,2.95]
[null,null,null,null,null,null,null,null,null,null,null,null,null,null,null,null,null,null,null,null,null,null,null,7.5,5.2749999999999995,4.8099999999999996,4.3049999999999997,3.8,3.375,2.95]
[null,null,null,null,null,null,null,null,null,null,null,null,null,null,null,null,null,null,null,null,null,null,null,10,5.2749999999999995,4.8099999999999996,4.3049999999999997,3.8,3.375,2.95]
[null,null,null,null,null,null,null,null,null,null,null,null,null,null,null,null,null,null,null,null,null,null,null,12.5,5.2749999999999995,4.8099999999999996,4.3049999999999997,3.8,3.375,2.95]
[null,null,null,null,null,null,null,null,null,null,null,null,null,null,null,null,null,null,null,null,null,null,null,15,5.2749999999999995,4.8099999999999996,4.3049999999999997,3.8,3.375,2.95]
[null,null,null,null,null,null,null,null,null,null,null,null,null,null,null,null,null,null,null,null,null,null,null,17.5,5.2749999999999995,4.8099999999999996,4.3049999999999997,3.8,3.375,2.95]
[null,null,null,null,null,null,null,null,null,null,null,null,null,null,null,null,null,null,null,null,null,null,null,20,5.2749999999999995,4.8099999999999996,4.3049999999999997,3.8,3.375,2.95]
[null,null,null,null,null,null,null,null,null,null,null,null,null,null,null,null,null,null,null,null,null,null,null,22.5,5.2749999999999995,4.8099999999999996,4.3049999999999997,3.8,3.375,2.95]
[null,null,null,null,null,null,null,null,null,null,null,null,null,null,null,null,null,null,null,null,null,null,null,25,5.2749999999999995,4.8099999999999996,4.3049999999999997,3.8,3.375,2.95]
[null,null,null,null,null,null,null,null,null,null,null,null,null,null,null,null,null,null,null,null,null,null,null,27.5,5.2749999999999995,4.8099999999999996,4.3049999999999997,3.8,3.375,2.95]
[null,null,null,null,null,null,null,null,null,null,null,null,null,null,null,null,null,null,null,null,null,null,null,30,5.2749999999999995,4.8099999999999996,4.3049999999999997,3.8,3.375,2.95]
[null,null,null,null,null,null,null,null,null,null,null,null,null,null,null,null,null,null,null,null,null,null,null,null,"WPF 66"]
[null,null,null,null,null,null,null,null,null,null,null,null,null,null,null,null,null,null,null,null,null,null,null,"Außentemp","30 °C","35 °C","40 °C","45 °C","50 °C","55 °C","60 °C","65 °C","70 °C","75 °C"]
[null,null,null,null,null,null,null,null,null,null,null,null,null,null,null,null,null,null,null,null,null,null,null,-20,4.9624999999999995,4.5599999999999996,4.18,3.8,3.375,2.95]
[null,null,null,null,null,null,null,null,null,null,null,null,null,null,null,null,null,null,null,null,null,null,null,-17.5,4.9624999999999995,4.5599999999999996,4.18,3.8,3.375,2.95]
[null,null,null,null,null,null,null,null,null,null,null,null,null,null,null,null,null,null,null,null,null,null,null,-15,4.9624999999999995,4.5599999999999996,4.18,3.8,3.375,2.95]
[null,null,null,null,null,null,null,null,null,null,null,null,null,null,null,null,null,null,null,null,null,null,null,-12.5,4.9624999999999995,4.5599999999999996,4.18,3.8,3.375,2.95]
[null,null,null,null,null,null,null,null,null,null,null,null,null,null,null,null,null,null,null,null,null,null,null,-10,4.9624999999999995,4.5599999999999996,4.18,3.8,3.375,2.95]
[null,null,null,null,null,null,null,null,null,null,null,null,null,null,null,null,null,null,null,null,null,null,null,-7.5,4.9624999999999995,4.5599999999999996,4.18,3.8,3.375,2.95]
[null,null,null,null,null,null,null,null,null,null,null,null,null,null,null,null,null,null,null,null,null,null,null,-5,4.9624999999999995,4.5599999999999996,4.18,3.8,3.375,2.95]
[null,null,null,null,null,null,null,null,null,null,null,null,null,null,null,null,null,null,null,null,null,null,null,-2.5,4.9624999999999995,4.5599999999999996,4.18,3.8,3.375,2.95]
[null,null,null,null,null,null,null,null,null,null,null,null,null,null,null,null,null,null,null,null,null,null,null,0,4.9624999999999995,4.5599999999999996,4.18,3.8,3.375,2.95]
[null,null,null,null,null,null,null,null,null,null,null,null,null,null,null,null,null,null,null,null,null,null,null,2.5,4.9624999999999995,4.5599999999999996,4.18,3.8,3.375,2.95]
[null,null,null,null,null,null,null,null,null,null,null,null,null,null,null,null,null,null,null,null,null,null,null,5,4.9624999999999995,4.5599999999999996,4.18,3.8,3.375,2.95]
[null,null,null,null,null,null,null,null,null,null,null,null,null,null,null,null,null,null,null,null,null,null,null,7.5,4.9624999999999995,4.5599999999999996,4.18,3.8,3.375,2.95]
[null,null,null,null,null,null,null,null,null,null,null,null,null,null,null,null,null,null,null,null,null,null,null,10,4.9624999999999995,4.5599999999999996,4.18,3.8,3.375,2.95]
[null,null,null,null,null,null,null,null,null,null,null,null,null,null,null,null,null,null,null,null,null,null,null,12.5,4.9624999999999995,4.5599999999999996,4.18,3.8,3.375,2.95]
[null,null,null,null,null,null,null,null,null,null,null,null,null,null,null,null,null,null,null,null,null,null,null,15,4.9624999999999995,4.5599999999999996,4.18,3.8,3.375,2.95]
[null,null,null,null,null,null,null,null,null,null,null,null,null,null,null,null,null,null,null,null,null,null,null,17.5,4.9624999999999995,4.5599999999999996,4.18,3.8,3.375,2.95]
[null,null,null,null,null,null,null,null,null,null,null,null,null,null,null,null,null,null,null,null,null,null,null,20,4.9624999999999995,4.5599999999999996,4.18,3.8,3.375,2.95]
[null,null,null,null,null,null,null,null,null,null,null,null,null,null,null,null,null,null,null,null,null,null,null,22.5,4.9624999999999995,4.5599999999999996,4.18,3.8,3.375,2.95]
[null,null,null,null,null,null,null,null,null,null,null,null,null,null,null,null,null,null,null,null,null,null,null,25,4.9624999999999995,4.5599999999999996,4.18,3.8,3.375,2.95]
[null,null,null,null,null,null,null,null,null,null,null,null,null,null,null,null,null,null,null,null,null,null,null,27.5,4.9624999999999995,4.5599999999999996,4.18,3.8,3.375,2.95]
[null,null,null,null,null,null,null,null,null,null,null,null,null,null,null,null,null,null,null,null,null,null,null,30,4.9624999999999995,4.5599999999999996,4.18,3.8,3.375,2.95]
[null,null,null,null,null,null,null,null,null,null,null,null,null,null,null,null,null,null,null,null,null,null,null,null,"WWK 300"]
[null,null,null,null,null,null,null,null,null,null,null,null,null,null,null,null,null,null,null,null,null,null,null,"Außentemp","30 °C","35 °C","40 °C","45 °C","50 °C","55 °C","60 °C","65 °C","70 °C","75 °C"]
[null,null,null,null,null,null,null,null,null,null,null,null,null,null,null,null,null,null,null,null,null,null,null,-20,4.0999999999999996,4.0999999999999996,4.0999999999999996,4.0999999999999996,4.0999999999999996,4.0999999999999996,4.0999999999999996]
[null,null,null,null,null,null,null,null,null,null,null,null,null,null,null,null,null,null,null,null,null,null,null,-17.5,4.0999999999999996,4.0999999999999996,4.0999999999999996,4.0999999999999996,4.0999999999999996,4.0999999999999996,4.0999999999999996]
[null,null,null,null,null,null,null,null,null,null,null,null,null,null,null,null,null,null,null,null,null,null,null,-15,4.0999999999999996,4.0999999999999996,4.0999999999999996,4.0999999999999996,4.0999999999999996,4.0999999999999996,4.0999999999999996]
[null,null,null,null,null,null,null,null,null,null,null,null,null,null,null,null,null,null,null,null,null,null,null,-12.5,4.0999999999999996,4.0999999999999996,4.0999999999999996,4.0999999999999996,4.0999999999999996,4.0999999999999996,4.0999999999999996]
[null,null,null,null,null,null,null,null,null,null,null,null,null,null,null,null,null,null,null,null,null,null,null,-10,4.0999999999999996,4.0999999999999996,4.0999999999999996,4.0999999999999996,4.0999999999999996,4.0999999999999996,4.0999999999999996]
[null,null,null,null,null,null,null,null,null,null,null,null,null,null,null,null,null,null,null,null,null,null,null,-7.5,4.0999999999999996,4.0999999999999996,4.0999999999999996,4.0999999999999996,4.0999999999999996,4.0999999999999996,4.0999999999999996]
[null,null,null,null,null,null,null,null,null,null,null,null,null,null,null,null,null,null,null,null,null,null,null,-5,4.0999999999999996,4.0999999999999996,4.0999999999999996,4.0999999999999996,4.0999999999999996,4.0999999999999996,4.0999999999999996]
[null,null,null,null,null,null,null,null,null,null,null,null,null,null,null,null,null,null,null,null,null,null,null,-2.5,4.0999999999999996,4.0999999999999996,4.0999999999999996,4.0999999999999996,4.0999999999999996,4.0999999999999996,4.0999999999999996]
[null,null,null,null,null,null,null,null,null,null,null,null,null,null,null,null,null,null,null,null,null,null,null,0,4.0999999999999996,4.0999999999999996,4.0999999999999996,4.0999999999999996,4.0999999999999996,4.0999999999999996,4.0999999999999996]
[null,null,null,null,null,null,null,null,null,null,null,null,null,null,null,null,null,null,null,null,null,null,null,2.5,4.0999999999999996,4.0999999999999996,4.0999999999999996,4.0999999999999996,4.0999999999999996,4.0999999999999996,4.0999999999999996]
[null,null,null,null,null,null,null,null,null,null,null,null,null,null,null,null,null,null,null,null,null,null,null,5,4.0999999999999996,4.0999999999999996,4.0999999999999996,4.0999999999999996,4.0999999999999996,4.0999999999999996,4.0999999999999996]
[null,null,null,null,null,null,null,null,null,null,null,null,null,null,null,null,null,null,null,null,null,null,null,7.5,4.0999999999999996,4.0999999999999996,4.0999999999999996,4.0999999999999996,4.0999999999999996,4.0999999999999996,4.0999999999999996]
[null,null,null,null,null,null,null,null,null,null,null,null,null,null,null,null,null,null,null,null,null,null,null,10,4.0999999999999996,4.0999999999999996,4.0999999999999996,4.0999999999999996,4.0999999999999996,4.0999999999999996,4.0999999999999996]
[null,null,null,null,null,null,null,null,null,null,null,null,null,null,null,null,null,null,null,null,null,null,null,12.5,4.0999999999999996,4.0999999999999996,4.0999999999999996,4.0999999999999996,4.0999999999999996,4.0999999999999996,4.0999999999999996]
[null,null,null,null,null,null,null,null,null,null,null,null,null,null,null,null,null,null,null,null,null,null,null,15,4.0999999999999996,4.0999999999999996,4.0999999999999996,4.0999999999999996,4.0999999999999996,4.0999999999999996,4.0999999999999996]
[null,null,null,null,null,null,null,null,null,null,null,null,null,null,null,null,null,null,null,null,null,null,null,17.5,4.0999999999999996,4.0999999999999996,4.0999999999999996,4.0999999999999996,4.0999999999999996,4.0999999999999996,4.0999999999999996]
[null,null,null,null,null,null,null,null,null,null,null,null,null,null,null,null,null,null,null,null,null,null,null,20,4.0999999999999996,4.0999999999999996,4.0999999999999996,4.0999999999999996,4.0999999999999996,4.0999999999999996,4.0999999999999996]
[null,null,null,null,null,null,null,null,null,null,null,null,null,null,null,null,null,null,null,null,null,null,null,22.5,4.0999999999999996,4.0999999999999996,4.0999999999999996,4.0999999999999996,4.0999999999999996,4.0999999999999996,4.0999999999999996]
[null,null,null,null,null,null,null,null,null,null,null,null,null,null,null,null,null,null,null,null,null,null,null,25,4.0999999999999996,4.0999999999999996,4.0999999999999996,4.0999999999999996,4.0999999999999996,4.0999999999999996,4.0999999999999996]
[null,null,null,null,null,null,null,null,null,null,null,null,null,null,null,null,null,null,null,null,null,null,null,27.5,4.0999999999999996,4.0999999999999996,4.0999999999999996,4.0999999999999996,4.0999999999999996,4.0999999999999996,4.0999999999999996]
[null,null,null,null,null,null,null,null,null,null,null,null,null,null,null,null,null,null,null,null,null,null,null,30,4.0999999999999996,4.0999999999999996,4.0999999999999996,4.0999999999999996,4.0999999999999996,4.0999999999999996,4.0999999999999996]
[null,null,null,null,null,null,null,null,null,null,null,null,null,null,null,null,null,null,null,null,null,null,null,null,"LWA 252"]
[null,null,null,null,null,null,null,null,null,null,null,null,null,null,null,null,null,null,null,null,null,null,null,"Außentemp","30 °C","35 °C","40 °C","45 °C","50 °C","55 °C","60 °C","65 °C","70 °C","75 °C"]
[null,null,null,null,null,null,null,null,null,null,null,null,null,null,null,null,null,null,null,null,null,null,null,-20,4.2,4.2,4.2,4.2,4.2,4.2,4.2]
[null,null,null,null,null,null,null,null,null,null,null,null,null,null,null,null,null,null,null,null,null,null,null,-17.5,4.2,4.2,4.2,4.2,4.2,4.2,4.2]
[null,null,null,null,null,null,null,null,null,null,null,null,null,null,null,null,null,null,null,null,null,null,null,-15,4.2,4.2,4.2,4.2,4.2,4.2,4.2]
[null,null,null,null,null,null,null,null,null,null,null,null,null,null,null,null,null,null,null,null,null,null,null,-12.5,4.2,4.2,4.2,4.2,4.2,4.2,4.2]
[null,null,null,null,null,null,null,null,null,null,null,null,null,null,null,null,null,null,null,null,null,null,null,-10,4.2,4.2,4.2,4.2,4.2,4.2,4.2]
[null,null,null,null,null,null,null,null,null,null,null,null,null,null,null,null,null,null,null,null,null,null,null,-7.5,4.2,4.2,4.2,4.2,4.2,4.2,4.2]
[null,null,null,null,null,null,null,null,null,null,null,null,null,null,null,null,null,null,null,null,null,null,null,-5,4.2,4.2,4.2,4.2,4.2,4.2,4.2]
[null,null,null,null,null,null,null,null,null,null,null,null,null,null,null,null,null,null,null,null,null,null,null,-2.5,4.2,4.2,4.2,4.2,4.2,4.2,4.2]
[null,null,null,null,null,null,null,null,null,null,null,null,null,null,null,null,null,null,null,null,null,null,null,0,4.2,4.2,4.2,4.2,4.2,4.2,4.2]
[null,null,null,null,null,null,null,null,null,null,null,null,null,null,null,null,null,null,null,null,null,null,null,2.5,4.2,4.2,4.2,4.2,4.2,4.2,4.2]
[null,null,null,null,null,null,null,null,null,null,null,null,null,null,null,null,null,null,null,null,null,null,null,5,4.2,4.2,4.2,4.2,4.2,4.2,4.2]
[null,null,null,null,null,null,null,null,null,null,null,null,null,null,null,null,null,null,null,null,null,null,null,7.5,4.2,4.2,4.2,4.2,4.2,4.2,4.2]
[null,null,null,null,null,null,null,null,null,null,null,null,null,null,null,null,null,null,null,null,null,null,null,10,4.2,4.2,4.2,4.2,4.2,4.2,4.2]
[null,null,null,null,null,null,null,null,null,null,null,null,null,null,null,null,null,null,null,null,null,null,null,12.5,4.2,4.2,4.2,4.2,4.2,4.2,4.2]
[null,null,null,null,null,null,null,null,null,null,null,null,null,null,null,null,null,null,null,null,null,null,null,15,4.2,4.2,4.2,4.2,4.2,4.2,4.2]
[null,null,null,null,null,null,null,null,null,null,null,null,null,null,null,null,null,null,null,null,null,null,null,17.5,4.2,4.2,4.2,4.2,4.2,4.2,4.2]
[null,null,null,null,null,null,null,null,null,null,null,null,null,null,null,null,null,null,null,null,null,null,null,20,4.2,4.2,4.2,4.2,4.2,4.2,4.2]
[null,null,null,null,null,null,null,null,null,null,null,null,null,null,null,null,null,null,null,null,null,null,null,22.5,4.2,4.2,4.2,4.2,4.2,4.2,4.2]
[null,null,null,null,null,null,null,null,null,null,null,null,null,null,null,null,null,null,null,null,null,null,null,25,4.2,4.2,4.2,4.2,4.2,4.2,4.2]
[null,null,null,null,null,null,null,null,null,null,null,null,null,null,null,null,null,null,null,null,null,null,null,27.5,4.2,4.2,4.2,4.2,4.2,4.2,4.2]
[null,null,null,null,null,null,null,null,null,null,null,null,null,null,null,null,null,null,null,null,null,null,null,30,4.2,4.2,4.2,4.2,4.2,4.2,4.2]
[null,null,null,null,null,null,null,null,null,null,null,null,null,null,null,null,null,null,null,null,null,null,null,null,"LWA 100"]
[null,null,null,null,null,null,null,null,null,null,null,null,null,null,null,null,null,null,null,null,null,null,null,"Außentemp","30 °C","35 °C","40 °C","45 °C","50 °C","55 °C","60 °C","65 °C","70 °C","75 °C"]
[null,null,null,null,null,null,null,null,null,null,null,null,null,null,null,null,null,null,null,null,null,null,null,-20,2.8,2.8,2.8,2.8,2.8,2.8,2.8]
[null,null,null,null,null,null,null,null,null,null,null,null,null,null,null,null,null,null,null,null,null,null,null,-17.5,2.8,2.8,2.8,2.8,2.8,2.8,2.8]
[null,null,null,null,null,null,null,null,null,null,null,null,null,null,null,null,null,null,null,null,null,null,null,-15,2.8,2.8,2.8,2.8,2.8,2.8,2.8]
[null,null,null,null,null,null,null,null,null,null,null,null,null,null,null,null,null,null,null,null,null,null,null,-12.5,2.8,2.8,2.8,2.8,2.8,2.8,2.8]
[null,null,null,null,null,null,null,null,null,null,null,null,null,null,null,null,null,null,null,null,null,null,null,-10,2.8,2.8,2.8,2.8,2.8,2.8,2.8]
[null,null,null,null,null,null,null,null,null,null,null,null,null,null,null,null,null,null,null,null,null,null,null,-7.5,2.8,2.8,2.8,2.8,2.8,2.8,2.8]
[null,null,null,null,null,null,null,null,null,null,null,null,null,null,null,null,null,null,null,null,null,null,null,-5,2.8,2.8,2.8,2.8,2.8,2.8,2.8]
[null,null,null,null,null,null,null,null,null,null,null,null,null,null,null,null,null,null,null,null,null,null,null,-2.5,2.8,2.8,2.8,2.8,2.8,2.8,2.8]
[null,null,null,null,null,null,null,null,null,null,null,null,null,null,null,null,null,null,null,null,null,null,null,0,2.8,2.8,2.8,2.8,2.8,2.8,2.8]
[null,null,null,null,null,null,null,null,null,null,null,null,null,null,null,null,null,null,null,null,null,null,null,2.5,2.8,2.8,2.8,2.8,2.8,2.8,2.8]
[null,null,null,null,null,null,null,null,null,null,null,null,null,null,null,null,null,null,null,null,null,null,null,5,2.8,2.8,2.8,2.8,2.8,2.8,2.8]
[null,null,null,null,null,null,null,null,null,null,null,null,null,null,null,null,null,null,null,null,null,null,null,7.5,2.8,2.8,2.8,2.8,2.8,2.8,2.8]
[null,null,null,null,null,null,null,null,null,null,null,null,null,null,null,null,null,null,null,null,null,null,null,10,2.8,2.8,2.8,2.8,2.8,2.8,2.8]
[null,null,null,null,null,null,null,null,null,null,null,null,null,null,null,null,null,null,null,null,null,null,null,12.5,2.8,2.8,2.8,2.8,2.8,2.8,2.8]
[null,null,null,null,null,null,null,null,null,null,null,null,null,null,null,null,null,null,null,null,null,null,null,15,2.8,2.8,2.8,2.8,2.8,2.8,2.8]
[null,null,null,null,null,null,null,null,null,null,null,null,null,null,null,null,null,null,null,null,null,null,null,17.5,2.8,2.8,2.8,2.8,2.8,2.8,2.8]
[null,null,null,null,null,null,null,null,null,null,null,null,null,null,null,null,null,null,null,null,null,null,null,20,2.8,2.8,2.8,2.8,2.8,2.8,2.8]
[null,null,null,null,null,null,null,null,null,null,null,null,null,null,null,null,null,null,null,null,null,null,null,22.5,2.8,2.8,2.8,2.8,2.8,2.8,2.8]
[null,null,null,null,null,null,null,null,null,null,null,null,null,null,null,null,null,null,null,null,null,null,null,25,2.8,2.8,2.8,2.8,2.8,2.8,2.8]
[null,null,null,null,null,null,null,null,null,null,null,null,null,null,null,null,null,null,null,null,null,null,null,27.5,2.8,2.8,2.8,2.8,2.8,2.8,2.8]
[null,null,null,null,null,null,null,null,null,null,null,null,null,null,null,null,null,null,null,null,null,null,null,30,2.8,2.8,2.8,2.8,2.8,2.8,2.8]
[null,null,null,null,null,null,null,null,null,null,null,null,null,null,null,null,null,null,null,null,null,null,null,null,"WWK 220 electronic"]
[null,null,null,null,null,null,null,null,null,null,null,null,null,null,null,null,null,null,null,null,null,null,null,"Außentemp","30 °C","35 °C","40 °C","45 °C","50 °C","55 °C","60 °C","65 °C","70 °C","75 °C"]
[null,null,null,null,null,null,null,null,null,null,null,null,null,null,null,null,null,null,null,null,null,null,null,-20,3.42,3.42,3.42,3.42,3.42,3.42,3.42]
[null,null,null,null,null,null,null,null,null,null,null,null,null,null,null,null,null,null,null,null,null,null,null,-17.5,3.42,3.42,3.42,3.42,3.42,3.42,3.42]
[null,null,null,null,null,null,null,null,null,null,null,null,null,null,null,null,null,null,null,null,null,null,null,-15,3.42,3.42,3.42,3.42,3.42,3.42,3.42]
[null,null,null,null,null,null,null,null,null,null,null,null,null,null,null,null,null,null,null,null,null,null,null,-12.5,3.42,3.42,3.42,3.42,3.42,3.42,3.42]
[null,null,null,null,null,null,null,null,null,null,null,null,null,null,null,null,null,null,null,null,null,null,null,-10,3.42,3.42,3.42,3.42,3.42,3.42,3.42]
[null,null,null,null,null,null,null,null,null,null,null,null,null,null,null,null,null,null,null,null,null,null,null,-7.5,3.42,3.42,3.42,3.42,3.42,3.42,3.42]
[null,null,null,null,null,null,null,null,null,null,null,null,null,null,null,null,null,null,null,null,null,null,null,-5,3.42,3.42,3.42,3.42,3.42,3.42,3.42]
[null,null,null,null,null,null,null,null,null,null,null,null,null,null,null,null,null,null,null,null,null,null,null,-2.5,3.42,3.42,3.42,3.42,3.42,3.42,3.42]
[null,null,null,null,null,null,null,null,null,null,null,null,null,null,null,null,null,null,null,null,null,null,null,0,3.42,3.42,3.42,3.42,3.42,3.42,3.42]
[null,null,null,null,null,null,null,null,null,null,null,null,null,null,null,null,null,null,null,null,null,null,null,2.5,3.42,3.42,3.42,3.42,3.42,3.42,3.42]
[null,null,null,null,null,null,null,null,null,null,null,null,null,null,null,null,null,null,null,null,null,null,null,5,3.42,3.42,3.42,3.42,3.42,3.42,3.42]
[null,null,null,null,null,null,null,null,null,null,null,null,null,null,null,null,null,null,null,null,null,null,null,7.5,3.42,3.42,3.42,3.42,3.42,3.42,3.42]
[null,null,null,null,null,null,null,null,null,null,null,null,null,null,null,null,null,null,null,null,null,null,null,10,3.42,3.42,3.42,3.42,3.42,3.42,3.42]
[null,null,null,null,null,null,null,null,null,null,null,null,null,null,null,null,null,null,null,null,null,null,null,12.5,3.42,3.42,3.42,3.42,3.42,3.42,3.42]
[null,null,null,null,null,null,null,null,null,null,null,null,null,null,null,null,null,null,null,null,null,null,null,15,3.42,3.42,3.42,3.42,3.42,3.42,3.42]
[null,null,null,null,null,null,null,null,null,null,null,null,null,null,null,null,null,null,null,null,null,null,null,17.5,3.42,3.42,3.42,3.42,3.42,3.42,3.42]
[null,null,null,null,null,null,null,null,null,null,null,null,null,null,null,null,null,null,null,null,null,null,null,20,3.42,3.42,3.42,3.42,3.42,3.42,3.42]
[null,null,null,null,null,null,null,null,null,null,null,null,null,null,null,null,null,null,null,null,null,null,null,22.5,3.42,3.42,3.42,3.42,3.42,3.42,3.42]
[null,null,null,null,null,null,null,null,null,null,null,null,null,null,null,null,null,null,null,null,null,null,null,25,3.42,3.42,3.42,3.42,3.42,3.42,3.42]
[null,null,null,null,null,null,null,null,null,null,null,null,null,null,null,null,null,null,null,null,null,null,null,27.5,3.42,3.42,3.42,3.42,3.42,3.42,3.42]
[null,null,null,null,null,null,null,null,null,null,null,null,null,null,null,null,null,null,null,null,null,null,null,30,3.42,3.42,3.42,3.42,3.42,3.42,3.42]
[null,null,null,null,null,null,null,null,null,null,null,null,null,null,null,null,null,null,null,null,null,null,null,null,"WWK 221 electronic"]
[null,null,null,null,null,null,null,null,null,null,null,null,null,null,null,null,null,null,null,null,null,null,null,"Außentemp","30 °C","35 °C","40 °C","45 °C","50 °C","55 °C","60 °C","65 °C","70 °C","75 °C"]
[null,null,null,null,null,null,null,null,null,null,null,null,null,null,null,null,null,null,null,null,null,null,null,-20,3.42,3.42,3.42,3.42,3.42,3.42,3.42]
[null,null,null,null,null,null,null,null,null,null,null,null,null,null,null,null,null,null,null,null,null,null,null,-17.5,3.42,3.42,3.42,3.42,3.42,3.42,3.42]
[null,null,null,null,null,null,null,null,null,null,null,null,null,null,null,null,null,null,null,null,null,null,null,-15,3.42,3.42,3.42,3.42,3.42,3.42,3.42]
[null,null,null,null,null,null,null,null,null,null,null,null,null,null,null,null,null,null,null,null,null,null,null,-12.5,3.42,3.42,3.42,3.42,3.42,3.42,3.42]
[null,null,null,null,null,null,null,null,null,null,null,null,null,null,null,null,null,null,null,null,null,null,null,-10,3.42,3.42,3.42,3.42,3.42,3.42,3.42]
[null,null,null,null,null,null,null,null,null,null,null,null,null,null,null,null,null,null,null,null,null,null,null,-7.5,3.42,3.42,3.42,3.42,3.42,3.42,3.42]
[null,null,null,null,null,null,null,null,null,null,null,null,null,null,null,null,null,null,null,null,null,null,null,-5,3.42,3.42,3.42,3.42,3.42,3.42,3.42]
[null,null,null,null,null,null,null,null,null,null,null,null,null,null,null,null,null,null,null,null,null,null,null,-2.5,3.42,3.42,3.42,3.42,3.42,3.42,3.42]
[null,null,null,null,null,null,null,null,null,null,null,null,null,null,null,null,null,null,null,null,null,null,null,0,3.42,3.42,3.42,3.42,3.42,3.42,3.42]
[null,null,null,null,null,null,null,null,null,null,null,null,null,null,null,null,null,null,null,null,null,null,null,2.5,3.42,3.42,3.42,3.42,3.42,3.42,3.42]
[null,null,null,null,null,null,null,null,null,null,null,null,null,null,null,null,null,null,null,null,null,null,null,5,3.42,3.42,3.42,3.42,3.42,3.42,3.42]
[null,null,null,null,null,null,null,null,null,null,null,null,null,null,null,null,null,null,null,null,null,null,null,7.5,3.42,3.42,3.42,3.42,3.42,3.42,3.42]
[null,null,null,null,null,null,null,null,null,null,null,null,null,null,null,null,null,null,null,null,null,null,null,10,3.42,3.42,3.42,3.42,3.42,3.42,3.42]
[null,null,null,null,null,null,null,null,null,null,null,null,null,null,null,null,null,null,null,null,null,null,null,12.5,3.42,3.42,3.42,3.42,3.42,3.42,3.42]
[null,null,null,null,null,null,null,null,null,null,null,null,null,null,null,null,null,null,null,null,null,null,null,15,3.42,3.42,3.42,3.42,3.42,3.42,3.42]
[null,null,null,null,null,null,null,null,null,null,null,null,null,null,null,null,null,null,null,null,null,null,null,17.5,3.42,3.42,3.42,3.42,3.42,3.42,3.42]
[null,null,null,null,null,null,null,null,null,null,null,null,null,null,null,null,null,null,null,null,null,null,null,20,3.42,3.42,3.42,3.42,3.42,3.42,3.42]
[null,null,null,null,null,null,null,null,null,null,null,null,null,null,null,null,null,null,null,null,null,null,null,22.5,3.42,3.42,3.42,3.42,3.42,3.42,3.42]
[null,null,null,null,null,null,null,null,null,null,null,null,null,null,null,null,null,null,null,null,null,null,null,25,3.42,3.42,3.42,3.42,3.42,3.42,3.42]
[null,null,null,null,null,null,null,null,null,null,null,null,null,null,null,null,null,null,null,null,null,null,null,27.5,3.42,3.42,3.42,3.42,3.42,3.42,3.42]
[null,null,null,null,null,null,null,null,null,null,null,null,null,null,null,null,null,null,null,null,null,null,null,30,3.42,3.42,3.42,3.42,3.42,3.42,3.42]
[null,null,null,null,null,null,null,null,null,null,null,null,null,null,null,null,null,null,null,null,null,null,null,null,"WWK 300 electronic"]
[null,null,null,null,null,null,null,null,null,null,null,null,null,null,null,null,null,null,null,null,null,null,null,"Außentemp","30 °C","35 °C","40 °C","45 °C","50 °C","55 °C","60 °C","65 °C","70 °C","75 °C"]
[null,null,null,null,null,null,null,null,null,null,null,null,null,null,null,null,null,null,null,null,null,null,null,-20,3.82,3.82,3.82,3.82,3.82,3.82,3.82]
[null,null,null,null,null,null,null,null,null,null,null,null,null,null,null,null,null,null,null,null,null,null,null,-17.5,3.82,3.82,3.82,3.82,3.82,3.82,3.82]
[null,null,null,null,null,null,null,null,null,null,null,null,null,null,null,null,null,null,null,null,null,null,null,-15,3.82,3.82,3.82,3.82,3.82,3.82,3.82]
[null,null,null,null,null,null,null,null,null,null,null,null,null,null,null,null,null,null,null,null,null,null,null,-12.5,3.82,3.82,3.82,3.82,3.82,3.82,3.82]
[null,null,null,null,null,null,null,null,null,null,null,null,null,null,null,null,null,null,null,null,null,null,null,-10,3.82,3.82,3.82,3.82,3.82,3.82,3.82]
[null,null,null,null,null,null,null,null,null,null,null,null,null,null,null,null,null,null,null,null,null,null,null,-7.5,3.82,3.82,3.82,3.82,3.82,3.82,3.82]
[null,null,null,null,null,null,null,null,null,null,null,null,null,null,null,null,null,null,null,null,null,null,null,-5,3.82,3.82,3.82,3.82,3.82,3.82,3.82]
[null,null,null,null,null,null,null,null,null,null,null,null,null,null,null,null,null,null,null,null,null,null,null,-2.5,3.82,3.82,3.82,3.82,3.82,3.82,3.82]
[null,null,null,null,null,null,null,null,null,null,null,null,null,null,null,null,null,null,null,null,null,null,null,0,3.82,3.82,3.82,3.82,3.82,3.82,3.82]
[null,null,null,null,null,null,null,null,null,null,null,null,null,null,null,null,null,null,null,null,null,null,null,2.5,3.82,3.82,3.82,3.82,3.82,3.82,3.82]
[null,null,null,null,null,null,null,null,null,null,null,null,null,null,null,null,null,null,null,null,null,null,null,5,3.82,3.82,3.82,3.82,3.82,3.82,3.82]
[null,null,null,null,null,null,null,null,null,null,null,null,null,null,null,null,null,null,null,null,null,null,null,7.5,3.82,3.82,3.82,3.82,3.82,3.82,3.82]
[null,null,null,null,null,null,null,null,null,null,null,null,null,null,null,null,null,null,null,null,null,null,null,10,3.82,3.82,3.82,3.82,3.82,3.82,3.82]
[null,null,null,null,null,null,null,null,null,null,null,null,null,null,null,null,null,null,null,null,null,null,null,12.5,3.82,3.82,3.82,3.82,3.82,3.82,3.82]
[null,null,null,null,null,null,null,null,null,null,null,null,null,null,null,null,null,null,null,null,null,null,null,15,3.82,3.82,3.82,3.82,3.82,3.82,3.82]
[null,null,null,null,null,null,null,null,null,null,null,null,null,null,null,null,null,null,null,null,null,null,null,17.5,3.82,3.82,3.82,3.82,3.82,3.82,3.82]
[null,null,null,null,null,null,null,null,null,null,null,null,null,null,null,null,null,null,null,null,null,null,null,20,3.82,3.82,3.82,3.82,3.82,3.82,3.82]
[null,null,null,null,null,null,null,null,null,null,null,null,null,null,null,null,null,null,null,null,null,null,null,22.5,3.82,3.82,3.82,3.82,3.82,3.82,3.82]
[null,null,null,null,null,null,null,null,null,null,null,null,null,null,null,null,null,null,null,null,null,null,null,25,3.82,3.82,3.82,3.82,3.82,3.82,3.82]
[null,null,null,null,null,null,null,null,null,null,null,null,null,null,null,null,null,null,null,null,null,null,null,27.5,3.82,3.82,3.82,3.82,3.82,3.82,3.82]
[null,null,null,null,null,null,null,null,null,null,null,null,null,null,null,null,null,null,null,null,null,null,null,30,3.82,3.82,3.82,3.82,3.82,3.82,3.82]
[null,null,null,null,null,null,null,null,null,null,null,null,null,null,null,null,null,null,null,null,null,null,null,null,"WWK 301 electronic"]
[null,null,null,null,null,null,null,null,null,null,null,null,null,null,null,null,null,null,null,null,null,null,null,"Außentemp","30 °C","35 °C","40 °C","45 °C","50 °C","55 °C","60 °C","65 °C","70 °C","75 °C"]
[null,null,null,null,null,null,null,null,null,null,null,null,null,null,null,null,null,null,null,null,null,null,null,-20,3.82,3.82,3.82,3.82,3.82,3.82,3.82]
[null,null,null,null,null,null,null,null,null,null,null,null,null,null,null,null,null,null,null,null,null,null,null,-17.5,3.82,3.82,3.82,3.82,3.82,3.82,3.82]
[null,null,null,null,null,null,null,null,null,null,null,null,null,null,null,null,null,null,null,null,null,null,null,-15,3.82,3.82,3.82,3.82,3.82,3.82,3.82]
[null,null,null,null,null,null,null,null,null,null,null,null,null,null,null,null,null,null,null,null,null,null,null,-12.5,3.82,3.82,3.82,3.82,3.82,3.82,3.82]
[null,null,null,null,null,null,null,null,null,null,null,null,null,null,null,null,null,null,null,null,null,null,null,-10,3.82,3.82,3.82,3.82,3.82,3.82,3.82]
[null,null,null,null,null,null,null,null,null,null,null,null,null,null,null,null,null,null,null,null,null,null,null,-7.5,3.82,3.82,3.82,3.82,3.82,3.82,3.82]
[null,null,null,null,null,null,null,null,null,null,null,null,null,null,null,null,null,null,null,null,null,null,null,-5,3.82,3.82,3.82,3.82,3.82,3.82,3.82]
[null,null,null,null,null,null,null,null,null,null,null,null,null,null,null,null,null,null,null,null,null,null,null,-2.5,3.82,3.82,3.82,3.82,3.82,3.82,3.82]
[null,null,null,null,null,null,null,null,null,null,null,null,null,null,null,null,null,null,null,null,null,null,null,0,3.82,3.82,3.82,3.82,3.82,3.82,3.82]
[null,null,null,null,null,null,null,null,null,null,null,null,null,null,null,null,null,null,null,null,null,null,null,2.5,3.82,3.82,3.82,3.82,3.82,3.82,3.82]
[null,null,null,null,null,null,null,null,null,null,null,null,null,null,null,null,null,null,null,null,null,null,null,5,3.82,3.82,3.82,3.82,3.82,3.82,3.82]
[null,null,null,null,null,null,null,null,null,null,null,null,null,null,null,null,null,null,null,null,null,null,null,7.5,3.82,3.82,3.82,3.82,3.82,3.82,3.82]
[null,null,null,null,null,null,null,null,null,null,null,null,null,null,null,null,null,null,null,null,null,null,null,10,3.82,3.82,3.82,3.82,3.82,3.82,3.82]
[null,null,null,null,null,null,null,null,null,null,null,null,null,null,null,null,null,null,null,null,null,null,null,12.5,3.82,3.82,3.82,3.82,3.82,3.82,3.82]
[null,null,null,null,null,null,null,null,null,null,null,null,null,null,null,null,null,null,null,null,null,null,null,15,3.82,3.82,3.82,3.82,3.82,3.82,3.82]
[null,null,null,null,null,null,null,null,null,null,null,null,null,null,null,null,null,null,null,null,null,null,null,17.5,3.82,3.82,3.82,3.82,3.82,3.82,3.82]
[null,null,null,null,null,null,null,null,null,null,null,null,null,null,null,null,null,null,null,null,null,null,null,20,3.82,3.82,3.82,3.82,3.82,3.82,3.82]
[null,null,null,null,null,null,null,null,null,null,null,null,null,null,null,null,null,null,null,null,null,null,null,22.5,3.82,3.82,3.82,3.82,3.82,3.82,3.82]
[null,null,null,null,null,null,null,null,null,null,null,null,null,null,null,null,null,null,null,null,null,null,null,25,3.82,3.82,3.82,3.82,3.82,3.82,3.82]
[null,null,null,null,null,null,null,null,null,null,null,null,null,null,null,null,null,null,null,null,null,null,null,27.5,3.82,3.82,3.82,3.82,3.82,3.82,3.82]
[null,null,null,null,null,null,null,null,null,null,null,null,null,null,null,null,null,null,null,null,null,null,null,30,3.82,3.82,3.82,3.82,3.82,3.82,3.82]
[null,null,null,null,null,null,null,null,null,null,null,null,null,null,null,null,null,null,null,null,null,null,null,null,"WWS 20"]
[null,null,null,null,null,null,null,null,null,null,null,null,null,null,null,null,null,null,null,null,null,null,null,"Außentemp","30 °C","35 °C","40 °C","45 °C","50 °C","55 °C","60 °C","65 °C","70 °C","75 °C"]
[null,null,null,null,null,null,null,null,null,null,null,null,null,null,null,null,null,null,null,null,null,null,null,-20,3.8,3.8,3.8,3.8,3.8,3.8,3.8]
[null,null,null,null,null,null,null,null,null,null,null,null,null,null,null,null,null,null,null,null,null,null,null,-17.5,3.8,3.8,3.8,3.8,3.8,3.8,3.8]
[null,null,null,null,null,null,null,null,null,null,null,null,null,null,null,null,null,null,null,null,null,null,null,-15,3.8,3.8,3.8,3.8,3.8,3.8,3.8]
[null,null,null,null,null,null,null,null,null,null,null,null,null,null,null,null,null,null,null,null,null,null,null,-12.5,3.8,3.8,3.8,3.8,3.8,3.8,3.8]
[null,null,null,null,null,null,null,null,null,null,null,null,null,null,null,null,null,null,null,null,null,null,null,-10,3.8,3.8,3.8,3.8,3.8,3.8,3.8]
[null,null,null,null,null,null,null,null,null,null,null,null,null,null,null,null,null,null,null,null,null,null,null,-7.5,3.8,3.8,3.8,3.8,3.8,3.8,3.8]
[null,null,null,null,null,null,null,null,null,null,null,null,null,null,null,null,null,null,null,null,null,null,null,-5,3.8,3.8,3.8,3.8,3.8,3.8,3.8]
[null,null,null,null,null,null,null,null,null,null,null,null,null,null,null,null,null,null,null,null,null,null,null,-2.5,3.8,3.8,3.8,3.8,3.8,3.8,3.8]
[null,null,null,null,null,null,null,null,null,null,null,null,null,null,null,null,null,null,null,null,null,null,null,0,3.8,3.8,3.8,3.8,3.8,3.8,3.8]
[null,null,null,null,null,null,null,null,null,null,null,null,null,null,null,null,null,null,null,null,null,null,null,2.5,3.8,3.8,3.8,3.8,3.8,3.8,3.8]
[null,null,null,null,null,null,null,null,null,null,null,null,null,null,null,null,null,null,null,null,null,null,null,5,3.8,3.8,3.8,3.8,3.8,3.8,3.8]
[null,null,null,null,null,null,null,null,null,null,null,null,null,null,null,null,null,null,null,null,null,null,null,7.5,3.8,3.8,3.8,3.8,3.8,3.8,3.8]
[null,null,null,null,null,null,null,null,null,null,null,null,null,null,null,null,null,null,null,null,null,null,null,10,3.8,3.8,3.8,3.8,3.8,3.8,3.8]
[null,null,null,null,null,null,null,null,null,null,null,null,null,null,null,null,null,null,null,null,null,null,null,12.5,3.8,3.8,3.8,3.8,3.8,3.8,3.8]
[null,null,null,null,null,null,null,null,null,null,null,null,null,null,null,null,null,null,null,null,null,null,null,15,3.8,3.8,3.8,3.8,3.8,3.8,3.8]
[null,null,null,null,null,null,null,null,null,null,null,null,null,null,null,null,null,null,null,null,null,null,null,17.5,3.8,3.8,3.8,3.8,3.8,3.8,3.8]
[null,null,null,null,null,null,null,null,null,null,null,null,null,null,null,null,null,null,null,null,null,null,null,20,3.8,3.8,3.8,3.8,3.8,3.8,3.8]
[null,null,null,null,null,null,null,null,null,null,null,null,null,null,null,null,null,null,null,null,null,null,null,22.5,3.8,3.8,3.8,3.8,3.8,3.8,3.8]
[null,null,null,null,null,null,null,null,null,null,null,null,null,null,null,null,null,null,null,null,null,null,null,25,3.8,3.8,3.8,3.8,3.8,3.8,3.8]
[null,null,null,null,null,null,null,null,null,null,null,null,null,null,null,null,null,null,null,null,null,null,null,27.5,3.8,3.8,3.8,3.8,3.8,3.8,3.8]
[null,null,null,null,null,null,null,null,null,null,null,null,null,null,null,null,null,null,null,null,null,null,null,30,3.8,3.8,3.8,3.8,3.8,3.8,3.8]
[null,null,null,null,null,null,null,null,null,null,null,null,null,null,null,null,null,null,null,null,null,null,null,null,"DHE 18/21/24 SL"]
[null,null,null,null,null,null,null,null,null,null,null,null,null,null,null,null,null,null,null,null,null,null,null,"Außentemp","30 °C","35 °C","40 °C","45 °C","50 °C","55 °C","60 °C","65 °C","70 °C","75 °C"]
[null,null,null,null,null,null,null,null,null,null,null,null,null,null,null,null,null,null,null,null,null,null,null,-20,1,1,1,1,1,1,1,1,1,1]
[null,null,null,null,null,null,null,null,null,null,null,null,null,null,null,null,null,null,null,null,null,null,null,-17.5,1,1,1,1,1,1,1,1,1,1]
[null,null,null,null,null,null,null,null,null,null,null,null,null,null,null,null,null,null,null,null,null,null,null,-15,1,1,1,1,1,1,1,1,1,1]
[null,null,null,null,null,null,null,null,null,null,null,null,null,null,null,null,null,null,null,null,null,null,null,-12.5,1,1,1,1,1,1,1,1,1,1]
[null,null,null,null,null,null,null,null,null,null,null,null,null,null,null,null,null,null,null,null,null,null,null,-10,1,1,1,1,1,1,1,1,1,1]
[null,null,null,null,null,null,null,null,null,null,null,null,null,null,null,null,null,null,null,null,null,null,null,-7.5,1,1,1,1,1,1,1,1,1,1]
[null,null,null,null,null,null,null,null,null,null,null,null,null,null,null,null,null,null,null,null,null,null,null,-5,1,1,1,1,1,1,1,1,1,1]
[null,null,null,null,null,null,null,null,null,null,null,null,null,null,null,null,null,null,null,null,null,null,null,-2.5,1,1,1,1,1,1,1,1,1,1]
[null,null,null,null,null,null,null,null,null,null,null,null,null,null,null,null,null,null,null,null,null,null,null,0,1,1,1,1,1,1,1,1,1,1]
[null,null,null,null,null,null,null,null,null,null,null,null,null,null,null,null,null,null,null,null,null,null,null,2.5,1,1,1,1,1,1,1,1,1,1]
[null,null,null,null,null,null,null,null,null,null,null,null,null,null,null,null,null,null,null,null,null,null,null,5,1,1,1,1,1,1,1,1,1,1]
[null,null,null,null,null,null,null,null,null,null,null,null,null,null,null,null,null,null,null,null,null,null,null,7.5,1,1,1,1,1,1,1,1,1,1]
[null,null,null,null,null,null,null,null,null,null,null,null,null,null,null,null,null,null,null,null,null,null,null,10,1,1,1,1,1,1,1,1,1,1]
[null,null,null,null,null,null,null,null,null,null,null,null,null,null,null,null,null,null,null,null,null,null,null,12.5,1,1,1,1,1,1,1,1,1,1]
[null,null,null,null,null,null,null,null,null,null,null,null,null,null,null,null,null,null,null,null,null,null,null,15,1,1,1,1,1,1,1,1,1,1]
[null,null,null,null,null,null,null,null,null,null,null,null,null,null,null,null,null,null,null,null,null,null,null,17.5,1,1,1,1,1,1,1,1,1,1]
[null,null,null,null,null,null,null,null,null,null,null,null,null,null,null,null,null,null,null,null,null,null,null,20,1,1,1,1,1,1,1,1,1,1]
[null,null,null,null,null,null,null,null,null,null,null,null,null,null,null,null,null,null,null,null,null,null,null,22.5,1,1,1,1,1,1,1,1,1,1]
[null,null,null,null,null,null,null,null,null,null,null,null,null,null,null,null,null,null,null,null,null,null,null,25,1,1,1,1,1,1,1,1,1,1]
[null,null,null,null,null,null,null,null,null,null,null,null,null,null,null,null,null,null,null,null,null,null,null,27.5,1,1,1,1,1,1,1,1,1,1]
[null,null,null,null,null,null,null,null,null,null,null,null,null,null,null,null,null,null,null,null,null,null,null,30,1,1,1,1,1,1,1,1,1,1]
[null,null,null,null,null,null,null,null,null,null,null,null,null,null,null,null,null,null,null,null,null,null,null,null,"DEL 18/21/24 SL"]
[null,null,null,null,null,null,null,null,null,null,null,null,null,null,null,null,null,null,null,null,null,null,null,"Außentemp","30 °C","35 °C","40 °C","45 °C","50 °C","55 °C","60 °C","65 °C","70 °C","75 °C"]
[null,null,null,null,null,null,null,null,null,null,null,null,null,null,null,null,null,null,null,null,null,null,null,-20,1,1,1,1,1,1,1,1,1,1]
[null,null,null,null,null,null,null,null,null,null,null,null,null,null,null,null,null,null,null,null,null,null,null,-17.5,1,1,1,1,1,1,1,1,1,1]
[null,null,null,null,null,null,null,null,null,null,null,null,null,null,null,null,null,null,null,null,null,null,null,-15,1,1,1,1,1,1,1,1,1,1]
[null,null,null,null,null,null,null,null,null,null,null,null,null,null,null,null,null,null,null,null,null,null,null,-12.5,1,1,1,1,1,1,1,1,1,1]
[null,null,null,null,null,null,null,null,null,null,null,null,null,null,null,null,null,null,null,null,null,null,null,-10,1,1,1,1,1,1,1,1,1,1]
[null,null,null,null,null,null,null,null,null,null,null,null,null,null,null,null,null,null,null,null,null,null,null,-7.5,1,1,1,1,1,1,1,1,1,1]
[null,null,null,null,null,null,null,null,null,null,null,null,null,null,null,null,null,null,null,null,null,null,null,-5,1,1,1,1,1,1,1,1,1,1]
[null,null,null,null,null,null,null,null,null,null,null,null,null,null,null,null,null,null,null,null,null,null,null,-2.5,1,1,1,1,1,1,1,1,1,1]
[null,null,null,null,null,null,null,null,null,null,null,null,null,null,null,null,null,null,null,null,null,null,null,0,1,1,1,1,1,1,1,1,1,1]
[null,null,null,null,null,null,null,null,null,null,null,null,null,null,null,null,null,null,null,null,null,null,null,2.5,1,1,1,1,1,1,1,1,1,1]
[null,null,null,null,null,null,null,null,null,null,null,null,null,null,null,null,null,null,null,null,null,null,null,5,1,1,1,1,1,1,1,1,1,1]
[null,null,null,null,null,null,null,null,null,null,null,null,null,null,null,null,null,null,null,null,null,null,null,7.5,1,1,1,1,1,1,1,1,1,1]
[null,null,null,null,null,null,null,null,null,null,null,null,null,null,null,null,null,null,null,null,null,null,null,10,1,1,1,1,1,1,1,1,1,1]
[null,null,null,null,null,null,null,null,null,null,null,null,null,null,null,null,null,null,null,null,null,null,null,12.5,1,1,1,1,1,1,1,1,1,1]
[null,null,null,null,null,null,null,null,null,null,null,null,null,null,null,null,null,null,null,null,null,null,null,15,1,1,1,1,1,1,1,1,1,1]
[null,null,null,null,null,null,null,null,null,null,null,null,null,null,null,null,null,null,null,null,null,null,null,17.5,1,1,1,1,1,1,1,1,1,1]
[null,null,null,null,null,null,null,null,null,null,null,null,null,null,null,null,null,null,null,null,null,null,null,20,1,1,1,1,1,1,1,1,1,1]
[null,null,null,null,null,null,null,null,null,null,null,null,null,null,null,null,null,null,null,null,null,null,null,22.5,1,1,1,1,1,1,1,1,1,1]
[null,null,null,null,null,null,null,null,null,null,null,null,null,null,null,null,null,null,null,null,null,null,null,25,1,1,1,1,1,1,1,1,1,1]
[null,null,null,null,null,null,null,null,null,null,null,null,null,null,null,null,null,null,null,null,null,null,null,27.5,1,1,1,1,1,1,1,1,1,1]
[null,null,null,null,null,null,null,null,null,null,null,null,null,null,null,null,null,null,null,null,null,null,null,30,1,1,1,1,1,1,1,1,1,1]

{"sheet":"DatenSchnellauswahl","index":10,"n_rows":340,"n_cols":17,"rows_kept":340,"cut":false,"hidden":true,"merged":[[0,13,0,14],[0,15,0,16]]}
["Index WP","Typ","Einsetzbar ?","Quelle","Außentemp","Heizung","WWB","Solar","Lüftung","Kühlung","Austellung","Aufstellung","Heizlast","Heizlast 35 ° Vorlauf",null,"Heizlast 55 ° Vorlauf"]
[null,null,null,"Index",null,"OK?","OK ?","OK ?","OK ?","OK ?","Index","OK ?","OK ?","Min","Max","Min","Max"]
[80,"LWZ 504",{"$f":"IF(AND(E3=Berechnung!$X$7,F3=TRUE,G3=TRUE,H3=TRUE,I3=TRUE,J3=TRUE,M3=TRUE,L3=TRUE),TRUE,FALSE)","v":false},1,-10,{"$f":"Berechnung!$Z$5","v":true},{"$f":"Berechnung!$S$5","v":true},true,{"$f":"Berechnung!$U$5","v":false},true,1,{"$f":"IF(OR(Berechnung!$Y$50=0,K3=0,K3=Berechnung!$Y$50),TRUE,FALSE)","v":true},{"$f":"IF(Berechnung!$R$5<3,IF(AND(DatenSchnellauswahl!N3<=Berechnung!$W$5,DatenSchnellauswahl!O3>=Berechnung!$W$5),TRUE,FALSE),IF(AND(DatenSchnellauswahl!P3<=Berechnung!$W$5,DatenSchnellauswahl!Q3>=Berechnung!$W$5),TRUE,FALSE))","v":true},8,10,6,8]
[80,"LWZ 504",{"$f":"IF(AND(E4=Berechnung!$X$7,F4=TRUE,G4=TRUE,H4=TRUE,I4=TRUE,J4=TRUE,M4=TRUE,L4=TRUE),TRUE,FALSE)","v":false},1,-12,{"$f":"Berechnung!$Z$5","v":true},{"$f":"Berechnung!$S$5","v":true},true,{"$f":"Berechnung!$U$5","v":false},true,1,{"$f":"IF(OR(Berechnung!$Y$50=0,K4=0,K4=Berechnung!$Y$50),TRUE,FALSE)","v":true},{"$f":"IF(Berechnung!$R$5<3,IF(AND(DatenSchnellauswahl!N4<=Berechnung!$W$5,DatenSchnellauswahl!O4>=Berechnung!$W$5),TRUE,FALSE),IF(AND(DatenSchnellauswahl!P4<=Berechnung!$W$5,DatenSchnellauswahl!Q4>=Berechnung!$W$5),TRUE,FALSE))","v":true},8,11,6,9]
[80,"LWZ 504",{"$f":"IF(AND(E5=Berechnung!$X$7,F5=TRUE,G5=TRUE,H5=TRUE,I5=TRUE,J5=TRUE,M5=TRUE,L5=TRUE),TRUE,FALSE)","v":false},1,-14,{"$f":"Berechnung!$Z$5","v":true},{"$f":"Berechnung!$S$5","v":true},true,{"$f":"Berechnung!$U$5","v":false},true,1,{"$f":"IF(OR(Berechnung!$Y$50=0,K5=0,K5=Berechnung!$Y$50),TRUE,FALSE)","v":true},{"$f":"IF(Berechnung!$R$5<3,IF(AND(DatenSchnellauswahl!N5<=Berechnung!$W$5,DatenSchnellauswahl!O5>=Berechnung!$W$5),TRUE,FALSE),IF(AND(DatenSchnellauswahl!P5<=Berechnung!$W$5,DatenSchnellauswahl!Q5>=Berechnung!$W$5),TRUE,FALSE))","v":true},9,11,6,9]
[80,"LWZ 504",{"$f":"IF(AND(E6=Berechnung!$X$7,F6=TRUE,G6=TRUE,H6=TRUE,I6=TRUE,J6=TRUE,M6=TRUE,L6=TRUE),TRUE,FALSE)","v":false},1,-16,{"$f":"Berechnung!$Z$5","v":true},{"$f":"Berechnung!$S$5","v":true},true,{"$f":"Berechnung!$U$5","v":false},true,1,{"$f":"IF(OR(Berechnung!$Y$50=0,K6=0,K6=Berechnung!$Y$50),TRUE,FALSE)","v":true},{"$f":"IF(Berechnung!$R$5<3,IF(AND(DatenSchnellauswahl!N6<=Berechnung!$W$5,DatenSchnellauswahl!O6>=Berechnung!$W$5),TRUE,FALSE),IF(AND(DatenSchnellauswahl!P6<=Berechnung!$W$5,DatenSchnellauswahl!Q6>=Berechnung!$W$5),TRUE,FALSE))","v":true},9,11,7,10]
[80,"LWZ 504",{"$f":"IF(AND(E7=Berechnung!$X$7,F7=TRUE,G7=TRUE,H7=TRUE,I7=TRUE,J7=TRUE,M7=TRUE,L7=TRUE),TRUE,FALSE)","v":false},1,-18,{"$f":"Berechnung!$Z$5","v":true},{"$f":"Berechnung!$S$5","v":true},true,{"$f":"Berechnung!$U$5","v":false},true,1,{"$f":"IF(OR(Berechnung!$Y$50=0,K7=0,K7=Berechnung!$Y$50),TRUE,FALSE)","v":true},{"$f":"IF(Berechnung!$R$5<3,IF(AND(DatenSchnellauswahl!N7<=Berechnung!$W$5,DatenSchnellauswahl!O7>=Berechnung!$W$5),TRUE,FALSE),IF(AND(DatenSchnellauswahl!P7<=Berechnung!$W$5,DatenSchnellauswahl!Q7>=Berechnung!$W$5),TRUE,FALSE))","v":true},9,11,7,10]
[101,"LWZ 304 SOL",{"$f":"IF(AND(E8=Berechnung!$X$7,F8=TRUE,G8=TRUE,H8=TRUE,I8=TRUE,J8=TRUE,M8=TRUE,L8=TRUE),TRUE,FALSE)","v":false},1,-10,{"$f":"Berechnung!$Z$5","v":true},{"$f":"Berechnung!$S$5","v":true},true,{"$f":"Berechnung!$U$5","v":false},true,1,{"$f":"IF(OR(Berechnung!$Y$50=0,K8=0,K8=Berechnung!$Y$50),TRUE,FALSE)","v":true},{"$f":"IF(Berechnung!$R$5<3,IF(AND(DatenSchnellauswahl!N8<=Berechnung!$W$5,DatenSchnellauswahl!O8>=Berechnung!$W$5),TRUE,FALSE),IF(AND(DatenSchnellauswahl!P8<=Berechnung!$W$5,DatenSchnellauswahl!Q8>=Berechnung!$W$5),TRUE,FALSE))","v":false},1,7,1,5]
[101,"LWZ 304 SOL",{"$f":"IF(AND(E9=Berechnung!$X$7,F9=TRUE,G9=TRUE,H9=TRUE,I9=TRUE,J9=TRUE,M9=TRUE,L9=TRUE),TRUE,FALSE)","v":false},1,-12,{"$f":"Berechnung!$Z$5","v":true},{"$f":"Berechnung!$S$5","v":true},true,{"$f":"Berechnung!$U$5","v":false},true,1,{"$f":"IF(OR(Berechnung!$Y$50=0,K9=0,K9=Berechnung!$Y$50),TRUE,FALSE)","v":true},{"$f":"IF(Berechnung!$R$5<3,IF(AND(DatenSchnellauswahl!N9<=Berechnung!$W$5,DatenSchnellauswahl!O9>=Berechnung!$W$5),TRUE,FALSE),IF(AND(DatenSchnellauswahl!P9<=Berechnung!$W$5,DatenSchnellauswahl!Q9>=Berechnung!$W$5),TRUE,FALSE))","v":false},1,7,1,5]
[101,"LWZ 304 SOL",{"$f":"IF(AND(E10=Berechnung!$X$7,F10=TRUE,G10=TRUE,H10=TRUE,I10=TRUE,J10=TRUE,M10=TRUE,L10=TRUE),TRUE,FALSE)","v":false},1,-14,{"$f":"Berechnung!$Z$5","v":true},{"$f":"Berechnung!$S$5","v":true},true,{"$f":"Berechnung!$U$5","v":false},true,1,{"$f":"IF(OR(Berechnung!$Y$50=0,K10=0,K10=Berechnung!$Y$50),TRUE,FALSE)","v":true},{"$f":"IF(Berechnung!$R$5<3,IF(AND(DatenSchnellauswahl!N10<=Berechnung!$W$5,DatenSchnellauswahl!O10>=Berechnung!$W$5),TRUE,FALSE),IF(AND(DatenSchnellauswahl!P10<=Berechnung!$W$5,DatenSchnellauswahl!Q10>=Berechnung!$W$5),TRUE,FALSE))","v":false},1,8,1,5]
[101,"LWZ 304 SOL",{"$f":"IF(AND(E11=Berechnung!$X$7,F11=TRUE,G11=TRUE,H11=TRUE,I11=TRUE,J11=TRUE,M11=TRUE,L11=TRUE),TRUE,FALSE)","v":false},1,-16,{"$f":"Berechnung!$Z$5","v":true},{"$f":"Berechnung!$S$5","v":true},true,{"$f":"Berechnung!$U$5","v":false},true,1,{"$f":"IF(OR(Berechnung!$Y$50=0,K11=0,K11=Berechnung!$Y$50),TRUE,FALSE)","v":true},{"$f":"IF(Berechnung!$R$5<3,IF(AND(DatenSchnellauswahl!N11<=Berechnung!$W$5,DatenSchnellauswahl!O11>=Berechnung!$W$5),TRUE,FALSE),IF(AND(DatenSchnellauswahl!P11<=Berechnung!$W$5,DatenSchnellauswahl!Q11>=Berechnung!$W$5),TRUE,FALSE))","v":false},1,8,1,6]
[101,"LWZ 304 SOL",{"$f":"IF(AND(E12=Berechnung!$X$7,F12=TRUE,G12=TRUE,H12=TRUE,I12=TRUE,J12=TRUE,M12=TRUE,L12=TRUE),TRUE,FALSE)","v":false},1,-18,{"$f":"Berechnung!$Z$5","v":true},{"$f":"Berechnung!$S$5","v":true},true,{"$f":"Berechnung!$U$5","v":false},true,1,{"$f":"IF(OR(Berechnung!$Y$50=0,K12=0,K12=Berechnung!$Y$50),TRUE,FALSE)","v":true},{"$f":"IF(Berechnung!$R$5<3,IF(AND(DatenSchnellauswahl!N12<=Berechnung!$W$5,DatenSchnellauswahl!O12>=Berechnung!$W$5),TRUE,FALSE),IF(AND(DatenSchnellauswahl!P12<=Berechnung!$W$5,DatenSchnellauswahl!Q12>=Berechnung!$W$5),TRUE,FALSE))","v":false},1,8,1,6]
[102,"LWZ 404 SOL",{"$f":"IF(AND(E13=Berechnung!$X$7,F13=TRUE,G13=TRUE,H13=TRUE,I13=TRUE,J13=TRUE,M13=TRUE,L13=TRUE),TRUE,FALSE)","v":false},1,-10,{"$f":"Berechnung!$Z$5","v":true},{"$f":"Berechnung!$S$5","v":true},true,{"$f":"Berechnung!$U$5","v":false},true,1,{"$f":"IF(OR(Berechnung!$Y$50=0,K13=0,K13=Berechnung!$Y$50),TRUE,FALSE)","v":true},{"$f":"IF(Berechnung!$R$5<3,IF(AND(DatenSchnellauswahl!N13<=Berechnung!$W$5,DatenSchnellauswahl!O13>=Berechnung!$W$5),TRUE,FALSE),IF(AND(DatenSchnellauswahl!P13<=Berechnung!$W$5,DatenSchnellauswahl!Q13>=Berechnung!$W$5),TRUE,FALSE))","v":true},8,9,6,7]
[102,"LWZ 404 SOL",{"$f":"IF(AND(E14=Berechnung!$X$7,F14=TRUE,G14=TRUE,H14=TRUE,I14=TRUE,J14=TRUE,M14=TRUE,L14=TRUE),TRUE,FALSE)","v":false},1,-12,{"$f":"Berechnung!$Z$5","v":true},{"$f":"Berechnung!$S$5","v":true},true,{"$f":"Berechnung!$U$5","v":false},true,1,{"$f":"IF(OR(Berechnung!$Y$50=0,K14=0,K14=Berechnung!$Y$50),TRUE,FALSE)","v":true},{"$f":"IF(Berechnung!$R$5<3,IF(AND(DatenSchnellauswahl!N14<=Berechnung!$W$5,DatenSchnellauswahl!O14>=Berechnung!$W$5),TRUE,FALSE),IF(AND(DatenSchnellauswahl!P14<=Berechnung!$W$5,DatenSchnellauswahl!Q14>=Berechnung!$W$5),TRUE,FALSE))","v":true},8,10,6,8]
[102,"LWZ 404 SOL",{"$f":"IF(AND(E15=Berechnung!$X$7,F15=TRUE,G15=TRUE,H15=TRUE,I15=TRUE,J15=TRUE,M15=TRUE,L15=TRUE),TRUE,FALSE)","v":false},1,-14,{"$f":"Berechnung!$Z$5","v":true},{"$f":"Berechnung!$S$5","v":true},true,{"$f":"Berechnung!$U$5","v":false},true,1,{"$f":"IF(OR(Berechnung!$Y$50=0,K15=0,K15=Berechnung!$Y$50),TRUE,FALSE)","v":true},{"$f":"IF(Berechnung!$R$5<3,IF(AND(DatenSchnellauswahl!N15<=Berechnung!$W$5,DatenSchnellauswahl!O15>=Berechnung!$W$5),TRUE,FALSE),IF(AND(DatenSchnellauswahl!P15<=Berechnung!$W$5,DatenSchnellauswahl!Q15>=Berechnung!$W$5),TRUE,FALSE))","v":true},9,10,6,8]
[102,"LWZ 404 SOL",{"$f":"IF(AND(E16=Berechnung!$X$7,F16=TRUE,G16=TRUE,H16=TRUE,I16=TRUE,J16=TRUE,M16=TRUE,L16=TRUE),TRUE,FALSE)","v":false},1,-16,{"$f":"Berechnung!$Z$5","v":true},{"$f":"Berechnung!$S$5","v":true},true,{"$f":"Berechnung!$U$5","v":false},true,1,{"$f":"IF(OR(Berechnung!$Y$50=0,K16=0,K16=Berechnung!$Y$50),TRUE,FALSE)","v":true},{"$f":"IF(Berechnung!$R$5<3,IF(AND(DatenSchnellauswahl!N16<=Berechnung!$W$5,DatenSchnellauswahl!O16>=Berechnung!$W$5),TRUE,FALSE),IF(AND(DatenSchnellauswahl!P16<=Berechnung!$W$5,DatenSchnellauswahl!Q16>=Berechnung!$W$5),TRUE,FALSE))","v":true},9,10,7,9]
[102,"LWZ 404 SOL",{"$f":"IF(AND(E17=Berechnung!$X$7,F17=TRUE,G17=TRUE,H17=TRUE,I17=TRUE,J17=TRUE,M17=TRUE,L17=TRUE),TRUE,FALSE)","v":false},1,-18,{"$f":"Berechnung!$Z$5","v":true},{"$f":"Berechnung!$S$5","v":true},true,{"$f":"Berechnung!$U$5","v":false},true,1,{"$f":"IF(OR(Berechnung!$Y$50=0,K17=0,K17=Berechnung!$Y$50),TRUE,FALSE)","v":true},{"$f":"IF(Berechnung!$R$5<3,IF(AND(DatenSchnellauswahl!N17<=Berechnung!$W$5,DatenSchnellauswahl!O17>=Berechnung!$W$5),TRUE,FALSE),IF(AND(DatenSchnellauswahl!P17<=Berechnung!$W$5,DatenSchnellauswahl!Q17>=Berechnung!$W$5),TRUE,FALSE))","v":true},9,10,7,9]
[78,"LWZ 304 Trend",{"$f":"IF(AND(E18=Berechnung!$X$7,F18=TRUE,G18=TRUE,H18=TRUE,I18=TRUE,J18=TRUE,M18=TRUE,L18=TRUE),TRUE,FALSE)","v":false},1,-10,{"$f":"Berechnung!$Z$5","v":true},{"$f":"Berechnung!$S$5","v":true},{"$f":"IF(Berechnung!$T$5=FALSE,TRUE,FALSE)","v":true},{"$f":"Berechnung!$U$5","v":false},{"$f":"IF(Berechnung!$V$5=FALSE,TRUE,FALSE)","v":false},1,{"$f":"IF(OR(Berechnung!$Y$50=0,K18=0,K18=Berechnung!$Y$50),TRUE,FALSE)","v":true},{"$f":"IF(Berechnung!$R$5<3,IF(AND(DatenSchnellauswahl!N18<=Berechnung!$W$5,DatenSchnellauswahl!O18>=Berechnung!$W$5),TRUE,FALSE),IF(AND(DatenSchnellauswahl!P18<=Berechnung!$W$5,DatenSchnellauswahl!Q18>=Berechnung!$W$5),TRUE,FALSE))","v":false},1,7,1,5]
[78,"LWZ 304 Trend",{"$f":"IF(AND(E19=Berechnung!$X$7,F19=TRUE,G19=TRUE,H19=TRUE,I19=TRUE,J19=TRUE,M19=TRUE,L19=TRUE),TRUE,FALSE)","v":false},1,-12,{"$f":"Berechnung!$Z$5","v":true},{"$f":"Berechnung!$S$5","v":true},{"$f":"IF(Berechnung!$T$5=FALSE,TRUE,FALSE)","v":true},{"$f":"Berechnung!$U$5","v":false},{"$f":"IF(Berechnung!$V$5=FALSE,TRUE,FALSE)","v":false},1,{"$f":"IF(OR(Berechnung!$Y$50=0,K19=0,K19=Berechnung!$Y$50),TRUE,FALSE)","v":true},{"$f":"IF(Berechnung!$R$5<3,IF(AND(DatenSchnellauswahl!N19<=Berechnung!$W$5,DatenSchnellauswahl!O19>=Berechnung!$W$5),TRUE,FALSE),IF(AND(DatenSchnellauswahl!P19<=Berechnung!$W$5,DatenSchnellauswahl!Q19>=Berechnung!$W$5),TRUE,FALSE))","v":false},1,7,1,5]
[78,"LWZ 304 Trend",{"$f":"IF(AND(E20=Berechnung!$X$7,F20=TRUE,G20=TRUE,H20=TRUE,I20=TRUE,J20=TRUE,M20=TRUE,L20=TRUE),TRUE,FALSE)","v":false},1,-14,{"$f":"Berechnung!$Z$5","v":true},{"$f":"Berechnung!$S$5","v":true},{"$f":"IF(Berechnung!$T$5=FALSE,TRUE,FALSE)","v":true},{"$f":"Berechnung!$U$5","v":false},{"$f":"IF(Berechnung!$V$5=FALSE,TRUE,FALSE)","v":false},1,{"$f":"IF(OR(Berechnung!$Y$50=0,K20=0,K20=Berechnung!$Y$50),TRUE,FALSE)","v":true},{"$f":"IF(Berechnung!$R$5<3,IF(AND(DatenSchnellauswahl!N20<=Berechnung!$W$5,DatenSchnellauswahl!O20>=Berechnung!$W$5),TRUE,FALSE),IF(AND(DatenSchnellauswahl!P20<=Berechnung!$W$5,DatenSchnellauswahl!Q20>=Berechnung!$W$5),TRUE,FALSE))","v":false},1,8,1,5]
[78,"LWZ 304 Trend",{"$f":"IF(AND(E21=Berechnung!$X$7,F21=TRUE,G21=TRUE,H21=TRUE,I21=TRUE,J21=TRUE,M21=TRUE,L21=TRUE),TRUE,FALSE)","v":false},1,-16,{"$f":"Berechnung!$Z$5","v":true},{"$f":"Berechnung!$S$5","v":true},{"$f":"IF(Berechnung!$T$5=FALSE,TRUE,FALSE)","v":true},{"$f":"Berechnung!$U$5","v":false},{"$f":"IF(Berechnung!$V$5=FALSE,TRUE,FALSE)","v":false},1,{"$f":"IF(OR(Berechnung!$Y$50=0,K21=0,K21=Berechnung!$Y$50),TRUE,FALSE)","v":true},{"$f":"IF(Berechnung!$R$5<3,IF(AND(DatenSchnellauswahl!N21<=Berechnung!$W$5,DatenSchnellauswahl!O21>=Berechnung!$W$5),TRUE,FALSE),IF(AND(DatenSchnellauswahl!P21<=Berechnung!$W$5,DatenSchnellauswahl!Q21>=Berechnung!$W$5),TRUE,FALSE))","v":false},1,8,1,6]
[78,"LWZ 304 Trend",{"$f":"IF(AND(E22=Berechnung!$X$7,F22=TRUE,G22=TRUE,H22=TRUE,I22=TRUE,J22=TRUE,M22=TRUE,L22=TRUE),TRUE,FALSE)","v":false},1,-18,{"$f":"Berechnung!$Z$5","v":true},{"$f":"Berechnung!$S$5","v":true},{"$f":"IF(Berechnung!$T$5=FALSE,TRUE,FALSE)","v":true},{"$f":"Berechnung!$U$5","v":false},{"$f":"IF(Berechnung!$V$5=FALSE,TRUE,FALSE)","v":false},1,{"$f":"IF(OR(Berechnung!$Y$50=0,K22=0,K22=Berechnung!$Y$50),TRUE,FALSE)","v":true},{"$f":"IF(Berechnung!$R$5<3,IF(AND(DatenSchnellauswahl!N22<=Berechnung!$W$5,DatenSchnellauswahl!O22>=Berechnung!$W$5),TRUE,FALSE),IF(AND(DatenSchnellauswahl!P22<=Berechnung!$W$5,DatenSchnellauswahl!Q22>=Berechnung!$W$5),TRUE,FALSE))","v":false},1,8,1,6]
[79,"LWZ 404 Trend",{"$f":"IF(AND(E23=Berechnung!$X$7,F23=TRUE,G23=TRUE,H23=TRUE,I23=TRUE,J23=TRUE,M23=TRUE,L23=TRUE),TRUE,FALSE)","v":false},1,-10,{"$f":"Berechnung!$Z$5","v":true},{"$f":"Berechnung!$S$5","v":true},{"$f":"IF(Berechnung!$T$5=FALSE,TRUE,FALSE)","v":true},{"$f":"Berechnung!$U$5","v":false},{"$f":"IF(Berechnung!$V$5=FALSE,TRUE,FALSE)","v":false},1,{"$f":"IF(OR(Berechnung!$Y$50=0,K23=0,K23=Berechnung!$Y$50),TRUE,FALSE)","v":true},{"$f":"IF(Berechnung!$R$5<3,IF(AND(DatenSchnellauswahl!N23<=Berechnung!$W$5,DatenSchnellauswahl!O23>=Berechnung!$W$5),TRUE,FALSE),IF(AND(DatenSchnellauswahl!P23<=Berechnung!$W$5,DatenSchnellauswahl!Q23>=Berechnung!$W$5),TRUE,FALSE))","v":true},8,9,6,7]
[79,"LWZ 404 Trend",{"$f":"IF(AND(E24=Berechnung!$X$7,F24=TRUE,G24=TRUE,H24=TRUE,I24=TRUE,J24=TRUE,M24=TRUE,L24=TRUE),TRUE,FALSE)","v":false},1,-12,{"$f":"Berechnung!$Z$5","v":true},{"$f":"Berechnung!$S$5","v":true},{"$f":"IF(Berechnung!$T$5=FALSE,TRUE,FALSE)","v":true},{"$f":"Berechnung!$U$5","v":false},{"$f":"IF(Berechnung!$V$5=FALSE,TRUE,FALSE)","v":false},1,{"$f":"IF(OR(Berechnung!$Y$50=0,K24=0,K24=Berechnung!$Y$50),TRUE,FALSE)","v":true},{"$f":"IF(Berechnung!$R$5<3,IF(AND(DatenSchnellauswahl!N24<=Berechnung!$W$5,DatenSchnellauswahl!O24>=Berechnung!$W$5),TRUE,FALSE),IF(AND(DatenSchnellauswahl!P24<=Berechnung!$W$5,DatenSchnellauswahl!Q24>=Berechnung!$W$5),TRUE,FALSE))","v":true},8,10,6,8]
[79,"LWZ 404 Trend",{"$f":"IF(AND(E25=Berechnung!$X$7,F25=TRUE,G25=TRUE,H25=TRUE,I25=TRUE,J25=TRUE,M25=TRUE,L25=TRUE),TRUE,FALSE)","v":false},1,-14,{"$f":"Berechnung!$Z$5","v":true},{"$f":"Berechnung!$S$5","v":true},{"$f":"IF(Berechnung!$T$5=FALSE,TRUE,FALSE)","v":true},{"$f":"Berechnung!$U$5","v":false},{"$f":"IF(Berechnung!$V$5=FALSE,TRUE,FALSE)","v":false},1,{"$f":"IF(OR(Berechnung!$Y$50=0,K25=0,K25=Berechnung!$Y$50),TRUE,FALSE)","v":true},{"$f":"IF(Berechnung!$R$5<3,IF(AND(DatenSchnellauswahl!N25<=Berechnung!$W$5,DatenSchnellauswahl!O25>=Berechnung!$W$5),TRUE,FALSE),IF(AND(DatenSchnellauswahl!P25<=Berechnung!$W$5,DatenSchnellauswahl!Q25>=Berechnung!$W$5),TRUE,FALSE))","v":true},9,10,6,8]
[79,"LWZ 404 Trend",{"$f":"IF(AND(E26=Berechnung!$X$7,F26=TRUE,G26=TRUE,H26=TRUE,I26=TRUE,J26=TRUE,M26=TRUE,L26=TRUE),TRUE,FALSE)","v":false},1,-16,{"$f":"Berechnung!$Z$5","v":true},{"$f":"Berechnung!$S$5","v":true},{"$f":"IF(Berechnung!$T$5=FALSE,TRUE,FALSE)","v":true},{"$f":"Berechnung!$U$5","v":false},{"$f":"IF(Berechnung!$V$5=FALSE,TRUE,FALSE)","v":false},1,{"$f":"IF(OR(Berechnung!$Y$50=0,K26=0,K26=Berechnung!$Y$50),TRUE,FALSE)","v":true},{"$f":"IF(Berechnung!$R$5<3,IF(AND(DatenSchnellauswahl!N26<=Berechnung!$W$5,DatenSchnellauswahl!O26>=Berechnung!$W$5),TRUE,FALSE),IF(AND(DatenSchnellauswahl!P26<=Berechnung!$W$5,DatenSchnellauswahl!Q26>=Berechnung!$W$5),TRUE,FALSE))","v":true},9,10,7,9]
[79,"LWZ 404 Trend",{"$f":"IF(AND(E27=Berechnung!$X$7,F27=TRUE,G27=TRUE,H27=TRUE,I27=TRUE,J27=TRUE,M27=TRUE,L27=TRUE),TRUE,FALSE)","v":false},1,-18,{"$f":"Berechnung!$Z$5","v":true},{"$f":"Berechnung!$S$5","v":true},{"$f":"IF(Berechnung!$T$5=FALSE,TRUE,FALSE)","v":true},{"$f":"Berechnung!$U$5","v":false},{"$f":"IF(Berechnung!$V$5=FALSE,TRUE,FALSE)","v":false},1,{"$f":"IF(OR(Berechnung!$Y$50=0,K27=0,K27=Berechnung!$Y$50),TRUE,FALSE)","v":true},{"$f":"IF(Berechnung!$R$5<3,IF(AND(DatenSchnellauswahl!N27<=Berechnung!$W$5,DatenSchnellauswahl!O27>=Berechnung!$W$5),TRUE,FALSE),IF(AND(DatenSchnellauswahl!P27<=Berechnung!$W$5,DatenSchnellauswahl!Q27>=Berechnung!$W$5),TRUE,FALSE))","v":true},9,10,7,9]
[77,"LWZ 304 Integral",{"$f":"IF(AND(E28=Berechnung!$X$7,F28=TRUE,G28=TRUE,H28=TRUE,I28=TRUE,J28=TRUE,M28=TRUE,L28=TRUE),TRUE,FALSE)","v":false},1,-10,{"$f":"Berechnung!$Z$5","v":true},{"$f":"Berechnung!$S$5","v":true},{"$f":"IF(Berechnung!$T$5=FALSE,TRUE,FALSE)","v":true},{"$f":"Berechnung!$U$5","v":false},{"$f":"IF(Berechnung!$V$5=FALSE,TRUE,FALSE)","v":false},1,{"$f":"IF(OR(Berechnung!$Y$50=0,K28=0,K28=Berechnung!$Y$50),TRUE,FALSE)","v":true},{"$f":"IF(Berechnung!$R$5<3,IF(AND(DatenSchnellauswahl!N28<=Berechnung!$W$5,DatenSchnellauswahl!O28>=Berechnung!$W$5),TRUE,FALSE),IF(AND(DatenSchnellauswahl!P28<=Berechnung!$W$5,DatenSchnellauswahl!Q28>=Berechnung!$W$5),TRUE,FALSE))","v":false},1,7,1,5]
[77,"LWZ 304 Integral",{"$f":"IF(AND(E29=Berechnung!$X$7,F29=TRUE,G29=TRUE,H29=TRUE,I29=TRUE,J29=TRUE,M29=TRUE,L29=TRUE),TRUE,FALSE)","v":false},1,-12,{"$f":"Berechnung!$Z$5","v":true},{"$f":"Berechnung!$S$5","v":true},{"$f":"IF(Berechnung!$T$5=FALSE,TRUE,FALSE)","v":true},{"$f":"Berechnung!$U$5","v":false},{"$f":"IF(Berechnung!$V$5=FALSE,TRUE,FALSE)","v":false},1,{"$f":"IF(OR(Berechnung!$Y$50=0,K29=0,K29=Berechnung!$Y$50),TRUE,FALSE)","v":true},{"$f":"IF(Berechnung!$R$5<3,IF(AND(DatenSchnellauswahl!N29<=Berechnung!$W$5,DatenSchnellauswahl!O29>=Berechnung!$W$5),TRUE,FALSE),IF(AND(DatenSchnellauswahl!P29<=Berechnung!$W$5,DatenSchnellauswahl!Q29>=Berechnung!$W$5),TRUE,FALSE))","v":false},1,7,1,5]
[77,"LWZ 304 Integral",{"$f":"IF(AND(E30=Berechnung!$X$7,F30=TRUE,G30=TRUE,H30=TRUE,I30=TRUE,J30=TRUE,M30=TRUE,L30=TRUE),TRUE,FALSE)","v":false},1,-14,{"$f":"Berechnung!$Z$5","v":true},{"$f":"Berechnung!$S$5","v":true},{"$f":"IF(Berechnung!$T$5=FALSE,TRUE,FALSE)","v":true},{"$f":"Berechnung!$U$5","v":false},{"$f":"IF(Berechnung!$V$5=FALSE,TRUE,FALSE)","v":false},1,{"$f":"IF(OR(Berechnung!$Y$50=0,K30=0,K30=Berechnung!$Y$50),TRUE,FALSE)","v":true},{"$f":"IF(Berechnung!$R$5<3,IF(AND(DatenSchnellauswahl!N30<=Berechnung!$W$5,DatenSchnellauswahl!O30>=Berechnung!$W$5),TRUE,FALSE),IF(AND(DatenSchnellauswahl!P30<=Berechnung!$W$5,DatenSchnellauswahl!Q30>=Berechnung!$W$5),TRUE,FALSE))","v":false},1,8,1,5]
[77,"LWZ 304 Integral",{"$f":"IF(AND(E31=Berechnung!$X$7,F31=TRUE,G31=TRUE,H31=TRUE,I31=TRUE,J31=TRUE,M31=TRUE,L31=TRUE),TRUE,FALSE)","v":false},1,-16,{"$f":"Berechnung!$Z$5","v":true},{"$f":"Berechnung!$S$5","v":true},{"$f":"IF(Berechnung!$T$5=FALSE,TRUE,FALSE)","v":true},{"$f":"Berechnung!$U$5","v":false},{"$f":"IF(Berechnung!$V$5=FALSE,TRUE,FALSE)","v":false},1,{"$f":"IF(OR(Berechnung!$Y$50=0,K31=0,K31=Berechnung!$Y$50),TRUE,FALSE)","v":true},{"$f":"IF(Berechnung!$R$5<3,IF(AND(DatenSchnellauswahl!N31<=Berechnung!$W$5,DatenSchnellauswahl!O31>=Berechnung!$W$5),TRUE,FALSE),IF(AND(DatenSchnellauswahl!P31<=Berechnung!$W$5,DatenSchnellauswahl!Q31>=Berechnung!$W$5),TRUE,FALSE))","v":false},1,8,1,6]
[77,"LWZ 304 Integral",{"$f":"IF(AND(E32=Berechnung!$X$7,F32=TRUE,G32=TRUE,H32=TRUE,I32=TRUE,J32=TRUE,M32=TRUE,L32=TRUE),TRUE,FALSE)","v":false},1,-18,{"$f":"Berechnung!$Z$5","v":true},{"$f":"Berechnung!$S$5","v":true},{"$f":"IF(Berechnung!$T$5=FALSE,TRUE,FALSE)","v":true},{"$f":"Berechnung!$U$5","v":false},{"$f":"IF(Berechnung!$V$5=FALSE,TRUE,FALSE)","v":false},1,{"$f":"IF(OR(Berechnung!$Y$50=0,K32=0,K32=Berechnung!$Y$50),TRUE,FALSE)","v":true},{"$f":"IF(Berechnung!$R$5<3,IF(AND(DatenSchnellauswahl!N32<=Berechnung!$W$5,DatenSchnellauswahl!O32>=Berechnung!$W$5),TRUE,FALSE),IF(AND(DatenSchnellauswahl!P32<=Berechnung!$W$5,DatenSchnellauswahl!Q32>=Berechnung!$W$5),TRUE,FALSE))","v":false},1,8,1,6]
[103,"LWZ 304 SOL Set",{"$f":"IF(AND(E33=Berechnung!$X$7,F33=TRUE,G33=TRUE,H33=TRUE,I33=TRUE,J33=TRUE,M33=TRUE,L33=TRUE),TRUE,FALSE)","v":false},1,-10,{"$f":"Berechnung!$Z$5","v":true},{"$f":"Berechnung!$S$5","v":true},{"$f":"Berechnung!$T$5","v":false},{"$f":"Berechnung!$U$5","v":false},true,1,{"$f":"IF(OR(Berechnung!$Y$50=0,K33=0,K33=Berechnung!$Y$50),TRUE,FALSE)","v":true},{"$f":"IF(Berechnung!$R$5<3,IF(AND(DatenSchnellauswahl!N33<=Berechnung!$W$5,DatenSchnellauswahl!O33>=Berechnung!$W$5),TRUE,FALSE),IF(AND(DatenSchnellauswahl!P33<=Berechnung!$W$5,DatenSchnellauswahl!Q33>=Berechnung!$W$5),TRUE,FALSE))","v":false},1,7,1,5]
[103,"LWZ 304 SOL Set",{"$f":"IF(AND(E34=Berechnung!$X$7,F34=TRUE,G34=TRUE,H34=TRUE,I34=TRUE,J34=TRUE,M34=TRUE,L34=TRUE),TRUE,FALSE)","v":false},1,-12,{"$f":"Berechnung!$Z$5","v":true},{"$f":"Berechnung!$S$5","v":true},{"$f":"Berechnung!$T$5","v":false},{"$f":"Berechnung!$U$5","v":false},true,1,{"$f":"IF(OR(Berechnung!$Y$50=0,K34=0,K34=Berechnung!$Y$50),TRUE,FALSE)","v":true},{"$f":"IF(Berechnung!$R$5<3,IF(AND(DatenSchnellauswahl!N34<=Berechnung!$W$5,DatenSchnellauswahl!O34>=Berechnung!$W$5),TRUE,FALSE),IF(AND(DatenSchnellauswahl!P34<=Berechnung!$W$5,DatenSchnellauswahl!Q34>=Berechnung!$W$5),TRUE,FALSE))","v":false},1,7,1,5]
[103,"LWZ 304 SOL Set",{"$f":"IF(AND(E35=Berechnung!$X$7,F35=TRUE,G35=TRUE,H35=TRUE,I35=TRUE,J35=TRUE,M35=TRUE,L35=TRUE),TRUE,FALSE)","v":false},1,-14,{"$f":"Berechnung!$Z$5","v":true},{"$f":"Berechnung!$S$5","v":true},{"$f":"Berechnung!$T$5","v":false},{"$f":"Berechnung!$U$5","v":false},true,1,{"$f":"IF(OR(Berechnung!$Y$50=0,K35=0,K35=Berechnung!$Y$50),TRUE,FALSE)","v":true},{"$f":"IF(Berechnung!$R$5<3,IF(AND(DatenSchnellauswahl!N35<=Berechnung!$W$5,DatenSchnellauswahl!O35>=Berechnung!$W$5),TRUE,FALSE),IF(AND(DatenSchnellauswahl!P35<=Berechnung!$W$5,DatenSchnellauswahl!Q35>=Berechnung!$W$5),TRUE,FALSE))","v":false},1,8,1,5]
[103,"LWZ 304 SOL Set",{"$f":"IF(AND(E36=Berechnung!$X$7,F36=TRUE,G36=TRUE,H36=TRUE,I36=TRUE,J36=TRUE,M36=TRUE,L36=TRUE),TRUE,FALSE)","v":false},1,-16,{"$f":"Berechnung!$Z$5","v":true},{"$f":"Berechnung!$S$5","v":true},{"$f":"Berechnung!$T$5","v":false},{"$f":"Berechnung!$U$5","v":false},true,1,{"$f":"IF(OR(Berechnung!$Y$50=0,K36=0,K36=Berechnung!$Y$50),TRUE,FALSE)","v":true},{"$f":"IF(Berechnung!$R$5<3,IF(AND(DatenSchnellauswahl!N36<=Berechnung!$W$5,DatenSchnellauswahl!O36>=Berechnung!$W$5),TRUE,FALSE),IF(AND(DatenSchnellauswahl!P36<=Berechnung!$W$5,DatenSchnellauswahl!Q36>=Berechnung!$W$5),TRUE,FALSE))","v":false},1,8,1,6]
[103,"LWZ 304 SOL Set",{"$f":"IF(AND(E37=Berechnung!$X$7,F37=TRUE,G37=TRUE,H37=TRUE,I37=TRUE,J37=TRUE,M37=TRUE,L37=TRUE),TRUE,FALSE)","v":false},1,-18,{"$f":"Berechnung!$Z$5","v":true},{"$f":"Berechnung!$S$5","v":true},{"$f":"Berechnung!$T$5","v":false},{"$f":"Berechnung!$U$5","v":false},true,1,{"$f":"IF(OR(Berechnung!$Y$50=0,K37=0,K37=Berechnung!$Y$50),TRUE,FALSE)","v":true},{"$f":"IF(Berechnung!$R$5<3,IF(AND(DatenSchnellauswahl!N37<=Berechnung!$W$5,DatenSchnellauswahl!O37>=Berechnung!$W$5),TRUE,FALSE),IF(AND(DatenSchnellauswahl!P37<=Berechnung!$W$5,DatenSchnellauswahl!Q37>=Berechnung!$W$5),TRUE,FALSE))","v":false},1,8,1,6]
[104,"LWZ 404 SOL Set",{"$f":"IF(AND(E38=Berechnung!$X$7,F38=TRUE,G38=TRUE,H38=TRUE,I38=TRUE,J38=TRUE,M38=TRUE,L38=TRUE),TRUE,FALSE)","v":false},1,-10,{"$f":"Berechnung!$Z$5","v":true},{"$f":"Berechnung!$S$5","v":true},{"$f":"Berechnung!$T$5","v":false},{"$f":"Berechnung!$U$5","v":false},true,1,{"$f":"IF(OR(Berechnung!$Y$50=0,K38=0,K38=Berechnung!$Y$50),TRUE,FALSE)","v":true},{"$f":"IF(Berechnung!$R$5<3,IF(AND(DatenSchnellauswahl!N38<=Berechnung!$W$5,DatenSchnellauswahl!O38>=Berechnung!$W$5),TRUE,FALSE),IF(AND(DatenSchnellauswahl!P38<=Berechnung!$W$5,DatenSchnellauswahl!Q38>=Berechnung!$W$5),TRUE,FALSE))","v":true},8,9,6,7]
[104,"LWZ 404 SOL Set",{"$f":"IF(AND(E39=Berechnung!$X$7,F39=TRUE,G39=TRUE,H39=TRUE,I39=TRUE,J39=TRUE,M39=TRUE,L39=TRUE),TRUE,FALSE)","v":false},1,-12,{"$f":"Berechnung!$Z$5","v":true},{"$f":"Berechnung!$S$5","v":true},{"$f":"Berechnung!$T$5","v":false},{"$f":"Berechnung!$U$5","v":false},true,1,{"$f":"IF(OR(Berechnung!$Y$50=0,K39=0,K39=Berechnung!$Y$50),TRUE,FALSE)","v":true},{"$f":"IF(Berechnung!$R$5<3,IF(AND(DatenSchnellauswahl!N39<=Berechnung!$W$5,DatenSchnellauswahl!O39>=Berechnung!$W$5),TRUE,FALSE),IF(AND(DatenSchnellauswahl!P39<=Berechnung!$W$5,DatenSchnellauswahl!Q39>=Berechnung!$W$5),TRUE,FALSE))","v":true},8,10,6,8]
[104,"LWZ 404 SOL Set",{"$f":"IF(AND(E40=Berechnung!$X$7,F40=TRUE,G40=TRUE,H40=TRUE,I40=TRUE,J40=TRUE,M40=TRUE,L40=TRUE),TRUE,FALSE)","v":false},1,-14,{"$f":"Berechnung!$Z$5","v":true},{"$f":"Berechnung!$S$5","v":true},{"$f":"Berechnung!$T$5","v":false},{"$f":"Berechnung!$U$5","v":false},true,1,{"$f":"IF(OR(Berechnung!$Y$50=0,K40=0,K40=Berechnung!$Y$50),TRUE,FALSE)","v":true},{"$f":"IF(Berechnung!$R$5<3,IF(AND(DatenSchnellauswahl!N40<=Berechnung!$W$5,DatenSchnellauswahl!O40>=Berechnung!$W$5),TRUE,FALSE),IF(AND(DatenSchnellauswahl!P40<=Berechnung!$W$5,DatenSchnellauswahl!Q40>=Berechnung!$W$5),TRUE,FALSE))","v":true},9,10,6,8]
[104,"LWZ 404 SOL Set",{"$f":"IF(AND(E41=Berechnung!$X$7,F41=TRUE,G41=TRUE,H41=TRUE,I41=TRUE,J41=TRUE,M41=TRUE,L41=TRUE),TRUE,FALSE)","v":false},1,-16,{"$f":"Berechnung!$Z$5","v":true},{"$f":"Berechnung!$S$5","v":true},{"$f":"Berechnung!$T$5","v":false},{"$f":"Berechnung!$U$5","v":false},true,1,{"$f":"IF(OR(Berechnung!$Y$50=0,K41=0,K41=Berechnung!$Y$50),TRUE,FALSE)","v":true},{"$f":"IF(Berechnung!$R$5<3,IF(AND(DatenSchnellauswahl!N41<=Berechnung!$W$5,DatenSchnellauswahl!O41>=Berechnung!$W$5),TRUE,FALSE),IF(AND(DatenSchnellauswahl!P41<=Berechnung!$W$5,DatenSchnellauswahl!Q41>=Berechnung!$W$5),TRUE,FALSE))","v":true},9,10,7,9]
[104,"LWZ 404 SOL Set",{"$f":"IF(AND(E42=Berechnung!$X$7,F42=TRUE,G42=TRUE,H42=TRUE,I42=TRUE,J42=TRUE,M42=TRUE,L42=TRUE),TRUE,FALSE)","v":false},1,-18,{"$f":"Berechnung!$Z$5","v":true},{"$f":"Berechnung!$S$5","v":true},{"$f":"Berechnung!$T$5","v":false},{"$f":"Berechnung!$U$5","v":false},true,1,{"$f":"IF(OR(Berechnung!$Y$50=0,K42=0,K42=Berechnung!$Y$50),TRUE,FALSE)","v":true},{"$f":"IF(Berechnung!$R$5<3,IF(AND(DatenSchnellauswahl!N42<=Berechnung!$W$5,DatenSchnellauswahl!O42>=Berechnung!$W$5),TRUE,FALSE),IF(AND(DatenSchnellauswahl!P42<=Berechnung!$W$5,DatenSchnellauswahl!Q42>=Berechnung!$W$5),TRUE,FALSE))","v":true},9,10,7,9]
[929,"LWA 403",{"$f":"IF(AND(E43=Berechnung!$X$7,F43=TRUE,G43=TRUE,H43=TRUE,I43=TRUE,J43=TRUE,M43=TRUE,L43=TRUE),TRUE,FALSE)","v":false},1,-10,{"$f":"Berechnung!$Z$5","v":true},{"$f":"Berechnung!$S$5","v":true},{"$f":"IF(Berechnung!$T$5=FALSE,TRUE,FALSE)","v":true},{"$f":"Berechnung!$U$5","v":false},{"$f":"IF(Berechnung!$V$5=FALSE,TRUE,FALSE)","v":false},1,{"$f":"IF(OR(Berechnung!$Y$50=0,K43=0,K43=Berechnung!$Y$50),TRUE,FALSE)","v":true},{"$f":"IF(Berechnung!$R$5<3,IF(AND(DatenSchnellauswahl!N43<=Berechnung!$W$5,DatenSchnellauswahl!O43>=Berechnung!$W$5),TRUE,FALSE),IF(AND(DatenSchnellauswahl!P43<=Berechnung!$W$5,DatenSchnellauswahl!Q43>=Berechnung!$W$5),TRUE,FALSE))","v":true},8,9,6,7]
[929,"LWA 403",{"$f":"IF(AND(E44=Berechnung!$X$7,F44=TRUE,G44=TRUE,H44=TRUE,I44=TRUE,J44=TRUE,M44=TRUE,L44=TRUE),TRUE,FALSE)","v":false},1,-12,{"$f":"Berechnung!$Z$5","v":true},{"$f":"Berechnung!$S$5","v":true},{"$f":"IF(Berechnung!$T$5=FALSE,TRUE,FALSE)","v":true},{"$f":"Berechnung!$U$5","v":false},{"$f":"IF(Berechnung!$V$5=FALSE,TRUE,FALSE)","v":false},1,{"$f":"IF(OR(Berechnung!$Y$50=0,K44=0,K44=Berechnung!$Y$50),TRUE,FALSE)","v":true},{"$f":"IF(Berechnung!$R$5<3,IF(AND(DatenSchnellauswahl!N44<=Berechnung!$W$5,DatenSchnellauswahl!O44>=Berechnung!$W$5),TRUE,FALSE),IF(AND(DatenSchnellauswahl!P44<=Berechnung!$W$5,DatenSchnellauswahl!Q44>=Berechnung!$W$5),TRUE,FALSE))","v":true},8,10,6,8]
[929,"LWA 403",{"$f":"IF(AND(E45=Berechnung!$X$7,F45=TRUE,G45=TRUE,H45=TRUE,I45=TRUE,J45=TRUE,M45=TRUE,L45=TRUE),TRUE,FALSE)","v":false},1,-14,{"$f":"Berechnung!$Z$5","v":true},{"$f":"Berechnung!$S$5","v":true},{"$f":"IF(Berechnung!$T$5=FALSE,TRUE,FALSE)","v":true},{"$f":"Berechnung!$U$5","v":false},{"$f":"IF(Berechnung!$V$5=FALSE,TRUE,FALSE)","v":false},1,{"$f":"IF(OR(Berechnung!$Y$50=0,K45=0,K45=Berechnung!$Y$50),TRUE,FALSE)","v":true},{"$f":"IF(Berechnung!$R$5<3,IF(AND(DatenSchnellauswahl!N45<=Berechnung!$W$5,DatenSchnellauswahl!O45>=Berechnung!$W$5),TRUE,FALSE),IF(AND(DatenSchnellauswahl!P45<=Berechnung!$W$5,DatenSchnellauswahl!Q45>=Berechnung!$W$5),TRUE,FALSE))","v":true},9,10,6,8]
[929,"LWA 403",{"$f":"IF(AND(E46=Berechnung!$X$7,F46=TRUE,G46=TRUE,H46=TRUE,I46=TRUE,J46=TRUE,M46=TRUE,L46=TRUE),TRUE,FALSE)","v":false},1,-16,{"$f":"Berechnung!$Z$5","v":true},{"$f":"Berechnung!$S$5","v":true},{"$f":"IF(Berechnung!$T$5=FALSE,TRUE,FALSE)","v":true},{"$f":"Berechnung!$U$5","v":false},{"$f":"IF(Berechnung!$V$5=FALSE,TRUE,FALSE)","v":false},1,{"$f":"IF(OR(Berechnung!$Y$50=0,K46=0,K46=Berechnung!$Y$50),TRUE,FALSE)","v":true},{"$f":"IF(Berechnung!$R$5<3,IF(AND(DatenSchnellauswahl!N46<=Berechnung!$W$5,DatenSchnellauswahl!O46>=Berechnung!$W$5),TRUE,FALSE),IF(AND(DatenSchnellauswahl!P46<=Berechnung!$W$5,DatenSchnellauswahl!Q46>=Berechnung!$W$5),TRUE,FALSE))","v":true},9,10,7,9]
[929,"LWA 403",{"$f":"IF(AND(E47=Berechnung!$X$7,F47=TRUE,G47=TRUE,H47=TRUE,I47=TRUE,J47=TRUE,M47=TRUE,L47=TRUE),TRUE,FALSE)","v":false},1,-18,{"$f":"Berechnung!$Z$5","v":true},{"$f":"Berechnung!$S$5","v":true},{"$f":"IF(Berechnung!$T$5=FALSE,TRUE,FALSE)","v":true},{"$f":"Berechnung!$U$5","v":false},{"$f":"IF(Berechnung!$V$5=FALSE,TRUE,FALSE)","v":false},1,{"$f":"IF(OR(Berechnung!$Y$50=0,K47=0,K47=Berechnung!$Y$50),TRUE,FALSE)","v":true},{"$f":"IF(Berechnung!$R$5<3,IF(AND(DatenSchnellauswahl!N47<=Berechnung!$W$5,DatenSchnellauswahl!O47>=Berechnung!$W$5),TRUE,FALSE),IF(AND(DatenSchnellauswahl!P47<=Berechnung!$W$5,DatenSchnellauswahl!Q47>=Berechnung!$W$5),TRUE,FALSE))","v":true},9,10,7,9]
[95,"WPL 10 AC",{"$f":"IF(AND(E48=Berechnung!$X$7,F48=TRUE,G48=TRUE,H48=TRUE,I48=TRUE,J48=TRUE,M48=TRUE,L48=TRUE),TRUE,FALSE)","v":false},1,-10,{"$f":"Berechnung!$Z$5","v":true},true,true,true,true,2,{"$f":"IF(OR(Berechnung!$Y$50=0,K48=0,K48=Berechnung!$Y$50),TRUE,FALSE)","v":true},{"$f":"IF(Berechnung!$R$5<3,IF(AND(DatenSchnellauswahl!N48<=Berechnung!$W$5,DatenSchnellauswahl!O48>=Berechnung!$W$5),TRUE,FALSE),IF(AND(DatenSchnellauswahl!P48<=Berechnung!$W$5,DatenSchnellauswahl!Q48>=Berechnung!$W$5),TRUE,FALSE))","v":false},1,7,1,6]
[95,"WPL 10 AC",{"$f":"IF(AND(E49=Berechnung!$X$7,F49=TRUE,G49=TRUE,H49=TRUE,I49=TRUE,J49=TRUE,M49=TRUE,L49=TRUE),TRUE,FALSE)","v":false},1,-12,{"$f":"Berechnung!$Z$5","v":true},true,true,true,true,2,{"$f":"IF(OR(Berechnung!$Y$50=0,K49=0,K49=Berechnung!$Y$50),TRUE,FALSE)","v":true},{"$f":"IF(Berechnung!$R$5<3,IF(AND(DatenSchnellauswahl!N49<=Berechnung!$W$5,DatenSchnellauswahl!O49>=Berechnung!$W$5),TRUE,FALSE),IF(AND(DatenSchnellauswahl!P49<=Berechnung!$W$5,DatenSchnellauswahl!Q49>=Berechnung!$W$5),TRUE,FALSE))","v":false},1,8,1,7]
[95,"WPL 10 AC",{"$f":"IF(AND(E50=Berechnung!$X$7,F50=TRUE,G50=TRUE,H50=TRUE,I50=TRUE,J50=TRUE,M50=TRUE,L50=TRUE),TRUE,FALSE)","v":false},1,-14,{"$f":"Berechnung!$Z$5","v":true},true,true,true,true,2,{"$f":"IF(OR(Berechnung!$Y$50=0,K50=0,K50=Berechnung!$Y$50),TRUE,FALSE)","v":true},{"$f":"IF(Berechnung!$R$5<3,IF(AND(DatenSchnellauswahl!N50<=Berechnung!$W$5,DatenSchnellauswahl!O50>=Berechnung!$W$5),TRUE,FALSE),IF(AND(DatenSchnellauswahl!P50<=Berechnung!$W$5,DatenSchnellauswahl!Q50>=Berechnung!$W$5),TRUE,FALSE))","v":false},1,8,1,7]
[95,"WPL 10 AC",{"$f":"IF(AND(E51=Berechnung!$X$7,F51=TRUE,G51=TRUE,H51=TRUE,I51=TRUE,J51=TRUE,M51=TRUE,L51=TRUE),TRUE,FALSE)","v":false},1,-16,{"$f":"Berechnung!$Z$5","v":true},true,true,true,true,2,{"$f":"IF(OR(Berechnung!$Y$50=0,K51=0,K51=Berechnung!$Y$50),TRUE,FALSE)","v":true},{"$f":"IF(Berechnung!$R$5<3,IF(AND(DatenSchnellauswahl!N51<=Berechnung!$W$5,DatenSchnellauswahl!O51>=Berechnung!$W$5),TRUE,FALSE),IF(AND(DatenSchnellauswahl!P51<=Berechnung!$W$5,DatenSchnellauswahl!Q51>=Berechnung!$W$5),TRUE,FALSE))","v":true},1,9,1,8]
[95,"WPL 10 AC",{"$f":"IF(AND(E52=Berechnung!$X$7,F52=TRUE,G52=TRUE,H52=TRUE,I52=TRUE,J52=TRUE,M52=TRUE,L52=TRUE),TRUE,FALSE)","v":false},1,-18,{"$f":"Berechnung!$Z$5","v":true},true,true,true,true,2,{"$f":"IF(OR(Berechnung!$Y$50=0,K52=0,K52=Berechnung!$Y$50),TRUE,FALSE)","v":true},{"$f":"IF(Berechnung!$R$5<3,IF(AND(DatenSchnellauswahl!N52<=Berechnung!$W$5,DatenSchnellauswahl!O52>=Berechnung!$W$5),TRUE,FALSE),IF(AND(DatenSchnellauswahl!P52<=Berechnung!$W$5,DatenSchnellauswahl!Q52>=Berechnung!$W$5),TRUE,FALSE))","v":true},1,9,1,8]
[4,"WPL 10 IK",{"$f":"IF(AND(E53=Berechnung!$X$7,F53=TRUE,G53=TRUE,H53=TRUE,I53=TRUE,J53=TRUE,M53=TRUE,L53=TRUE),TRUE,FALSE)","v":false},1,-10,{"$f":"Berechnung!$Z$5","v":true},true,true,true,{"$f":"IF(Berechnung!$V$5=FALSE,TRUE,FALSE)","v":false},1,{"$f":"IF(OR(Berechnung!$Y$50=0,K53=0,K53=Berechnung!$Y$50),TRUE,FALSE)","v":true},{"$f":"IF(Berechnung!$R$5<3,IF(AND(DatenSchnellauswahl!N53<=Berechnung!$W$5,DatenSchnellauswahl!O53>=Berechnung!$W$5),TRUE,FALSE),IF(AND(DatenSchnellauswahl!P53<=Berechnung!$W$5,DatenSchnellauswahl!Q53>=Berechnung!$W$5),TRUE,FALSE))","v":false},1,7,1,6]
[4,"WPL 10 IK",{"$f":"IF(AND(E54=Berechnung!$X$7,F54=TRUE,G54=TRUE,H54=TRUE,I54=TRUE,J54=TRUE,M54=TRUE,L54=TRUE),TRUE,FALSE)","v":false},1,-12,{"$f":"Berechnung!$Z$5","v":true},true,true,true,{"$f":"IF(Berechnung!$V$5=FALSE,TRUE,FALSE)","v":false},1,{"$f":"IF(OR(Berechnung!$Y$50=0,K54=0,K54=Berechnung!$Y$50),TRUE,FALSE)","v":true},{"$f":"IF(Berechnung!$R$5<3,IF(AND(DatenSchnellauswahl!N54<=Berechnung!$W$5,DatenSchnellauswahl!O54>=Berechnung!$W$5),TRUE,FALSE),IF(AND(DatenSchnellauswahl!P54<=Berechnung!$W$5,DatenSchnellauswahl!Q54>=Berechnung!$W$5),TRUE,FALSE))","v":false},1,8,1,7]
[4,"WPL 10 IK",{"$f":"IF(AND(E55=Berechnung!$X$7,F55=TRUE,G55=TRUE,H55=TRUE,I55=TRUE,J55=TRUE,M55=TRUE,L55=TRUE),TRUE,FALSE)","v":false},1,-14,{"$f":"Berechnung!$Z$5","v":true},true,true,true,{"$f":"IF(Berechnung!$V$5=FALSE,TRUE,FALSE)","v":false},1,{"$f":"IF(OR(Berechnung!$Y$50=0,K55=0,K55=Berechnung!$Y$50),TRUE,FALSE)","v":true},{"$f":"IF(Berechnung!$R$5<3,IF(AND(DatenSchnellauswahl!N55<=Berechnung!$W$5,DatenSchnellauswahl!O55>=Berechnung!$W$5),TRUE,FALSE),IF(AND(DatenSchnellauswahl!P55<=Berechnung!$W$5,DatenSchnellauswahl!Q55>=Berechnung!$W$5),TRUE,FALSE))","v":false},1,8,1,7]
[4,"WPL 10 IK",{"$f":"IF(AND(E56=Berechnung!$X$7,F56=TRUE,G56=TRUE,H56=TRUE,I56=TRUE,J56=TRUE,M56=TRUE,L56=TRUE),TRUE,FALSE)","v":false},1,-16,{"$f":"Berechnung!$Z$5","v":true},true,true,true,{"$f":"IF(Berechnung!$V$5=FALSE,TRUE,FALSE)","v":false},1,{"$f":"IF(OR(Berechnung!$Y$50=0,K56=0,K56=Berechnung!$Y$50),TRUE,FALSE)","v":true},{"$f":"IF(Berechnung!$R$5<3,IF(AND(DatenSchnellauswahl!N56<=Berechnung!$W$5,DatenSchnellauswahl!O56>=Berechnung!$W$5),TRUE,FALSE),IF(AND(DatenSchnellauswahl!P56<=Berechnung!$W$5,DatenSchnellauswahl!Q56>=Berechnung!$W$5),TRUE,FALSE))","v":true},1,9,1,8]
[4,"WPL 10 IK",{"$f":"IF(AND(E57=Berechnung!$X$7,F57=TRUE,G57=TRUE,H57=TRUE,I57=TRUE,J57=TRUE,M57=TRUE,L57=TRUE),TRUE,FALSE)","v":false},1,-18,{"$f":"Berechnung!$Z$5","v":true},true,true,true,{"$f":"IF(Berechnung!$V$5=FALSE,TRUE,FALSE)","v":false},1,{"$f":"IF(OR(Berechnung!$Y$50=0,K57=0,K57=Berechnung!$Y$50),TRUE,FALSE)","v":true},{"$f":"IF(Berechnung!$R$5<3,IF(AND(DatenSchnellauswahl!N57<=Berechnung!$W$5,DatenSchnellauswahl!O57>=Berechnung!$W$5),TRUE,FALSE),IF(AND(DatenSchnellauswahl!P57<=Berechnung!$W$5,DatenSchnellauswahl!Q57>=Berechnung!$W$5),TRUE,FALSE))","v":true},1,9,1,8]
[3,"WPL 10 I",{"$f":"IF(AND(E58=Berechnung!$X$7,F58=TRUE,G58=TRUE,H58=TRUE,I58=TRUE,J58=TRUE,M58=TRUE,L58=TRUE),TRUE,FALSE)","v":false},1,-10,{"$f":"Berechnung!$Z$5","v":true},true,true,true,{"$f":"IF(Berechnung!$V$5=FALSE,TRUE,FALSE)","v":false},1,{"$f":"IF(OR(Berechnung!$Y$50=0,K58=0,K58=Berechnung!$Y$50),TRUE,FALSE)","v":true},{"$f":"IF(Berechnung!$R$5<3,IF(AND(DatenSchnellauswahl!N58<=Berechnung!$W$5,DatenSchnellauswahl!O58>=Berechnung!$W$5),TRUE,FALSE),IF(AND(DatenSchnellauswahl!P58<=Berechnung!$W$5,DatenSchnellauswahl!Q58>=Berechnung!$W$5),TRUE,FALSE))","v":false},1,7,1,6]
[3,"WPL 10 I",{"$f":"IF(AND(E59=Berechnung!$X$7,F59=TRUE,G59=TRUE,H59=TRUE,I59=TRUE,J59=TRUE,M59=TRUE,L59=TRUE),TRUE,FALSE)","v":false},1,-12,{"$f":"Berechnung!$Z$5","v":true},true,true,true,{"$f":"IF(Berechnung!$V$5=FALSE,TRUE,FALSE)","v":false},1,{"$f":"IF(OR(Berechnung!$Y$50=0,K59=0,K59=Berechnung!$Y$50),TRUE,FALSE)","v":true},{"$f":"IF(Berechnung!$R$5<3,IF(AND(DatenSchnellauswahl!N59<=Berechnung!$W$5,DatenSchnellauswahl!O59>=Berechnung!$W$5),TRUE,FALSE),IF(AND(DatenSchnellauswahl!P59<=Berechnung!$W$5,DatenSchnellauswahl!Q59>=Berechnung!$W$5),TRUE,FALSE))","v":false},1,8,1,7]
[3,"WPL 10 I",{"$f":"IF(AND(E60=Berechnung!$X$7,F60=TRUE,G60=TRUE,H60=TRUE,I60=TRUE,J60=TRUE,M60=TRUE,L60=TRUE),TRUE,FALSE)","v":false},1,-14,{"$f":"Berechnung!$Z$5","v":true},true,true,true,{"$f":"IF(Berechnung!$V$5=FALSE,TRUE,FALSE)","v":false},1,{"$f":"IF(OR(Berechnung!$Y$50=0,K60=0,K60=Berechnung!$Y$50),TRUE,FALSE)","v":true},{"$f":"IF(Berechnung!$R$5<3,IF(AND(DatenSchnellauswahl!N60<=Berechnung!$W$5,DatenSchnellauswahl!O60>=Berechnung!$W$5),TRUE,FALSE),IF(AND(DatenSchnellauswahl!P60<=Berechnung!$W$5,DatenSchnellauswahl!Q60>=Berechnung!$W$5),TRUE,FALSE))","v":false},1,8,1,7]
[3,"WPL 10 I",{"$f":"IF(AND(E61=Berechnung!$X$7,F61=TRUE,G61=TRUE,H61=TRUE,I61=TRUE,J61=TRUE,M61=TRUE,L61=TRUE),TRUE,FALSE)","v":false},1,-16,{"$f":"Berechnung!$Z$5","v":true},true,true,true,{"$f":"IF(Berechnung!$V$5=FALSE,TRUE,FALSE)","v":false},1,{"$f":"IF(OR(Berechnung!$Y$50=0,K61=0,K61=Berechnung!$Y$50),TRUE,FALSE)","v":true},{"$f":"IF(Berechnung!$R$5<3,IF(AND(DatenSchnellauswahl!N61<=Berechnung!$W$5,DatenSchnellauswahl!O61>=Berechnung!$W$5),TRUE,FALSE),IF(AND(DatenSchnellauswahl!P61<=Berechnung!$W$5,DatenSchnellauswahl!Q61>=Berechnung!$W$5),TRUE,FALSE))","v":true},1,9,1,8]
[3,"WPL 10 I",{"$f":"IF(AND(E62=Berechnung!$X$7,F62=TRUE,G62=TRUE,H62=TRUE,I62=TRUE,J62=TRUE,M62=TRUE,L62=TRUE),TRUE,FALSE)","v":false},1,-18,{"$f":"Berechnung!$Z$5","v":true},true,true,true,{"$f":"IF(Berechnung!$V$5=FALSE,TRUE,FALSE)","v":false},1,{"$f":"IF(OR(Berechnung!$Y$50=0,K62=0,K62=Berechnung!$Y$50),TRUE,FALSE)","v":true},{"$f":"IF(Berechnung!$R$5<3,IF(AND(DatenSchnellauswahl!N62<=Berechnung!$W$5,DatenSchnellauswahl!O62>=Berechnung!$W$5),TRUE,FALSE),IF(AND(DatenSchnellauswahl!P62<=Berechnung!$W$5,DatenSchnellauswahl!Q62>=Berechnung!$W$5),TRUE,FALSE))","v":true},1,9,1,8]
[2,"WPL 15 ACS",{"$f":"IF(AND(E63=Berechnung!$X$7,F63=TRUE,G63=TRUE,H63=TRUE,I63=TRUE,J63=TRUE,M63=TRUE,L63=TRUE),TRUE,FALSE)","v":false},1,-10,{"$f":"Berechnung!$Z$5","v":true},true,true,true,{"$f":"IF(Berechnung!$V$5=FALSE,TRUE,FALSE)","v":false},2,{"$f":"IF(OR(Berechnung!$Y$50=0,K63=0,K63=Berechnung!$Y$50),TRUE,FALSE)","v":true},{"$f":"IF(Berechnung!$R$5<3,IF(AND(DatenSchnellauswahl!N63<=Berechnung!$W$5,DatenSchnellauswahl!O63>=Berechnung!$W$5),TRUE,FALSE),IF(AND(DatenSchnellauswahl!P63<=Berechnung!$W$5,DatenSchnellauswahl!Q63>=Berechnung!$W$5),TRUE,FALSE))","v":true},8,10,7,9]
[2,"WPL 15 ACS",{"$f":"IF(AND(E64=Berechnung!$X$7,F64=TRUE,G64=TRUE,H64=TRUE,I64=TRUE,J64=TRUE,M64=TRUE,L64=TRUE),TRUE,FALSE)","v":false},1,-12,{"$f":"Berechnung!$Z$5","v":true},true,true,true,{"$f":"IF(Berechnung!$V$5=FALSE,TRUE,FALSE)","v":false},2,{"$f":"IF(OR(Berechnung!$Y$50=0,K64=0,K64=Berechnung!$Y$50),TRUE,FALSE)","v":true},{"$f":"IF(Berechnung!$R$5<3,IF(AND(DatenSchnellauswahl!N64<=Berechnung!$W$5,DatenSchnellauswahl!O64>=Berechnung!$W$5),TRUE,FALSE),IF(AND(DatenSchnellauswahl!P64<=Berechnung!$W$5,DatenSchnellauswahl!Q64>=Berechnung!$W$5),TRUE,FALSE))","v":true},9,10,8,10]
[2,"WPL 15 ACS",{"$f":"IF(AND(E65=Berechnung!$X$7,F65=TRUE,G65=TRUE,H65=TRUE,I65=TRUE,J65=TRUE,M65=TRUE,L65=TRUE),TRUE,FALSE)","v":false},1,-14,{"$f":"Berechnung!$Z$5","v":true},true,true,true,{"$f":"IF(Berechnung!$V$5=FALSE,TRUE,FALSE)","v":false},2,{"$f":"IF(OR(Berechnung!$Y$50=0,K65=0,K65=Berechnung!$Y$50),TRUE,FALSE)","v":true},{"$f":"IF(Berechnung!$R$5<3,IF(AND(DatenSchnellauswahl!N65<=Berechnung!$W$5,DatenSchnellauswahl!O65>=Berechnung!$W$5),TRUE,FALSE),IF(AND(DatenSchnellauswahl!P65<=Berechnung!$W$5,DatenSchnellauswahl!Q65>=Berechnung!$W$5),TRUE,FALSE))","v":true},9,11,8,10]
[2,"WPL 15 ACS",{"$f":"IF(AND(E66=Berechnung!$X$7,F66=TRUE,G66=TRUE,H66=TRUE,I66=TRUE,J66=TRUE,M66=TRUE,L66=TRUE),TRUE,FALSE)","v":false},1,-16,{"$f":"Berechnung!$Z$5","v":true},true,true,true,{"$f":"IF(Berechnung!$V$5=FALSE,TRUE,FALSE)","v":false},2,{"$f":"IF(OR(Berechnung!$Y$50=0,K66=0,K66=Berechnung!$Y$50),TRUE,FALSE)","v":true},{"$f":"IF(Berechnung!$R$5<3,IF(AND(DatenSchnellauswahl!N66<=Berechnung!$W$5,DatenSchnellauswahl!O66>=Berechnung!$W$5),TRUE,FALSE),IF(AND(DatenSchnellauswahl!P66<=Berechnung!$W$5,DatenSchnellauswahl!Q66>=Berechnung!$W$5),TRUE,FALSE))","v":false},10,11,9,11]
[2,"WPL 15 ACS",{"$f":"IF(AND(E67=Berechnung!$X$7,F67=TRUE,G67=TRUE,H67=TRUE,I67=TRUE,J67=TRUE,M67=TRUE,L67=TRUE),TRUE,FALSE)","v":false},1,-18,{"$f":"Berechnung!$Z$5","v":true},true,true,true,{"$f":"IF(Berechnung!$V$5=FALSE,TRUE,FALSE)","v":false},2,{"$f":"IF(OR(Berechnung!$Y$50=0,K67=0,K67=Berechnung!$Y$50),TRUE,FALSE)","v":true},{"$f":"IF(Berechnung!$R$5<3,IF(AND(DatenSchnellauswahl!N67<=Berechnung!$W$5,DatenSchnellauswahl!O67>=Berechnung!$W$5),TRUE,FALSE),IF(AND(DatenSchnellauswahl!P67<=Berechnung!$W$5,DatenSchnellauswahl!Q67>=Berechnung!$W$5),TRUE,FALSE))","v":false},10,12,9,11]
[8,"WPL 25 AC",{"$f":"IF(AND(E68=Berechnung!$X$7,F68=TRUE,G68=TRUE,H68=TRUE,I68=TRUE,J68=TRUE,M68=TRUE,L68=TRUE),TRUE,FALSE)","v":false},1,-10,{"$f":"Berechnung!$Z$5","v":true},true,true,true,{"$f":"IF(Berechnung!$V$5=FALSE,TRUE,FALSE)","v":false},2,{"$f":"IF(OR(Berechnung!$Y$50=0,K68=0,K68=Berechnung!$Y$50),TRUE,FALSE)","v":true},{"$f":"IF(Berechnung!$R$5<3,IF(AND(DatenSchnellauswahl!N68<=Berechnung!$W$5,DatenSchnellauswahl!O68>=Berechnung!$W$5),TRUE,FALSE),IF(AND(DatenSchnellauswahl!P68<=Berechnung!$W$5,DatenSchnellauswahl!Q68>=Berechnung!$W$5),TRUE,FALSE))","v":false},11,15,10,16]
[8,"WPL 25 AC",{"$f":"IF(AND(E69=Berechnung!$X$7,F69=TRUE,G69=TRUE,H69=TRUE,I69=TRUE,J69=TRUE,M69=TRUE,L69=TRUE),TRUE,FALSE)","v":false},1,-12,{"$f":"Berechnung!$Z$5","v":true},true,true,true,{"$f":"IF(Berechnung!$V$5=FALSE,TRUE,FALSE)","v":false},2,{"$f":"IF(OR(Berechnung!$Y$50=0,K69=0,K69=Berechnung!$Y$50),TRUE,FALSE)","v":true},{"$f":"IF(Berechnung!$R$5<3,IF(AND(DatenSchnellauswahl!N69<=Berechnung!$W$5,DatenSchnellauswahl!O69>=Berechnung!$W$5),TRUE,FALSE),IF(AND(DatenSchnellauswahl!P69<=Berechnung!$W$5,DatenSchnellauswahl!Q69>=Berechnung!$W$5),TRUE,FALSE))","v":false},11,17,11,18]
[8,"WPL 25 AC",{"$f":"IF(AND(E70=Berechnung!$X$7,F70=TRUE,G70=TRUE,H70=TRUE,I70=TRUE,J70=TRUE,M70=TRUE,L70=TRUE),TRUE,FALSE)","v":false},1,-14,{"$f":"Berechnung!$Z$5","v":true},true,true,true,{"$f":"IF(Berechnung!$V$5=FALSE,TRUE,FALSE)","v":false},2,{"$f":"IF(OR(Berechnung!$Y$50=0,K70=0,K70=Berechnung!$Y$50),TRUE,FALSE)","v":true},{"$f":"IF(Berechnung!$R$5<3,IF(AND(DatenSchnellauswahl!N70<=Berechnung!$W$5,DatenSchnellauswahl!O70>=Berechnung!$W$5),TRUE,FALSE),IF(AND(DatenSchnellauswahl!P70<=Berechnung!$W$5,DatenSchnellauswahl!Q70>=Berechnung!$W$5),TRUE,FALSE))","v":false},12,18,11,19]
[8,"WPL 25 AC",{"$f":"IF(AND(E71=Berechnung!$X$7,F71=TRUE,G71=TRUE,H71=TRUE,I71=TRUE,J71=TRUE,M71=TRUE,L71=TRUE),TRUE,FALSE)","v":false},1,-16,{"$f":"Berechnung!$Z$5","v":true},true,true,true,{"$f":"IF(Berechnung!$V$5=FALSE,TRUE,FALSE)","v":false},2,{"$f":"IF(OR(Berechnung!$Y$50=0,K71=0,K71=Berechnung!$Y$50),TRUE,FALSE)","v":true},{"$f":"IF(Berechnung!$R$5<3,IF(AND(DatenSchnellauswahl!N71<=Berechnung!$W$5,DatenSchnellauswahl!O71>=Berechnung!$W$5),TRUE,FALSE),IF(AND(DatenSchnellauswahl!P71<=Berechnung!$W$5,DatenSchnellauswahl!Q71>=Berechnung!$W$5),TRUE,FALSE))","v":false},12,19,12,19]
[8,"WPL 25 AC",{"$f":"IF(AND(E72=Berechnung!$X$7,F72=TRUE,G72=TRUE,H72=TRUE,I72=TRUE,J72=TRUE,M72=TRUE,L72=TRUE),TRUE,FALSE)","v":false},1,-18,{"$f":"Berechnung!$Z$5","v":true},true,true,true,{"$f":"IF(Berechnung!$V$5=FALSE,TRUE,FALSE)","v":false},2,{"$f":"IF(OR(Berechnung!$Y$50=0,K72=0,K72=Berechnung!$Y$50),TRUE,FALSE)","v":true},{"$f":"IF(Berechnung!$R$5<3,IF(AND(DatenSchnellauswahl!N72<=Berechnung!$W$5,DatenSchnellauswahl!O72>=Berechnung!$W$5),TRUE,FALSE),IF(AND(DatenSchnellauswahl!P72<=Berechnung!$W$5,DatenSchnellauswahl!Q72>=Berechnung!$W$5),TRUE,FALSE))","v":false},13,19,12,19]
[15,"WPL 15 IS-2",{"$f":"IF(AND(E73=Berechnung!$X$7,F73=TRUE,G73=TRUE,H73=TRUE,I73=TRUE,J73=TRUE,M73=TRUE,L73=TRUE),TRUE,FALSE)","v":false},1,-10,{"$f":"Berechnung!$Z$5","v":true},true,true,true,{"$f":"IF(Berechnung!$V$5=FALSE,TRUE,FALSE)","v":false},2,{"$f":"IF(OR(Berechnung!$Y$50=0,K73=0,K73=Berechnung!$Y$50),TRUE,FALSE)","v":true},{"$f":"IF(Berechnung!$R$5<3,IF(AND(DatenSchnellauswahl!N73<=Berechnung!$W$5,DatenSchnellauswahl!O73>=Berechnung!$W$5),TRUE,FALSE),IF(AND(DatenSchnellauswahl!P73<=Berechnung!$W$5,DatenSchnellauswahl!Q73>=Berechnung!$W$5),TRUE,FALSE))","v":true},8,10,7,9]
[15,"WPL 15 IS-2",{"$f":"IF(AND(E74=Berechnung!$X$7,F74=TRUE,G74=TRUE,H74=TRUE,I74=TRUE,J74=TRUE,M74=TRUE,L74=TRUE),TRUE,FALSE)","v":false},1,-12,{"$f":"Berechnung!$Z$5","v":true},true,true,true,{"$f":"IF(Berechnung!$V$5=FALSE,TRUE,FALSE)","v":false},2,{"$f":"IF(OR(Berechnung!$Y$50=0,K74=0,K74=Berechnung!$Y$50),TRUE,FALSE)","v":true},{"$f":"IF(Berechnung!$R$5<3,IF(AND(DatenSchnellauswahl!N74<=Berechnung!$W$5,DatenSchnellauswahl!O74>=Berechnung!$W$5),TRUE,FALSE),IF(AND(DatenSchnellauswahl!P74<=Berechnung!$W$5,DatenSchnellauswahl!Q74>=Berechnung!$W$5),TRUE,FALSE))","v":true},9,10,8,10]
[15,"WPL 15 IS-2",{"$f":"IF(AND(E75=Berechnung!$X$7,F75=TRUE,G75=TRUE,H75=TRUE,I75=TRUE,J75=TRUE,M75=TRUE,L75=TRUE),TRUE,FALSE)","v":false},1,-14,{"$f":"Berechnung!$Z$5","v":true},true,true,true,{"$f":"IF(Berechnung!$V$5=FALSE,TRUE,FALSE)","v":false},2,{"$f":"IF(OR(Berechnung!$Y$50=0,K75=0,K75=Berechnung!$Y$50),TRUE,FALSE)","v":true},{"$f":"IF(Berechnung!$R$5<3,IF(AND(DatenSchnellauswahl!N75<=Berechnung!$W$5,DatenSchnellauswahl!O75>=Berechnung!$W$5),TRUE,FALSE),IF(AND(DatenSchnellauswahl!P75<=Berechnung!$W$5,DatenSchnellauswahl!Q75>=Berechnung!$W$5),TRUE,FALSE))","v":true},9,11,8,10]
[15,"WPL 15 IS-2",{"$f":"IF(AND(E76=Berechnung!$X$7,F76=TRUE,G76=TRUE,H76=TRUE,I76=TRUE,J76=TRUE,M76=TRUE,L76=TRUE),TRUE,FALSE)","v":false},1,-16,{"$f":"Berechnung!$Z$5","v":true},true,true,true,{"$f":"IF(Berechnung!$V$5=FALSE,TRUE,FALSE)","v":false},2,{"$f":"IF(OR(Berechnung!$Y$50=0,K76=0,K76=Berechnung!$Y$50),TRUE,FALSE)","v":true},{"$f":"IF(Berechnung!$R$5<3,IF(AND(DatenSchnellauswahl!N76<=Berechnung!$W$5,DatenSchnellauswahl!O76>=Berechnung!$W$5),TRUE,FALSE),IF(AND(DatenSchnellauswahl!P76<=Berechnung!$W$5,DatenSchnellauswahl!Q76>=Berechnung!$W$5),TRUE,FALSE))","v":false},10,11,9,11]
[15,"WPL 15 IS-2",{"$f":"IF(AND(E77=Berechnung!$X$7,F77=TRUE,G77=TRUE,H77=TRUE,I77=TRUE,J77=TRUE,M77=TRUE,L77=TRUE),TRUE,FALSE)","v":false},1,-18,{"$f":"Berechnung!$Z$5","v":true},true,true,true,{"$f":"IF(Berechnung!$V$5=FALSE,TRUE,FALSE)","v":false},2,{"$f":"IF(OR(Berechnung!$Y$50=0,K77=0,K77=Berechnung!$Y$50),TRUE,FALSE)","v":true},{"$f":"IF(Berechnung!$R$5<3,IF(AND(DatenSchnellauswahl!N77<=Berechnung!$W$5,DatenSchnellauswahl!O77>=Berechnung!$W$5),TRUE,FALSE),IF(AND(DatenSchnellauswahl!P77<=Berechnung!$W$5,DatenSchnellauswahl!Q77>=Berechnung!$W$5),TRUE,FALSE))","v":false},10,12,9,11]
[61,"WPL 25 I-2",{"$f":"IF(AND(E78=Berechnung!$X$7,F78=TRUE,G78=TRUE,H78=TRUE,I78=TRUE,J78=TRUE,M78=TRUE,L78=TRUE),TRUE,FALSE)","v":false},1,-10,{"$f":"Berechnung!$Z$5","v":true},true,true,true,{"$f":"IF(Berechnung!$V$5=FALSE,TRUE,FALSE)","v":false},2,{"$f":"IF(OR(Berechnung!$Y$50=0,K78=0,K78=Berechnung!$Y$50),TRUE,FALSE)","v":true},{"$f":"IF(Berechnung!$R$5<3,IF(AND(DatenSchnellauswahl!N78<=Berechnung!$W$5,DatenSchnellauswahl!O78>=Berechnung!$W$5),TRUE,FALSE),IF(AND(DatenSchnellauswahl!P78<=Berechnung!$W$5,DatenSchnellauswahl!Q78>=Berechnung!$W$5),TRUE,FALSE))","v":false},11,15,10,16]
[61,"WPL 25 I-2",{"$f":"IF(AND(E79=Berechnung!$X$7,F79=TRUE,G79=TRUE,H79=TRUE,I79=TRUE,J79=TRUE,M79=TRUE,L79=TRUE),TRUE,FALSE)","v":false},1,-12,{"$f":"Berechnung!$Z$5","v":true},true,true,true,{"$f":"IF(Berechnung!$V$5=FALSE,TRUE,FALSE)","v":false},2,{"$f":"IF(OR(Berechnung!$Y$50=0,K79=0,K79=Berechnung!$Y$50),TRUE,FALSE)","v":true},{"$f":"IF(Berechnung!$R$5<3,IF(AND(DatenSchnellauswahl!N79<=Berechnung!$W$5,DatenSchnellauswahl!O79>=Berechnung!$W$5),TRUE,FALSE),IF(AND(DatenSchnellauswahl!P79<=Berechnung!$W$5,DatenSchnellauswahl!Q79>=Berechnung!$W$5),TRUE,FALSE))","v":false},11,17,11,18]
[61,"WPL 25 I-2",{"$f":"IF(AND(E80=Berechnung!$X$7,F80=TRUE,G80=TRUE,H80=TRUE,I80=TRUE,J80=TRUE,M80=TRUE,L80=TRUE),TRUE,FALSE)","v":false},1,-14,{"$f":"Berechnung!$Z$5","v":true},true,true,true,{"$f":"IF(Berechnung!$V$5=FALSE,TRUE,FALSE)","v":false},2,{"$f":"IF(OR(Berechnung!$Y$50=0,K80=0,K80=Berechnung!$Y$50),TRUE,FALSE)","v":true},{"$f":"IF(Berechnung!$R$5<3,IF(AND(DatenSchnellauswahl!N80<=Berechnung!$W$5,DatenSchnellauswahl!O80>=Berechnung!$W$5),TRUE,FALSE),IF(AND(DatenSchnellauswahl!P80<=Berechnung!$W$5,DatenSchnellauswahl!Q80>=Berechnung!$W$5),TRUE,FALSE))","v":false},12,18,11,19]
[61,"WPL 25 I-2",{"$f":"IF(AND(E81=Berechnung!$X$7,F81=TRUE,G81=TRUE,H81=TRUE,I81=TRUE,J81=TRUE,M81=TRUE,L81=TRUE),TRUE,FALSE)","v":false},1,-16,{"$f":"Berechnung!$Z$5","v":true},true,true,true,{"$f":"IF(Berechnung!$V$5=FALSE,TRUE,FALSE)","v":false},2,{"$f":"IF(OR(Berechnung!$Y$50=0,K81=0,K81=Berechnung!$Y$50),TRUE,FALSE)","v":true},{"$f":"IF(Berechnung!$R$5<3,IF(AND(DatenSchnellauswahl!N81<=Berechnung!$W$5,DatenSchnellauswahl!O81>=Berechnung!$W$5),TRUE,FALSE),IF(AND(DatenSchnellauswahl!P81<=Berechnung!$W$5,DatenSchnellauswahl!Q81>=Berechnung!$W$5),TRUE,FALSE))","v":false},12,19,12,19]
[61,"WPL 25 I-2",{"$f":"IF(AND(E82=Berechnung!$X$7,F82=TRUE,G82=TRUE,H82=TRUE,I82=TRUE,J82=TRUE,M82=TRUE,L82=TRUE),TRUE,FALSE)","v":false},1,-18,{"$f":"Berechnung!$Z$5","v":true},true,true,true,{"$f":"IF(Berechnung!$V$5=FALSE,TRUE,FALSE)","v":false},2,{"$f":"IF(OR(Berechnung!$Y$50=0,K82=0,K82=Berechnung!$Y$50),TRUE,FALSE)","v":true},{"$f":"IF(Berechnung!$R$5<3,IF(AND(DatenSchnellauswahl!N82<=Berechnung!$W$5,DatenSchnellauswahl!O82>=Berechnung!$W$5),TRUE,FALSE),IF(AND(DatenSchnellauswahl!P82<=Berechnung!$W$5,DatenSchnellauswahl!Q82>=Berechnung!$W$5),TRUE,FALSE))","v":false},13,19,12,19]
[82,"WPL 15 IKS-2",{"$f":"IF(AND(E83=Berechnung!$X$7,F83=TRUE,G83=TRUE,H83=TRUE,I83=TRUE,J83=TRUE,M83=TRUE,L83=TRUE),TRUE,FALSE)","v":false},1,-10,{"$f":"Berechnung!$Z$5","v":true},{"$f":"Berechnung!$S$5","v":true},{"$f":"IF(Berechnung!$T$5=FALSE,TRUE,FALSE)","v":true},true,{"$f":"IF(Berechnung!$V$5=FALSE,TRUE,FALSE)","v":false},2,{"$f":"IF(OR(Berechnung!$Y$50=0,K83=0,K83=Berechnung!$Y$50),TRUE,FALSE)","v":true},{"$f":"IF(Berechnung!$R$5<3,IF(AND(DatenSchnellauswahl!N83<=Berechnung!$W$5,DatenSchnellauswahl!O83>=Berechnung!$W$5),TRUE,FALSE),IF(AND(DatenSchnellauswahl!P83<=Berechnung!$W$5,DatenSchnellauswahl!Q83>=Berechnung!$W$5),TRUE,FALSE))","v":true},8,10,7,9]
[82,"WPL 15 IKS-2",{"$f":"IF(AND(E84=Berechnung!$X$7,F84=TRUE,G84=TRUE,H84=TRUE,I84=TRUE,J84=TRUE,M84=TRUE,L84=TRUE),TRUE,FALSE)","v":false},1,-12,{"$f":"Berechnung!$Z$5","v":true},{"$f":"Berechnung!$S$5","v":true},{"$f":"IF(Berechnung!$T$5=FALSE,TRUE,FALSE)","v":true},true,{"$f":"IF(Berechnung!$V$5=FALSE,TRUE,FALSE)","v":false},2,{"$f":"IF(OR(Berechnung!$Y$50=0,K84=0,K84=Berechnung!$Y$50),TRUE,FALSE)","v":true},{"$f":"IF(Berechnung!$R$5<3,IF(AND(DatenSchnellauswahl!N84<=Berechnung!$W$5,DatenSchnellauswahl!O84>=Berechnung!$W$5),TRUE,FALSE),IF(AND(DatenSchnellauswahl!P84<=Berechnung!$W$5,DatenSchnellauswahl!Q84>=Berechnung!$W$5),TRUE,FALSE))","v":true},9,10,8,10]
[82,"WPL 15 IKS-2",{"$f":"IF(AND(E85=Berechnung!$X$7,F85=TRUE,G85=TRUE,H85=TRUE,I85=TRUE,J85=TRUE,M85=TRUE,L85=TRUE),TRUE,FALSE)","v":false},1,-14,{"$f":"Berechnung!$Z$5","v":true},{"$f":"Berechnung!$S$5","v":true},{"$f":"IF(Berechnung!$T$5=FALSE,TRUE,FALSE)","v":true},true,{"$f":"IF(Berechnung!$V$5=FALSE,TRUE,FALSE)","v":false},2,{"$f":"IF(OR(Berechnung!$Y$50=0,K85=0,K85=Berechnung!$Y$50),TRUE,FALSE)","v":true},{"$f":"IF(Berechnung!$R$5<3,IF(AND(DatenSchnellauswahl!N85<=Berechnung!$W$5,DatenSchnellauswahl!O85>=Berechnung!$W$5),TRUE,FALSE),IF(AND(DatenSchnellauswahl!P85<=Berechnung!$W$5,DatenSchnellauswahl!Q85>=Berechnung!$W$5),TRUE,FALSE))","v":true},9,11,8,10]
[82,"WPL 15 IKS-2",{"$f":"IF(AND(E86=Berechnung!$X$7,F86=TRUE,G86=TRUE,H86=TRUE,I86=TRUE,J86=TRUE,M86=TRUE,L86=TRUE),TRUE,FALSE)","v":false},1,-16,{"$f":"Berechnung!$Z$5","v":true},{"$f":"Berechnung!$S$5","v":true},{"$f":"IF(Berechnung!$T$5=FALSE,TRUE,FALSE)","v":true},true,{"$f":"IF(Berechnung!$V$5=FALSE,TRUE,FALSE)","v":false},2,{"$f":"IF(OR(Berechnung!$Y$50=0,K86=0,K86=Berechnung!$Y$50),TRUE,FALSE)","v":true},{"$f":"IF(Berechnung!$R$5<3,IF(AND(DatenSchnellauswahl!N86<=Berechnung!$W$5,DatenSchnellauswahl!O86>=Berechnung!$W$5),TRUE,FALSE),IF(AND(DatenSchnellauswahl!P86<=Berechnung!$W$5,DatenSchnellauswahl!Q86>=Berechnung!$W$5),TRUE,FALSE))","v":false},10,11,9,11]
[82,"WPL 15 IKS-2",{"$f":"IF(AND(E87=Berechnung!$X$7,F87=TRUE,G87=TRUE,H87=TRUE,I87=TRUE,J87=TRUE,M87=TRUE,L87=TRUE),TRUE,FALSE)","v":false},1,-18,{"$f":"Berechnung!$Z$5","v":true},{"$f":"Berechnung!$S$5","v":true},{"$f":"IF(Berechnung!$T$5=FALSE,TRUE,FALSE)","v":true},true,{"$f":"IF(Berechnung!$V$5=FALSE,TRUE,FALSE)","v":false},2,{"$f":"IF(OR(Berechnung!$Y$50=0,K87=0,K87=Berechnung!$Y$50),TRUE,FALSE)","v":true},{"$f":"IF(Berechnung!$R$5<3,IF(AND(DatenSchnellauswahl!N87<=Berechnung!$W$5,DatenSchnellauswahl!O87>=Berechnung!$W$5),TRUE,FALSE),IF(AND(DatenSchnellauswahl!P87<=Berechnung!$W$5,DatenSchnellauswahl!Q87>=Berechnung!$W$5),TRUE,FALSE))","v":false},10,12,9,11]
[83,"WPL 25 IK-2",{"$f":"IF(AND(E88=Berechnung!$X$7,F88=TRUE,G88=TRUE,H88=TRUE,I88=TRUE,J88=TRUE,M88=TRUE,L88=TRUE),TRUE,FALSE)","v":false},1,-10,{"$f":"Berechnung!$Z$5","v":true},{"$f":"Berechnung!$S$5","v":true},{"$f":"IF(Berechnung!$T$5=FALSE,TRUE,FALSE)","v":true},true,{"$f":"IF(Berechnung!$V$5=FALSE,TRUE,FALSE)","v":false},2,{"$f":"IF(OR(Berechnung!$Y$50=0,K88=0,K88=Berechnung!$Y$50),TRUE,FALSE)","v":true},{"$f":"IF(Berechnung!$R$5<3,IF(AND(DatenSchnellauswahl!N88<=Berechnung!$W$5,DatenSchnellauswahl!O88>=Berechnung!$W$5),TRUE,FALSE),IF(AND(DatenSchnellauswahl!P88<=Berechnung!$W$5,DatenSchnellauswahl!Q88>=Berechnung!$W$5),TRUE,FALSE))","v":false},11,15,10,16]
[83,"WPL 25 IK-2",{"$f":"IF(AND(E89=Berechnung!$X$7,F89=TRUE,G89=TRUE,H89=TRUE,I89=TRUE,J89=TRUE,M89=TRUE,L89=TRUE),TRUE,FALSE)","v":false},1,-12,{"$f":"Berechnung!$Z$5","v":true},{"$f":"Berechnung!$S$5","v":true},{"$f":"IF(Berechnung!$T$5=FALSE,TRUE,FALSE)","v":true},true,{"$f":"IF(Berechnung!$V$5=FALSE,TRUE,FALSE)","v":false},2,{"$f":"IF(OR(Berechnung!$Y$50=0,K89=0,K89=Berechnung!$Y$50),TRUE,FALSE)","v":true},{"$f":"IF(Berechnung!$R$5<3,IF(AND(DatenSchnellauswahl!N89<=Berechnung!$W$5,DatenSchnellauswahl!O89>=Berechnung!$W$5),TRUE,FALSE),IF(AND(DatenSchnellauswahl!P89<=Berechnung!$W$5,DatenSchnellauswahl!Q89>=Berechnung!$W$5),TRUE,FALSE))","v":false},11,17,11,18]
[83,"WPL 25 IK-2",{"$f":"IF(AND(E90=Berechnung!$X$7,F90=TRUE,G90=TRUE,H90=TRUE,I90=TRUE,J90=TRUE,M90=TRUE,L90=TRUE),TRUE,FALSE)","v":false},1,-14,{"$f":"Berechnung!$Z$5","v":true},{"$f":"Berechnung!$S$5","v":true},{"$f":"IF(Berechnung!$T$5=FALSE,TRUE,FALSE)","v":true},true,{"$f":"IF(Berechnung!$V$5=FALSE,TRUE,FALSE)","v":false},2,{"$f":"IF(OR(Berechnung!$Y$50=0,K90=0,K90=Berechnung!$Y$50),TRUE,FALSE)","v":true},{"$f":"IF(Berechnung!$R$5<3,IF(AND(DatenSchnellauswahl!N90<=Berechnung!$W$5,DatenSchnellauswahl!O90>=Berechnung!$W$5),TRUE,FALSE),IF(AND(DatenSchnellauswahl!P90<=Berechnung!$W$5,DatenSchnellauswahl!Q90>=Berechnung!$W$5),TRUE,FALSE))","v":false},12,18,11,19]
[83,"WPL 25 IK-2",{"$f":"IF(AND(E91=Berechnung!$X$7,F91=TRUE,G91=TRUE,H91=TRUE,I91=TRUE,J91=TRUE,M91=TRUE,L91=TRUE),TRUE,FALSE)","v":false},1,-16,{"$f":"Berechnung!$Z$5","v":true},{"$f":"Berechnung!$S$5","v":true},{"$f":"IF(Berechnung!$T$5=FALSE,TRUE,FALSE)","v":true},true,{"$f":"IF(Berechnung!$V$5=FALSE,TRUE,FALSE)","v":false},2,{"$f":"IF(OR(Berechnung!$Y$50=0,K91=0,K91=Berechnung!$Y$50),TRUE,FALSE)","v":true},{"$f":"IF(Berechnung!$R$5<3,IF(AND(DatenSchnellauswahl!N91<=Berechnung!$W$5,DatenSchnellauswahl!O91>=Berechnung!$W$5),TRUE,FALSE),IF(AND(DatenSchnellauswahl!P91<=Berechnung!$W$5,DatenSchnellauswahl!Q91>=Berechnung!$W$5),TRUE,FALSE))","v":false},12,19,12,19]
[83,"WPL 25 IK-2",{"$f":"IF(AND(E92=Berechnung!$X$7,F92=TRUE,G92=TRUE,H92=TRUE,I92=TRUE,J92=TRUE,M92=TRUE,L92=TRUE),TRUE,FALSE)","v":false},1,-18,{"$f":"Berechnung!$Z$5","v":true},{"$f":"Berechnung!$S$5","v":true},{"$f":"IF(Berechnung!$T$5=FALSE,TRUE,FALSE)","v":true},true,{"$f":"IF(Berechnung!$V$5=FALSE,TRUE,FALSE)","v":false},2,{"$f":"IF(OR(Berechnung!$Y$50=0,K92=0,K92=Berechnung!$Y$50),TRUE,FALSE)","v":true},{"$f":"IF(Berechnung!$R$5<3,IF(AND(DatenSchnellauswahl!N92<=Berechnung!$W$5,DatenSchnellauswahl!O92>=Berechnung!$W$5),TRUE,FALSE),IF(AND(DatenSchnellauswahl!P92<=Berechnung!$W$5,DatenSchnellauswahl!Q92>=Berechnung!$W$5),TRUE,FALSE))","v":false},13,19,12,19]
[130,"WPL 08 S Trend",{"$f":"IF(AND(E93=Berechnung!$X$7,F93=TRUE,G93=TRUE,H93=TRUE,I93=TRUE,J93=TRUE,M93=TRUE,L93=TRUE),TRUE,FALSE)","v":false},1,-10,{"$f":"Berechnung!$Z$5","v":true},true,true,true,true,2,{"$f":"IF(OR(Berechnung!$Y$50=0,K93=0,K93=Berechnung!$Y$50),TRUE,FALSE)","v":true},{"$f":"IF(Berechnung!$R$5<3,IF(AND(DatenSchnellauswahl!N93<=Berechnung!$W$5,DatenSchnellauswahl!O93>=Berechnung!$W$5),TRUE,FALSE),IF(AND(DatenSchnellauswahl!P93<=Berechnung!$W$5,DatenSchnellauswahl!Q93>=Berechnung!$W$5),TRUE,FALSE))","v":false},1,6,1,5]
[130,"WPL 08 S Trend",{"$f":"IF(AND(E94=Berechnung!$X$7,F94=TRUE,G94=TRUE,H94=TRUE,I94=TRUE,J94=TRUE,M94=TRUE,L94=TRUE),TRUE,FALSE)","v":false},1,-12,{"$f":"Berechnung!$Z$5","v":true},true,true,true,true,2,{"$f":"IF(OR(Berechnung!$Y$50=0,K94=0,K94=Berechnung!$Y$50),TRUE,FALSE)","v":true},{"$f":"IF(Berechnung!$R$5<3,IF(AND(DatenSchnellauswahl!N94<=Berechnung!$W$5,DatenSchnellauswahl!O94>=Berechnung!$W$5),TRUE,FALSE),IF(AND(DatenSchnellauswahl!P94<=Berechnung!$W$5,DatenSchnellauswahl!Q94>=Berechnung!$W$5),TRUE,FALSE))","v":false},1,6,1,5]
[130,"WPL 08 S Trend",{"$f":"IF(AND(E95=Berechnung!$X$7,F95=TRUE,G95=TRUE,H95=TRUE,I95=TRUE,J95=TRUE,M95=TRUE,L95=TRUE),TRUE,FALSE)","v":false},1,-14,{"$f":"Berechnung!$Z$5","v":true},true,true,true,true,2,{"$f":"IF(OR(Berechnung!$Y$50=0,K95=0,K95=Berechnung!$Y$50),TRUE,FALSE)","v":true},{"$f":"IF(Berechnung!$R$5<3,IF(AND(DatenSchnellauswahl!N95<=Berechnung!$W$5,DatenSchnellauswahl!O95>=Berechnung!$W$5),TRUE,FALSE),IF(AND(DatenSchnellauswahl!P95<=Berechnung!$W$5,DatenSchnellauswahl!Q95>=Berechnung!$W$5),TRUE,FALSE))","v":false},1,7,1,6]
[130,"WPL 08 S Trend",{"$f":"IF(AND(E96=Berechnung!$X$7,F96=TRUE,G96=TRUE,H96=TRUE,I96=TRUE,J96=TRUE,M96=TRUE,L96=TRUE),TRUE,FALSE)","v":false},1,-16,{"$f":"Berechnung!$Z$5","v":true},true,true,true,true,2,{"$f":"IF(OR(Berechnung!$Y$50=0,K96=0,K96=Berechnung!$Y$50),TRUE,FALSE)","v":true},{"$f":"IF(Berechnung!$R$5<3,IF(AND(DatenSchnellauswahl!N96<=Berechnung!$W$5,DatenSchnellauswahl!O96>=Berechnung!$W$5),TRUE,FALSE),IF(AND(DatenSchnellauswahl!P96<=Berechnung!$W$5,DatenSchnellauswahl!Q96>=Berechnung!$W$5),TRUE,FALSE))","v":false},1,7,1,6]
[130,"WPL 08 S Trend",{"$f":"IF(AND(E97=Berechnung!$X$7,F97=TRUE,G97=TRUE,H97=TRUE,I97=TRUE,J97=TRUE,M97=TRUE,L97=TRUE),TRUE,FALSE)","v":false},1,-18,{"$f":"Berechnung!$Z$5","v":true},true,true,true,true,2,{"$f":"IF(OR(Berechnung!$Y$50=0,K97=0,K97=Berechnung!$Y$50),TRUE,FALSE)","v":true},{"$f":"IF(Berechnung!$R$5<3,IF(AND(DatenSchnellauswahl!N97<=Berechnung!$W$5,DatenSchnellauswahl!O97>=Berechnung!$W$5),TRUE,FALSE),IF(AND(DatenSchnellauswahl!P97<=Berechnung!$W$5,DatenSchnellauswahl!Q97>=Berechnung!$W$5),TRUE,FALSE))","v":false},1,8,1,7]
[131,"WPL 12 S Trend",{"$f":"IF(AND(E98=Berechnung!$X$7,F98=TRUE,G98=TRUE,H98=TRUE,I98=TRUE,J98=TRUE,M98=TRUE,L98=TRUE),TRUE,FALSE)","v":false},1,-10,{"$f":"Berechnung!$Z$5","v":true},true,true,true,true,2,{"$f":"IF(OR(Berechnung!$Y$50=0,K98=0,K98=Berechnung!$Y$50),TRUE,FALSE)","v":true},{"$f":"IF(Berechnung!$R$5<3,IF(AND(DatenSchnellauswahl!N98<=Berechnung!$W$5,DatenSchnellauswahl!O98>=Berechnung!$W$5),TRUE,FALSE),IF(AND(DatenSchnellauswahl!P98<=Berechnung!$W$5,DatenSchnellauswahl!Q98>=Berechnung!$W$5),TRUE,FALSE))","v":false},7,8,6,7]
[131,"WPL 12 S Trend",{"$f":"IF(AND(E99=Berechnung!$X$7,F99=TRUE,G99=TRUE,H99=TRUE,I99=TRUE,J99=TRUE,M99=TRUE,L99=TRUE),TRUE,FALSE)","v":false},1,-12,{"$f":"Berechnung!$Z$5","v":true},true,true,true,true,2,{"$f":"IF(OR(Berechnung!$Y$50=0,K99=0,K99=Berechnung!$Y$50),TRUE,FALSE)","v":true},{"$f":"IF(Berechnung!$R$5<3,IF(AND(DatenSchnellauswahl!N99<=Berechnung!$W$5,DatenSchnellauswahl!O99>=Berechnung!$W$5),TRUE,FALSE),IF(AND(DatenSchnellauswahl!P99<=Berechnung!$W$5,DatenSchnellauswahl!Q99>=Berechnung!$W$5),TRUE,FALSE))","v":false},7,8,6,7]
[131,"WPL 12 S Trend",{"$f":"IF(AND(E100=Berechnung!$X$7,F100=TRUE,G100=TRUE,H100=TRUE,I100=TRUE,J100=TRUE,M100=TRUE,L100=TRUE),TRUE,FALSE)","v":true},1,-14,{"$f":"Berechnung!$Z$5","v":true},true,true,true,true,2,{"$f":"IF(OR(Berechnung!$Y$50=0,K100=0,K100=Berechnung!$Y$50),TRUE,FALSE)","v":true},{"$f":"IF(Berechnung!$R$5<3,IF(AND(DatenSchnellauswahl!N100<=Berechnung!$W$5,DatenSchnellauswahl!O100>=Berechnung!$W$5),TRUE,FALSE),IF(AND(DatenSchnellauswahl!P100<=Berechnung!$W$5,DatenSchnellauswahl!Q100>=Berechnung!$W$5),TRUE,FALSE))","v":true},8,9,7,8]
[131,"WPL 12 S Trend",{"$f":"IF(AND(E101=Berechnung!$X$7,F101=TRUE,G101=TRUE,H101=TRUE,I101=TRUE,J101=TRUE,M101=TRUE,L101=TRUE),TRUE,FALSE)","v":false},1,-16,{"$f":"Berechnung!$Z$5","v":true},true,true,true,true,2,{"$f":"IF(OR(Berechnung!$Y$50=0,K101=0,K101=Berechnung!$Y$50),TRUE,FALSE)","v":true},{"$f":"IF(Berechnung!$R$5<3,IF(AND(DatenSchnellauswahl!N101<=Berechnung!$W$5,DatenSchnellauswahl!O101>=Berechnung!$W$5),TRUE,FALSE),IF(AND(DatenSchnellauswahl!P101<=Berechnung!$W$5,DatenSchnellauswahl!Q101>=Berechnung!$W$5),TRUE,FALSE))","v":true},8,9,7,8]
[131,"WPL 12 S Trend",{"$f":"IF(AND(E102=Berechnung!$X$7,F102=TRUE,G102=TRUE,H102=TRUE,I102=TRUE,J102=TRUE,M102=TRUE,L102=TRUE),TRUE,FALSE)","v":false},1,-18,{"$f":"Berechnung!$Z$5","v":true},true,true,true,true,2,{"$f":"IF(OR(Berechnung!$Y$50=0,K102=0,K102=Berechnung!$Y$50),TRUE,FALSE)","v":true},{"$f":"IF(Berechnung!$R$5<3,IF(AND(DatenSchnellauswahl!N102<=Berechnung!$W$5,DatenSchnellauswahl!O102>=Berechnung!$W$5),TRUE,FALSE),IF(AND(DatenSchnellauswahl!P102<=Berechnung!$W$5,DatenSchnellauswahl!Q102>=Berechnung!$W$5),TRUE,FALSE))","v":true},9,10,8,9]
[132,"WPL 16 S Trend",{"$f":"IF(AND(E103=Berechnung!$X$7,F103=TRUE,G103=TRUE,H103=TRUE,I103=TRUE,J103=TRUE,M103=TRUE,L103=TRUE),TRUE,FALSE)","v":false},1,-10,{"$f":"Berechnung!$Z$5","v":true},true,true,true,true,2,{"$f":"IF(OR(Berechnung!$Y$50=0,K103=0,K103=Berechnung!$Y$50),TRUE,FALSE)","v":true},{"$f":"IF(Berechnung!$R$5<3,IF(AND(DatenSchnellauswahl!N103<=Berechnung!$W$5,DatenSchnellauswahl!O103>=Berechnung!$W$5),TRUE,FALSE),IF(AND(DatenSchnellauswahl!P103<=Berechnung!$W$5,DatenSchnellauswahl!Q103>=Berechnung!$W$5),TRUE,FALSE))","v":true},9,11,8,10]
[132,"WPL 16 S Trend",{"$f":"IF(AND(E104=Berechnung!$X$7,F104=TRUE,G104=TRUE,H104=TRUE,I104=TRUE,J104=TRUE,M104=TRUE,L104=TRUE),TRUE,FALSE)","v":false},1,-12,{"$f":"Berechnung!$Z$5","v":true},true,true,true,true,2,{"$f":"IF(OR(Berechnung!$Y$50=0,K104=0,K104=Berechnung!$Y$50),TRUE,FALSE)","v":true},{"$f":"IF(Berechnung!$R$5<3,IF(AND(DatenSchnellauswahl!N104<=Berechnung!$W$5,DatenSchnellauswahl!O104>=Berechnung!$W$5),TRUE,FALSE),IF(AND(DatenSchnellauswahl!P104<=Berechnung!$W$5,DatenSchnellauswahl!Q104>=Berechnung!$W$5),TRUE,FALSE))","v":true},9,12,8,11]
[132,"WPL 16 S Trend",{"$f":"IF(AND(E105=Berechnung!$X$7,F105=TRUE,G105=TRUE,H105=TRUE,I105=TRUE,J105=TRUE,M105=TRUE,L105=TRUE),TRUE,FALSE)","v":false},1,-14,{"$f":"Berechnung!$Z$5","v":true},true,true,true,true,2,{"$f":"IF(OR(Berechnung!$Y$50=0,K105=0,K105=Berechnung!$Y$50),TRUE,FALSE)","v":true},{"$f":"IF(Berechnung!$R$5<3,IF(AND(DatenSchnellauswahl!N105<=Berechnung!$W$5,DatenSchnellauswahl!O105>=Berechnung!$W$5),TRUE,FALSE),IF(AND(DatenSchnellauswahl!P105<=Berechnung!$W$5,DatenSchnellauswahl!Q105>=Berechnung!$W$5),TRUE,FALSE))","v":false},10,13,9,11]
[132,"WPL 16 S Trend",{"$f":"IF(AND(E106=Berechnung!$X$7,F106=TRUE,G106=TRUE,H106=TRUE,I106=TRUE,J106=TRUE,M106=TRUE,L106=TRUE),TRUE,FALSE)","v":false},1,-16,{"$f":"Berechnung!$Z$5","v":true},true,true,true,true,2,{"$f":"IF(OR(Berechnung!$Y$50=0,K106=0,K106=Berechnung!$Y$50),TRUE,FALSE)","v":true},{"$f":"IF(Berechnung!$R$5<3,IF(AND(DatenSchnellauswahl!N106<=Berechnung!$W$5,DatenSchnellauswahl!O106>=Berechnung!$W$5),TRUE,FALSE),IF(AND(DatenSchnellauswahl!P106<=Berechnung!$W$5,DatenSchnellauswahl!Q106>=Berechnung!$W$5),TRUE,FALSE))","v":false},10,14,9,12]
[132,"WPL 16 S Trend",{"$f":"IF(AND(E107=Berechnung!$X$7,F107=TRUE,G107=TRUE,H107=TRUE,I107=TRUE,J107=TRUE,M107=TRUE,L107=TRUE),TRUE,FALSE)","v":false},1,-18,{"$f":"Berechnung!$Z$5","v":true},true,true,true,true,2,{"$f":"IF(OR(Berechnung!$Y$50=0,K107=0,K107=Berechnung!$Y$50),TRUE,FALSE)","v":true},{"$f":"IF(Berechnung!$R$5<3,IF(AND(DatenSchnellauswahl!N107<=Berechnung!$W$5,DatenSchnellauswahl!O107>=Berechnung!$W$5),TRUE,FALSE),IF(AND(DatenSchnellauswahl!P107<=Berechnung!$W$5,DatenSchnellauswahl!Q107>=Berechnung!$W$5),TRUE,FALSE))","v":false},11,14,10,13]
[133,"WPL 22 Trend",{"$f":"IF(AND(E108=Berechnung!$X$7,F108=TRUE,G108=TRUE,H108=TRUE,I108=TRUE,J108=TRUE,M108=TRUE,L108=TRUE),TRUE,FALSE)","v":false},1,-10,{"$f":"Berechnung!$Z$5","v":true},true,true,true,true,2,{"$f":"IF(OR(Berechnung!$Y$50=0,K108=0,K108=Berechnung!$Y$50),TRUE,FALSE)","v":true},{"$f":"IF(Berechnung!$R$5<3,IF(AND(DatenSchnellauswahl!N108<=Berechnung!$W$5,DatenSchnellauswahl!O108>=Berechnung!$W$5),TRUE,FALSE),IF(AND(DatenSchnellauswahl!P108<=Berechnung!$W$5,DatenSchnellauswahl!Q108>=Berechnung!$W$5),TRUE,FALSE))","v":false},12,15,11,15]
[133,"WPL 22 Trend",{"$f":"IF(AND(E109=Berechnung!$X$7,F109=TRUE,G109=TRUE,H109=TRUE,I109=TRUE,J109=TRUE,M109=TRUE,L109=TRUE),TRUE,FALSE)","v":false},1,-12,{"$f":"Berechnung!$Z$5","v":true},true,true,true,true,2,{"$f":"IF(OR(Berechnung!$Y$50=0,K109=0,K109=Berechnung!$Y$50),TRUE,FALSE)","v":true},{"$f":"IF(Berechnung!$R$5<3,IF(AND(DatenSchnellauswahl!N109<=Berechnung!$W$5,DatenSchnellauswahl!O109>=Berechnung!$W$5),TRUE,FALSE),IF(AND(DatenSchnellauswahl!P109<=Berechnung!$W$5,DatenSchnellauswahl!Q109>=Berechnung!$W$5),TRUE,FALSE))","v":false},13,16,12,15]
[133,"WPL 22 Trend",{"$f":"IF(AND(E110=Berechnung!$X$7,F110=TRUE,G110=TRUE,H110=TRUE,I110=TRUE,J110=TRUE,M110=TRUE,L110=TRUE),TRUE,FALSE)","v":false},1,-14,{"$f":"Berechnung!$Z$5","v":true},true,true,true,true,2,{"$f":"IF(OR(Berechnung!$Y$50=0,K110=0,K110=Berechnung!$Y$50),TRUE,FALSE)","v":true},{"$f":"IF(Berechnung!$R$5<3,IF(AND(DatenSchnellauswahl!N110<=Berechnung!$W$5,DatenSchnellauswahl!O110>=Berechnung!$W$5),TRUE,FALSE),IF(AND(DatenSchnellauswahl!P110<=Berechnung!$W$5,DatenSchnellauswahl!Q110>=Berechnung!$W$5),TRUE,FALSE))","v":false},14,16,12,15]
[133,"WPL 22 Trend",{"$f":"IF(AND(E111=Berechnung!$X$7,F111=TRUE,G111=TRUE,H111=TRUE,I111=TRUE,J111=TRUE,M111=TRUE,L111=TRUE),TRUE,FALSE)","v":false},1,-16,{"$f":"Berechnung!$Z$5","v":true},true,true,true,true,2,{"$f":"IF(OR(Berechnung!$Y$50=0,K111=0,K111=Berechnung!$Y$50),TRUE,FALSE)","v":true},{"$f":"IF(Berechnung!$R$5<3,IF(AND(DatenSchnellauswahl!N111<=Berechnung!$W$5,DatenSchnellauswahl!O111>=Berechnung!$W$5),TRUE,FALSE),IF(AND(DatenSchnellauswahl!P111<=Berechnung!$W$5,DatenSchnellauswahl!Q111>=Berechnung!$W$5),TRUE,FALSE))","v":false},15,16,13,15]
[133,"WPL 22 Trend",{"$f":"IF(AND(E112=Berechnung!$X$7,F112=TRUE,G112=TRUE,H112=TRUE,I112=TRUE,J112=TRUE,M112=TRUE,L112=TRUE),TRUE,FALSE)","v":false},1,-18,{"$f":"Berechnung!$Z$5","v":true},true,true,true,true,2,{"$f":"IF(OR(Berechnung!$Y$50=0,K112=0,K112=Berechnung!$Y$50),TRUE,FALSE)","v":true},{"$f":"IF(Berechnung!$R$5<3,IF(AND(DatenSchnellauswahl!N112<=Berechnung!$W$5,DatenSchnellauswahl!O112>=Berechnung!$W$5),TRUE,FALSE),IF(AND(DatenSchnellauswahl!P112<=Berechnung!$W$5,DatenSchnellauswahl!Q112>=Berechnung!$W$5),TRUE,FALSE))","v":false},15,16,14,15]
[134,"WPL 28 Trend",{"$f":"IF(AND(E113=Berechnung!$X$7,F113=TRUE,G113=TRUE,H113=TRUE,I113=TRUE,J113=TRUE,M113=TRUE,L113=TRUE),TRUE,FALSE)","v":false},1,-10,{"$f":"Berechnung!$Z$5","v":true},true,true,true,true,2,{"$f":"IF(OR(Berechnung!$Y$50=0,K113=0,K113=Berechnung!$Y$50),TRUE,FALSE)","v":true},{"$f":"IF(Berechnung!$R$5<3,IF(AND(DatenSchnellauswahl!N113<=Berechnung!$W$5,DatenSchnellauswahl!O113>=Berechnung!$W$5),TRUE,FALSE),IF(AND(DatenSchnellauswahl!P113<=Berechnung!$W$5,DatenSchnellauswahl!Q113>=Berechnung!$W$5),TRUE,FALSE))","v":false},16,18,16,17]
[134,"WPL 28 Trend",{"$f":"IF(AND(E114=Berechnung!$X$7,F114=TRUE,G114=TRUE,H114=TRUE,I114=TRUE,J114=TRUE,M114=TRUE,L114=TRUE),TRUE,FALSE)","v":false},1,-12,{"$f":"Berechnung!$Z$5","v":true},true,true,true,true,2,{"$f":"IF(OR(Berechnung!$Y$50=0,K114=0,K114=Berechnung!$Y$50),TRUE,FALSE)","v":true},{"$f":"IF(Berechnung!$R$5<3,IF(AND(DatenSchnellauswahl!N114<=Berechnung!$W$5,DatenSchnellauswahl!O114>=Berechnung!$W$5),TRUE,FALSE),IF(AND(DatenSchnellauswahl!P114<=Berechnung!$W$5,DatenSchnellauswahl!Q114>=Berechnung!$W$5),TRUE,FALSE))","v":false},17,18,16,17]
[134,"WPL 28 Trend",{"$f":"IF(AND(E115=Berechnung!$X$7,F115=TRUE,G115=TRUE,H115=TRUE,I115=TRUE,J115=TRUE,M115=TRUE,L115=TRUE),TRUE,FALSE)","v":false},1,-14,{"$f":"Berechnung!$Z$5","v":true},true,true,true,true,2,{"$f":"IF(OR(Berechnung!$Y$50=0,K115=0,K115=Berechnung!$Y$50),TRUE,FALSE)","v":true},{"$f":"IF(Berechnung!$R$5<3,IF(AND(DatenSchnellauswahl!N115<=Berechnung!$W$5,DatenSchnellauswahl!O115>=Berechnung!$W$5),TRUE,FALSE),IF(AND(DatenSchnellauswahl!P115<=Berechnung!$W$5,DatenSchnellauswahl!Q115>=Berechnung!$W$5),TRUE,FALSE))","v":false},17,18,16,17]
[134,"WPL 28 Trend",{"$f":"IF(AND(E116=Berechnung!$X$7,F116=TRUE,G116=TRUE,H116=TRUE,I116=TRUE,J116=TRUE,M116=TRUE,L116=TRUE),TRUE,FALSE)","v":false},1,-16,{"$f":"Berechnung!$Z$5","v":true},true,true,true,true,2,{"$f":"IF(OR(Berechnung!$Y$50=0,K116=0,K116=Berechnung!$Y$50),TRUE,FALSE)","v":true},{"$f":"IF(Berechnung!$R$5<3,IF(AND(DatenSchnellauswahl!N116<=Berechnung!$W$5,DatenSchnellauswahl!O116>=Berechnung!$W$5),TRUE,FALSE),IF(AND(DatenSchnellauswahl!P116<=Berechnung!$W$5,DatenSchnellauswahl!Q116>=Berechnung!$W$5),TRUE,FALSE))","v":false},17,18,16,16]
[134,"WPL 28 Trend",{"$f":"IF(AND(E117=Berechnung!$X$7,F117=TRUE,G117=TRUE,H117=TRUE,I117=TRUE,J117=TRUE,M117=TRUE,L117=TRUE),TRUE,FALSE)","v":false},1,-18,{"$f":"Berechnung!$Z$5","v":true},true,true,true,true,2,{"$f":"IF(OR(Berechnung!$Y$50=0,K117=0,K117=Berechnung!$Y$50),TRUE,FALSE)","v":true},{"$f":"IF(Berechnung!$R$5<3,IF(AND(DatenSchnellauswahl!N117<=Berechnung!$W$5,DatenSchnellauswahl!O117>=Berechnung!$W$5),TRUE,FALSE),IF(AND(DatenSchnellauswahl!P117<=Berechnung!$W$5,DatenSchnellauswahl!Q117>=Berechnung!$W$5),TRUE,FALSE))","v":false},17,18,16,16]
[5,"WPL 13 E",{"$f":"IF(AND(E118=Berechnung!$X$7,F118=TRUE,G118=TRUE,H118=TRUE,I118=TRUE,J118=TRUE,M118=TRUE,L118=TRUE),TRUE,FALSE)","v":false},1,-10,{"$f":"Berechnung!$Z$5","v":true},true,true,true,{"$f":"IF(Berechnung!$V$5=FALSE,TRUE,FALSE)","v":false},0,{"$f":"IF(OR(Berechnung!$Y$50=0,K118=0,K118=Berechnung!$Y$50),TRUE,FALSE)","v":true},{"$f":"IF(Berechnung!$R$5<3,IF(AND(DatenSchnellauswahl!N118<=Berechnung!$W$5,DatenSchnellauswahl!O118>=Berechnung!$W$5),TRUE,FALSE),IF(AND(DatenSchnellauswahl!P118<=Berechnung!$W$5,DatenSchnellauswahl!Q118>=Berechnung!$W$5),TRUE,FALSE))","v":true},8,10,7,10]
[5,"WPL 13 E",{"$f":"IF(AND(E119=Berechnung!$X$7,F119=TRUE,G119=TRUE,H119=TRUE,I119=TRUE,J119=TRUE,M119=TRUE,L119=TRUE),TRUE,FALSE)","v":false},1,-12,{"$f":"Berechnung!$Z$5","v":true},true,true,true,{"$f":"IF(Berechnung!$V$5=FALSE,TRUE,FALSE)","v":false},0,{"$f":"IF(OR(Berechnung!$Y$50=0,K119=0,K119=Berechnung!$Y$50),TRUE,FALSE)","v":true},{"$f":"IF(Berechnung!$R$5<3,IF(AND(DatenSchnellauswahl!N119<=Berechnung!$W$5,DatenSchnellauswahl!O119>=Berechnung!$W$5),TRUE,FALSE),IF(AND(DatenSchnellauswahl!P119<=Berechnung!$W$5,DatenSchnellauswahl!Q119>=Berechnung!$W$5),TRUE,FALSE))","v":true},9,11,8,11]
[5,"WPL 13 E",{"$f":"IF(AND(E120=Berechnung!$X$7,F120=TRUE,G120=TRUE,H120=TRUE,I120=TRUE,J120=TRUE,M120=TRUE,L120=TRUE),TRUE,FALSE)","v":false},1,-14,{"$f":"Berechnung!$Z$5","v":true},true,true,true,{"$f":"IF(Berechnung!$V$5=FALSE,TRUE,FALSE)","v":false},0,{"$f":"IF(OR(Berechnung!$Y$50=0,K120=0,K120=Berechnung!$Y$50),TRUE,FALSE)","v":true},{"$f":"IF(Berechnung!$R$5<3,IF(AND(DatenSchnellauswahl!N120<=Berechnung!$W$5,DatenSchnellauswahl!O120>=Berechnung!$W$5),TRUE,FALSE),IF(AND(DatenSchnellauswahl!P120<=Berechnung!$W$5,DatenSchnellauswahl!Q120>=Berechnung!$W$5),TRUE,FALSE))","v":true},9,12,8,12]
[5,"WPL 13 E",{"$f":"IF(AND(E121=Berechnung!$X$7,F121=TRUE,G121=TRUE,H121=TRUE,I121=TRUE,J121=TRUE,M121=TRUE,L121=TRUE),TRUE,FALSE)","v":false},1,-16,{"$f":"Berechnung!$Z$5","v":true},true,true,true,{"$f":"IF(Berechnung!$V$5=FALSE,TRUE,FALSE)","v":false},0,{"$f":"IF(OR(Berechnung!$Y$50=0,K121=0,K121=Berechnung!$Y$50),TRUE,FALSE)","v":true},{"$f":"IF(Berechnung!$R$5<3,IF(AND(DatenSchnellauswahl!N121<=Berechnung!$W$5,DatenSchnellauswahl!O121>=Berechnung!$W$5),TRUE,FALSE),IF(AND(DatenSchnellauswahl!P121<=Berechnung!$W$5,DatenSchnellauswahl!Q121>=Berechnung!$W$5),TRUE,FALSE))","v":false},10,12,9,12]
[5,"WPL 13 E",{"$f":"IF(AND(E122=Berechnung!$X$7,F122=TRUE,G122=TRUE,H122=TRUE,I122=TRUE,J122=TRUE,M122=TRUE,L122=TRUE),TRUE,FALSE)","v":false},1,-18,{"$f":"Berechnung!$Z$5","v":true},true,true,true,{"$f":"IF(Berechnung!$V$5=FALSE,TRUE,FALSE)","v":false},0,{"$f":"IF(OR(Berechnung!$Y$50=0,K122=0,K122=Berechnung!$Y$50),TRUE,FALSE)","v":true},{"$f":"IF(Berechnung!$R$5<3,IF(AND(DatenSchnellauswahl!N122<=Berechnung!$W$5,DatenSchnellauswahl!O122>=Berechnung!$W$5),TRUE,FALSE),IF(AND(DatenSchnellauswahl!P122<=Berechnung!$W$5,DatenSchnellauswahl!Q122>=Berechnung!$W$5),TRUE,FALSE))","v":false},10,13,9,13]
[6,"WPL 18 E",{"$f":"IF(AND(E123=Berechnung!$X$7,F123=TRUE,G123=TRUE,H123=TRUE,I123=TRUE,J123=TRUE,M123=TRUE,L123=TRUE),TRUE,FALSE)","v":false},1,-10,{"$f":"Berechnung!$Z$5","v":true},true,true,true,{"$f":"IF(Berechnung!$V$5=FALSE,TRUE,FALSE)","v":false},0,{"$f":"IF(OR(Berechnung!$Y$50=0,K123=0,K123=Berechnung!$Y$50),TRUE,FALSE)","v":true},{"$f":"IF(Berechnung!$R$5<3,IF(AND(DatenSchnellauswahl!N123<=Berechnung!$W$5,DatenSchnellauswahl!O123>=Berechnung!$W$5),TRUE,FALSE),IF(AND(DatenSchnellauswahl!P123<=Berechnung!$W$5,DatenSchnellauswahl!Q123>=Berechnung!$W$5),TRUE,FALSE))","v":false},11,14,11,14]
[6,"WPL 18 E",{"$f":"IF(AND(E124=Berechnung!$X$7,F124=TRUE,G124=TRUE,H124=TRUE,I124=TRUE,J124=TRUE,M124=TRUE,L124=TRUE),TRUE,FALSE)","v":false},1,-12,{"$f":"Berechnung!$Z$5","v":true},true,true,true,{"$f":"IF(Berechnung!$V$5=FALSE,TRUE,FALSE)","v":false},0,{"$f":"IF(OR(Berechnung!$Y$50=0,K124=0,K124=Berechnung!$Y$50),TRUE,FALSE)","v":true},{"$f":"IF(Berechnung!$R$5<3,IF(AND(DatenSchnellauswahl!N124<=Berechnung!$W$5,DatenSchnellauswahl!O124>=Berechnung!$W$5),TRUE,FALSE),IF(AND(DatenSchnellauswahl!P124<=Berechnung!$W$5,DatenSchnellauswahl!Q124>=Berechnung!$W$5),TRUE,FALSE))","v":false},12,15,12,16]
[6,"WPL 18 E",{"$f":"IF(AND(E125=Berechnung!$X$7,F125=TRUE,G125=TRUE,H125=TRUE,I125=TRUE,J125=TRUE,M125=TRUE,L125=TRUE),TRUE,FALSE)","v":false},1,-14,{"$f":"Berechnung!$Z$5","v":true},true,true,true,{"$f":"IF(Berechnung!$V$5=FALSE,TRUE,FALSE)","v":false},0,{"$f":"IF(OR(Berechnung!$Y$50=0,K125=0,K125=Berechnung!$Y$50),TRUE,FALSE)","v":true},{"$f":"IF(Berechnung!$R$5<3,IF(AND(DatenSchnellauswahl!N125<=Berechnung!$W$5,DatenSchnellauswahl!O125>=Berechnung!$W$5),TRUE,FALSE),IF(AND(DatenSchnellauswahl!P125<=Berechnung!$W$5,DatenSchnellauswahl!Q125>=Berechnung!$W$5),TRUE,FALSE))","v":false},13,16,13,17]
[6,"WPL 18 E",{"$f":"IF(AND(E126=Berechnung!$X$7,F126=TRUE,G126=TRUE,H126=TRUE,I126=TRUE,J126=TRUE,M126=TRUE,L126=TRUE),TRUE,FALSE)","v":false},1,-16,{"$f":"Berechnung!$Z$5","v":true},true,true,true,{"$f":"IF(Berechnung!$V$5=FALSE,TRUE,FALSE)","v":false},0,{"$f":"IF(OR(Berechnung!$Y$50=0,K126=0,K126=Berechnung!$Y$50),TRUE,FALSE)","v":true},{"$f":"IF(Berechnung!$R$5<3,IF(AND(DatenSchnellauswahl!N126<=Berechnung!$W$5,DatenSchnellauswahl!O126>=Berechnung!$W$5),TRUE,FALSE),IF(AND(DatenSchnellauswahl!P126<=Berechnung!$W$5,DatenSchnellauswahl!Q126>=Berechnung!$W$5),TRUE,FALSE))","v":false},13,15,13,17]
[6,"WPL 18 E",{"$f":"IF(AND(E127=Berechnung!$X$7,F127=TRUE,G127=TRUE,H127=TRUE,I127=TRUE,J127=TRUE,M127=TRUE,L127=TRUE),TRUE,FALSE)","v":false},1,-18,{"$f":"Berechnung!$Z$5","v":true},true,true,true,{"$f":"IF(Berechnung!$V$5=FALSE,TRUE,FALSE)","v":false},0,{"$f":"IF(OR(Berechnung!$Y$50=0,K127=0,K127=Berechnung!$Y$50),TRUE,FALSE)","v":true},{"$f":"IF(Berechnung!$R$5<3,IF(AND(DatenSchnellauswahl!N127<=Berechnung!$W$5,DatenSchnellauswahl!O127>=Berechnung!$W$5),TRUE,FALSE),IF(AND(DatenSchnellauswahl!P127<=Berechnung!$W$5,DatenSchnellauswahl!Q127>=Berechnung!$W$5),TRUE,FALSE))","v":false},14,16,14,16]
[7,"WPL 23 E",{"$f":"IF(AND(E128=Berechnung!$X$7,F128=TRUE,G128=TRUE,H128=TRUE,I128=TRUE,J128=TRUE,M128=TRUE,L128=TRUE),TRUE,FALSE)","v":false},1,-10,{"$f":"Berechnung!$Z$5","v":true},true,true,true,{"$f":"IF(Berechnung!$V$5=FALSE,TRUE,FALSE)","v":false},0,{"$f":"IF(OR(Berechnung!$Y$50=0,K128=0,K128=Berechnung!$Y$50),TRUE,FALSE)","v":true},{"$f":"IF(Berechnung!$R$5<3,IF(AND(DatenSchnellauswahl!N128<=Berechnung!$W$5,DatenSchnellauswahl!O128>=Berechnung!$W$5),TRUE,FALSE),IF(AND(DatenSchnellauswahl!P128<=Berechnung!$W$5,DatenSchnellauswahl!Q128>=Berechnung!$W$5),TRUE,FALSE))","v":false},15,18,15,18]
[7,"WPL 23 E",{"$f":"IF(AND(E129=Berechnung!$X$7,F129=TRUE,G129=TRUE,H129=TRUE,I129=TRUE,J129=TRUE,M129=TRUE,L129=TRUE),TRUE,FALSE)","v":false},1,-12,{"$f":"Berechnung!$Z$5","v":true},true,true,true,{"$f":"IF(Berechnung!$V$5=FALSE,TRUE,FALSE)","v":false},0,{"$f":"IF(OR(Berechnung!$Y$50=0,K129=0,K129=Berechnung!$Y$50),TRUE,FALSE)","v":true},{"$f":"IF(Berechnung!$R$5<3,IF(AND(DatenSchnellauswahl!N129<=Berechnung!$W$5,DatenSchnellauswahl!O129>=Berechnung!$W$5),TRUE,FALSE),IF(AND(DatenSchnellauswahl!P129<=Berechnung!$W$5,DatenSchnellauswahl!Q129>=Berechnung!$W$5),TRUE,FALSE))","v":false},16,19,17,19]
[7,"WPL 23 E",{"$f":"IF(AND(E130=Berechnung!$X$7,F130=TRUE,G130=TRUE,H130=TRUE,I130=TRUE,J130=TRUE,M130=TRUE,L130=TRUE),TRUE,FALSE)","v":false},1,-14,{"$f":"Berechnung!$Z$5","v":true},true,true,true,{"$f":"IF(Berechnung!$V$5=FALSE,TRUE,FALSE)","v":false},0,{"$f":"IF(OR(Berechnung!$Y$50=0,K130=0,K130=Berechnung!$Y$50),TRUE,FALSE)","v":true},{"$f":"IF(Berechnung!$R$5<3,IF(AND(DatenSchnellauswahl!N130<=Berechnung!$W$5,DatenSchnellauswahl!O130>=Berechnung!$W$5),TRUE,FALSE),IF(AND(DatenSchnellauswahl!P130<=Berechnung!$W$5,DatenSchnellauswahl!Q130>=Berechnung!$W$5),TRUE,FALSE))","v":false},17,18,18,19]
[7,"WPL 23 E",{"$f":"IF(AND(E131=Berechnung!$X$7,F131=TRUE,G131=TRUE,H131=TRUE,I131=TRUE,J131=TRUE,M131=TRUE,L131=TRUE),TRUE,FALSE)","v":false},1,-16,{"$f":"Berechnung!$Z$5","v":true},true,true,true,{"$f":"IF(Berechnung!$V$5=FALSE,TRUE,FALSE)","v":false},0,{"$f":"IF(OR(Berechnung!$Y$50=0,K131=0,K131=Berechnung!$Y$50),TRUE,FALSE)","v":true},{"$f":"IF(Berechnung!$R$5<3,IF(AND(DatenSchnellauswahl!N131<=Berechnung!$W$5,DatenSchnellauswahl!O131>=Berechnung!$W$5),TRUE,FALSE),IF(AND(DatenSchnellauswahl!P131<=Berechnung!$W$5,DatenSchnellauswahl!Q131>=Berechnung!$W$5),TRUE,FALSE))","v":false},16,18,18,19]
[7,"WPL 23 E",{"$f":"IF(AND(E132=Berechnung!$X$7,F132=TRUE,G132=TRUE,H132=TRUE,I132=TRUE,J132=TRUE,M132=TRUE,L132=TRUE),TRUE,FALSE)","v":false},1,-18,{"$f":"Berechnung!$Z$5","v":true},true,true,true,{"$f":"IF(Berechnung!$V$5=FALSE,TRUE,FALSE)","v":false},0,{"$f":"IF(OR(Berechnung!$Y$50=0,K132=0,K132=Berechnung!$Y$50),TRUE,FALSE)","v":true},{"$f":"IF(Berechnung!$R$5<3,IF(AND(DatenSchnellauswahl!N132<=Berechnung!$W$5,DatenSchnellauswahl!O132>=Berechnung!$W$5),TRUE,FALSE),IF(AND(DatenSchnellauswahl!P132<=Berechnung!$W$5,DatenSchnellauswahl!Q132>=Berechnung!$W$5),TRUE,FALSE))","v":false},17,18,17,19]
[16,"WPL 13 cool",{"$f":"IF(AND(E133=Berechnung!$X$7,F133=TRUE,G133=TRUE,H133=TRUE,I133=TRUE,J133=TRUE,M133=TRUE,L133=TRUE),TRUE,FALSE)","v":false},1,-10,{"$f":"Berechnung!$Z$5","v":true},true,true,true,{"$f":"Berechnung!$V$5","v":true},0,{"$f":"IF(OR(Berechnung!$Y$50=0,K133=0,K133=Berechnung!$Y$50),TRUE,FALSE)","v":true},{"$f":"IF(Berechnung!$R$5<3,IF(AND(DatenSchnellauswahl!N133<=Berechnung!$W$5,DatenSchnellauswahl!O133>=Berechnung!$W$5),TRUE,FALSE),IF(AND(DatenSchnellauswahl!P133<=Berechnung!$W$5,DatenSchnellauswahl!Q133>=Berechnung!$W$5),TRUE,FALSE))","v":true},8,10,7,10]
[16,"WPL 13 cool",{"$f":"IF(AND(E134=Berechnung!$X$7,F134=TRUE,G134=TRUE,H134=TRUE,I134=TRUE,J134=TRUE,M134=TRUE,L134=TRUE),TRUE,FALSE)","v":false},1,-12,{"$f":"Berechnung!$Z$5","v":true},true,true,true,{"$f":"Berechnung!$V$5","v":true},0,{"$f":"IF(OR(Berechnung!$Y$50=0,K134=0,K134=Berechnung!$Y$50),TRUE,FALSE)","v":true},{"$f":"IF(Berechnung!$R$5<3,IF(AND(DatenSchnellauswahl!N134<=Berechnung!$W$5,DatenSchnellauswahl!O134>=Berechnung!$W$5),TRUE,FALSE),IF(AND(DatenSchnellauswahl!P134<=Berechnung!$W$5,DatenSchnellauswahl!Q134>=Berechnung!$W$5),TRUE,FALSE))","v":true},9,11,8,11]
[16,"WPL 13 cool",{"$f":"IF(AND(E135=Berechnung!$X$7,F135=TRUE,G135=TRUE,H135=TRUE,I135=TRUE,J135=TRUE,M135=TRUE,L135=TRUE),TRUE,FALSE)","v":true},1,-14,{"$f":"Berechnung!$Z$5","v":true},true,true,true,{"$f":"Berechnung!$V$5","v":true},0,{"$f":"IF(OR(Berechnung!$Y$50=0,K135=0,K135=Berechnung!$Y$50),TRUE,FALSE)","v":true},{"$f":"IF(Berechnung!$R$5<3,IF(AND(DatenSchnellauswahl!N135<=Berechnung!$W$5,DatenSchnellauswahl!O135>=Berechnung!$W$5),TRUE,FALSE),IF(AND(DatenSchnellauswahl!P135<=Berechnung!$W$5,DatenSchnellauswahl!Q135>=Berechnung!$W$5),TRUE,FALSE))","v":true},9,12,8,12]
[16,"WPL 13 cool",{"$f":"IF(AND(E136=Berechnung!$X$7,F136=TRUE,G136=TRUE,H136=TRUE,I136=TRUE,J136=TRUE,M136=TRUE,L136=TRUE),TRUE,FALSE)","v":false},1,-16,{"$f":"Berechnung!$Z$5","v":true},true,true,true,{"$f":"Berechnung!$V$5","v":true},0,{"$f":"IF(OR(Berechnung!$Y$50=0,K136=0,K136=Berechnung!$Y$50),TRUE,FALSE)","v":true},{"$f":"IF(Berechnung!$R$5<3,IF(AND(DatenSchnellauswahl!N136<=Berechnung!$W$5,DatenSchnellauswahl!O136>=Berechnung!$W$5),TRUE,FALSE),IF(AND(DatenSchnellauswahl!P136<=Berechnung!$W$5,DatenSchnellauswahl!Q136>=Berechnung!$W$5),TRUE,FALSE))","v":false},10,12,9,12]
[16,"WPL 13 cool",{"$f":"IF(AND(E137=Berechnung!$X$7,F137=TRUE,G137=TRUE,H137=TRUE,I137=TRUE,J137=TRUE,M137=TRUE,L137=TRUE),TRUE,FALSE)","v":false},1,-18,{"$f":"Berechnung!$Z$5","v":true},true,true,true,{"$f":"Berechnung!$V$5","v":true},0,{"$f":"IF(OR(Berechnung!$Y$50=0,K137=0,K137=Berechnung!$Y$50),TRUE,FALSE)","v":true},{"$f":"IF(Berechnung!$R$5<3,IF(AND(DatenSchnellauswahl!N137<=Berechnung!$W$5,DatenSchnellauswahl!O137>=Berechnung!$W$5),TRUE,FALSE),IF(AND(DatenSchnellauswahl!P137<=Berechnung!$W$5,DatenSchnellauswahl!Q137>=Berechnung!$W$5),TRUE,FALSE))","v":false},10,13,9,13]
[17,"WPL 18 cool",{"$f":"IF(AND(E138=Berechnung!$X$7,F138=TRUE,G138=TRUE,H138=TRUE,I138=TRUE,J138=TRUE,M138=TRUE,L138=TRUE),TRUE,FALSE)","v":false},1,-10,{"$f":"Berechnung!$Z$5","v":true},true,true,true,{"$f":"Berechnung!$V$5","v":true},0,{"$f":"IF(OR(Berechnung!$Y$50=0,K138=0,K138=Berechnung!$Y$50),TRUE,FALSE)","v":true},{"$f":"IF(Berechnung!$R$5<3,IF(AND(DatenSchnellauswahl!N138<=Berechnung!$W$5,DatenSchnellauswahl!O138>=Berechnung!$W$5),TRUE,FALSE),IF(AND(DatenSchnellauswahl!P138<=Berechnung!$W$5,DatenSchnellauswahl!Q138>=Berechnung!$W$5),TRUE,FALSE))","v":false},11,14,11,14]
[17,"WPL 18 cool",{"$f":"IF(AND(E139=Berechnung!$X$7,F139=TRUE,G139=TRUE,H139=TRUE,I139=TRUE,J139=TRUE,M139=TRUE,L139=TRUE),TRUE,FALSE)","v":false},1,-12,{"$f":"Berechnung!$Z$5","v":true},true,true,true,{"$f":"Berechnung!$V$5","v":true},0,{"$f":"IF(OR(Berechnung!$Y$50=0,K139=0,K139=Berechnung!$Y$50),TRUE,FALSE)","v":true},{"$f":"IF(Berechnung!$R$5<3,IF(AND(DatenSchnellauswahl!N139<=Berechnung!$W$5,DatenSchnellauswahl!O139>=Berechnung!$W$5),TRUE,FALSE),IF(AND(DatenSchnellauswahl!P139<=Berechnung!$W$5,DatenSchnellauswahl!Q139>=Berechnung!$W$5),TRUE,FALSE))","v":false},12,15,12,16]
[17,"WPL 18 cool",{"$f":"IF(AND(E140=Berechnung!$X$7,F140=TRUE,G140=TRUE,H140=TRUE,I140=TRUE,J140=TRUE,M140=TRUE,L140=TRUE),TRUE,FALSE)","v":false},1,-14,{"$f":"Berechnung!$Z$5","v":true},true,true,true,{"$f":"Berechnung!$V$5","v":true},0,{"$f":"IF(OR(Berechnung!$Y$50=0,K140=0,K140=Berechnung!$Y$50),TRUE,FALSE)","v":true},{"$f":"IF(Berechnung!$R$5<3,IF(AND(DatenSchnellauswahl!N140<=Berechnung!$W$5,DatenSchnellauswahl!O140>=Berechnung!$W$5),TRUE,FALSE),IF(AND(DatenSchnellauswahl!P140<=Berechnung!$W$5,DatenSchnellauswahl!Q140>=Berechnung!$W$5),TRUE,FALSE))","v":false},13,16,13,17]
[17,"WPL 18 cool",{"$f":"IF(AND(E141=Berechnung!$X$7,F141=TRUE,G141=TRUE,H141=TRUE,I141=TRUE,J141=TRUE,M141=TRUE,L141=TRUE),TRUE,FALSE)","v":false},1,-16,{"$f":"Berechnung!$Z$5","v":true},true,true,true,{"$f":"Berechnung!$V$5","v":true},0,{"$f":"IF(OR(Berechnung!$Y$50=0,K141=0,K141=Berechnung!$Y$50),TRUE,FALSE)","v":true},{"$f":"IF(Berechnung!$R$5<3,IF(AND(DatenSchnellauswahl!N141<=Berechnung!$W$5,DatenSchnellauswahl!O141>=Berechnung!$W$5),TRUE,FALSE),IF(AND(DatenSchnellauswahl!P141<=Berechnung!$W$5,DatenSchnellauswahl!Q141>=Berechnung!$W$5),TRUE,FALSE))","v":false},13,15,13,17]
[17,"WPL 18 cool",{"$f":"IF(AND(E142=Berechnung!$X$7,F142=TRUE,G142=TRUE,H142=TRUE,I142=TRUE,J142=TRUE,M142=TRUE,L142=TRUE),TRUE,FALSE)","v":false},1,-18,{"$f":"Berechnung!$Z$5","v":true},true,true,true,{"$f":"Berechnung!$V$5","v":true},0,{"$f":"IF(OR(Berechnung!$Y$50=0,K142=0,K142=Berechnung!$Y$50),TRUE,FALSE)","v":true},{"$f":"IF(Berechnung!$R$5<3,IF(AND(DatenSchnellauswahl!N142<=Berechnung!$W$5,DatenSchnellauswahl!O142>=Berechnung!$W$5),TRUE,FALSE),IF(AND(DatenSchnellauswahl!P142<=Berechnung!$W$5,DatenSchnellauswahl!Q142>=Berechnung!$W$5),TRUE,FALSE))","v":false},14,16,14,16]
[18,"WPL 23 cool",{"$f":"IF(AND(E143=Berechnung!$X$7,F143=TRUE,G143=TRUE,H143=TRUE,I143=TRUE,J143=TRUE,M143=TRUE,L143=TRUE),TRUE,FALSE)","v":false},1,-10,{"$f":"Berechnung!$Z$5","v":true},true,true,true,{"$f":"Berechnung!$V$5","v":true},0,{"$f":"IF(OR(Berechnung!$Y$50=0,K143=0,K143=Berechnung!$Y$50),TRUE,FALSE)","v":true},{"$f":"IF(Berechnung!$R$5<3,IF(AND(DatenSchnellauswahl!N143<=Berechnung!$W$5,DatenSchnellauswahl!O143>=Berechnung!$W$5),TRUE,FALSE),IF(AND(DatenSchnellauswahl!P143<=Berechnung!$W$5,DatenSchnellauswahl!Q143>=Berechnung!$W$5),TRUE,FALSE))","v":false},15,18,15,18]
[18,"WPL 23 cool",{"$f":"IF(AND(E144=Berechnung!$X$7,F144=TRUE,G144=TRUE,H144=TRUE,I144=TRUE,J144=TRUE,M144=TRUE,L144=TRUE),TRUE,FALSE)","v":false},1,-12,{"$f":"Berechnung!$Z$5","v":true},true,true,true,{"$f":"Berechnung!$V$5","v":true},0,{"$f":"IF(OR(Berechnung!$Y$50=0,K144=0,K144=Berechnung!$Y$50),TRUE,FALSE)","v":true},{"$f":"IF(Berechnung!$R$5<3,IF(AND(DatenSchnellauswahl!N144<=Berechnung!$W$5,DatenSchnellauswahl!O144>=Berechnung!$W$5),TRUE,FALSE),IF(AND(DatenSchnellauswahl!P144<=Berechnung!$W$5,DatenSchnellauswahl!Q144>=Berechnung!$W$5),TRUE,FALSE))","v":false},16,19,17,19]
[18,"WPL 23 cool",{"$f":"IF(AND(E145=Berechnung!$X$7,F145=TRUE,G145=TRUE,H145=TRUE,I145=TRUE,J145=TRUE,M145=TRUE,L145=TRUE),TRUE,FALSE)","v":false},1,-14,{"$f":"Berechnung!$Z$5","v":true},true,true,true,{"$f":"Berechnung!$V$5","v":true},0,{"$f":"IF(OR(Berechnung!$Y$50=0,K145=0,K145=Berechnung!$Y$50),TRUE,FALSE)","v":true},{"$f":"IF(Berechnung!$R$5<3,IF(AND(DatenSchnellauswahl!N145<=Berechnung!$W$5,DatenSchnellauswahl!O145>=Berechnung!$W$5),TRUE,FALSE),IF(AND(DatenSchnellauswahl!P145<=Berechnung!$W$5,DatenSchnellauswahl!Q145>=Berechnung!$W$5),TRUE,FALSE))","v":false},17,18,18,19]
[18,"WPL 23 cool",{"$f":"IF(AND(E146=Berechnung!$X$7,F146=TRUE,G146=TRUE,H146=TRUE,I146=TRUE,J146=TRUE,M146=TRUE,L146=TRUE),TRUE,FALSE)","v":false},1,-16,{"$f":"Berechnung!$Z$5","v":true},true,true,true,{"$f":"Berechnung!$V$5","v":true},0,{"$f":"IF(OR(Berechnung!$Y$50=0,K146=0,K146=Berechnung!$Y$50),TRUE,FALSE)","v":true},{"$f":"IF(Berechnung!$R$5<3,IF(AND(DatenSchnellauswahl!N146<=Berechnung!$W$5,DatenSchnellauswahl!O146>=Berechnung!$W$5),TRUE,FALSE),IF(AND(DatenSchnellauswahl!P146<=Berechnung!$W$5,DatenSchnellauswahl!Q146>=Berechnung!$W$5),TRUE,FALSE))","v":false},16,18,18,19]
[18,"WPL 23 cool",{"$f":"IF(AND(E147=Berechnung!$X$7,F147=TRUE,G147=TRUE,H147=TRUE,I147=TRUE,J147=TRUE,M147=TRUE,L147=TRUE),TRUE,FALSE)","v":false},1,-18,{"$f":"Berechnung!$Z$5","v":true},true,true,true,{"$f":"Berechnung!$V$5","v":true},0,{"$f":"IF(OR(Berechnung!$Y$50=0,K147=0,K147=Berechnung!$Y$50),TRUE,FALSE)","v":true},{"$f":"IF(Berechnung!$R$5<3,IF(AND(DatenSchnellauswahl!N147<=Berechnung!$W$5,DatenSchnellauswahl!O147>=Berechnung!$W$5),TRUE,FALSE),IF(AND(DatenSchnellauswahl!P147<=Berechnung!$W$5,DatenSchnellauswahl!Q147>=Berechnung!$W$5),TRUE,FALSE))","v":false},17,18,17,19]
[98,"WPL 33 HT",{"$f":"IF(AND(E148=Berechnung!$X$7,F148=TRUE,G148=TRUE,H148=TRUE,I148=TRUE,J148=TRUE,M148=TRUE,L148=TRUE),TRUE,FALSE)","v":false},1,-10,{"$f":"Berechnung!$Z$5","v":true},true,true,true,{"$f":"IF(Berechnung!$V$5=FALSE,TRUE,FALSE)","v":false},0,{"$f":"IF(OR(Berechnung!$Y$50=0,K148=0,K148=Berechnung!$Y$50),TRUE,FALSE)","v":true},{"$f":"IF(Berechnung!$R$5<3,IF(AND(DatenSchnellauswahl!N148<=Berechnung!$W$5,DatenSchnellauswahl!O148>=Berechnung!$W$5),TRUE,FALSE),IF(AND(DatenSchnellauswahl!P148<=Berechnung!$W$5,DatenSchnellauswahl!Q148>=Berechnung!$W$5),TRUE,FALSE))","v":false},11,18,11,18]
[98,"WPL 33 HT",{"$f":"IF(AND(E149=Berechnung!$X$7,F149=TRUE,G149=TRUE,H149=TRUE,I149=TRUE,J149=TRUE,M149=TRUE,L149=TRUE),TRUE,FALSE)","v":false},1,-12,{"$f":"Berechnung!$Z$5","v":true},true,true,true,{"$f":"IF(Berechnung!$V$5=FALSE,TRUE,FALSE)","v":false},0,{"$f":"IF(OR(Berechnung!$Y$50=0,K149=0,K149=Berechnung!$Y$50),TRUE,FALSE)","v":true},{"$f":"IF(Berechnung!$R$5<3,IF(AND(DatenSchnellauswahl!N149<=Berechnung!$W$5,DatenSchnellauswahl!O149>=Berechnung!$W$5),TRUE,FALSE),IF(AND(DatenSchnellauswahl!P149<=Berechnung!$W$5,DatenSchnellauswahl!Q149>=Berechnung!$W$5),TRUE,FALSE))","v":false},12,19,12,19]
[98,"WPL 33 HT",{"$f":"IF(AND(E150=Berechnung!$X$7,F150=TRUE,G150=TRUE,H150=TRUE,I150=TRUE,J150=TRUE,M150=TRUE,L150=TRUE),TRUE,FALSE)","v":false},1,-14,{"$f":"Berechnung!$Z$5","v":true},true,true,true,{"$f":"IF(Berechnung!$V$5=FALSE,TRUE,FALSE)","v":false},0,{"$f":"IF(OR(Berechnung!$Y$50=0,K150=0,K150=Berechnung!$Y$50),TRUE,FALSE)","v":true},{"$f":"IF(Berechnung!$R$5<3,IF(AND(DatenSchnellauswahl!N150<=Berechnung!$W$5,DatenSchnellauswahl!O150>=Berechnung!$W$5),TRUE,FALSE),IF(AND(DatenSchnellauswahl!P150<=Berechnung!$W$5,DatenSchnellauswahl!Q150>=Berechnung!$W$5),TRUE,FALSE))","v":false},13,18,13,19]
[98,"WPL 33 HT",{"$f":"IF(AND(E151=Berechnung!$X$7,F151=TRUE,G151=TRUE,H151=TRUE,I151=TRUE,J151=TRUE,M151=TRUE,L151=TRUE),TRUE,FALSE)","v":false},1,-16,{"$f":"Berechnung!$Z$5","v":true},true,true,true,{"$f":"IF(Berechnung!$V$5=FALSE,TRUE,FALSE)","v":false},0,{"$f":"IF(OR(Berechnung!$Y$50=0,K151=0,K151=Berechnung!$Y$50),TRUE,FALSE)","v":true},{"$f":"IF(Berechnung!$R$5<3,IF(AND(DatenSchnellauswahl!N151<=Berechnung!$W$5,DatenSchnellauswahl!O151>=Berechnung!$W$5),TRUE,FALSE),IF(AND(DatenSchnellauswahl!P151<=Berechnung!$W$5,DatenSchnellauswahl!Q151>=Berechnung!$W$5),TRUE,FALSE))","v":false},13,18,13,19]
[98,"WPL 33 HT",{"$f":"IF(AND(E152=Berechnung!$X$7,F152=TRUE,G152=TRUE,H152=TRUE,I152=TRUE,J152=TRUE,M152=TRUE,L152=TRUE),TRUE,FALSE)","v":false},1,-18,{"$f":"Berechnung!$Z$5","v":true},true,true,true,{"$f":"IF(Berechnung!$V$5=FALSE,TRUE,FALSE)","v":false},0,{"$f":"IF(OR(Berechnung!$Y$50=0,K152=0,K152=Berechnung!$Y$50),TRUE,FALSE)","v":true},{"$f":"IF(Berechnung!$R$5<3,IF(AND(DatenSchnellauswahl!N152<=Berechnung!$W$5,DatenSchnellauswahl!O152>=Berechnung!$W$5),TRUE,FALSE),IF(AND(DatenSchnellauswahl!P152<=Berechnung!$W$5,DatenSchnellauswahl!Q152>=Berechnung!$W$5),TRUE,FALSE))","v":false},14,18,14,19]
[11,"WPL 34",{"$f":"IF(AND(E153=Berechnung!$X$7,F153=TRUE,G153=TRUE,H153=TRUE,I153=TRUE,J153=TRUE,M153=TRUE,L153=TRUE),TRUE,FALSE)","v":false},1,-10,{"$f":"Berechnung!$Z$5","v":true},true,true,true,{"$f":"IF(Berechnung!$V$5=FALSE,TRUE,FALSE)","v":false},2,{"$f":"IF(OR(Berechnung!$Y$50=0,K153=0,K153=Berechnung!$Y$50),TRUE,FALSE)","v":true},{"$f":"IF(Berechnung!$R$5<3,IF(AND(DatenSchnellauswahl!N153<=Berechnung!$W$5,DatenSchnellauswahl!O153>=Berechnung!$W$5),TRUE,FALSE),IF(AND(DatenSchnellauswahl!P153<=Berechnung!$W$5,DatenSchnellauswahl!Q153>=Berechnung!$W$5),TRUE,FALSE))","v":false},19,24,19,24]
[11,"WPL 34",{"$f":"IF(AND(E154=Berechnung!$X$7,F154=TRUE,G154=TRUE,H154=TRUE,I154=TRUE,J154=TRUE,M154=TRUE,L154=TRUE),TRUE,FALSE)","v":false},1,-12,{"$f":"Berechnung!$Z$5","v":true},true,true,true,{"$f":"IF(Berechnung!$V$5=FALSE,TRUE,FALSE)","v":false},2,{"$f":"IF(OR(Berechnung!$Y$50=0,K154=0,K154=Berechnung!$Y$50),TRUE,FALSE)","v":true},{"$f":"IF(Berechnung!$R$5<3,IF(AND(DatenSchnellauswahl!N154<=Berechnung!$W$5,DatenSchnellauswahl!O154>=Berechnung!$W$5),TRUE,FALSE),IF(AND(DatenSchnellauswahl!P154<=Berechnung!$W$5,DatenSchnellauswahl!Q154>=Berechnung!$W$5),TRUE,FALSE))","v":false},20,26,20,26]
[11,"WPL 34",{"$f":"IF(AND(E155=Berechnung!$X$7,F155=TRUE,G155=TRUE,H155=TRUE,I155=TRUE,J155=TRUE,M155=TRUE,L155=TRUE),TRUE,FALSE)","v":false},1,-14,{"$f":"Berechnung!$Z$5","v":true},true,true,true,{"$f":"IF(Berechnung!$V$5=FALSE,TRUE,FALSE)","v":false},2,{"$f":"IF(OR(Berechnung!$Y$50=0,K155=0,K155=Berechnung!$Y$50),TRUE,FALSE)","v":true},{"$f":"IF(Berechnung!$R$5<3,IF(AND(DatenSchnellauswahl!N155<=Berechnung!$W$5,DatenSchnellauswahl!O155>=Berechnung!$W$5),TRUE,FALSE),IF(AND(DatenSchnellauswahl!P155<=Berechnung!$W$5,DatenSchnellauswahl!Q155>=Berechnung!$W$5),TRUE,FALSE))","v":false},19,28,20,28]
[11,"WPL 34",{"$f":"IF(AND(E156=Berechnung!$X$7,F156=TRUE,G156=TRUE,H156=TRUE,I156=TRUE,J156=TRUE,M156=TRUE,L156=TRUE),TRUE,FALSE)","v":false},1,-16,{"$f":"Berechnung!$Z$5","v":true},true,true,true,{"$f":"IF(Berechnung!$V$5=FALSE,TRUE,FALSE)","v":false},2,{"$f":"IF(OR(Berechnung!$Y$50=0,K156=0,K156=Berechnung!$Y$50),TRUE,FALSE)","v":true},{"$f":"IF(Berechnung!$R$5<3,IF(AND(DatenSchnellauswahl!N156<=Berechnung!$W$5,DatenSchnellauswahl!O156>=Berechnung!$W$5),TRUE,FALSE),IF(AND(DatenSchnellauswahl!P156<=Berechnung!$W$5,DatenSchnellauswahl!Q156>=Berechnung!$W$5),TRUE,FALSE))","v":false},19,30,20,30]
[11,"WPL 34",{"$f":"IF(AND(E157=Berechnung!$X$7,F157=TRUE,G157=TRUE,H157=TRUE,I157=TRUE,J157=TRUE,M157=TRUE,L157=TRUE),TRUE,FALSE)","v":false},1,-18,{"$f":"Berechnung!$Z$5","v":true},true,true,true,{"$f":"IF(Berechnung!$V$5=FALSE,TRUE,FALSE)","v":false},2,{"$f":"IF(OR(Berechnung!$Y$50=0,K157=0,K157=Berechnung!$Y$50),TRUE,FALSE)","v":true},{"$f":"IF(Berechnung!$R$5<3,IF(AND(DatenSchnellauswahl!N157<=Berechnung!$W$5,DatenSchnellauswahl!O157>=Berechnung!$W$5),TRUE,FALSE),IF(AND(DatenSchnellauswahl!P157<=Berechnung!$W$5,DatenSchnellauswahl!Q157>=Berechnung!$W$5),TRUE,FALSE))","v":false},19,32,20,32]
[12,"WPL 47",{"$f":"IF(AND(E158=Berechnung!$X$7,F158=TRUE,G158=TRUE,H158=TRUE,I158=TRUE,J158=TRUE,M158=TRUE,L158=TRUE),TRUE,FALSE)","v":false},1,-10,{"$f":"Berechnung!$Z$5","v":true},true,true,true,{"$f":"IF(Berechnung!$V$5=FALSE,TRUE,FALSE)","v":false},2,{"$f":"IF(OR(Berechnung!$Y$50=0,K158=0,K158=Berechnung!$Y$50),TRUE,FALSE)","v":true},{"$f":"IF(Berechnung!$R$5<3,IF(AND(DatenSchnellauswahl!N158<=Berechnung!$W$5,DatenSchnellauswahl!O158>=Berechnung!$W$5),TRUE,FALSE),IF(AND(DatenSchnellauswahl!P158<=Berechnung!$W$5,DatenSchnellauswahl!Q158>=Berechnung!$W$5),TRUE,FALSE))","v":false},25,32,25,30]
[12,"WPL 47",{"$f":"IF(AND(E159=Berechnung!$X$7,F159=TRUE,G159=TRUE,H159=TRUE,I159=TRUE,J159=TRUE,M159=TRUE,L159=TRUE),TRUE,FALSE)","v":false},1,-12,{"$f":"Berechnung!$Z$5","v":true},true,true,true,{"$f":"IF(Berechnung!$V$5=FALSE,TRUE,FALSE)","v":false},2,{"$f":"IF(OR(Berechnung!$Y$50=0,K159=0,K159=Berechnung!$Y$50),TRUE,FALSE)","v":true},{"$f":"IF(Berechnung!$R$5<3,IF(AND(DatenSchnellauswahl!N159<=Berechnung!$W$5,DatenSchnellauswahl!O159>=Berechnung!$W$5),TRUE,FALSE),IF(AND(DatenSchnellauswahl!P159<=Berechnung!$W$5,DatenSchnellauswahl!Q159>=Berechnung!$W$5),TRUE,FALSE))","v":false},27,34,27,32]
[12,"WPL 47",{"$f":"IF(AND(E160=Berechnung!$X$7,F160=TRUE,G160=TRUE,H160=TRUE,I160=TRUE,J160=TRUE,M160=TRUE,L160=TRUE),TRUE,FALSE)","v":false},1,-14,{"$f":"Berechnung!$Z$5","v":true},true,true,true,{"$f":"IF(Berechnung!$V$5=FALSE,TRUE,FALSE)","v":false},2,{"$f":"IF(OR(Berechnung!$Y$50=0,K160=0,K160=Berechnung!$Y$50),TRUE,FALSE)","v":true},{"$f":"IF(Berechnung!$R$5<3,IF(AND(DatenSchnellauswahl!N160<=Berechnung!$W$5,DatenSchnellauswahl!O160>=Berechnung!$W$5),TRUE,FALSE),IF(AND(DatenSchnellauswahl!P160<=Berechnung!$W$5,DatenSchnellauswahl!Q160>=Berechnung!$W$5),TRUE,FALSE))","v":false},29,38,29,36]
[12,"WPL 47",{"$f":"IF(AND(E161=Berechnung!$X$7,F161=TRUE,G161=TRUE,H161=TRUE,I161=TRUE,J161=TRUE,M161=TRUE,L161=TRUE),TRUE,FALSE)","v":false},1,-16,{"$f":"Berechnung!$Z$5","v":true},true,true,true,{"$f":"IF(Berechnung!$V$5=FALSE,TRUE,FALSE)","v":false},2,{"$f":"IF(OR(Berechnung!$Y$50=0,K161=0,K161=Berechnung!$Y$50),TRUE,FALSE)","v":true},{"$f":"IF(Berechnung!$R$5<3,IF(AND(DatenSchnellauswahl!N161<=Berechnung!$W$5,DatenSchnellauswahl!O161>=Berechnung!$W$5),TRUE,FALSE),IF(AND(DatenSchnellauswahl!P161<=Berechnung!$W$5,DatenSchnellauswahl!Q161>=Berechnung!$W$5),TRUE,FALSE))","v":false},31,40,31,40]
[12,"WPL 47",{"$f":"IF(AND(E162=Berechnung!$X$7,F162=TRUE,G162=TRUE,H162=TRUE,I162=TRUE,J162=TRUE,M162=TRUE,L162=TRUE),TRUE,FALSE)","v":false},1,-18,{"$f":"Berechnung!$Z$5","v":true},true,true,true,{"$f":"IF(Berechnung!$V$5=FALSE,TRUE,FALSE)","v":false},2,{"$f":"IF(OR(Berechnung!$Y$50=0,K162=0,K162=Berechnung!$Y$50),TRUE,FALSE)","v":true},{"$f":"IF(Berechnung!$R$5<3,IF(AND(DatenSchnellauswahl!N162<=Berechnung!$W$5,DatenSchnellauswahl!O162>=Berechnung!$W$5),TRUE,FALSE),IF(AND(DatenSchnellauswahl!P162<=Berechnung!$W$5,DatenSchnellauswahl!Q162>=Berechnung!$W$5),TRUE,FALSE))","v":false},33,40,33,42]
[13,"WPL 57",{"$f":"IF(AND(E163=Berechnung!$X$7,F163=TRUE,G163=TRUE,H163=TRUE,I163=TRUE,J163=TRUE,M163=TRUE,L163=TRUE),TRUE,FALSE)","v":false},1,-10,{"$f":"Berechnung!$Z$5","v":true},true,true,true,{"$f":"IF(Berechnung!$V$5=FALSE,TRUE,FALSE)","v":false},2,{"$f":"IF(OR(Berechnung!$Y$50=0,K163=0,K163=Berechnung!$Y$50),TRUE,FALSE)","v":true},{"$f":"IF(Berechnung!$R$5<3,IF(AND(DatenSchnellauswahl!N163<=Berechnung!$W$5,DatenSchnellauswahl!O163>=Berechnung!$W$5),TRUE,FALSE),IF(AND(DatenSchnellauswahl!P163<=Berechnung!$W$5,DatenSchnellauswahl!Q163>=Berechnung!$W$5),TRUE,FALSE))","v":false},33,37,31,38]
[13,"WPL 57",{"$f":"IF(AND(E164=Berechnung!$X$7,F164=TRUE,G164=TRUE,H164=TRUE,I164=TRUE,J164=TRUE,M164=TRUE,L164=TRUE),TRUE,FALSE)","v":false},1,-12,{"$f":"Berechnung!$Z$5","v":true},true,true,true,{"$f":"IF(Berechnung!$V$5=FALSE,TRUE,FALSE)","v":false},2,{"$f":"IF(OR(Berechnung!$Y$50=0,K164=0,K164=Berechnung!$Y$50),TRUE,FALSE)","v":true},{"$f":"IF(Berechnung!$R$5<3,IF(AND(DatenSchnellauswahl!N164<=Berechnung!$W$5,DatenSchnellauswahl!O164>=Berechnung!$W$5),TRUE,FALSE),IF(AND(DatenSchnellauswahl!P164<=Berechnung!$W$5,DatenSchnellauswahl!Q164>=Berechnung!$W$5),TRUE,FALSE))","v":false},35,40,33,41]
[13,"WPL 57",{"$f":"IF(AND(E165=Berechnung!$X$7,F165=TRUE,G165=TRUE,H165=TRUE,I165=TRUE,J165=TRUE,M165=TRUE,L165=TRUE),TRUE,FALSE)","v":false},1,-14,{"$f":"Berechnung!$Z$5","v":true},true,true,true,{"$f":"IF(Berechnung!$V$5=FALSE,TRUE,FALSE)","v":false},2,{"$f":"IF(OR(Berechnung!$Y$50=0,K165=0,K165=Berechnung!$Y$50),TRUE,FALSE)","v":true},{"$f":"IF(Berechnung!$R$5<3,IF(AND(DatenSchnellauswahl!N165<=Berechnung!$W$5,DatenSchnellauswahl!O165>=Berechnung!$W$5),TRUE,FALSE),IF(AND(DatenSchnellauswahl!P165<=Berechnung!$W$5,DatenSchnellauswahl!Q165>=Berechnung!$W$5),TRUE,FALSE))","v":false},39,43,37,44]
[13,"WPL 57",{"$f":"IF(AND(E166=Berechnung!$X$7,F166=TRUE,G166=TRUE,H166=TRUE,I166=TRUE,J166=TRUE,M166=TRUE,L166=TRUE),TRUE,FALSE)","v":false},1,-16,{"$f":"Berechnung!$Z$5","v":true},true,true,true,{"$f":"IF(Berechnung!$V$5=FALSE,TRUE,FALSE)","v":false},2,{"$f":"IF(OR(Berechnung!$Y$50=0,K166=0,K166=Berechnung!$Y$50),TRUE,FALSE)","v":true},{"$f":"IF(Berechnung!$R$5<3,IF(AND(DatenSchnellauswahl!N166<=Berechnung!$W$5,DatenSchnellauswahl!O166>=Berechnung!$W$5),TRUE,FALSE),IF(AND(DatenSchnellauswahl!P166<=Berechnung!$W$5,DatenSchnellauswahl!Q166>=Berechnung!$W$5),TRUE,FALSE))","v":false},41,46,41,47]
[13,"WPL 57",{"$f":"IF(AND(E167=Berechnung!$X$7,F167=TRUE,G167=TRUE,H167=TRUE,I167=TRUE,J167=TRUE,M167=TRUE,L167=TRUE),TRUE,FALSE)","v":false},1,-18,{"$f":"Berechnung!$Z$5","v":true},true,true,true,{"$f":"IF(Berechnung!$V$5=FALSE,TRUE,FALSE)","v":false},2,{"$f":"IF(OR(Berechnung!$Y$50=0,K167=0,K167=Berechnung!$Y$50),TRUE,FALSE)","v":true},{"$f":"IF(Berechnung!$R$5<3,IF(AND(DatenSchnellauswahl!N167<=Berechnung!$W$5,DatenSchnellauswahl!O167>=Berechnung!$W$5),TRUE,FALSE),IF(AND(DatenSchnellauswahl!P167<=Berechnung!$W$5,DatenSchnellauswahl!Q167>=Berechnung!$W$5),TRUE,FALSE))","v":false},41,49,43,50]
[9,"2 x WPL 23 E",{"$f":"IF(AND(E168=Berechnung!$X$7,F168=TRUE,G168=TRUE,H168=TRUE,I168=TRUE,J168=TRUE,M168=TRUE,L168=TRUE),TRUE,FALSE)","v":false},1,-10,{"$f":"Berechnung!$Z$5","v":true},true,true,true,{"$f":"IF(Berechnung!$V$5=FALSE,TRUE,FALSE)","v":false},0,{"$f":"IF(OR(Berechnung!$Y$50=0,K168=0,K168=Berechnung!$Y$50),TRUE,FALSE)","v":true},{"$f":"IF(Berechnung!$R$5<3,IF(AND(DatenSchnellauswahl!N168<=Berechnung!$W$5,DatenSchnellauswahl!O168>=Berechnung!$W$5),TRUE,FALSE),IF(AND(DatenSchnellauswahl!P168<=Berechnung!$W$5,DatenSchnellauswahl!Q168>=Berechnung!$W$5),TRUE,FALSE))","v":false},19,39,19,41]
[9,"2 x WPL 23 E",{"$f":"IF(AND(E169=Berechnung!$X$7,F169=TRUE,G169=TRUE,H169=TRUE,I169=TRUE,J169=TRUE,M169=TRUE,L169=TRUE),TRUE,FALSE)","v":false},1,-12,{"$f":"Berechnung!$Z$5","v":true},true,true,true,{"$f":"IF(Berechnung!$V$5=FALSE,TRUE,FALSE)","v":false},0,{"$f":"IF(OR(Berechnung!$Y$50=0,K169=0,K169=Berechnung!$Y$50),TRUE,FALSE)","v":true},{"$f":"IF(Berechnung!$R$5<3,IF(AND(DatenSchnellauswahl!N169<=Berechnung!$W$5,DatenSchnellauswahl!O169>=Berechnung!$W$5),TRUE,FALSE),IF(AND(DatenSchnellauswahl!P169<=Berechnung!$W$5,DatenSchnellauswahl!Q169>=Berechnung!$W$5),TRUE,FALSE))","v":false},20,42,20,44]
[9,"2 x WPL 23 E",{"$f":"IF(AND(E170=Berechnung!$X$7,F170=TRUE,G170=TRUE,H170=TRUE,I170=TRUE,J170=TRUE,M170=TRUE,L170=TRUE),TRUE,FALSE)","v":false},1,-14,{"$f":"Berechnung!$Z$5","v":true},true,true,true,{"$f":"IF(Berechnung!$V$5=FALSE,TRUE,FALSE)","v":false},0,{"$f":"IF(OR(Berechnung!$Y$50=0,K170=0,K170=Berechnung!$Y$50),TRUE,FALSE)","v":true},{"$f":"IF(Berechnung!$R$5<3,IF(AND(DatenSchnellauswahl!N170<=Berechnung!$W$5,DatenSchnellauswahl!O170>=Berechnung!$W$5),TRUE,FALSE),IF(AND(DatenSchnellauswahl!P170<=Berechnung!$W$5,DatenSchnellauswahl!Q170>=Berechnung!$W$5),TRUE,FALSE))","v":false},19,45,20,48]
[9,"2 x WPL 23 E",{"$f":"IF(AND(E171=Berechnung!$X$7,F171=TRUE,G171=TRUE,H171=TRUE,I171=TRUE,J171=TRUE,M171=TRUE,L171=TRUE),TRUE,FALSE)","v":false},1,-16,{"$f":"Berechnung!$Z$5","v":true},true,true,true,{"$f":"IF(Berechnung!$V$5=FALSE,TRUE,FALSE)","v":false},0,{"$f":"IF(OR(Berechnung!$Y$50=0,K171=0,K171=Berechnung!$Y$50),TRUE,FALSE)","v":true},{"$f":"IF(Berechnung!$R$5<3,IF(AND(DatenSchnellauswahl!N171<=Berechnung!$W$5,DatenSchnellauswahl!O171>=Berechnung!$W$5),TRUE,FALSE),IF(AND(DatenSchnellauswahl!P171<=Berechnung!$W$5,DatenSchnellauswahl!Q171>=Berechnung!$W$5),TRUE,FALSE))","v":false},19,48,20,51]
[9,"2 x WPL 23 E",{"$f":"IF(AND(E172=Berechnung!$X$7,F172=TRUE,G172=TRUE,H172=TRUE,I172=TRUE,J172=TRUE,M172=TRUE,L172=TRUE),TRUE,FALSE)","v":false},1,-18,{"$f":"Berechnung!$Z$5","v":true},true,true,true,{"$f":"IF(Berechnung!$V$5=FALSE,TRUE,FALSE)","v":false},0,{"$f":"IF(OR(Berechnung!$Y$50=0,K172=0,K172=Berechnung!$Y$50),TRUE,FALSE)","v":true},{"$f":"IF(Berechnung!$R$5<3,IF(AND(DatenSchnellauswahl!N172<=Berechnung!$W$5,DatenSchnellauswahl!O172>=Berechnung!$W$5),TRUE,FALSE),IF(AND(DatenSchnellauswahl!P172<=Berechnung!$W$5,DatenSchnellauswahl!Q172>=Berechnung!$W$5),TRUE,FALSE))","v":false},19,51,20,54]
[10,"3 x WPL 23 E",{"$f":"IF(AND(E173=Berechnung!$X$7,F173=TRUE,G173=TRUE,H173=TRUE,I173=TRUE,J173=TRUE,M173=TRUE,L173=TRUE),TRUE,FALSE)","v":false},1,-10,{"$f":"Berechnung!$Z$5","v":true},true,true,true,{"$f":"IF(Berechnung!$V$5=FALSE,TRUE,FALSE)","v":false},0,{"$f":"IF(OR(Berechnung!$Y$50=0,K173=0,K173=Berechnung!$Y$50),TRUE,FALSE)","v":true},{"$f":"IF(Berechnung!$R$5<3,IF(AND(DatenSchnellauswahl!N173<=Berechnung!$W$5,DatenSchnellauswahl!O173>=Berechnung!$W$5),TRUE,FALSE),IF(AND(DatenSchnellauswahl!P173<=Berechnung!$W$5,DatenSchnellauswahl!Q173>=Berechnung!$W$5),TRUE,FALSE))","v":false},40,58,42,62]
[10,"3 x WPL 23 E",{"$f":"IF(AND(E174=Berechnung!$X$7,F174=TRUE,G174=TRUE,H174=TRUE,I174=TRUE,J174=TRUE,M174=TRUE,L174=TRUE),TRUE,FALSE)","v":false},1,-12,{"$f":"Berechnung!$Z$5","v":true},true,true,true,{"$f":"IF(Berechnung!$V$5=FALSE,TRUE,FALSE)","v":false},0,{"$f":"IF(OR(Berechnung!$Y$50=0,K174=0,K174=Berechnung!$Y$50),TRUE,FALSE)","v":true},{"$f":"IF(Berechnung!$R$5<3,IF(AND(DatenSchnellauswahl!N174<=Berechnung!$W$5,DatenSchnellauswahl!O174>=Berechnung!$W$5),TRUE,FALSE),IF(AND(DatenSchnellauswahl!P174<=Berechnung!$W$5,DatenSchnellauswahl!Q174>=Berechnung!$W$5),TRUE,FALSE))","v":false},43,63,45,67]
[10,"3 x WPL 23 E",{"$f":"IF(AND(E175=Berechnung!$X$7,F175=TRUE,G175=TRUE,H175=TRUE,I175=TRUE,J175=TRUE,M175=TRUE,L175=TRUE),TRUE,FALSE)","v":false},1,-14,{"$f":"Berechnung!$Z$5","v":true},true,true,true,{"$f":"IF(Berechnung!$V$5=FALSE,TRUE,FALSE)","v":false},0,{"$f":"IF(OR(Berechnung!$Y$50=0,K175=0,K175=Berechnung!$Y$50),TRUE,FALSE)","v":true},{"$f":"IF(Berechnung!$R$5<3,IF(AND(DatenSchnellauswahl!N175<=Berechnung!$W$5,DatenSchnellauswahl!O175>=Berechnung!$W$5),TRUE,FALSE),IF(AND(DatenSchnellauswahl!P175<=Berechnung!$W$5,DatenSchnellauswahl!Q175>=Berechnung!$W$5),TRUE,FALSE))","v":false},46,68,49,71]
[10,"3 x WPL 23 E",{"$f":"IF(AND(E176=Berechnung!$X$7,F176=TRUE,G176=TRUE,H176=TRUE,I176=TRUE,J176=TRUE,M176=TRUE,L176=TRUE),TRUE,FALSE)","v":false},1,-16,{"$f":"Berechnung!$Z$5","v":true},true,true,true,{"$f":"IF(Berechnung!$V$5=FALSE,TRUE,FALSE)","v":false},0,{"$f":"IF(OR(Berechnung!$Y$50=0,K176=0,K176=Berechnung!$Y$50),TRUE,FALSE)","v":true},{"$f":"IF(Berechnung!$R$5<3,IF(AND(DatenSchnellauswahl!N176<=Berechnung!$W$5,DatenSchnellauswahl!O176>=Berechnung!$W$5),TRUE,FALSE),IF(AND(DatenSchnellauswahl!P176<=Berechnung!$W$5,DatenSchnellauswahl!Q176>=Berechnung!$W$5),TRUE,FALSE))","v":false},49,72,52,77]
[10,"3 x WPL 23 E",{"$f":"IF(AND(E177=Berechnung!$X$7,F177=TRUE,G177=TRUE,H177=TRUE,I177=TRUE,J177=TRUE,M177=TRUE,L177=TRUE),TRUE,FALSE)","v":false},1,-18,{"$f":"Berechnung!$Z$5","v":true},true,true,true,{"$f":"IF(Berechnung!$V$5=FALSE,TRUE,FALSE)","v":false},0,{"$f":"IF(OR(Berechnung!$Y$50=0,K177=0,K177=Berechnung!$Y$50),TRUE,FALSE)","v":true},{"$f":"IF(Berechnung!$R$5<3,IF(AND(DatenSchnellauswahl!N177<=Berechnung!$W$5,DatenSchnellauswahl!O177>=Berechnung!$W$5),TRUE,FALSE),IF(AND(DatenSchnellauswahl!P177<=Berechnung!$W$5,DatenSchnellauswahl!Q177>=Berechnung!$W$5),TRUE,FALSE))","v":false},52,77,55,82]
[904,"4 x WPL 23 E",{"$f":"IF(AND(E178=Berechnung!$X$7,F178=TRUE,G178=TRUE,H178=TRUE,I178=TRUE,J178=TRUE,M178=TRUE,L178=TRUE),TRUE,FALSE)","v":false},1,-10,{"$f":"Berechnung!$Z$5","v":true},true,true,true,{"$f":"IF(Berechnung!$V$5=FALSE,TRUE,FALSE)","v":false},0,{"$f":"IF(OR(Berechnung!$Y$50=0,K178=0,K178=Berechnung!$Y$50),TRUE,FALSE)","v":true},{"$f":"IF(Berechnung!$R$5<3,IF(AND(DatenSchnellauswahl!N178<=Berechnung!$W$5,DatenSchnellauswahl!O178>=Berechnung!$W$5),TRUE,FALSE),IF(AND(DatenSchnellauswahl!P178<=Berechnung!$W$5,DatenSchnellauswahl!Q178>=Berechnung!$W$5),TRUE,FALSE))","v":false},59,77,63,82]
[904,"4 x WPL 23 E",{"$f":"IF(AND(E179=Berechnung!$X$7,F179=TRUE,G179=TRUE,H179=TRUE,I179=TRUE,J179=TRUE,M179=TRUE,L179=TRUE),TRUE,FALSE)","v":false},1,-12,{"$f":"Berechnung!$Z$5","v":true},true,true,true,{"$f":"IF(Berechnung!$V$5=FALSE,TRUE,FALSE)","v":false},0,{"$f":"IF(OR(Berechnung!$Y$50=0,K179=0,K179=Berechnung!$Y$50),TRUE,FALSE)","v":true},{"$f":"IF(Berechnung!$R$5<3,IF(AND(DatenSchnellauswahl!N179<=Berechnung!$W$5,DatenSchnellauswahl!O179>=Berechnung!$W$5),TRUE,FALSE),IF(AND(DatenSchnellauswahl!P179<=Berechnung!$W$5,DatenSchnellauswahl!Q179>=Berechnung!$W$5),TRUE,FALSE))","v":false},64,84,68,89]
[904,"4 x WPL 23 E",{"$f":"IF(AND(E180=Berechnung!$X$7,F180=TRUE,G180=TRUE,H180=TRUE,I180=TRUE,J180=TRUE,M180=TRUE,L180=TRUE),TRUE,FALSE)","v":false},1,-14,{"$f":"Berechnung!$Z$5","v":true},true,true,true,{"$f":"IF(Berechnung!$V$5=FALSE,TRUE,FALSE)","v":false},0,{"$f":"IF(OR(Berechnung!$Y$50=0,K180=0,K180=Berechnung!$Y$50),TRUE,FALSE)","v":true},{"$f":"IF(Berechnung!$R$5<3,IF(AND(DatenSchnellauswahl!N180<=Berechnung!$W$5,DatenSchnellauswahl!O180>=Berechnung!$W$5),TRUE,FALSE),IF(AND(DatenSchnellauswahl!P180<=Berechnung!$W$5,DatenSchnellauswahl!Q180>=Berechnung!$W$5),TRUE,FALSE))","v":false},69,90,72,96]
[904,"4 x WPL 23 E",{"$f":"IF(AND(E181=Berechnung!$X$7,F181=TRUE,G181=TRUE,H181=TRUE,I181=TRUE,J181=TRUE,M181=TRUE,L181=TRUE),TRUE,FALSE)","v":false},1,-16,{"$f":"Berechnung!$Z$5","v":true},true,true,true,{"$f":"IF(Berechnung!$V$5=FALSE,TRUE,FALSE)","v":false},0,{"$f":"IF(OR(Berechnung!$Y$50=0,K181=0,K181=Berechnung!$Y$50),TRUE,FALSE)","v":true},{"$f":"IF(Berechnung!$R$5<3,IF(AND(DatenSchnellauswahl!N181<=Berechnung!$W$5,DatenSchnellauswahl!O181>=Berechnung!$W$5),TRUE,FALSE),IF(AND(DatenSchnellauswahl!P181<=Berechnung!$W$5,DatenSchnellauswahl!Q181>=Berechnung!$W$5),TRUE,FALSE))","v":false},73,96,78,102]
[904,"4 x WPL 23 E",{"$f":"IF(AND(E182=Berechnung!$X$7,F182=TRUE,G182=TRUE,H182=TRUE,I182=TRUE,J182=TRUE,M182=TRUE,L182=TRUE),TRUE,FALSE)","v":false},1,-18,{"$f":"Berechnung!$Z$5","v":true},true,true,true,{"$f":"IF(Berechnung!$V$5=FALSE,TRUE,FALSE)","v":false},0,{"$f":"IF(OR(Berechnung!$Y$50=0,K182=0,K182=Berechnung!$Y$50),TRUE,FALSE)","v":true},{"$f":"IF(Berechnung!$R$5<3,IF(AND(DatenSchnellauswahl!N182<=Berechnung!$W$5,DatenSchnellauswahl!O182>=Berechnung!$W$5),TRUE,FALSE),IF(AND(DatenSchnellauswahl!P182<=Berechnung!$W$5,DatenSchnellauswahl!Q182>=Berechnung!$W$5),TRUE,FALSE))","v":false},78,102,83,108]
[905,"5 x WPL 23 E",{"$f":"IF(AND(E183=Berechnung!$X$7,F183=TRUE,G183=TRUE,H183=TRUE,I183=TRUE,J183=TRUE,M183=TRUE,L183=TRUE),TRUE,FALSE)","v":false},1,-10,{"$f":"Berechnung!$Z$5","v":true},true,true,true,{"$f":"IF(Berechnung!$V$5=FALSE,TRUE,FALSE)","v":false},0,{"$f":"IF(OR(Berechnung!$Y$50=0,K183=0,K183=Berechnung!$Y$50),TRUE,FALSE)","v":true},{"$f":"IF(Berechnung!$R$5<3,IF(AND(DatenSchnellauswahl!N183<=Berechnung!$W$5,DatenSchnellauswahl!O183>=Berechnung!$W$5),TRUE,FALSE),IF(AND(DatenSchnellauswahl!P183<=Berechnung!$W$5,DatenSchnellauswahl!Q183>=Berechnung!$W$5),TRUE,FALSE))","v":false},78,97,83,103]
[905,"5 x WPL 23 E",{"$f":"IF(AND(E184=Berechnung!$X$7,F184=TRUE,G184=TRUE,H184=TRUE,I184=TRUE,J184=TRUE,M184=TRUE,L184=TRUE),TRUE,FALSE)","v":false},1,-12,{"$f":"Berechnung!$Z$5","v":true},true,true,true,{"$f":"IF(Berechnung!$V$5=FALSE,TRUE,FALSE)","v":false},0,{"$f":"IF(OR(Berechnung!$Y$50=0,K184=0,K184=Berechnung!$Y$50),TRUE,FALSE)","v":true},{"$f":"IF(Berechnung!$R$5<3,IF(AND(DatenSchnellauswahl!N184<=Berechnung!$W$5,DatenSchnellauswahl!O184>=Berechnung!$W$5),TRUE,FALSE),IF(AND(DatenSchnellauswahl!P184<=Berechnung!$W$5,DatenSchnellauswahl!Q184>=Berechnung!$W$5),TRUE,FALSE))","v":false},85,105,90,111]
[905,"5 x WPL 23 E",{"$f":"IF(AND(E185=Berechnung!$X$7,F185=TRUE,G185=TRUE,H185=TRUE,I185=TRUE,J185=TRUE,M185=TRUE,L185=TRUE),TRUE,FALSE)","v":false},1,-14,{"$f":"Berechnung!$Z$5","v":true},true,true,true,{"$f":"IF(Berechnung!$V$5=FALSE,TRUE,FALSE)","v":false},0,{"$f":"IF(OR(Berechnung!$Y$50=0,K185=0,K185=Berechnung!$Y$50),TRUE,FALSE)","v":true},{"$f":"IF(Berechnung!$R$5<3,IF(AND(DatenSchnellauswahl!N185<=Berechnung!$W$5,DatenSchnellauswahl!O185>=Berechnung!$W$5),TRUE,FALSE),IF(AND(DatenSchnellauswahl!P185<=Berechnung!$W$5,DatenSchnellauswahl!Q185>=Berechnung!$W$5),TRUE,FALSE))","v":false},91,113,97,119]
[905,"5 x WPL 23 E",{"$f":"IF(AND(E186=Berechnung!$X$7,F186=TRUE,G186=TRUE,H186=TRUE,I186=TRUE,J186=TRUE,M186=TRUE,L186=TRUE),TRUE,FALSE)","v":false},1,-16,{"$f":"Berechnung!$Z$5","v":true},true,true,true,{"$f":"IF(Berechnung!$V$5=FALSE,TRUE,FALSE)","v":false},0,{"$f":"IF(OR(Berechnung!$Y$50=0,K186=0,K186=Berechnung!$Y$50),TRUE,FALSE)","v":true},{"$f":"IF(Berechnung!$R$5<3,IF(AND(DatenSchnellauswahl!N186<=Berechnung!$W$5,DatenSchnellauswahl!O186>=Berechnung!$W$5),TRUE,FALSE),IF(AND(DatenSchnellauswahl!P186<=Berechnung!$W$5,DatenSchnellauswahl!Q186>=Berechnung!$W$5),TRUE,FALSE))","v":false},97,120,103,128]
[905,"5 x WPL 23 E",{"$f":"IF(AND(E187=Berechnung!$X$7,F187=TRUE,G187=TRUE,H187=TRUE,I187=TRUE,J187=TRUE,M187=TRUE,L187=TRUE),TRUE,FALSE)","v":false},1,-18,{"$f":"Berechnung!$Z$5","v":true},true,true,true,{"$f":"IF(Berechnung!$V$5=FALSE,TRUE,FALSE)","v":false},0,{"$f":"IF(OR(Berechnung!$Y$50=0,K187=0,K187=Berechnung!$Y$50),TRUE,FALSE)","v":true},{"$f":"IF(Berechnung!$R$5<3,IF(AND(DatenSchnellauswahl!N187<=Berechnung!$W$5,DatenSchnellauswahl!O187>=Berechnung!$W$5),TRUE,FALSE),IF(AND(DatenSchnellauswahl!P187<=Berechnung!$W$5,DatenSchnellauswahl!Q187>=Berechnung!$W$5),TRUE,FALSE))","v":false},103,128,109,136]
[906,"6 x WPL 23 E",{"$f":"IF(AND(E188=Berechnung!$X$7,F188=TRUE,G188=TRUE,H188=TRUE,I188=TRUE,J188=TRUE,M188=TRUE,L188=TRUE),TRUE,FALSE)","v":false},1,-10,{"$f":"Berechnung!$Z$5","v":true},true,true,true,{"$f":"IF(Berechnung!$V$5=FALSE,TRUE,FALSE)","v":false},0,{"$f":"IF(OR(Berechnung!$Y$50=0,K188=0,K188=Berechnung!$Y$50),TRUE,FALSE)","v":true},{"$f":"IF(Berechnung!$R$5<3,IF(AND(DatenSchnellauswahl!N188<=Berechnung!$W$5,DatenSchnellauswahl!O188>=Berechnung!$W$5),TRUE,FALSE),IF(AND(DatenSchnellauswahl!P188<=Berechnung!$W$5,DatenSchnellauswahl!Q188>=Berechnung!$W$5),TRUE,FALSE))","v":false},98,117,104,124]
[906,"6 x WPL 23 E",{"$f":"IF(AND(E189=Berechnung!$X$7,F189=TRUE,G189=TRUE,H189=TRUE,I189=TRUE,J189=TRUE,M189=TRUE,L189=TRUE),TRUE,FALSE)","v":false},1,-12,{"$f":"Berechnung!$Z$5","v":true},true,true,true,{"$f":"IF(Berechnung!$V$5=FALSE,TRUE,FALSE)","v":false},0,{"$f":"IF(OR(Berechnung!$Y$50=0,K189=0,K189=Berechnung!$Y$50),TRUE,FALSE)","v":true},{"$f":"IF(Berechnung!$R$5<3,IF(AND(DatenSchnellauswahl!N189<=Berechnung!$W$5,DatenSchnellauswahl!O189>=Berechnung!$W$5),TRUE,FALSE),IF(AND(DatenSchnellauswahl!P189<=Berechnung!$W$5,DatenSchnellauswahl!Q189>=Berechnung!$W$5),TRUE,FALSE))","v":false},106,124,125,134]
[906,"6 x WPL 23 E",{"$f":"IF(AND(E190=Berechnung!$X$7,F190=TRUE,G190=TRUE,H190=TRUE,I190=TRUE,J190=TRUE,M190=TRUE,L190=TRUE),TRUE,FALSE)","v":false},1,-14,{"$f":"Berechnung!$Z$5","v":true},true,true,true,{"$f":"IF(Berechnung!$V$5=FALSE,TRUE,FALSE)","v":false},0,{"$f":"IF(OR(Berechnung!$Y$50=0,K190=0,K190=Berechnung!$Y$50),TRUE,FALSE)","v":true},{"$f":"IF(Berechnung!$R$5<3,IF(AND(DatenSchnellauswahl!N190<=Berechnung!$W$5,DatenSchnellauswahl!O190>=Berechnung!$W$5),TRUE,FALSE),IF(AND(DatenSchnellauswahl!P190<=Berechnung!$W$5,DatenSchnellauswahl!Q190>=Berechnung!$W$5),TRUE,FALSE))","v":false},114,136,120,144]
[906,"6 x WPL 23 E",{"$f":"IF(AND(E191=Berechnung!$X$7,F191=TRUE,G191=TRUE,H191=TRUE,I191=TRUE,J191=TRUE,M191=TRUE,L191=TRUE),TRUE,FALSE)","v":false},1,-16,{"$f":"Berechnung!$Z$5","v":true},true,true,true,{"$f":"IF(Berechnung!$V$5=FALSE,TRUE,FALSE)","v":false},0,{"$f":"IF(OR(Berechnung!$Y$50=0,K191=0,K191=Berechnung!$Y$50),TRUE,FALSE)","v":true},{"$f":"IF(Berechnung!$R$5<3,IF(AND(DatenSchnellauswahl!N191<=Berechnung!$W$5,DatenSchnellauswahl!O191>=Berechnung!$W$5),TRUE,FALSE),IF(AND(DatenSchnellauswahl!P191<=Berechnung!$W$5,DatenSchnellauswahl!Q191>=Berechnung!$W$5),TRUE,FALSE))","v":false},137,144,129,154]
[906,"6 x WPL 23 E",{"$f":"IF(AND(E192=Berechnung!$X$7,F192=TRUE,G192=TRUE,H192=TRUE,I192=TRUE,J192=TRUE,M192=TRUE,L192=TRUE),TRUE,FALSE)","v":false},1,-18,{"$f":"Berechnung!$Z$5","v":true},true,true,true,{"$f":"IF(Berechnung!$V$5=FALSE,TRUE,FALSE)","v":false},0,{"$f":"IF(OR(Berechnung!$Y$50=0,K192=0,K192=Berechnung!$Y$50),TRUE,FALSE)","v":true},{"$f":"IF(Berechnung!$R$5<3,IF(AND(DatenSchnellauswahl!N192<=Berechnung!$W$5,DatenSchnellauswahl!O192>=Berechnung!$W$5),TRUE,FALSE),IF(AND(DatenSchnellauswahl!P192<=Berechnung!$W$5,DatenSchnellauswahl!Q192>=Berechnung!$W$5),TRUE,FALSE))","v":false},129,154,137,163]
[19,"2 x WPL 23 cool",{"$f":"IF(AND(E193=Berechnung!$X$7,F193=TRUE,G193=TRUE,H193=TRUE,I193=TRUE,J193=TRUE,M193=TRUE,L193=TRUE),TRUE,FALSE)","v":false},1,-10,{"$f":"Berechnung!$Z$5","v":true},true,true,true,{"$f":"Berechnung!$V$5","v":true},0,{"$f":"IF(OR(Berechnung!$Y$50=0,K193=0,K193=Berechnung!$Y$50),TRUE,FALSE)","v":true},{"$f":"IF(Berechnung!$R$5<3,IF(AND(DatenSchnellauswahl!N193<=Berechnung!$W$5,DatenSchnellauswahl!O193>=Berechnung!$W$5),TRUE,FALSE),IF(AND(DatenSchnellauswahl!P193<=Berechnung!$W$5,DatenSchnellauswahl!Q193>=Berechnung!$W$5),TRUE,FALSE))","v":false},19,39,19,41]
[19,"2 x WPL 23 cool",{"$f":"IF(AND(E194=Berechnung!$X$7,F194=TRUE,G194=TRUE,H194=TRUE,I194=TRUE,J194=TRUE,M194=TRUE,L194=TRUE),TRUE,FALSE)","v":false},1,-12,{"$f":"Berechnung!$Z$5","v":true},true,true,true,{"$f":"Berechnung!$V$5","v":true},0,{"$f":"IF(OR(Berechnung!$Y$50=0,K194=0,K194=Berechnung!$Y$50),TRUE,FALSE)","v":true},{"$f":"IF(Berechnung!$R$5<3,IF(AND(DatenSchnellauswahl!N194<=Berechnung!$W$5,DatenSchnellauswahl!O194>=Berechnung!$W$5),TRUE,FALSE),IF(AND(DatenSchnellauswahl!P194<=Berechnung!$W$5,DatenSchnellauswahl!Q194>=Berechnung!$W$5),TRUE,FALSE))","v":false},20,42,20,44]
[19,"2 x WPL 23 cool",{"$f":"IF(AND(E195=Berechnung!$X$7,F195=TRUE,G195=TRUE,H195=TRUE,I195=TRUE,J195=TRUE,M195=TRUE,L195=TRUE),TRUE,FALSE)","v":false},1,-14,{"$f":"Berechnung!$Z$5","v":true},true,true,true,{"$f":"Berechnung!$V$5","v":true},0,{"$f":"IF(OR(Berechnung!$Y$50=0,K195=0,K195=Berechnung!$Y$50),TRUE,FALSE)","v":true},{"$f":"IF(Berechnung!$R$5<3,IF(AND(DatenSchnellauswahl!N195<=Berechnung!$W$5,DatenSchnellauswahl!O195>=Berechnung!$W$5),TRUE,FALSE),IF(AND(DatenSchnellauswahl!P195<=Berechnung!$W$5,DatenSchnellauswahl!Q195>=Berechnung!$W$5),TRUE,FALSE))","v":false},19,45,20,48]
[19,"2 x WPL 23 cool",{"$f":"IF(AND(E196=Berechnung!$X$7,F196=TRUE,G196=TRUE,H196=TRUE,I196=TRUE,J196=TRUE,M196=TRUE,L196=TRUE),TRUE,FALSE)","v":false},1,-16,{"$f":"Berechnung!$Z$5","v":true},true,true,true,{"$f":"Berechnung!$V$5","v":true},0,{"$f":"IF(OR(Berechnung!$Y$50=0,K196=0,K196=Berechnung!$Y$50),TRUE,FALSE)","v":true},{"$f":"IF(Berechnung!$R$5<3,IF(AND(DatenSchnellauswahl!N196<=Berechnung!$W$5,DatenSchnellauswahl!O196>=Berechnung!$W$5),TRUE,FALSE),IF(AND(DatenSchnellauswahl!P196<=Berechnung!$W$5,DatenSchnellauswahl!Q196>=Berechnung!$W$5),TRUE,FALSE))","v":false},19,48,20,51]
[19,"2 x WPL 23 cool",{"$f":"IF(AND(E197=Berechnung!$X$7,F197=TRUE,G197=TRUE,H197=TRUE,I197=TRUE,J197=TRUE,M197=TRUE,L197=TRUE),TRUE,FALSE)","v":false},1,-18,{"$f":"Berechnung!$Z$5","v":true},true,true,true,{"$f":"Berechnung!$V$5","v":true},0,{"$f":"IF(OR(Berechnung!$Y$50=0,K197=0,K197=Berechnung!$Y$50),TRUE,FALSE)","v":true},{"$f":"IF(Berechnung!$R$5<3,IF(AND(DatenSchnellauswahl!N197<=Berechnung!$W$5,DatenSchnellauswahl!O197>=Berechnung!$W$5),TRUE,FALSE),IF(AND(DatenSchnellauswahl!P197<=Berechnung!$W$5,DatenSchnellauswahl!Q197>=Berechnung!$W$5),TRUE,FALSE))","v":false},19,51,20,54]
[20,"3 x WPL 23 cool",{"$f":"IF(AND(E198=Berechnung!$X$7,F198=TRUE,G198=TRUE,H198=TRUE,I198=TRUE,J198=TRUE,M198=TRUE,L198=TRUE),TRUE,FALSE)","v":false},1,-10,{"$f":"Berechnung!$Z$5","v":true},true,true,true,{"$f":"Berechnung!$V$5","v":true},0,{"$f":"IF(OR(Berechnung!$Y$50=0,K198=0,K198=Berechnung!$Y$50),TRUE,FALSE)","v":true},{"$f":"IF(Berechnung!$R$5<3,IF(AND(DatenSchnellauswahl!N198<=Berechnung!$W$5,DatenSchnellauswahl!O198>=Berechnung!$W$5),TRUE,FALSE),IF(AND(DatenSchnellauswahl!P198<=Berechnung!$W$5,DatenSchnellauswahl!Q198>=Berechnung!$W$5),TRUE,FALSE))","v":false},40,58,42,62]
[20,"3 x WPL 23 cool",{"$f":"IF(AND(E199=Berechnung!$X$7,F199=TRUE,G199=TRUE,H199=TRUE,I199=TRUE,J199=TRUE,M199=TRUE,L199=TRUE),TRUE,FALSE)","v":false},1,-12,{"$f":"Berechnung!$Z$5","v":true},true,true,true,{"$f":"Berechnung!$V$5","v":true},0,{"$f":"IF(OR(Berechnung!$Y$50=0,K199=0,K199=Berechnung!$Y$50),TRUE,FALSE)","v":true},{"$f":"IF(Berechnung!$R$5<3,IF(AND(DatenSchnellauswahl!N199<=Berechnung!$W$5,DatenSchnellauswahl!O199>=Berechnung!$W$5),TRUE,FALSE),IF(AND(DatenSchnellauswahl!P199<=Berechnung!$W$5,DatenSchnellauswahl!Q199>=Berechnung!$W$5),TRUE,FALSE))","v":false},43,63,45,67]
[20,"3 x WPL 23 cool",{"$f":"IF(AND(E200=Berechnung!$X$7,F200=TRUE,G200=TRUE,H200=TRUE,I200=TRUE,J200=TRUE,M200=TRUE,L200=TRUE),TRUE,FALSE)","v":false},1,-14,{"$f":"Berechnung!$Z$5","v":true},true,true,true,{"$f":"Berechnung!$V$5","v":true},0,{"$f":"IF(OR(Berechnung!$Y$50=0,K200=0,K200=Berechnung!$Y$50),TRUE,FALSE)","v":true},{"$f":"IF(Berechnung!$R$5<3,IF(AND(DatenSchnellauswahl!N200<=Berechnung!$W$5,DatenSchnellauswahl!O200>=Berechnung!$W$5),TRUE,FALSE),IF(AND(DatenSchnellauswahl!P200<=Berechnung!$W$5,DatenSchnellauswahl!Q200>=Berechnung!$W$5),TRUE,FALSE))","v":false},46,68,49,71]
[20,"3 x WPL 23 cool",{"$f":"IF(AND(E201=Berechnung!$X$7,F201=TRUE,G201=TRUE,H201=TRUE,I201=TRUE,J201=TRUE,M201=TRUE,L201=TRUE),TRUE,FALSE)","v":false},1,-16,{"$f":"Berechnung!$Z$5","v":true},true,true,true,{"$f":"Berechnung!$V$5","v":true},0,{"$f":"IF(OR(Berechnung!$Y$50=0,K201=0,K201=Berechnung!$Y$50),TRUE,FALSE)","v":true},{"$f":"IF(Berechnung!$R$5<3,IF(AND(DatenSchnellauswahl!N201<=Berechnung!$W$5,DatenSchnellauswahl!O201>=Berechnung!$W$5),TRUE,FALSE),IF(AND(DatenSchnellauswahl!P201<=Berechnung!$W$5,DatenSchnellauswahl!Q201>=Berechnung!$W$5),TRUE,FALSE))","v":false},49,72,52,77]
[20,"3 x WPL 23 cool",{"$f":"IF(AND(E202=Berechnung!$X$7,F202=TRUE,G202=TRUE,H202=TRUE,I202=TRUE,J202=TRUE,M202=TRUE,L202=TRUE),TRUE,FALSE)","v":false},1,-18,{"$f":"Berechnung!$Z$5","v":true},true,true,true,{"$f":"Berechnung!$V$5","v":true},0,{"$f":"IF(OR(Berechnung!$Y$50=0,K202=0,K202=Berechnung!$Y$50),TRUE,FALSE)","v":true},{"$f":"IF(Berechnung!$R$5<3,IF(AND(DatenSchnellauswahl!N202<=Berechnung!$W$5,DatenSchnellauswahl!O202>=Berechnung!$W$5),TRUE,FALSE),IF(AND(DatenSchnellauswahl!P202<=Berechnung!$W$5,DatenSchnellauswahl!Q202>=Berechnung!$W$5),TRUE,FALSE))","v":false},52,77,55,82]
[901,"4 x WPL 23 cool",{"$f":"IF(AND(E203=Berechnung!$X$7,F203=TRUE,G203=TRUE,H203=TRUE,I203=TRUE,J203=TRUE,M203=TRUE,L203=TRUE),TRUE,FALSE)","v":false},1,-10,{"$f":"Berechnung!$Z$5","v":true},true,true,true,{"$f":"Berechnung!$V$5","v":true},0,{"$f":"IF(OR(Berechnung!$Y$50=0,K203=0,K203=Berechnung!$Y$50),TRUE,FALSE)","v":true},{"$f":"IF(Berechnung!$R$5<3,IF(AND(DatenSchnellauswahl!N203<=Berechnung!$W$5,DatenSchnellauswahl!O203>=Berechnung!$W$5),TRUE,FALSE),IF(AND(DatenSchnellauswahl!P203<=Berechnung!$W$5,DatenSchnellauswahl!Q203>=Berechnung!$W$5),TRUE,FALSE))","v":false},59,77,63,82]
[901,"4 x WPL 23 cool",{"$f":"IF(AND(E204=Berechnung!$X$7,F204=TRUE,G204=TRUE,H204=TRUE,I204=TRUE,J204=TRUE,M204=TRUE,L204=TRUE),TRUE,FALSE)","v":false},1,-12,{"$f":"Berechnung!$Z$5","v":true},true,true,true,{"$f":"Berechnung!$V$5","v":true},0,{"$f":"IF(OR(Berechnung!$Y$50=0,K204=0,K204=Berechnung!$Y$50),TRUE,FALSE)","v":true},{"$f":"IF(Berechnung!$R$5<3,IF(AND(DatenSchnellauswahl!N204<=Berechnung!$W$5,DatenSchnellauswahl!O204>=Berechnung!$W$5),TRUE,FALSE),IF(AND(DatenSchnellauswahl!P204<=Berechnung!$W$5,DatenSchnellauswahl!Q204>=Berechnung!$W$5),TRUE,FALSE))","v":false},64,84,68,89]
[901,"4 x WPL 23 cool",{"$f":"IF(AND(E205=Berechnung!$X$7,F205=TRUE,G205=TRUE,H205=TRUE,I205=TRUE,J205=TRUE,M205=TRUE,L205=TRUE),TRUE,FALSE)","v":false},1,-14,{"$f":"Berechnung!$Z$5","v":true},true,true,true,{"$f":"Berechnung!$V$5","v":true},0,{"$f":"IF(OR(Berechnung!$Y$50=0,K205=0,K205=Berechnung!$Y$50),TRUE,FALSE)","v":true},{"$f":"IF(Berechnung!$R$5<3,IF(AND(DatenSchnellauswahl!N205<=Berechnung!$W$5,DatenSchnellauswahl!O205>=Berechnung!$W$5),TRUE,FALSE),IF(AND(DatenSchnellauswahl!P205<=Berechnung!$W$5,DatenSchnellauswahl!Q205>=Berechnung!$W$5),TRUE,FALSE))","v":false},69,90,72,96]
[901,"4 x WPL 23 cool",{"$f":"IF(AND(E206=Berechnung!$X$7,F206=TRUE,G206=TRUE,H206=TRUE,I206=TRUE,J206=TRUE,M206=TRUE,L206=TRUE),TRUE,FALSE)","v":false},1,-16,{"$f":"Berechnung!$Z$5","v":true},true,true,true,{"$f":"Berechnung!$V$5","v":true},0,{"$f":"IF(OR(Berechnung!$Y$50=0,K206=0,K206=Berechnung!$Y$50),TRUE,FALSE)","v":true},{"$f":"IF(Berechnung!$R$5<3,IF(AND(DatenSchnellauswahl!N206<=Berechnung!$W$5,DatenSchnellauswahl!O206>=Berechnung!$W$5),TRUE,FALSE),IF(AND(DatenSchnellauswahl!P206<=Berechnung!$W$5,DatenSchnellauswahl!Q206>=Berechnung!$W$5),TRUE,FALSE))","v":false},73,96,78,102]
[901,"4 x WPL 23 cool",{"$f":"IF(AND(E207=Berechnung!$X$7,F207=TRUE,G207=TRUE,H207=TRUE,I207=TRUE,J207=TRUE,M207=TRUE,L207=TRUE),TRUE,FALSE)","v":false},1,-18,{"$f":"Berechnung!$Z$5","v":true},true,true,true,{"$f":"Berechnung!$V$5","v":true},0,{"$f":"IF(OR(Berechnung!$Y$50=0,K207=0,K207=Berechnung!$Y$50),TRUE,FALSE)","v":true},{"$f":"IF(Berechnung!$R$5<3,IF(AND(DatenSchnellauswahl!N207<=Berechnung!$W$5,DatenSchnellauswahl!O207>=Berechnung!$W$5),TRUE,FALSE),IF(AND(DatenSchnellauswahl!P207<=Berechnung!$W$5,DatenSchnellauswahl!Q207>=Berechnung!$W$5),TRUE,FALSE))","v":false},78,102,83,108]
[902,"5 x WPL 23 cool",{"$f":"IF(AND(E208=Berechnung!$X$7,F208=TRUE,G208=TRUE,H208=TRUE,I208=TRUE,J208=TRUE,M208=TRUE,L208=TRUE),TRUE,FALSE)","v":false},1,-10,{"$f":"Berechnung!$Z$5","v":true},true,true,true,{"$f":"Berechnung!$V$5","v":true},0,{"$f":"IF(OR(Berechnung!$Y$50=0,K208=0,K208=Berechnung!$Y$50),TRUE,FALSE)","v":true},{"$f":"IF(Berechnung!$R$5<3,IF(AND(DatenSchnellauswahl!N208<=Berechnung!$W$5,DatenSchnellauswahl!O208>=Berechnung!$W$5),TRUE,FALSE),IF(AND(DatenSchnellauswahl!P208<=Berechnung!$W$5,DatenSchnellauswahl!Q208>=Berechnung!$W$5),TRUE,FALSE))","v":false},78,97,83,103]
[902,"5 x WPL 23 cool",{"$f":"IF(AND(E209=Berechnung!$X$7,F209=TRUE,G209=TRUE,H209=TRUE,I209=TRUE,J209=TRUE,M209=TRUE,L209=TRUE),TRUE,FALSE)","v":false},1,-12,{"$f":"Berechnung!$Z$5","v":true},true,true,true,{"$f":"Berechnung!$V$5","v":true},0,{"$f":"IF(OR(Berechnung!$Y$50=0,K209=0,K209=Berechnung!$Y$50),TRUE,FALSE)","v":true},{"$f":"IF(Berechnung!$R$5<3,IF(AND(DatenSchnellauswahl!N209<=Berechnung!$W$5,DatenSchnellauswahl!O209>=Berechnung!$W$5),TRUE,FALSE),IF(AND(DatenSchnellauswahl!P209<=Berechnung!$W$5,DatenSchnellauswahl!Q209>=Berechnung!$W$5),TRUE,FALSE))","v":false},85,105,90,111]
[902,"5 x WPL 23 cool",{"$f":"IF(AND(E210=Berechnung!$X$7,F210=TRUE,G210=TRUE,H210=TRUE,I210=TRUE,J210=TRUE,M210=TRUE,L210=TRUE),TRUE,FALSE)","v":false},1,-14,{"$f":"Berechnung!$Z$5","v":true},true,true,true,{"$f":"Berechnung!$V$5","v":true},0,{"$f":"IF(OR(Berechnung!$Y$50=0,K210=0,K210=Berechnung!$Y$50),TRUE,FALSE)","v":true},{"$f":"IF(Berechnung!$R$5<3,IF(AND(DatenSchnellauswahl!N210<=Berechnung!$W$5,DatenSchnellauswahl!O210>=Berechnung!$W$5),TRUE,FALSE),IF(AND(DatenSchnellauswahl!P210<=Berechnung!$W$5,DatenSchnellauswahl!Q210>=Berechnung!$W$5),TRUE,FALSE))","v":false},91,113,97,119]
[902,"5 x WPL 23 cool",{"$f":"IF(AND(E211=Berechnung!$X$7,F211=TRUE,G211=TRUE,H211=TRUE,I211=TRUE,J211=TRUE,M211=TRUE,L211=TRUE),TRUE,FALSE)","v":false},1,-16,{"$f":"Berechnung!$Z$5","v":true},true,true,true,{"$f":"Berechnung!$V$5","v":true},0,{"$f":"IF(OR(Berechnung!$Y$50=0,K211=0,K211=Berechnung!$Y$50),TRUE,FALSE)","v":true},{"$f":"IF(Berechnung!$R$5<3,IF(AND(DatenSchnellauswahl!N211<=Berechnung!$W$5,DatenSchnellauswahl!O211>=Berechnung!$W$5),TRUE,FALSE),IF(AND(DatenSchnellauswahl!P211<=Berechnung!$W$5,DatenSchnellauswahl!Q211>=Berechnung!$W$5),TRUE,FALSE))","v":false},97,120,103,128]
[902,"5 x WPL 23 cool",{"$f":"IF(AND(E212=Berechnung!$X$7,F212=TRUE,G212=TRUE,H212=TRUE,I212=TRUE,J212=TRUE,M212=TRUE,L212=TRUE),TRUE,FALSE)","v":false},1,-18,{"$f":"Berechnung!$Z$5","v":true},true,true,true,{"$f":"Berechnung!$V$5","v":true},0,{"$f":"IF(OR(Berechnung!$Y$50=0,K212=0,K212=Berechnung!$Y$50),TRUE,FALSE)","v":true},{"$f":"IF(Berechnung!$R$5<3,IF(AND(DatenSchnellauswahl!N212<=Berechnung!$W$5,DatenSchnellauswahl!O212>=Berechnung!$W$5),TRUE,FALSE),IF(AND(DatenSchnellauswahl!P212<=Berechnung!$W$5,DatenSchnellauswahl!Q212>=Berechnung!$W$5),TRUE,FALSE))","v":false},103,128,109,136]
[903,"6 x WPL 23 cool",{"$f":"IF(AND(E213=Berechnung!$X$7,F213=TRUE,G213=TRUE,H213=TRUE,I213=TRUE,J213=TRUE,M213=TRUE,L213=TRUE),TRUE,FALSE)","v":false},1,-10,{"$f":"Berechnung!$Z$5","v":true},true,true,true,{"$f":"Berechnung!$V$5","v":true},0,{"$f":"IF(OR(Berechnung!$Y$50=0,K213=0,K213=Berechnung!$Y$50),TRUE,FALSE)","v":true},{"$f":"IF(Berechnung!$R$5<3,IF(AND(DatenSchnellauswahl!N213<=Berechnung!$W$5,DatenSchnellauswahl!O213>=Berechnung!$W$5),TRUE,FALSE),IF(AND(DatenSchnellauswahl!P213<=Berechnung!$W$5,DatenSchnellauswahl!Q213>=Berechnung!$W$5),TRUE,FALSE))","v":false},98,117,104,124]
[903,"6 x WPL 23 cool",{"$f":"IF(AND(E214=Berechnung!$X$7,F214=TRUE,G214=TRUE,H214=TRUE,I214=TRUE,J214=TRUE,M214=TRUE,L214=TRUE),TRUE,FALSE)","v":false},1,-12,{"$f":"Berechnung!$Z$5","v":true},true,true,true,{"$f":"Berechnung!$V$5","v":true},0,{"$f":"IF(OR(Berechnung!$Y$50=0,K214=0,K214=Berechnung!$Y$50),TRUE,FALSE)","v":true},{"$f":"IF(Berechnung!$R$5<3,IF(AND(DatenSchnellauswahl!N214<=Berechnung!$W$5,DatenSchnellauswahl!O214>=Berechnung!$W$5),TRUE,FALSE),IF(AND(DatenSchnellauswahl!P214<=Berechnung!$W$5,DatenSchnellauswahl!Q214>=Berechnung!$W$5),TRUE,FALSE))","v":false},106,124,125,134]
[903,"6 x WPL 23 cool",{"$f":"IF(AND(E215=Berechnung!$X$7,F215=TRUE,G215=TRUE,H215=TRUE,I215=TRUE,J215=TRUE,M215=TRUE,L215=TRUE),TRUE,FALSE)","v":false},1,-14,{"$f":"Berechnung!$Z$5","v":true},true,true,true,{"$f":"Berechnung!$V$5","v":true},0,{"$f":"IF(OR(Berechnung!$Y$50=0,K215=0,K215=Berechnung!$Y$50),TRUE,FALSE)","v":true},{"$f":"IF(Berechnung!$R$5<3,IF(AND(DatenSchnellauswahl!N215<=Berechnung!$W$5,DatenSchnellauswahl!O215>=Berechnung!$W$5),TRUE,FALSE),IF(AND(DatenSchnellauswahl!P215<=Berechnung!$W$5,DatenSchnellauswahl!Q215>=Berechnung!$W$5),TRUE,FALSE))","v":false},114,136,120,144]
[903,"6 x WPL 23 cool",{"$f":"IF(AND(E216=Berechnung!$X$7,F216=TRUE,G216=TRUE,H216=TRUE,I216=TRUE,J216=TRUE,M216=TRUE,L216=TRUE),TRUE,FALSE)","v":false},1,-16,{"$f":"Berechnung!$Z$5","v":true},true,true,true,{"$f":"Berechnung!$V$5","v":true},0,{"$f":"IF(OR(Berechnung!$Y$50=0,K216=0,K216=Berechnung!$Y$50),TRUE,FALSE)","v":true},{"$f":"IF(Berechnung!$R$5<3,IF(AND(DatenSchnellauswahl!N216<=Berechnung!$W$5,DatenSchnellauswahl!O216>=Berechnung!$W$5),TRUE,FALSE),IF(AND(DatenSchnellauswahl!P216<=Berechnung!$W$5,DatenSchnellauswahl!Q216>=Berechnung!$W$5),TRUE,FALSE))","v":false},137,144,129,154]
[903,"6 x WPL 23 cool",{"$f":"IF(AND(E217=Berechnung!$X$7,F217=TRUE,G217=TRUE,H217=TRUE,I217=TRUE,J217=TRUE,M217=TRUE,L217=TRUE),TRUE,FALSE)","v":false},1,-18,{"$f":"Berechnung!$Z$5","v":true},true,true,true,{"$f":"Berechnung!$V$5","v":true},0,{"$f":"IF(OR(Berechnung!$Y$50=0,K217=0,K217=Berechnung!$Y$50),TRUE,FALSE)","v":true},{"$f":"IF(Berechnung!$R$5<3,IF(AND(DatenSchnellauswahl!N217<=Berechnung!$W$5,DatenSchnellauswahl!O217>=Berechnung!$W$5),TRUE,FALSE),IF(AND(DatenSchnellauswahl!P217<=Berechnung!$W$5,DatenSchnellauswahl!Q217>=Berechnung!$W$5),TRUE,FALSE))","v":false},129,154,137,163]
[14,"2 x WPL 34",{"$f":"IF(AND(E218=Berechnung!$X$7,F218=TRUE,G218=TRUE,H218=TRUE,I218=TRUE,J218=TRUE,M218=TRUE,L218=TRUE),TRUE,FALSE)","v":false},1,-10,{"$f":"Berechnung!$Z$5","v":true},true,true,true,{"$f":"IF(Berechnung!$V$5=FALSE,TRUE,FALSE)","v":false},2,{"$f":"IF(OR(Berechnung!$Y$50=0,K218=0,K218=Berechnung!$Y$50),TRUE,FALSE)","v":true},{"$f":"IF(Berechnung!$R$5<3,IF(AND(DatenSchnellauswahl!N218<=Berechnung!$W$5,DatenSchnellauswahl!O218>=Berechnung!$W$5),TRUE,FALSE),IF(AND(DatenSchnellauswahl!P218<=Berechnung!$W$5,DatenSchnellauswahl!Q218>=Berechnung!$W$5),TRUE,FALSE))","v":false},38,48,39,49]
[14,"2 x WPL 34",{"$f":"IF(AND(E219=Berechnung!$X$7,F219=TRUE,G219=TRUE,H219=TRUE,I219=TRUE,J219=TRUE,M219=TRUE,L219=TRUE),TRUE,FALSE)","v":false},1,-12,{"$f":"Berechnung!$Z$5","v":true},true,true,true,{"$f":"IF(Berechnung!$V$5=FALSE,TRUE,FALSE)","v":false},2,{"$f":"IF(OR(Berechnung!$Y$50=0,K219=0,K219=Berechnung!$Y$50),TRUE,FALSE)","v":true},{"$f":"IF(Berechnung!$R$5<3,IF(AND(DatenSchnellauswahl!N219<=Berechnung!$W$5,DatenSchnellauswahl!O219>=Berechnung!$W$5),TRUE,FALSE),IF(AND(DatenSchnellauswahl!P219<=Berechnung!$W$5,DatenSchnellauswahl!Q219>=Berechnung!$W$5),TRUE,FALSE))","v":false},41,52,42,53]
[14,"2 x WPL 34",{"$f":"IF(AND(E220=Berechnung!$X$7,F220=TRUE,G220=TRUE,H220=TRUE,I220=TRUE,J220=TRUE,M220=TRUE,L220=TRUE),TRUE,FALSE)","v":false},1,-14,{"$f":"Berechnung!$Z$5","v":true},true,true,true,{"$f":"IF(Berechnung!$V$5=FALSE,TRUE,FALSE)","v":false},2,{"$f":"IF(OR(Berechnung!$Y$50=0,K220=0,K220=Berechnung!$Y$50),TRUE,FALSE)","v":true},{"$f":"IF(Berechnung!$R$5<3,IF(AND(DatenSchnellauswahl!N220<=Berechnung!$W$5,DatenSchnellauswahl!O220>=Berechnung!$W$5),TRUE,FALSE),IF(AND(DatenSchnellauswahl!P220<=Berechnung!$W$5,DatenSchnellauswahl!Q220>=Berechnung!$W$5),TRUE,FALSE))","v":false},44,56,45,57]
[14,"2 x WPL 34",{"$f":"IF(AND(E221=Berechnung!$X$7,F221=TRUE,G221=TRUE,H221=TRUE,I221=TRUE,J221=TRUE,M221=TRUE,L221=TRUE),TRUE,FALSE)","v":false},1,-16,{"$f":"Berechnung!$Z$5","v":true},true,true,true,{"$f":"IF(Berechnung!$V$5=FALSE,TRUE,FALSE)","v":false},2,{"$f":"IF(OR(Berechnung!$Y$50=0,K221=0,K221=Berechnung!$Y$50),TRUE,FALSE)","v":true},{"$f":"IF(Berechnung!$R$5<3,IF(AND(DatenSchnellauswahl!N221<=Berechnung!$W$5,DatenSchnellauswahl!O221>=Berechnung!$W$5),TRUE,FALSE),IF(AND(DatenSchnellauswahl!P221<=Berechnung!$W$5,DatenSchnellauswahl!Q221>=Berechnung!$W$5),TRUE,FALSE))","v":false},47,60,48,60]
[14,"2 x WPL 34",{"$f":"IF(AND(E222=Berechnung!$X$7,F222=TRUE,G222=TRUE,H222=TRUE,I222=TRUE,J222=TRUE,M222=TRUE,L222=TRUE),TRUE,FALSE)","v":false},1,-18,{"$f":"Berechnung!$Z$5","v":true},true,true,true,{"$f":"IF(Berechnung!$V$5=FALSE,TRUE,FALSE)","v":false},2,{"$f":"IF(OR(Berechnung!$Y$50=0,K222=0,K222=Berechnung!$Y$50),TRUE,FALSE)","v":true},{"$f":"IF(Berechnung!$R$5<3,IF(AND(DatenSchnellauswahl!N222<=Berechnung!$W$5,DatenSchnellauswahl!O222>=Berechnung!$W$5),TRUE,FALSE),IF(AND(DatenSchnellauswahl!P222<=Berechnung!$W$5,DatenSchnellauswahl!Q222>=Berechnung!$W$5),TRUE,FALSE))","v":false},50,64,51,64]
[21,"2 x WPL 47",{"$f":"IF(AND(E223=Berechnung!$X$7,F223=TRUE,G223=TRUE,H223=TRUE,I223=TRUE,J223=TRUE,M223=TRUE,L223=TRUE),TRUE,FALSE)","v":false},1,-10,{"$f":"Berechnung!$Z$5","v":true},true,true,true,{"$f":"IF(Berechnung!$V$5=FALSE,TRUE,FALSE)","v":false},2,{"$f":"IF(OR(Berechnung!$Y$50=0,K223=0,K223=Berechnung!$Y$50),TRUE,FALSE)","v":true},{"$f":"IF(Berechnung!$R$5<3,IF(AND(DatenSchnellauswahl!N223<=Berechnung!$W$5,DatenSchnellauswahl!O223>=Berechnung!$W$5),TRUE,FALSE),IF(AND(DatenSchnellauswahl!P223<=Berechnung!$W$5,DatenSchnellauswahl!Q223>=Berechnung!$W$5),TRUE,FALSE))","v":false},49,65,50,62]
[21,"2 x WPL 47",{"$f":"IF(AND(E224=Berechnung!$X$7,F224=TRUE,G224=TRUE,H224=TRUE,I224=TRUE,J224=TRUE,M224=TRUE,L224=TRUE),TRUE,FALSE)","v":false},1,-12,{"$f":"Berechnung!$Z$5","v":true},true,true,true,{"$f":"IF(Berechnung!$V$5=FALSE,TRUE,FALSE)","v":false},2,{"$f":"IF(OR(Berechnung!$Y$50=0,K224=0,K224=Berechnung!$Y$50),TRUE,FALSE)","v":true},{"$f":"IF(Berechnung!$R$5<3,IF(AND(DatenSchnellauswahl!N224<=Berechnung!$W$5,DatenSchnellauswahl!O224>=Berechnung!$W$5),TRUE,FALSE),IF(AND(DatenSchnellauswahl!P224<=Berechnung!$W$5,DatenSchnellauswahl!Q224>=Berechnung!$W$5),TRUE,FALSE))","v":false},53,70,54,70]
[21,"2 x WPL 47",{"$f":"IF(AND(E225=Berechnung!$X$7,F225=TRUE,G225=TRUE,H225=TRUE,I225=TRUE,J225=TRUE,M225=TRUE,L225=TRUE),TRUE,FALSE)","v":false},1,-14,{"$f":"Berechnung!$Z$5","v":true},true,true,true,{"$f":"IF(Berechnung!$V$5=FALSE,TRUE,FALSE)","v":false},2,{"$f":"IF(OR(Berechnung!$Y$50=0,K225=0,K225=Berechnung!$Y$50),TRUE,FALSE)","v":true},{"$f":"IF(Berechnung!$R$5<3,IF(AND(DatenSchnellauswahl!N225<=Berechnung!$W$5,DatenSchnellauswahl!O225>=Berechnung!$W$5),TRUE,FALSE),IF(AND(DatenSchnellauswahl!P225<=Berechnung!$W$5,DatenSchnellauswahl!Q225>=Berechnung!$W$5),TRUE,FALSE))","v":false},57,75,58,75]
[21,"2 x WPL 47",{"$f":"IF(AND(E226=Berechnung!$X$7,F226=TRUE,G226=TRUE,H226=TRUE,I226=TRUE,J226=TRUE,M226=TRUE,L226=TRUE),TRUE,FALSE)","v":false},1,-16,{"$f":"Berechnung!$Z$5","v":true},true,true,true,{"$f":"IF(Berechnung!$V$5=FALSE,TRUE,FALSE)","v":false},2,{"$f":"IF(OR(Berechnung!$Y$50=0,K226=0,K226=Berechnung!$Y$50),TRUE,FALSE)","v":true},{"$f":"IF(Berechnung!$R$5<3,IF(AND(DatenSchnellauswahl!N226<=Berechnung!$W$5,DatenSchnellauswahl!O226>=Berechnung!$W$5),TRUE,FALSE),IF(AND(DatenSchnellauswahl!P226<=Berechnung!$W$5,DatenSchnellauswahl!Q226>=Berechnung!$W$5),TRUE,FALSE))","v":false},61,80,61,80]
[21,"2 x WPL 47",{"$f":"IF(AND(E227=Berechnung!$X$7,F227=TRUE,G227=TRUE,H227=TRUE,I227=TRUE,J227=TRUE,M227=TRUE,L227=TRUE),TRUE,FALSE)","v":false},1,-18,{"$f":"Berechnung!$Z$5","v":true},true,true,true,{"$f":"IF(Berechnung!$V$5=FALSE,TRUE,FALSE)","v":false},2,{"$f":"IF(OR(Berechnung!$Y$50=0,K227=0,K227=Berechnung!$Y$50),TRUE,FALSE)","v":true},{"$f":"IF(Berechnung!$R$5<3,IF(AND(DatenSchnellauswahl!N227<=Berechnung!$W$5,DatenSchnellauswahl!O227>=Berechnung!$W$5),TRUE,FALSE),IF(AND(DatenSchnellauswahl!P227<=Berechnung!$W$5,DatenSchnellauswahl!Q227>=Berechnung!$W$5),TRUE,FALSE))","v":false},65,85,65,90]
[22,"2 x WPL 57",{"$f":"IF(AND(E228=Berechnung!$X$7,F228=TRUE,G228=TRUE,H228=TRUE,I228=TRUE,J228=TRUE,M228=TRUE,L228=TRUE),TRUE,FALSE)","v":false},1,-10,{"$f":"Berechnung!$Z$5","v":true},true,true,true,{"$f":"IF(Berechnung!$V$5=FALSE,TRUE,FALSE)","v":false},2,{"$f":"IF(OR(Berechnung!$Y$50=0,K228=0,K228=Berechnung!$Y$50),TRUE,FALSE)","v":true},{"$f":"IF(Berechnung!$R$5<3,IF(AND(DatenSchnellauswahl!N228<=Berechnung!$W$5,DatenSchnellauswahl!O228>=Berechnung!$W$5),TRUE,FALSE),IF(AND(DatenSchnellauswahl!P228<=Berechnung!$W$5,DatenSchnellauswahl!Q228>=Berechnung!$W$5),TRUE,FALSE))","v":false},66,74,63,76]
[22,"2 x WPL 57",{"$f":"IF(AND(E229=Berechnung!$X$7,F229=TRUE,G229=TRUE,H229=TRUE,I229=TRUE,J229=TRUE,M229=TRUE,L229=TRUE),TRUE,FALSE)","v":false},1,-12,{"$f":"Berechnung!$Z$5","v":true},true,true,true,{"$f":"IF(Berechnung!$V$5=FALSE,TRUE,FALSE)","v":false},2,{"$f":"IF(OR(Berechnung!$Y$50=0,K229=0,K229=Berechnung!$Y$50),TRUE,FALSE)","v":true},{"$f":"IF(Berechnung!$R$5<3,IF(AND(DatenSchnellauswahl!N229<=Berechnung!$W$5,DatenSchnellauswahl!O229>=Berechnung!$W$5),TRUE,FALSE),IF(AND(DatenSchnellauswahl!P229<=Berechnung!$W$5,DatenSchnellauswahl!Q229>=Berechnung!$W$5),TRUE,FALSE))","v":false},71,80,71,82]
[22,"2 x WPL 57",{"$f":"IF(AND(E230=Berechnung!$X$7,F230=TRUE,G230=TRUE,H230=TRUE,I230=TRUE,J230=TRUE,M230=TRUE,L230=TRUE),TRUE,FALSE)","v":false},1,-14,{"$f":"Berechnung!$Z$5","v":true},true,true,true,{"$f":"IF(Berechnung!$V$5=FALSE,TRUE,FALSE)","v":false},2,{"$f":"IF(OR(Berechnung!$Y$50=0,K230=0,K230=Berechnung!$Y$50),TRUE,FALSE)","v":true},{"$f":"IF(Berechnung!$R$5<3,IF(AND(DatenSchnellauswahl!N230<=Berechnung!$W$5,DatenSchnellauswahl!O230>=Berechnung!$W$5),TRUE,FALSE),IF(AND(DatenSchnellauswahl!P230<=Berechnung!$W$5,DatenSchnellauswahl!Q230>=Berechnung!$W$5),TRUE,FALSE))","v":false},76,87,76,88]
[22,"2 x WPL 57",{"$f":"IF(AND(E231=Berechnung!$X$7,F231=TRUE,G231=TRUE,H231=TRUE,I231=TRUE,J231=TRUE,M231=TRUE,L231=TRUE),TRUE,FALSE)","v":false},1,-16,{"$f":"Berechnung!$Z$5","v":true},true,true,true,{"$f":"IF(Berechnung!$V$5=FALSE,TRUE,FALSE)","v":false},2,{"$f":"IF(OR(Berechnung!$Y$50=0,K231=0,K231=Berechnung!$Y$50),TRUE,FALSE)","v":true},{"$f":"IF(Berechnung!$R$5<3,IF(AND(DatenSchnellauswahl!N231<=Berechnung!$W$5,DatenSchnellauswahl!O231>=Berechnung!$W$5),TRUE,FALSE),IF(AND(DatenSchnellauswahl!P231<=Berechnung!$W$5,DatenSchnellauswahl!Q231>=Berechnung!$W$5),TRUE,FALSE))","v":false},81,92,81,94]
[22,"2 x WPL 57",{"$f":"IF(AND(E232=Berechnung!$X$7,F232=TRUE,G232=TRUE,H232=TRUE,I232=TRUE,J232=TRUE,M232=TRUE,L232=TRUE),TRUE,FALSE)","v":false},1,-18,{"$f":"Berechnung!$Z$5","v":true},true,true,true,{"$f":"IF(Berechnung!$V$5=FALSE,TRUE,FALSE)","v":false},2,{"$f":"IF(OR(Berechnung!$Y$50=0,K232=0,K232=Berechnung!$Y$50),TRUE,FALSE)","v":true},{"$f":"IF(Berechnung!$R$5<3,IF(AND(DatenSchnellauswahl!N232<=Berechnung!$W$5,DatenSchnellauswahl!O232>=Berechnung!$W$5),TRUE,FALSE),IF(AND(DatenSchnellauswahl!P232<=Berechnung!$W$5,DatenSchnellauswahl!Q232>=Berechnung!$W$5),TRUE,FALSE))","v":false},86,98,91,100]
[118,"3 x WPL 47",{"$f":"IF(AND(E233=Berechnung!$X$7,F233=TRUE,G233=TRUE,H233=TRUE,I233=TRUE,J233=TRUE,M233=TRUE,L233=TRUE),TRUE,FALSE)","v":false},1,-10,{"$f":"Berechnung!$Z$5","v":true},true,true,true,{"$f":"IF(Berechnung!$V$5=FALSE,TRUE,FALSE)","v":false},2,{"$f":"IF(OR(Berechnung!$Y$50=0,K233=0,K233=Berechnung!$Y$50),TRUE,FALSE)","v":true},{"$f":"IF(Berechnung!$R$5<3,IF(AND(DatenSchnellauswahl!N233<=Berechnung!$W$5,DatenSchnellauswahl!O233>=Berechnung!$W$5),TRUE,FALSE),IF(AND(DatenSchnellauswahl!P233<=Berechnung!$W$5,DatenSchnellauswahl!Q233>=Berechnung!$W$5),TRUE,FALSE))","v":false},75,115,77,105]
[118,"3 x WPL 47",{"$f":"IF(AND(E234=Berechnung!$X$7,F234=TRUE,G234=TRUE,H234=TRUE,I234=TRUE,J234=TRUE,M234=TRUE,L234=TRUE),TRUE,FALSE)","v":false},1,-12,{"$f":"Berechnung!$Z$5","v":true},true,true,true,{"$f":"IF(Berechnung!$V$5=FALSE,TRUE,FALSE)","v":false},2,{"$f":"IF(OR(Berechnung!$Y$50=0,K234=0,K234=Berechnung!$Y$50),TRUE,FALSE)","v":true},{"$f":"IF(Berechnung!$R$5<3,IF(AND(DatenSchnellauswahl!N234<=Berechnung!$W$5,DatenSchnellauswahl!O234>=Berechnung!$W$5),TRUE,FALSE),IF(AND(DatenSchnellauswahl!P234<=Berechnung!$W$5,DatenSchnellauswahl!Q234>=Berechnung!$W$5),TRUE,FALSE))","v":false},81,125,83,115]
[118,"3 x WPL 47",{"$f":"IF(AND(E235=Berechnung!$X$7,F235=TRUE,G235=TRUE,H235=TRUE,I235=TRUE,J235=TRUE,M235=TRUE,L235=TRUE),TRUE,FALSE)","v":false},1,-14,{"$f":"Berechnung!$Z$5","v":true},true,true,true,{"$f":"IF(Berechnung!$V$5=FALSE,TRUE,FALSE)","v":false},2,{"$f":"IF(OR(Berechnung!$Y$50=0,K235=0,K235=Berechnung!$Y$50),TRUE,FALSE)","v":true},{"$f":"IF(Berechnung!$R$5<3,IF(AND(DatenSchnellauswahl!N235<=Berechnung!$W$5,DatenSchnellauswahl!O235>=Berechnung!$W$5),TRUE,FALSE),IF(AND(DatenSchnellauswahl!P235<=Berechnung!$W$5,DatenSchnellauswahl!Q235>=Berechnung!$W$5),TRUE,FALSE))","v":false},88,130,89,120]
[118,"3 x WPL 47",{"$f":"IF(AND(E236=Berechnung!$X$7,F236=TRUE,G236=TRUE,H236=TRUE,I236=TRUE,J236=TRUE,M236=TRUE,L236=TRUE),TRUE,FALSE)","v":false},1,-16,{"$f":"Berechnung!$Z$5","v":true},true,true,true,{"$f":"IF(Berechnung!$V$5=FALSE,TRUE,FALSE)","v":false},2,{"$f":"IF(OR(Berechnung!$Y$50=0,K236=0,K236=Berechnung!$Y$50),TRUE,FALSE)","v":true},{"$f":"IF(Berechnung!$R$5<3,IF(AND(DatenSchnellauswahl!N236<=Berechnung!$W$5,DatenSchnellauswahl!O236>=Berechnung!$W$5),TRUE,FALSE),IF(AND(DatenSchnellauswahl!P236<=Berechnung!$W$5,DatenSchnellauswahl!Q236>=Berechnung!$W$5),TRUE,FALSE))","v":false},93,140,95,130]
[118,"3 x WPL 47",{"$f":"IF(AND(E237=Berechnung!$X$7,F237=TRUE,G237=TRUE,H237=TRUE,I237=TRUE,J237=TRUE,M237=TRUE,L237=TRUE),TRUE,FALSE)","v":false},1,-18,{"$f":"Berechnung!$Z$5","v":true},true,true,true,{"$f":"IF(Berechnung!$V$5=FALSE,TRUE,FALSE)","v":false},2,{"$f":"IF(OR(Berechnung!$Y$50=0,K237=0,K237=Berechnung!$Y$50),TRUE,FALSE)","v":true},{"$f":"IF(Berechnung!$R$5<3,IF(AND(DatenSchnellauswahl!N237<=Berechnung!$W$5,DatenSchnellauswahl!O237>=Berechnung!$W$5),TRUE,FALSE),IF(AND(DatenSchnellauswahl!P237<=Berechnung!$W$5,DatenSchnellauswahl!Q237>=Berechnung!$W$5),TRUE,FALSE))","v":false},99,150,101,135]
[23,"3 x WPL 57",{"$f":"IF(AND(E238=Berechnung!$X$7,F238=TRUE,G238=TRUE,H238=TRUE,I238=TRUE,J238=TRUE,M238=TRUE,L238=TRUE),TRUE,FALSE)","v":false},1,-10,{"$f":"Berechnung!$Z$5","v":true},true,true,true,{"$f":"IF(Berechnung!$V$5=FALSE,TRUE,FALSE)","v":false},2,{"$f":"IF(OR(Berechnung!$Y$50=0,K238=0,K238=Berechnung!$Y$50),TRUE,FALSE)","v":true},{"$f":"IF(Berechnung!$R$5<3,IF(AND(DatenSchnellauswahl!N238<=Berechnung!$W$5,DatenSchnellauswahl!O238>=Berechnung!$W$5),TRUE,FALSE),IF(AND(DatenSchnellauswahl!P238<=Berechnung!$W$5,DatenSchnellauswahl!Q238>=Berechnung!$W$5),TRUE,FALSE))","v":false},75,150,77,150]
[23,"3 x WPL 57",{"$f":"IF(AND(E239=Berechnung!$X$7,F239=TRUE,G239=TRUE,H239=TRUE,I239=TRUE,J239=TRUE,M239=TRUE,L239=TRUE),TRUE,FALSE)","v":false},1,-12,{"$f":"Berechnung!$Z$5","v":true},true,true,true,{"$f":"IF(Berechnung!$V$5=FALSE,TRUE,FALSE)","v":false},2,{"$f":"IF(OR(Berechnung!$Y$50=0,K239=0,K239=Berechnung!$Y$50),TRUE,FALSE)","v":true},{"$f":"IF(Berechnung!$R$5<3,IF(AND(DatenSchnellauswahl!N239<=Berechnung!$W$5,DatenSchnellauswahl!O239>=Berechnung!$W$5),TRUE,FALSE),IF(AND(DatenSchnellauswahl!P239<=Berechnung!$W$5,DatenSchnellauswahl!Q239>=Berechnung!$W$5),TRUE,FALSE))","v":false},81,150,83,150]
[23,"3 x WPL 57",{"$f":"IF(AND(E240=Berechnung!$X$7,F240=TRUE,G240=TRUE,H240=TRUE,I240=TRUE,J240=TRUE,M240=TRUE,L240=TRUE),TRUE,FALSE)","v":false},1,-14,{"$f":"Berechnung!$Z$5","v":true},true,true,true,{"$f":"IF(Berechnung!$V$5=FALSE,TRUE,FALSE)","v":false},2,{"$f":"IF(OR(Berechnung!$Y$50=0,K240=0,K240=Berechnung!$Y$50),TRUE,FALSE)","v":true},{"$f":"IF(Berechnung!$R$5<3,IF(AND(DatenSchnellauswahl!N240<=Berechnung!$W$5,DatenSchnellauswahl!O240>=Berechnung!$W$5),TRUE,FALSE),IF(AND(DatenSchnellauswahl!P240<=Berechnung!$W$5,DatenSchnellauswahl!Q240>=Berechnung!$W$5),TRUE,FALSE))","v":false},88,150,89,150]
[23,"3 x WPL 57",{"$f":"IF(AND(E241=Berechnung!$X$7,F241=TRUE,G241=TRUE,H241=TRUE,I241=TRUE,J241=TRUE,M241=TRUE,L241=TRUE),TRUE,FALSE)","v":false},1,-16,{"$f":"Berechnung!$Z$5","v":true},true,true,true,{"$f":"IF(Berechnung!$V$5=FALSE,TRUE,FALSE)","v":false},2,{"$f":"IF(OR(Berechnung!$Y$50=0,K241=0,K241=Berechnung!$Y$50),TRUE,FALSE)","v":true},{"$f":"IF(Berechnung!$R$5<3,IF(AND(DatenSchnellauswahl!N241<=Berechnung!$W$5,DatenSchnellauswahl!O241>=Berechnung!$W$5),TRUE,FALSE),IF(AND(DatenSchnellauswahl!P241<=Berechnung!$W$5,DatenSchnellauswahl!Q241>=Berechnung!$W$5),TRUE,FALSE))","v":false},93,150,95,150]
[23,"3 x WPL 57",{"$f":"IF(AND(E242=Berechnung!$X$7,F242=TRUE,G242=TRUE,H242=TRUE,I242=TRUE,J242=TRUE,M242=TRUE,L242=TRUE),TRUE,FALSE)","v":false},1,-18,{"$f":"Berechnung!$Z$5","v":true},true,true,true,{"$f":"IF(Berechnung!$V$5=FALSE,TRUE,FALSE)","v":false},2,{"$f":"IF(OR(Berechnung!$Y$50=0,K242=0,K242=Berechnung!$Y$50),TRUE,FALSE)","v":true},{"$f":"IF(Berechnung!$R$5<3,IF(AND(DatenSchnellauswahl!N242<=Berechnung!$W$5,DatenSchnellauswahl!O242>=Berechnung!$W$5),TRUE,FALSE),IF(AND(DatenSchnellauswahl!P242<=Berechnung!$W$5,DatenSchnellauswahl!Q242>=Berechnung!$W$5),TRUE,FALSE))","v":false},99,150,101,150]
[124,"WPF 04",{"$f":"IF(AND(E243=Berechnung!$X$7,F243=TRUE,G243=TRUE,H243=TRUE,I243=TRUE,J243=TRUE,M243=TRUE,L243=TRUE),TRUE,FALSE)","v":false},2,{"$f":"Berechnung!$X$7","v":-14},{"$f":"Berechnung!$Z$5","v":true},true,true,true,true,1,{"$f":"IF(OR(Berechnung!$Y$50=0,K243=0,K243=Berechnung!$Y$50),TRUE,FALSE)","v":true},{"$f":"IF(Berechnung!$R$5<3,IF(AND(DatenSchnellauswahl!N243<=Berechnung!$W$5,DatenSchnellauswahl!O243>=Berechnung!$W$5),TRUE,FALSE),IF(AND(DatenSchnellauswahl!P243<=Berechnung!$W$5,DatenSchnellauswahl!Q243>=Berechnung!$W$5),TRUE,FALSE))","v":false},1,4,1,4]
[84,"WPF 05",{"$f":"IF(AND(E244=Berechnung!$X$7,F244=TRUE,G244=TRUE,H244=TRUE,I244=TRUE,J244=TRUE,M244=TRUE,L244=TRUE),TRUE,FALSE)","v":false},2,{"$f":"Berechnung!$X$7","v":-14},{"$f":"Berechnung!$Z$5","v":true},true,true,true,true,1,{"$f":"IF(OR(Berechnung!$Y$50=0,K244=0,K244=Berechnung!$Y$50),TRUE,FALSE)","v":true},{"$f":"IF(Berechnung!$R$5<3,IF(AND(DatenSchnellauswahl!N244<=Berechnung!$W$5,DatenSchnellauswahl!O244>=Berechnung!$W$5),TRUE,FALSE),IF(AND(DatenSchnellauswahl!P244<=Berechnung!$W$5,DatenSchnellauswahl!Q244>=Berechnung!$W$5),TRUE,FALSE))","v":false},5,5,5,5]
[85,"WPF 07",{"$f":"IF(AND(E245=Berechnung!$X$7,F245=TRUE,G245=TRUE,H245=TRUE,I245=TRUE,J245=TRUE,M245=TRUE,L245=TRUE),TRUE,FALSE)","v":false},2,{"$f":"Berechnung!$X$7","v":-14},{"$f":"Berechnung!$Z$5","v":true},true,true,true,true,1,{"$f":"IF(OR(Berechnung!$Y$50=0,K245=0,K245=Berechnung!$Y$50),TRUE,FALSE)","v":true},{"$f":"IF(Berechnung!$R$5<3,IF(AND(DatenSchnellauswahl!N245<=Berechnung!$W$5,DatenSchnellauswahl!O245>=Berechnung!$W$5),TRUE,FALSE),IF(AND(DatenSchnellauswahl!P245<=Berechnung!$W$5,DatenSchnellauswahl!Q245>=Berechnung!$W$5),TRUE,FALSE))","v":false},6,7,6,7]
[86,"WPF 10",{"$f":"IF(AND(E246=Berechnung!$X$7,F246=TRUE,G246=TRUE,H246=TRUE,I246=TRUE,J246=TRUE,M246=TRUE,L246=TRUE),TRUE,FALSE)","v":true},2,{"$f":"Berechnung!$X$7","v":-14},{"$f":"Berechnung!$Z$5","v":true},true,true,true,true,1,{"$f":"IF(OR(Berechnung!$Y$50=0,K246=0,K246=Berechnung!$Y$50),TRUE,FALSE)","v":true},{"$f":"IF(Berechnung!$R$5<3,IF(AND(DatenSchnellauswahl!N246<=Berechnung!$W$5,DatenSchnellauswahl!O246>=Berechnung!$W$5),TRUE,FALSE),IF(AND(DatenSchnellauswahl!P246<=Berechnung!$W$5,DatenSchnellauswahl!Q246>=Berechnung!$W$5),TRUE,FALSE))","v":true},8,10,8,10]
[87,"WPF 13",{"$f":"IF(AND(E247=Berechnung!$X$7,F247=TRUE,G247=TRUE,H247=TRUE,I247=TRUE,J247=TRUE,M247=TRUE,L247=TRUE),TRUE,FALSE)","v":false},2,{"$f":"Berechnung!$X$7","v":-14},{"$f":"Berechnung!$Z$5","v":true},true,true,true,true,1,{"$f":"IF(OR(Berechnung!$Y$50=0,K247=0,K247=Berechnung!$Y$50),TRUE,FALSE)","v":true},{"$f":"IF(Berechnung!$R$5<3,IF(AND(DatenSchnellauswahl!N247<=Berechnung!$W$5,DatenSchnellauswahl!O247>=Berechnung!$W$5),TRUE,FALSE),IF(AND(DatenSchnellauswahl!P247<=Berechnung!$W$5,DatenSchnellauswahl!Q247>=Berechnung!$W$5),TRUE,FALSE))","v":false},11,13,11,12]
[88,"WPF 16",{"$f":"IF(AND(E248=Berechnung!$X$7,F248=TRUE,G248=TRUE,H248=TRUE,I248=TRUE,J248=TRUE,M248=TRUE,L248=TRUE),TRUE,FALSE)","v":false},2,{"$f":"Berechnung!$X$7","v":-14},{"$f":"Berechnung!$Z$5","v":true},true,true,true,true,1,{"$f":"IF(OR(Berechnung!$Y$50=0,K248=0,K248=Berechnung!$Y$50),TRUE,FALSE)","v":true},{"$f":"IF(Berechnung!$R$5<3,IF(AND(DatenSchnellauswahl!N248<=Berechnung!$W$5,DatenSchnellauswahl!O248>=Berechnung!$W$5),TRUE,FALSE),IF(AND(DatenSchnellauswahl!P248<=Berechnung!$W$5,DatenSchnellauswahl!Q248>=Berechnung!$W$5),TRUE,FALSE))","v":false},14,17,13,15]
[125,"WPF 04 cool",{"$f":"IF(AND(E249=Berechnung!$X$7,F249=TRUE,G249=TRUE,H249=TRUE,I249=TRUE,J249=TRUE,M249=TRUE,L249=TRUE),TRUE,FALSE)","v":false},2,{"$f":"Berechnung!$X$7","v":-14},{"$f":"Berechnung!$Z$5","v":true},true,true,true,{"$f":"Berechnung!$V$5","v":true},1,{"$f":"IF(OR(Berechnung!$Y$50=0,K249=0,K249=Berechnung!$Y$50),TRUE,FALSE)","v":true},{"$f":"IF(Berechnung!$R$5<3,IF(AND(DatenSchnellauswahl!N249<=Berechnung!$W$5,DatenSchnellauswahl!O249>=Berechnung!$W$5),TRUE,FALSE),IF(AND(DatenSchnellauswahl!P249<=Berechnung!$W$5,DatenSchnellauswahl!Q249>=Berechnung!$W$5),TRUE,FALSE))","v":false},1,4,1,4]
[89,"WPF 05 cool",{"$f":"IF(AND(E250=Berechnung!$X$7,F250=TRUE,G250=TRUE,H250=TRUE,I250=TRUE,J250=TRUE,M250=TRUE,L250=TRUE),TRUE,FALSE)","v":false},2,{"$f":"Berechnung!$X$7","v":-14},{"$f":"Berechnung!$Z$5","v":true},true,true,true,{"$f":"Berechnung!$V$5","v":true},1,{"$f":"IF(OR(Berechnung!$Y$50=0,K250=0,K250=Berechnung!$Y$50),TRUE,FALSE)","v":true},{"$f":"IF(Berechnung!$R$5<3,IF(AND(DatenSchnellauswahl!N250<=Berechnung!$W$5,DatenSchnellauswahl!O250>=Berechnung!$W$5),TRUE,FALSE),IF(AND(DatenSchnellauswahl!P250<=Berechnung!$W$5,DatenSchnellauswahl!Q250>=Berechnung!$W$5),TRUE,FALSE))","v":false},5,5,5,5]
[90,"WPF 07 cool",{"$f":"IF(AND(E251=Berechnung!$X$7,F251=TRUE,G251=TRUE,H251=TRUE,I251=TRUE,J251=TRUE,M251=TRUE,L251=TRUE),TRUE,FALSE)","v":false},2,{"$f":"Berechnung!$X$7","v":-14},{"$f":"Berechnung!$Z$5","v":true},true,true,true,{"$f":"Berechnung!$V$5","v":true},1,{"$f":"IF(OR(Berechnung!$Y$50=0,K251=0,K251=Berechnung!$Y$50),TRUE,FALSE)","v":true},{"$f":"IF(Berechnung!$R$5<3,IF(AND(DatenSchnellauswahl!N251<=Berechnung!$W$5,DatenSchnellauswahl!O251>=Berechnung!$W$5),TRUE,FALSE),IF(AND(DatenSchnellauswahl!P251<=Berechnung!$W$5,DatenSchnellauswahl!Q251>=Berechnung!$W$5),TRUE,FALSE))","v":false},6,7,6,7]
[91,"WPF 10 cool",{"$f":"IF(AND(E252=Berechnung!$X$7,F252=TRUE,G252=TRUE,H252=TRUE,I252=TRUE,J252=TRUE,M252=TRUE,L252=TRUE),TRUE,FALSE)","v":true},2,{"$f":"Berechnung!$X$7","v":-14},{"$f":"Berechnung!$Z$5","v":true},true,true,true,{"$f":"Berechnung!$V$5","v":true},1,{"$f":"IF(OR(Berechnung!$Y$50=0,K252=0,K252=Berechnung!$Y$50),TRUE,FALSE)","v":true},{"$f":"IF(Berechnung!$R$5<3,IF(AND(DatenSchnellauswahl!N252<=Berechnung!$W$5,DatenSchnellauswahl!O252>=Berechnung!$W$5),TRUE,FALSE),IF(AND(DatenSchnellauswahl!P252<=Berechnung!$W$5,DatenSchnellauswahl!Q252>=Berechnung!$W$5),TRUE,FALSE))","v":true},8,10,8,10]
[92,"WPF 13 cool",{"$f":"IF(AND(E253=Berechnung!$X$7,F253=TRUE,G253=TRUE,H253=TRUE,I253=TRUE,J253=TRUE,M253=TRUE,L253=TRUE),TRUE,FALSE)","v":false},2,{"$f":"Berechnung!$X$7","v":-14},{"$f":"Berechnung!$Z$5","v":true},true,true,true,{"$f":"Berechnung!$V$5","v":true},1,{"$f":"IF(OR(Berechnung!$Y$50=0,K253=0,K253=Berechnung!$Y$50),TRUE,FALSE)","v":true},{"$f":"IF(Berechnung!$R$5<3,IF(AND(DatenSchnellauswahl!N253<=Berechnung!$W$5,DatenSchnellauswahl!O253>=Berechnung!$W$5),TRUE,FALSE),IF(AND(DatenSchnellauswahl!P253<=Berechnung!$W$5,DatenSchnellauswahl!Q253>=Berechnung!$W$5),TRUE,FALSE))","v":false},11,13,11,12]
[93,"WPF 16 cool",{"$f":"IF(AND(E254=Berechnung!$X$7,F254=TRUE,G254=TRUE,H254=TRUE,I254=TRUE,J254=TRUE,M254=TRUE,L254=TRUE),TRUE,FALSE)","v":false},2,{"$f":"Berechnung!$X$7","v":-14},{"$f":"Berechnung!$Z$5","v":true},true,true,true,{"$f":"Berechnung!$V$5","v":true},1,{"$f":"IF(OR(Berechnung!$Y$50=0,K254=0,K254=Berechnung!$Y$50),TRUE,FALSE)","v":true},{"$f":"IF(Berechnung!$R$5<3,IF(AND(DatenSchnellauswahl!N254<=Berechnung!$W$5,DatenSchnellauswahl!O254>=Berechnung!$W$5),TRUE,FALSE),IF(AND(DatenSchnellauswahl!P254<=Berechnung!$W$5,DatenSchnellauswahl!Q254>=Berechnung!$W$5),TRUE,FALSE))","v":false},14,17,13,15]
[127,"WPC 04",{"$f":"IF(AND(E255=Berechnung!$X$7,F255=TRUE,G255=TRUE,H255=TRUE,I255=TRUE,J255=TRUE,M255=TRUE,L255=TRUE),TRUE,FALSE)","v":false},2,{"$f":"Berechnung!$X$7","v":-14},{"$f":"Berechnung!$Z$5","v":true},{"$f":"Berechnung!$S$5","v":true},{"$f":"IF(Berechnung!$T$5=FALSE,TRUE,FALSE)","v":true},true,true,1,{"$f":"IF(OR(Berechnung!$Y$50=0,K255=0,K255=Berechnung!$Y$50),TRUE,FALSE)","v":true},{"$f":"IF(Berechnung!$R$5<3,IF(AND(DatenSchnellauswahl!N255<=Berechnung!$W$5,DatenSchnellauswahl!O255>=Berechnung!$W$5),TRUE,FALSE),IF(AND(DatenSchnellauswahl!P255<=Berechnung!$W$5,DatenSchnellauswahl!Q255>=Berechnung!$W$5),TRUE,FALSE))","v":false},1,4,1,4]
[26,"WPC 05",{"$f":"IF(AND(E256=Berechnung!$X$7,F256=TRUE,G256=TRUE,H256=TRUE,I256=TRUE,J256=TRUE,M256=TRUE,L256=TRUE),TRUE,FALSE)","v":false},2,{"$f":"Berechnung!$X$7","v":-14},{"$f":"Berechnung!$Z$5","v":true},{"$f":"Berechnung!$S$5","v":true},{"$f":"IF(Berechnung!$T$5=FALSE,TRUE,FALSE)","v":true},true,true,1,{"$f":"IF(OR(Berechnung!$Y$50=0,K256=0,K256=Berechnung!$Y$50),TRUE,FALSE)","v":true},{"$f":"IF(Berechnung!$R$5<3,IF(AND(DatenSchnellauswahl!N256<=Berechnung!$W$5,DatenSchnellauswahl!O256>=Berechnung!$W$5),TRUE,FALSE),IF(AND(DatenSchnellauswahl!P256<=Berechnung!$W$5,DatenSchnellauswahl!Q256>=Berechnung!$W$5),TRUE,FALSE))","v":false},5,5,5,5]
[27,"WPC 07",{"$f":"IF(AND(E257=Berechnung!$X$7,F257=TRUE,G257=TRUE,H257=TRUE,I257=TRUE,J257=TRUE,M257=TRUE,L257=TRUE),TRUE,FALSE)","v":false},2,{"$f":"Berechnung!$X$7","v":-14},{"$f":"Berechnung!$Z$5","v":true},{"$f":"Berechnung!$S$5","v":true},{"$f":"IF(Berechnung!$T$5=FALSE,TRUE,FALSE)","v":true},true,true,1,{"$f":"IF(OR(Berechnung!$Y$50=0,K257=0,K257=Berechnung!$Y$50),TRUE,FALSE)","v":true},{"$f":"IF(Berechnung!$R$5<3,IF(AND(DatenSchnellauswahl!N257<=Berechnung!$W$5,DatenSchnellauswahl!O257>=Berechnung!$W$5),TRUE,FALSE),IF(AND(DatenSchnellauswahl!P257<=Berechnung!$W$5,DatenSchnellauswahl!Q257>=Berechnung!$W$5),TRUE,FALSE))","v":false},6,7,6,7]
[28,"WPC 10",{"$f":"IF(AND(E258=Berechnung!$X$7,F258=TRUE,G258=TRUE,H258=TRUE,I258=TRUE,J258=TRUE,M258=TRUE,L258=TRUE),TRUE,FALSE)","v":true},2,{"$f":"Berechnung!$X$7","v":-14},{"$f":"Berechnung!$Z$5","v":true},{"$f":"Berechnung!$S$5","v":true},{"$f":"IF(Berechnung!$T$5=FALSE,TRUE,FALSE)","v":true},true,true,1,{"$f":"IF(OR(Berechnung!$Y$50=0,K258=0,K258=Berechnung!$Y$50),TRUE,FALSE)","v":true},{"$f":"IF(Berechnung!$R$5<3,IF(AND(DatenSchnellauswahl!N258<=Berechnung!$W$5,DatenSchnellauswahl!O258>=Berechnung!$W$5),TRUE,FALSE),IF(AND(DatenSchnellauswahl!P258<=Berechnung!$W$5,DatenSchnellauswahl!Q258>=Berechnung!$W$5),TRUE,FALSE))","v":true},8,10,8,10]
[29,"WPC 13",{"$f":"IF(AND(E259=Berechnung!$X$7,F259=TRUE,G259=TRUE,H259=TRUE,I259=TRUE,J259=TRUE,M259=TRUE,L259=TRUE),TRUE,FALSE)","v":false},2,{"$f":"Berechnung!$X$7","v":-14},{"$f":"Berechnung!$Z$5","v":true},{"$f":"Berechnung!$S$5","v":true},{"$f":"IF(Berechnung!$T$5=FALSE,TRUE,FALSE)","v":true},true,true,1,{"$f":"IF(OR(Berechnung!$Y$50=0,K259=0,K259=Berechnung!$Y$50),TRUE,FALSE)","v":true},{"$f":"IF(Berechnung!$R$5<3,IF(AND(DatenSchnellauswahl!N259<=Berechnung!$W$5,DatenSchnellauswahl!O259>=Berechnung!$W$5),TRUE,FALSE),IF(AND(DatenSchnellauswahl!P259<=Berechnung!$W$5,DatenSchnellauswahl!Q259>=Berechnung!$W$5),TRUE,FALSE))","v":false},11,13,11,12]
[128,"WPC 04 cool",{"$f":"IF(AND(E260=Berechnung!$X$7,F260=TRUE,G260=TRUE,H260=TRUE,I260=TRUE,J260=TRUE,M260=TRUE,L260=TRUE),TRUE,FALSE)","v":false},2,{"$f":"Berechnung!$X$7","v":-14},{"$f":"Berechnung!$Z$5","v":true},{"$f":"Berechnung!$S$5","v":true},{"$f":"IF(Berechnung!$T$5=FALSE,TRUE,FALSE)","v":true},true,{"$f":"Berechnung!$V$5","v":true},1,{"$f":"IF(OR(Berechnung!$Y$50=0,K260=0,K260=Berechnung!$Y$50),TRUE,FALSE)","v":true},{"$f":"IF(Berechnung!$R$5<3,IF(AND(DatenSchnellauswahl!N260<=Berechnung!$W$5,DatenSchnellauswahl!O260>=Berechnung!$W$5),TRUE,FALSE),IF(AND(DatenSchnellauswahl!P260<=Berechnung!$W$5,DatenSchnellauswahl!Q260>=Berechnung!$W$5),TRUE,FALSE))","v":false},1,4,1,4]
[30,"WPC 05 cool",{"$f":"IF(AND(E261=Berechnung!$X$7,F261=TRUE,G261=TRUE,H261=TRUE,I261=TRUE,J261=TRUE,M261=TRUE,L261=TRUE),TRUE,FALSE)","v":false},2,{"$f":"Berechnung!$X$7","v":-14},{"$f":"Berechnung!$Z$5","v":true},{"$f":"Berechnung!$S$5","v":true},{"$f":"IF(Berechnung!$T$5=FALSE,TRUE,FALSE)","v":true},true,{"$f":"Berechnung!$V$5","v":true},1,{"$f":"IF(OR(Berechnung!$Y$50=0,K261=0,K261=Berechnung!$Y$50),TRUE,FALSE)","v":true},{"$f":"IF(Berechnung!$R$5<3,IF(AND(DatenSchnellauswahl!N261<=Berechnung!$W$5,DatenSchnellauswahl!O261>=Berechnung!$W$5),TRUE,FALSE),IF(AND(DatenSchnellauswahl!P261<=Berechnung!$W$5,DatenSchnellauswahl!Q261>=Berechnung!$W$5),TRUE,FALSE))","v":false},5,5,5,5]
[31,"WPC 07 cool",{"$f":"IF(AND(E262=Berechnung!$X$7,F262=TRUE,G262=TRUE,H262=TRUE,I262=TRUE,J262=TRUE,M262=TRUE,L262=TRUE),TRUE,FALSE)","v":false},2,{"$f":"Berechnung!$X$7","v":-14},{"$f":"Berechnung!$Z$5","v":true},{"$f":"Berechnung!$S$5","v":true},{"$f":"IF(Berechnung!$T$5=FALSE,TRUE,FALSE)","v":true},true,{"$f":"Berechnung!$V$5","v":true},1,{"$f":"IF(OR(Berechnung!$Y$50=0,K262=0,K262=Berechnung!$Y$50),TRUE,FALSE)","v":true},{"$f":"IF(Berechnung!$R$5<3,IF(AND(DatenSchnellauswahl!N262<=Berechnung!$W$5,DatenSchnellauswahl!O262>=Berechnung!$W$5),TRUE,FALSE),IF(AND(DatenSchnellauswahl!P262<=Berechnung!$W$5,DatenSchnellauswahl!Q262>=Berechnung!$W$5),TRUE,FALSE))","v":false},6,7,6,7]
[32,"WPC 10 cool",{"$f":"IF(AND(E263=Berechnung!$X$7,F263=TRUE,G263=TRUE,H263=TRUE,I263=TRUE,J263=TRUE,M263=TRUE,L263=TRUE),TRUE,FALSE)","v":true},2,{"$f":"Berechnung!$X$7","v":-14},{"$f":"Berechnung!$Z$5","v":true},{"$f":"Berechnung!$S$5","v":true},{"$f":"IF(Berechnung!$T$5=FALSE,TRUE,FALSE)","v":true},true,{"$f":"Berechnung!$V$5","v":true},1,{"$f":"IF(OR(Berechnung!$Y$50=0,K263=0,K263=Berechnung!$Y$50),TRUE,FALSE)","v":true},{"$f":"IF(Berechnung!$R$5<3,IF(AND(DatenSchnellauswahl!N263<=Berechnung!$W$5,DatenSchnellauswahl!O263>=Berechnung!$W$5),TRUE,FALSE),IF(AND(DatenSchnellauswahl!P263<=Berechnung!$W$5,DatenSchnellauswahl!Q263>=Berechnung!$W$5),TRUE,FALSE))","v":true},8,10,8,10]
[33,"WPC 13 cool",{"$f":"IF(AND(E264=Berechnung!$X$7,F264=TRUE,G264=TRUE,H264=TRUE,I264=TRUE,J264=TRUE,M264=TRUE,L264=TRUE),TRUE,FALSE)","v":false},2,{"$f":"Berechnung!$X$7","v":-14},{"$f":"Berechnung!$Z$5","v":true},{"$f":"Berechnung!$S$5","v":true},{"$f":"IF(Berechnung!$T$5=FALSE,TRUE,FALSE)","v":true},true,{"$f":"Berechnung!$V$5","v":true},1,{"$f":"IF(OR(Berechnung!$Y$50=0,K264=0,K264=Berechnung!$Y$50),TRUE,FALSE)","v":true},{"$f":"IF(Berechnung!$R$5<3,IF(AND(DatenSchnellauswahl!N264<=Berechnung!$W$5,DatenSchnellauswahl!O264>=Berechnung!$W$5),TRUE,FALSE),IF(AND(DatenSchnellauswahl!P264<=Berechnung!$W$5,DatenSchnellauswahl!Q264>=Berechnung!$W$5),TRUE,FALSE))","v":false},11,13,11,12]
[34,"WPF 5 basic",{"$f":"IF(AND(E265=Berechnung!$X$7,F265=TRUE,G265=TRUE,H265=TRUE,I265=TRUE,J265=TRUE,M265=TRUE,L265=TRUE),TRUE,FALSE)","v":false},2,{"$f":"Berechnung!$X$7","v":-14},{"$f":"Berechnung!$Z$5","v":true},true,true,true,true,1,{"$f":"IF(OR(Berechnung!$Y$50=0,K265=0,K265=Berechnung!$Y$50),TRUE,FALSE)","v":true},{"$f":"IF(Berechnung!$R$5<3,IF(AND(DatenSchnellauswahl!N265<=Berechnung!$W$5,DatenSchnellauswahl!O265>=Berechnung!$W$5),TRUE,FALSE),IF(AND(DatenSchnellauswahl!P265<=Berechnung!$W$5,DatenSchnellauswahl!Q265>=Berechnung!$W$5),TRUE,FALSE))","v":false},1,5,1,5]
[35,"WPF 7 basic",{"$f":"IF(AND(E266=Berechnung!$X$7,F266=TRUE,G266=TRUE,H266=TRUE,I266=TRUE,J266=TRUE,M266=TRUE,L266=TRUE),TRUE,FALSE)","v":false},2,{"$f":"Berechnung!$X$7","v":-14},{"$f":"Berechnung!$Z$5","v":true},true,true,true,true,1,{"$f":"IF(OR(Berechnung!$Y$50=0,K266=0,K266=Berechnung!$Y$50),TRUE,FALSE)","v":true},{"$f":"IF(Berechnung!$R$5<3,IF(AND(DatenSchnellauswahl!N266<=Berechnung!$W$5,DatenSchnellauswahl!O266>=Berechnung!$W$5),TRUE,FALSE),IF(AND(DatenSchnellauswahl!P266<=Berechnung!$W$5,DatenSchnellauswahl!Q266>=Berechnung!$W$5),TRUE,FALSE))","v":false},6,7,6,7]
[36,"WPF 10 basic",{"$f":"IF(AND(E267=Berechnung!$X$7,F267=TRUE,G267=TRUE,H267=TRUE,I267=TRUE,J267=TRUE,M267=TRUE,L267=TRUE),TRUE,FALSE)","v":true},2,{"$f":"Berechnung!$X$7","v":-14},{"$f":"Berechnung!$Z$5","v":true},true,true,true,true,1,{"$f":"IF(OR(Berechnung!$Y$50=0,K267=0,K267=Berechnung!$Y$50),TRUE,FALSE)","v":true},{"$f":"IF(Berechnung!$R$5<3,IF(AND(DatenSchnellauswahl!N267<=Berechnung!$W$5,DatenSchnellauswahl!O267>=Berechnung!$W$5),TRUE,FALSE),IF(AND(DatenSchnellauswahl!P267<=Berechnung!$W$5,DatenSchnellauswahl!Q267>=Berechnung!$W$5),TRUE,FALSE))","v":true},8,10,8,10]
[37,"WPF 13 basic",{"$f":"IF(AND(E268=Berechnung!$X$7,F268=TRUE,G268=TRUE,H268=TRUE,I268=TRUE,J268=TRUE,M268=TRUE,L268=TRUE),TRUE,FALSE)","v":false},2,{"$f":"Berechnung!$X$7","v":-14},{"$f":"Berechnung!$Z$5","v":true},true,true,true,true,1,{"$f":"IF(OR(Berechnung!$Y$50=0,K268=0,K268=Berechnung!$Y$50),TRUE,FALSE)","v":true},{"$f":"IF(Berechnung!$R$5<3,IF(AND(DatenSchnellauswahl!N268<=Berechnung!$W$5,DatenSchnellauswahl!O268>=Berechnung!$W$5),TRUE,FALSE),IF(AND(DatenSchnellauswahl!P268<=Berechnung!$W$5,DatenSchnellauswahl!Q268>=Berechnung!$W$5),TRUE,FALSE))","v":false},11,13,11,12]
[38,"WPF 16 basic",{"$f":"IF(AND(E269=Berechnung!$X$7,F269=TRUE,G269=TRUE,H269=TRUE,I269=TRUE,J269=TRUE,M269=TRUE,L269=TRUE),TRUE,FALSE)","v":false},2,{"$f":"Berechnung!$X$7","v":-14},{"$f":"Berechnung!$Z$5","v":true},true,true,true,true,1,{"$f":"IF(OR(Berechnung!$Y$50=0,K269=0,K269=Berechnung!$Y$50),TRUE,FALSE)","v":true},{"$f":"IF(Berechnung!$R$5<3,IF(AND(DatenSchnellauswahl!N269<=Berechnung!$W$5,DatenSchnellauswahl!O269>=Berechnung!$W$5),TRUE,FALSE),IF(AND(DatenSchnellauswahl!P269<=Berechnung!$W$5,DatenSchnellauswahl!Q269>=Berechnung!$W$5),TRUE,FALSE))","v":false},14,17,13,15]
[39,"WPF 10 M",{"$f":"IF(AND(E270=Berechnung!$X$7,F270=TRUE,G270=TRUE,H270=TRUE,I270=TRUE,J270=TRUE,M270=TRUE,L270=TRUE),TRUE,FALSE)","v":true},2,{"$f":"Berechnung!$X$7","v":-14},{"$f":"Berechnung!$Z$5","v":true},true,true,true,true,1,{"$f":"IF(OR(Berechnung!$Y$50=0,K270=0,K270=Berechnung!$Y$50),TRUE,FALSE)","v":true},{"$f":"IF(Berechnung!$R$5<3,IF(AND(DatenSchnellauswahl!N270<=Berechnung!$W$5,DatenSchnellauswahl!O270>=Berechnung!$W$5),TRUE,FALSE),IF(AND(DatenSchnellauswahl!P270<=Berechnung!$W$5,DatenSchnellauswahl!Q270>=Berechnung!$W$5),TRUE,FALSE))","v":true},8,10,8,10]
[40,"WPF 13 M",{"$f":"IF(AND(E271=Berechnung!$X$7,F271=TRUE,G271=TRUE,H271=TRUE,I271=TRUE,J271=TRUE,M271=TRUE,L271=TRUE),TRUE,FALSE)","v":false},2,{"$f":"Berechnung!$X$7","v":-14},{"$f":"Berechnung!$Z$5","v":true},true,true,true,true,1,{"$f":"IF(OR(Berechnung!$Y$50=0,K271=0,K271=Berechnung!$Y$50),TRUE,FALSE)","v":true},{"$f":"IF(Berechnung!$R$5<3,IF(AND(DatenSchnellauswahl!N271<=Berechnung!$W$5,DatenSchnellauswahl!O271>=Berechnung!$W$5),TRUE,FALSE),IF(AND(DatenSchnellauswahl!P271<=Berechnung!$W$5,DatenSchnellauswahl!Q271>=Berechnung!$W$5),TRUE,FALSE))","v":false},11,13,11,12]
[41,"WPF 16 M",{"$f":"IF(AND(E272=Berechnung!$X$7,F272=TRUE,G272=TRUE,H272=TRUE,I272=TRUE,J272=TRUE,M272=TRUE,L272=TRUE),TRUE,FALSE)","v":false},2,{"$f":"Berechnung!$X$7","v":-14},{"$f":"Berechnung!$Z$5","v":true},true,true,true,true,1,{"$f":"IF(OR(Berechnung!$Y$50=0,K272=0,K272=Berechnung!$Y$50),TRUE,FALSE)","v":true},{"$f":"IF(Berechnung!$R$5<3,IF(AND(DatenSchnellauswahl!N272<=Berechnung!$W$5,DatenSchnellauswahl!O272>=Berechnung!$W$5),TRUE,FALSE),IF(AND(DatenSchnellauswahl!P272<=Berechnung!$W$5,DatenSchnellauswahl!Q272>=Berechnung!$W$5),TRUE,FALSE))","v":false},14,17,13,15]
[47,"WPF 20",{"$f":"IF(AND(E273=Berechnung!$X$7,F273=TRUE,G273=TRUE,H273=TRUE,I273=TRUE,J273=TRUE,M273=TRUE,L273=TRUE),TRUE,FALSE)","v":false},2,{"$f":"Berechnung!$X$7","v":-14},{"$f":"Berechnung!$Z$5","v":true},true,true,true,true,1,{"$f":"IF(OR(Berechnung!$Y$50=0,K273=0,K273=Berechnung!$Y$50),TRUE,FALSE)","v":true},{"$f":"IF(Berechnung!$R$5<3,IF(AND(DatenSchnellauswahl!N273<=Berechnung!$W$5,DatenSchnellauswahl!O273>=Berechnung!$W$5),TRUE,FALSE),IF(AND(DatenSchnellauswahl!P273<=Berechnung!$W$5,DatenSchnellauswahl!Q273>=Berechnung!$W$5),TRUE,FALSE))","v":false},18,21,16,20]
[48,"WPF 27",{"$f":"IF(AND(E274=Berechnung!$X$7,F274=TRUE,G274=TRUE,H274=TRUE,I274=TRUE,J274=TRUE,M274=TRUE,L274=TRUE),TRUE,FALSE)","v":false},2,{"$f":"Berechnung!$X$7","v":-14},{"$f":"Berechnung!$Z$5","v":true},true,true,true,true,1,{"$f":"IF(OR(Berechnung!$Y$50=0,K274=0,K274=Berechnung!$Y$50),TRUE,FALSE)","v":true},{"$f":"IF(Berechnung!$R$5<3,IF(AND(DatenSchnellauswahl!N274<=Berechnung!$W$5,DatenSchnellauswahl!O274>=Berechnung!$W$5),TRUE,FALSE),IF(AND(DatenSchnellauswahl!P274<=Berechnung!$W$5,DatenSchnellauswahl!Q274>=Berechnung!$W$5),TRUE,FALSE))","v":false},22,28,21,27]
[96,"WPF 27 HT",{"$f":"IF(AND(E275=Berechnung!$X$7,F275=TRUE,G275=TRUE,H275=TRUE,I275=TRUE,J275=TRUE,M275=TRUE,L275=TRUE),TRUE,FALSE)","v":false},2,{"$f":"Berechnung!$X$7","v":-14},{"$f":"Berechnung!$Z$5","v":true},true,true,true,true,1,{"$f":"IF(OR(Berechnung!$Y$50=0,K275=0,K275=Berechnung!$Y$50),TRUE,FALSE)","v":true},{"$f":"IF(Berechnung!$R$5<3,IF(AND(DatenSchnellauswahl!N275<=Berechnung!$W$5,DatenSchnellauswahl!O275>=Berechnung!$W$5),TRUE,FALSE),IF(AND(DatenSchnellauswahl!P275<=Berechnung!$W$5,DatenSchnellauswahl!Q275>=Berechnung!$W$5),TRUE,FALSE))","v":false},22,28,21,27]
[117,"WPF 35",{"$f":"IF(AND(E276=Berechnung!$X$7,F276=TRUE,G276=TRUE,H276=TRUE,I276=TRUE,J276=TRUE,M276=TRUE,L276=TRUE),TRUE,FALSE)","v":false},2,{"$f":"Berechnung!$X$7","v":-14},{"$f":"Berechnung!$Z$5","v":true},true,true,true,true,1,{"$f":"IF(OR(Berechnung!$Y$50=0,K276=0,K276=Berechnung!$Y$50),TRUE,FALSE)","v":true},{"$f":"IF(Berechnung!$R$5<3,IF(AND(DatenSchnellauswahl!N276<=Berechnung!$W$5,DatenSchnellauswahl!O276>=Berechnung!$W$5),TRUE,FALSE),IF(AND(DatenSchnellauswahl!P276<=Berechnung!$W$5,DatenSchnellauswahl!Q276>=Berechnung!$W$5),TRUE,FALSE))","v":false},29,38,28,34]
[49,"WPF 40",{"$f":"IF(AND(E277=Berechnung!$X$7,F277=TRUE,G277=TRUE,H277=TRUE,I277=TRUE,J277=TRUE,M277=TRUE,L277=TRUE),TRUE,FALSE)","v":false},2,{"$f":"Berechnung!$X$7","v":-14},{"$f":"Berechnung!$Z$5","v":true},true,true,true,true,1,{"$f":"IF(OR(Berechnung!$Y$50=0,K277=0,K277=Berechnung!$Y$50),TRUE,FALSE)","v":true},{"$f":"IF(Berechnung!$R$5<3,IF(AND(DatenSchnellauswahl!N277<=Berechnung!$W$5,DatenSchnellauswahl!O277>=Berechnung!$W$5),TRUE,FALSE),IF(AND(DatenSchnellauswahl!P277<=Berechnung!$W$5,DatenSchnellauswahl!Q277>=Berechnung!$W$5),TRUE,FALSE))","v":false},39,43,35,40]
[51,"WPF 52",{"$f":"IF(AND(E278=Berechnung!$X$7,F278=TRUE,G278=TRUE,H278=TRUE,I278=TRUE,J278=TRUE,M278=TRUE,L278=TRUE),TRUE,FALSE)","v":false},2,{"$f":"Berechnung!$X$7","v":-14},{"$f":"Berechnung!$Z$5","v":true},true,true,true,true,1,{"$f":"IF(OR(Berechnung!$Y$50=0,K278=0,K278=Berechnung!$Y$50),TRUE,FALSE)","v":true},{"$f":"IF(Berechnung!$R$5<3,IF(AND(DatenSchnellauswahl!N278<=Berechnung!$W$5,DatenSchnellauswahl!O278>=Berechnung!$W$5),TRUE,FALSE),IF(AND(DatenSchnellauswahl!P278<=Berechnung!$W$5,DatenSchnellauswahl!Q278>=Berechnung!$W$5),TRUE,FALSE))","v":false},44,56,41,52]
[53,"WPF 66",{"$f":"IF(AND(E279=Berechnung!$X$7,F279=TRUE,G279=TRUE,H279=TRUE,I279=TRUE,J279=TRUE,M279=TRUE,L279=TRUE),TRUE,FALSE)","v":false},2,{"$f":"Berechnung!$X$7","v":-14},{"$f":"Berechnung!$Z$5","v":true},true,true,true,true,1,{"$f":"IF(OR(Berechnung!$Y$50=0,K279=0,K279=Berechnung!$Y$50),TRUE,FALSE)","v":true},{"$f":"IF(Berechnung!$R$5<3,IF(AND(DatenSchnellauswahl!N279<=Berechnung!$W$5,DatenSchnellauswahl!O279>=Berechnung!$W$5),TRUE,FALSE),IF(AND(DatenSchnellauswahl!P279<=Berechnung!$W$5,DatenSchnellauswahl!Q279>=Berechnung!$W$5),TRUE,FALSE))","v":false},57,67,53,62]
[42,"WPF 20 Set",{"$f":"IF(AND(E280=Berechnung!$X$7,F280=TRUE,G280=TRUE,H280=TRUE,I280=TRUE,J280=TRUE,M280=TRUE,L280=TRUE),TRUE,FALSE)","v":false},2,{"$f":"Berechnung!$X$7","v":-14},{"$f":"Berechnung!$Z$5","v":true},true,true,true,true,1,{"$f":"IF(OR(Berechnung!$Y$50=0,K280=0,K280=Berechnung!$Y$50),TRUE,FALSE)","v":true},{"$f":"IF(Berechnung!$R$5<3,IF(AND(DatenSchnellauswahl!N280<=Berechnung!$W$5,DatenSchnellauswahl!O280>=Berechnung!$W$5),TRUE,FALSE),IF(AND(DatenSchnellauswahl!P280<=Berechnung!$W$5,DatenSchnellauswahl!Q280>=Berechnung!$W$5),TRUE,FALSE))","v":false},18,20,16,19]
[43,"WPF 23 Set",{"$f":"IF(AND(E281=Berechnung!$X$7,F281=TRUE,G281=TRUE,H281=TRUE,I281=TRUE,J281=TRUE,M281=TRUE,L281=TRUE),TRUE,FALSE)","v":false},2,{"$f":"Berechnung!$X$7","v":-14},{"$f":"Berechnung!$Z$5","v":true},true,true,true,true,1,{"$f":"IF(OR(Berechnung!$Y$50=0,K281=0,K281=Berechnung!$Y$50),TRUE,FALSE)","v":true},{"$f":"IF(Berechnung!$R$5<3,IF(AND(DatenSchnellauswahl!N281<=Berechnung!$W$5,DatenSchnellauswahl!O281>=Berechnung!$W$5),TRUE,FALSE),IF(AND(DatenSchnellauswahl!P281<=Berechnung!$W$5,DatenSchnellauswahl!Q281>=Berechnung!$W$5),TRUE,FALSE))","v":false},21,23,20,22]
[44,"WPF 26 Set",{"$f":"IF(AND(E282=Berechnung!$X$7,F282=TRUE,G282=TRUE,H282=TRUE,I282=TRUE,J282=TRUE,M282=TRUE,L282=TRUE),TRUE,FALSE)","v":false},2,{"$f":"Berechnung!$X$7","v":-14},{"$f":"Berechnung!$Z$5","v":true},true,true,true,true,1,{"$f":"IF(OR(Berechnung!$Y$50=0,K282=0,K282=Berechnung!$Y$50),TRUE,FALSE)","v":true},{"$f":"IF(Berechnung!$R$5<3,IF(AND(DatenSchnellauswahl!N282<=Berechnung!$W$5,DatenSchnellauswahl!O282>=Berechnung!$W$5),TRUE,FALSE),IF(AND(DatenSchnellauswahl!P282<=Berechnung!$W$5,DatenSchnellauswahl!Q282>=Berechnung!$W$5),TRUE,FALSE))","v":false},24,27,23,25]
[45,"WPF 29 Set",{"$f":"IF(AND(E283=Berechnung!$X$7,F283=TRUE,G283=TRUE,H283=TRUE,I283=TRUE,J283=TRUE,M283=TRUE,L283=TRUE),TRUE,FALSE)","v":false},2,{"$f":"Berechnung!$X$7","v":-14},{"$f":"Berechnung!$Z$5","v":true},true,true,true,true,1,{"$f":"IF(OR(Berechnung!$Y$50=0,K283=0,K283=Berechnung!$Y$50),TRUE,FALSE)","v":true},{"$f":"IF(Berechnung!$R$5<3,IF(AND(DatenSchnellauswahl!N283<=Berechnung!$W$5,DatenSchnellauswahl!O283>=Berechnung!$W$5),TRUE,FALSE),IF(AND(DatenSchnellauswahl!P283<=Berechnung!$W$5,DatenSchnellauswahl!Q283>=Berechnung!$W$5),TRUE,FALSE))","v":false},28,30,26,27]
[46,"WPF 32 Set",{"$f":"IF(AND(E284=Berechnung!$X$7,F284=TRUE,G284=TRUE,H284=TRUE,I284=TRUE,J284=TRUE,M284=TRUE,L284=TRUE),TRUE,FALSE)","v":false},2,{"$f":"Berechnung!$X$7","v":-14},{"$f":"Berechnung!$Z$5","v":true},true,true,true,true,1,{"$f":"IF(OR(Berechnung!$Y$50=0,K284=0,K284=Berechnung!$Y$50),TRUE,FALSE)","v":true},{"$f":"IF(Berechnung!$R$5<3,IF(AND(DatenSchnellauswahl!N284<=Berechnung!$W$5,DatenSchnellauswahl!O284>=Berechnung!$W$5),TRUE,FALSE),IF(AND(DatenSchnellauswahl!P284<=Berechnung!$W$5,DatenSchnellauswahl!Q284>=Berechnung!$W$5),TRUE,FALSE))","v":false},31,33,28,29]
[97,"2 x WPF 27 HT",{"$f":"IF(AND(E285=Berechnung!$X$7,F285=TRUE,G285=TRUE,H285=TRUE,I285=TRUE,J285=TRUE,M285=TRUE,L285=TRUE),TRUE,FALSE)","v":false},2,{"$f":"Berechnung!$X$7","v":-14},{"$f":"Berechnung!$Z$5","v":true},true,true,true,true,1,{"$f":"IF(OR(Berechnung!$Y$50=0,K285=0,K285=Berechnung!$Y$50),TRUE,FALSE)","v":true},{"$f":"IF(Berechnung!$R$5<3,IF(AND(DatenSchnellauswahl!N285<=Berechnung!$W$5,DatenSchnellauswahl!O285>=Berechnung!$W$5),TRUE,FALSE),IF(AND(DatenSchnellauswahl!P285<=Berechnung!$W$5,DatenSchnellauswahl!Q285>=Berechnung!$W$5),TRUE,FALSE))","v":false},44,55,41,49]
[123,"2 x WPF 35",{"$f":"IF(AND(E286=Berechnung!$X$7,F286=TRUE,G286=TRUE,H286=TRUE,I286=TRUE,J286=TRUE,M286=TRUE,L286=TRUE),TRUE,FALSE)","v":false},2,{"$f":"Berechnung!$X$7","v":-14},{"$f":"Berechnung!$Z$5","v":true},true,true,true,true,1,{"$f":"IF(OR(Berechnung!$Y$50=0,K286=0,K286=Berechnung!$Y$50),TRUE,FALSE)","v":true},{"$f":"IF(Berechnung!$R$5<3,IF(AND(DatenSchnellauswahl!N286<=Berechnung!$W$5,DatenSchnellauswahl!O286>=Berechnung!$W$5),TRUE,FALSE),IF(AND(DatenSchnellauswahl!P286<=Berechnung!$W$5,DatenSchnellauswahl!Q286>=Berechnung!$W$5),TRUE,FALSE))","v":false},29,76,56,68]
[50,"2 x WPF 40",{"$f":"IF(AND(E287=Berechnung!$X$7,F287=TRUE,G287=TRUE,H287=TRUE,I287=TRUE,J287=TRUE,M287=TRUE,L287=TRUE),TRUE,FALSE)","v":false},2,{"$f":"Berechnung!$X$7","v":-14},{"$f":"Berechnung!$Z$5","v":true},true,true,true,true,1,{"$f":"IF(OR(Berechnung!$Y$50=0,K287=0,K287=Berechnung!$Y$50),TRUE,FALSE)","v":true},{"$f":"IF(Berechnung!$R$5<3,IF(AND(DatenSchnellauswahl!N287<=Berechnung!$W$5,DatenSchnellauswahl!O287>=Berechnung!$W$5),TRUE,FALSE),IF(AND(DatenSchnellauswahl!P287<=Berechnung!$W$5,DatenSchnellauswahl!Q287>=Berechnung!$W$5),TRUE,FALSE))","v":false},68,86,63,80]
[52,"2 x WPF 52",{"$f":"IF(AND(E288=Berechnung!$X$7,F288=TRUE,G288=TRUE,H288=TRUE,I288=TRUE,J288=TRUE,M288=TRUE,L288=TRUE),TRUE,FALSE)","v":false},2,{"$f":"Berechnung!$X$7","v":-14},{"$f":"Berechnung!$Z$5","v":true},true,true,true,true,1,{"$f":"IF(OR(Berechnung!$Y$50=0,K288=0,K288=Berechnung!$Y$50),TRUE,FALSE)","v":true},{"$f":"IF(Berechnung!$R$5<3,IF(AND(DatenSchnellauswahl!N288<=Berechnung!$W$5,DatenSchnellauswahl!O288>=Berechnung!$W$5),TRUE,FALSE),IF(AND(DatenSchnellauswahl!P288<=Berechnung!$W$5,DatenSchnellauswahl!Q288>=Berechnung!$W$5),TRUE,FALSE))","v":false},87,111,81,104]
[54,"2 x WPF 66",{"$f":"IF(AND(E289=Berechnung!$X$7,F289=TRUE,G289=TRUE,H289=TRUE,I289=TRUE,J289=TRUE,M289=TRUE,L289=TRUE),TRUE,FALSE)","v":false},2,{"$f":"Berechnung!$X$7","v":-14},{"$f":"Berechnung!$Z$5","v":true},true,true,true,true,1,{"$f":"IF(OR(Berechnung!$Y$50=0,K289=0,K289=Berechnung!$Y$50),TRUE,FALSE)","v":true},{"$f":"IF(Berechnung!$R$5<3,IF(AND(DatenSchnellauswahl!N289<=Berechnung!$W$5,DatenSchnellauswahl!O289>=Berechnung!$W$5),TRUE,FALSE),IF(AND(DatenSchnellauswahl!P289<=Berechnung!$W$5,DatenSchnellauswahl!Q289>=Berechnung!$W$5),TRUE,FALSE))","v":false},112,150,105,125]
[910,"3 x WPF 16 M",{"$f":"IF(AND(E290=Berechnung!$X$7,F290=TRUE,G290=TRUE,H290=TRUE,I290=TRUE,J290=TRUE,M290=TRUE,L290=TRUE),TRUE,FALSE)","v":false},2,{"$f":"Berechnung!$X$7","v":-14},{"$f":"Berechnung!$Z$5","v":true},true,true,true,true,1,{"$f":"IF(OR(Berechnung!$Y$50=0,K290=0,K290=Berechnung!$Y$50),TRUE,FALSE)","v":true},{"$f":"IF(Berechnung!$R$5<3,IF(AND(DatenSchnellauswahl!N290<=Berechnung!$W$5,DatenSchnellauswahl!O290>=Berechnung!$W$5),TRUE,FALSE),IF(AND(DatenSchnellauswahl!P290<=Berechnung!$W$5,DatenSchnellauswahl!Q290>=Berechnung!$W$5),TRUE,FALSE))","v":false},34,49,30,43]
[911,"4 x WPF 16 M",{"$f":"IF(AND(E291=Berechnung!$X$7,F291=TRUE,G291=TRUE,H291=TRUE,I291=TRUE,J291=TRUE,M291=TRUE,L291=TRUE),TRUE,FALSE)","v":false},2,{"$f":"Berechnung!$X$7","v":-14},{"$f":"Berechnung!$Z$5","v":true},true,true,true,true,1,{"$f":"IF(OR(Berechnung!$Y$50=0,K291=0,K291=Berechnung!$Y$50),TRUE,FALSE)","v":true},{"$f":"IF(Berechnung!$R$5<3,IF(AND(DatenSchnellauswahl!N291<=Berechnung!$W$5,DatenSchnellauswahl!O291>=Berechnung!$W$5),TRUE,FALSE),IF(AND(DatenSchnellauswahl!P291<=Berechnung!$W$5,DatenSchnellauswahl!Q291>=Berechnung!$W$5),TRUE,FALSE))","v":false},50,65,44,58]
[912,"5 x WPF 16 M",{"$f":"IF(AND(E292=Berechnung!$X$7,F292=TRUE,G292=TRUE,H292=TRUE,I292=TRUE,J292=TRUE,M292=TRUE,L292=TRUE),TRUE,FALSE)","v":false},2,{"$f":"Berechnung!$X$7","v":-14},{"$f":"Berechnung!$Z$5","v":true},true,true,true,true,1,{"$f":"IF(OR(Berechnung!$Y$50=0,K292=0,K292=Berechnung!$Y$50),TRUE,FALSE)","v":true},{"$f":"IF(Berechnung!$R$5<3,IF(AND(DatenSchnellauswahl!N292<=Berechnung!$W$5,DatenSchnellauswahl!O292>=Berechnung!$W$5),TRUE,FALSE),IF(AND(DatenSchnellauswahl!P292<=Berechnung!$W$5,DatenSchnellauswahl!Q292>=Berechnung!$W$5),TRUE,FALSE))","v":false},66,81,59,72]
[913,"6 x WPF 16 M",{"$f":"IF(AND(E293=Berechnung!$X$7,F293=TRUE,G293=TRUE,H293=TRUE,I293=TRUE,J293=TRUE,M293=TRUE,L293=TRUE),TRUE,FALSE)","v":false},2,{"$f":"Berechnung!$X$7","v":-14},{"$f":"Berechnung!$Z$5","v":true},true,true,true,true,1,{"$f":"IF(OR(Berechnung!$Y$50=0,K293=0,K293=Berechnung!$Y$50),TRUE,FALSE)","v":true},{"$f":"IF(Berechnung!$R$5<3,IF(AND(DatenSchnellauswahl!N293<=Berechnung!$W$5,DatenSchnellauswahl!O293>=Berechnung!$W$5),TRUE,FALSE),IF(AND(DatenSchnellauswahl!P293<=Berechnung!$W$5,DatenSchnellauswahl!Q293>=Berechnung!$W$5),TRUE,FALSE))","v":false},82,98,73,87]
[126,"WPW 06 Set",{"$f":"IF(AND(E294=Berechnung!$X$7,F294=TRUE,G294=TRUE,H294=TRUE,I294=TRUE,J294=TRUE,M294=TRUE,L294=TRUE),TRUE,FALSE)","v":false},3,{"$f":"Berechnung!$X$7","v":-14},{"$f":"Berechnung!$Z$5","v":true},true,true,true,true,1,{"$f":"IF(OR(Berechnung!$Y$50=0,K294=0,K294=Berechnung!$Y$50),TRUE,FALSE)","v":true},{"$f":"IF(Berechnung!$R$5<3,IF(AND(DatenSchnellauswahl!N294<=Berechnung!$W$5,DatenSchnellauswahl!O294>=Berechnung!$W$5),TRUE,FALSE),IF(AND(DatenSchnellauswahl!P294<=Berechnung!$W$5,DatenSchnellauswahl!Q294>=Berechnung!$W$5),TRUE,FALSE))","v":false},1,5,1,5]
[55,"WPW 07 Set",{"$f":"IF(AND(E295=Berechnung!$X$7,F295=TRUE,G295=TRUE,H295=TRUE,I295=TRUE,J295=TRUE,M295=TRUE,L295=TRUE),TRUE,FALSE)","v":false},3,{"$f":"Berechnung!$X$7","v":-14},{"$f":"Berechnung!$Z$5","v":true},true,true,true,true,1,{"$f":"IF(OR(Berechnung!$Y$50=0,K295=0,K295=Berechnung!$Y$50),TRUE,FALSE)","v":true},{"$f":"IF(Berechnung!$R$5<3,IF(AND(DatenSchnellauswahl!N295<=Berechnung!$W$5,DatenSchnellauswahl!O295>=Berechnung!$W$5),TRUE,FALSE),IF(AND(DatenSchnellauswahl!P295<=Berechnung!$W$5,DatenSchnellauswahl!Q295>=Berechnung!$W$5),TRUE,FALSE))","v":false},6,6,6,6]
[56,"WPW 10 Set",{"$f":"IF(AND(E296=Berechnung!$X$7,F296=TRUE,G296=TRUE,H296=TRUE,I296=TRUE,J296=TRUE,M296=TRUE,L296=TRUE),TRUE,FALSE)","v":true},3,{"$f":"Berechnung!$X$7","v":-14},{"$f":"Berechnung!$Z$5","v":true},true,true,true,true,1,{"$f":"IF(OR(Berechnung!$Y$50=0,K296=0,K296=Berechnung!$Y$50),TRUE,FALSE)","v":true},{"$f":"IF(Berechnung!$R$5<3,IF(AND(DatenSchnellauswahl!N296<=Berechnung!$W$5,DatenSchnellauswahl!O296>=Berechnung!$W$5),TRUE,FALSE),IF(AND(DatenSchnellauswahl!P296<=Berechnung!$W$5,DatenSchnellauswahl!Q296>=Berechnung!$W$5),TRUE,FALSE))","v":true},7,9,7,8]
[57,"WPW 13 Set",{"$f":"IF(AND(E297=Berechnung!$X$7,F297=TRUE,G297=TRUE,H297=TRUE,I297=TRUE,J297=TRUE,M297=TRUE,L297=TRUE),TRUE,FALSE)","v":false},3,{"$f":"Berechnung!$X$7","v":-14},{"$f":"Berechnung!$Z$5","v":true},true,true,true,true,1,{"$f":"IF(OR(Berechnung!$Y$50=0,K297=0,K297=Berechnung!$Y$50),TRUE,FALSE)","v":true},{"$f":"IF(Berechnung!$R$5<3,IF(AND(DatenSchnellauswahl!N297<=Berechnung!$W$5,DatenSchnellauswahl!O297>=Berechnung!$W$5),TRUE,FALSE),IF(AND(DatenSchnellauswahl!P297<=Berechnung!$W$5,DatenSchnellauswahl!Q297>=Berechnung!$W$5),TRUE,FALSE))","v":false},10,12,9,11]
[58,"WPW 18 Set",{"$f":"IF(AND(E298=Berechnung!$X$7,F298=TRUE,G298=TRUE,H298=TRUE,I298=TRUE,J298=TRUE,M298=TRUE,L298=TRUE),TRUE,FALSE)","v":false},3,{"$f":"Berechnung!$X$7","v":-14},{"$f":"Berechnung!$Z$5","v":true},true,true,true,true,1,{"$f":"IF(OR(Berechnung!$Y$50=0,K298=0,K298=Berechnung!$Y$50),TRUE,FALSE)","v":true},{"$f":"IF(Berechnung!$R$5<3,IF(AND(DatenSchnellauswahl!N298<=Berechnung!$W$5,DatenSchnellauswahl!O298>=Berechnung!$W$5),TRUE,FALSE),IF(AND(DatenSchnellauswahl!P298<=Berechnung!$W$5,DatenSchnellauswahl!Q298>=Berechnung!$W$5),TRUE,FALSE))","v":false},13,15,12,14]
[115,"WPW 22 Set",{"$f":"IF(AND(E299=Berechnung!$X$7,F299=TRUE,G299=TRUE,H299=TRUE,I299=TRUE,J299=TRUE,M299=TRUE,L299=TRUE),TRUE,FALSE)","v":false},3,{"$f":"Berechnung!$X$7","v":-14},{"$f":"Berechnung!$Z$5","v":true},true,true,true,true,1,{"$f":"IF(OR(Berechnung!$Y$50=0,K299=0,K299=Berechnung!$Y$50),TRUE,FALSE)","v":true},{"$f":"IF(Berechnung!$R$5<3,IF(AND(DatenSchnellauswahl!N299<=Berechnung!$W$5,DatenSchnellauswahl!O299>=Berechnung!$W$5),TRUE,FALSE),IF(AND(DatenSchnellauswahl!P299<=Berechnung!$W$5,DatenSchnellauswahl!Q299>=Berechnung!$W$5),TRUE,FALSE))","v":false},16,20,15,18]
[110,"WPW 7 basic Set",{"$f":"IF(AND(E300=Berechnung!$X$7,F300=TRUE,G300=TRUE,H300=TRUE,I300=TRUE,J300=TRUE,M300=TRUE,L300=TRUE),TRUE,FALSE)","v":false},3,{"$f":"Berechnung!$X$7","v":-14},{"$f":"Berechnung!$Z$5","v":true},true,true,true,true,1,{"$f":"IF(OR(Berechnung!$Y$50=0,K300=0,K300=Berechnung!$Y$50),TRUE,FALSE)","v":true},{"$f":"IF(Berechnung!$R$5<3,IF(AND(DatenSchnellauswahl!N300<=Berechnung!$W$5,DatenSchnellauswahl!O300>=Berechnung!$W$5),TRUE,FALSE),IF(AND(DatenSchnellauswahl!P300<=Berechnung!$W$5,DatenSchnellauswahl!Q300>=Berechnung!$W$5),TRUE,FALSE))","v":false},1,6,1,6]
[111,"WPW 10 basic Set",{"$f":"IF(AND(E301=Berechnung!$X$7,F301=TRUE,G301=TRUE,H301=TRUE,I301=TRUE,J301=TRUE,M301=TRUE,L301=TRUE),TRUE,FALSE)","v":true},3,{"$f":"Berechnung!$X$7","v":-14},{"$f":"Berechnung!$Z$5","v":true},true,true,true,true,1,{"$f":"IF(OR(Berechnung!$Y$50=0,K301=0,K301=Berechnung!$Y$50),TRUE,FALSE)","v":true},{"$f":"IF(Berechnung!$R$5<3,IF(AND(DatenSchnellauswahl!N301<=Berechnung!$W$5,DatenSchnellauswahl!O301>=Berechnung!$W$5),TRUE,FALSE),IF(AND(DatenSchnellauswahl!P301<=Berechnung!$W$5,DatenSchnellauswahl!Q301>=Berechnung!$W$5),TRUE,FALSE))","v":true},7,9,7,8]
[112,"WPW 13 basic Set",{"$f":"IF(AND(E302=Berechnung!$X$7,F302=TRUE,G302=TRUE,H302=TRUE,I302=TRUE,J302=TRUE,M302=TRUE,L302=TRUE),TRUE,FALSE)","v":false},3,{"$f":"Berechnung!$X$7","v":-14},{"$f":"Berechnung!$Z$5","v":true},true,true,true,true,1,{"$f":"IF(OR(Berechnung!$Y$50=0,K302=0,K302=Berechnung!$Y$50),TRUE,FALSE)","v":true},{"$f":"IF(Berechnung!$R$5<3,IF(AND(DatenSchnellauswahl!N302<=Berechnung!$W$5,DatenSchnellauswahl!O302>=Berechnung!$W$5),TRUE,FALSE),IF(AND(DatenSchnellauswahl!P302<=Berechnung!$W$5,DatenSchnellauswahl!Q302>=Berechnung!$W$5),TRUE,FALSE))","v":false},10,12,9,11]
[113,"WPW 18 basic Set",{"$f":"IF(AND(E303=Berechnung!$X$7,F303=TRUE,G303=TRUE,H303=TRUE,I303=TRUE,J303=TRUE,M303=TRUE,L303=TRUE),TRUE,FALSE)","v":false},3,{"$f":"Berechnung!$X$7","v":-14},{"$f":"Berechnung!$Z$5","v":true},true,true,true,true,1,{"$f":"IF(OR(Berechnung!$Y$50=0,K303=0,K303=Berechnung!$Y$50),TRUE,FALSE)","v":true},{"$f":"IF(Berechnung!$R$5<3,IF(AND(DatenSchnellauswahl!N303<=Berechnung!$W$5,DatenSchnellauswahl!O303>=Berechnung!$W$5),TRUE,FALSE),IF(AND(DatenSchnellauswahl!P303<=Berechnung!$W$5,DatenSchnellauswahl!Q303>=Berechnung!$W$5),TRUE,FALSE))","v":false},13,15,12,14]
[114,"WPW 22 basic Set",{"$f":"IF(AND(E304=Berechnung!$X$7,F304=TRUE,G304=TRUE,H304=TRUE,I304=TRUE,J304=TRUE,M304=TRUE,L304=TRUE),TRUE,FALSE)","v":false},3,{"$f":"Berechnung!$X$7","v":-14},{"$f":"Berechnung!$Z$5","v":true},true,true,true,true,1,{"$f":"IF(OR(Berechnung!$Y$50=0,K304=0,K304=Berechnung!$Y$50),TRUE,FALSE)","v":true},{"$f":"IF(Berechnung!$R$5<3,IF(AND(DatenSchnellauswahl!N304<=Berechnung!$W$5,DatenSchnellauswahl!O304>=Berechnung!$W$5),TRUE,FALSE),IF(AND(DatenSchnellauswahl!P304<=Berechnung!$W$5,DatenSchnellauswahl!Q304>=Berechnung!$W$5),TRUE,FALSE))","v":false},16,20,15,18]
[129,"WPC 04",{"$f":"IF(AND(E305=Berechnung!$X$7,F305=TRUE,G305=TRUE,H305=TRUE,I305=TRUE,J305=TRUE,M305=TRUE,L305=TRUE),TRUE,FALSE)","v":false},3,{"$f":"Berechnung!$X$7","v":-14},{"$f":"Berechnung!$Z$5","v":true},{"$f":"Berechnung!$S$5","v":true},{"$f":"IF(Berechnung!$T$5=FALSE,TRUE,FALSE)","v":true},true,true,1,{"$f":"IF(OR(Berechnung!$Y$50=0,K305=0,K305=Berechnung!$Y$50),TRUE,FALSE)","v":true},{"$f":"IF(Berechnung!$R$5<3,IF(AND(DatenSchnellauswahl!N305<=Berechnung!$W$5,DatenSchnellauswahl!O305>=Berechnung!$W$5),TRUE,FALSE),IF(AND(DatenSchnellauswahl!P305<=Berechnung!$W$5,DatenSchnellauswahl!Q305>=Berechnung!$W$5),TRUE,FALSE))","v":false},1,5,1,5]
[119,"WPC 05",{"$f":"IF(AND(E306=Berechnung!$X$7,F306=TRUE,G306=TRUE,H306=TRUE,I306=TRUE,J306=TRUE,M306=TRUE,L306=TRUE),TRUE,FALSE)","v":false},3,{"$f":"Berechnung!$X$7","v":-14},{"$f":"Berechnung!$Z$5","v":true},{"$f":"Berechnung!$S$5","v":true},{"$f":"IF(Berechnung!$T$5=FALSE,TRUE,FALSE)","v":true},true,true,1,{"$f":"IF(OR(Berechnung!$Y$50=0,K306=0,K306=Berechnung!$Y$50),TRUE,FALSE)","v":true},{"$f":"IF(Berechnung!$R$5<3,IF(AND(DatenSchnellauswahl!N306<=Berechnung!$W$5,DatenSchnellauswahl!O306>=Berechnung!$W$5),TRUE,FALSE),IF(AND(DatenSchnellauswahl!P306<=Berechnung!$W$5,DatenSchnellauswahl!Q306>=Berechnung!$W$5),TRUE,FALSE))","v":false},6,6,6,6]
[120,"WPC 07",{"$f":"IF(AND(E307=Berechnung!$X$7,F307=TRUE,G307=TRUE,H307=TRUE,I307=TRUE,J307=TRUE,M307=TRUE,L307=TRUE),TRUE,FALSE)","v":true},3,{"$f":"Berechnung!$X$7","v":-14},{"$f":"Berechnung!$Z$5","v":true},{"$f":"Berechnung!$S$5","v":true},{"$f":"IF(Berechnung!$T$5=FALSE,TRUE,FALSE)","v":true},true,true,1,{"$f":"IF(OR(Berechnung!$Y$50=0,K307=0,K307=Berechnung!$Y$50),TRUE,FALSE)","v":true},{"$f":"IF(Berechnung!$R$5<3,IF(AND(DatenSchnellauswahl!N307<=Berechnung!$W$5,DatenSchnellauswahl!O307>=Berechnung!$W$5),TRUE,FALSE),IF(AND(DatenSchnellauswahl!P307<=Berechnung!$W$5,DatenSchnellauswahl!Q307>=Berechnung!$W$5),TRUE,FALSE))","v":true},7,9,7,8]
[121,"WPC 10",{"$f":"IF(AND(E308=Berechnung!$X$7,F308=TRUE,G308=TRUE,H308=TRUE,I308=TRUE,J308=TRUE,M308=TRUE,L308=TRUE),TRUE,FALSE)","v":false},3,{"$f":"Berechnung!$X$7","v":-14},{"$f":"Berechnung!$Z$5","v":true},{"$f":"Berechnung!$S$5","v":true},{"$f":"IF(Berechnung!$T$5=FALSE,TRUE,FALSE)","v":true},true,true,1,{"$f":"IF(OR(Berechnung!$Y$50=0,K308=0,K308=Berechnung!$Y$50),TRUE,FALSE)","v":true},{"$f":"IF(Berechnung!$R$5<3,IF(AND(DatenSchnellauswahl!N308<=Berechnung!$W$5,DatenSchnellauswahl!O308>=Berechnung!$W$5),TRUE,FALSE),IF(AND(DatenSchnellauswahl!P308<=Berechnung!$W$5,DatenSchnellauswahl!Q308>=Berechnung!$W$5),TRUE,FALSE))","v":false},10,12,9,11]
[122,"WPC 13",{"$f":"IF(AND(E309=Berechnung!$X$7,F309=TRUE,G309=TRUE,H309=TRUE,I309=TRUE,J309=TRUE,M309=TRUE,L309=TRUE),TRUE,FALSE)","v":false},3,{"$f":"Berechnung!$X$7","v":-14},{"$f":"Berechnung!$Z$5","v":true},{"$f":"Berechnung!$S$5","v":true},{"$f":"IF(Berechnung!$T$5=FALSE,TRUE,FALSE)","v":true},true,true,1,{"$f":"IF(OR(Berechnung!$Y$50=0,K309=0,K309=Berechnung!$Y$50),TRUE,FALSE)","v":true},{"$f":"IF(Berechnung!$R$5<3,IF(AND(DatenSchnellauswahl!N309<=Berechnung!$W$5,DatenSchnellauswahl!O309>=Berechnung!$W$5),TRUE,FALSE),IF(AND(DatenSchnellauswahl!P309<=Berechnung!$W$5,DatenSchnellauswahl!Q309>=Berechnung!$W$5),TRUE,FALSE))","v":false},13,15,12,14]
[59,"WPF 10 M",{"$f":"IF(AND(E310=Berechnung!$X$7,F310=TRUE,G310=TRUE,H310=TRUE,I310=TRUE,J310=TRUE,M310=TRUE,L310=TRUE),TRUE,FALSE)","v":false},3,{"$f":"Berechnung!$X$7","v":-14},{"$f":"Berechnung!$Z$5","v":true},true,true,true,true,1,{"$f":"IF(OR(Berechnung!$Y$50=0,K310=0,K310=Berechnung!$Y$50),TRUE,FALSE)","v":true},{"$f":"IF(Berechnung!$R$5<3,IF(AND(DatenSchnellauswahl!N310<=Berechnung!$W$5,DatenSchnellauswahl!O310>=Berechnung!$W$5),TRUE,FALSE),IF(AND(DatenSchnellauswahl!P310<=Berechnung!$W$5,DatenSchnellauswahl!Q310>=Berechnung!$W$5),TRUE,FALSE))","v":false},10,12,9,11]
[60,"WPF 13 M",{"$f":"IF(AND(E311=Berechnung!$X$7,F311=TRUE,G311=TRUE,H311=TRUE,I311=TRUE,J311=TRUE,M311=TRUE,L311=TRUE),TRUE,FALSE)","v":false},3,{"$f":"Berechnung!$X$7","v":-14},{"$f":"Berechnung!$Z$5","v":true},true,true,true,true,1,{"$f":"IF(OR(Berechnung!$Y$50=0,K311=0,K311=Berechnung!$Y$50),TRUE,FALSE)","v":true},{"$f":"IF(Berechnung!$R$5<3,IF(AND(DatenSchnellauswahl!N311<=Berechnung!$W$5,DatenSchnellauswahl!O311>=Berechnung!$W$5),TRUE,FALSE),IF(AND(DatenSchnellauswahl!P311<=Berechnung!$W$5,DatenSchnellauswahl!Q311>=Berechnung!$W$5),TRUE,FALSE))","v":false},13,15,12,14]
[62,"WPF 16 M",{"$f":"IF(AND(E312=Berechnung!$X$7,F312=TRUE,G312=TRUE,H312=TRUE,I312=TRUE,J312=TRUE,M312=TRUE,L312=TRUE),TRUE,FALSE)","v":false},3,{"$f":"Berechnung!$X$7","v":-14},{"$f":"Berechnung!$Z$5","v":true},true,true,true,true,1,{"$f":"IF(OR(Berechnung!$Y$50=0,K312=0,K312=Berechnung!$Y$50),TRUE,FALSE)","v":true},{"$f":"IF(Berechnung!$R$5<3,IF(AND(DatenSchnellauswahl!N312<=Berechnung!$W$5,DatenSchnellauswahl!O312>=Berechnung!$W$5),TRUE,FALSE),IF(AND(DatenSchnellauswahl!P312<=Berechnung!$W$5,DatenSchnellauswahl!Q312>=Berechnung!$W$5),TRUE,FALSE))","v":false},16,20,15,18]
[116,"WPF 20",{"$f":"IF(AND(E313=Berechnung!$X$7,F313=TRUE,G313=TRUE,H313=TRUE,I313=TRUE,J313=TRUE,M313=TRUE,L313=TRUE),TRUE,FALSE)","v":false},3,{"$f":"Berechnung!$X$7","v":-14},{"$f":"Berechnung!$Z$5","v":true},true,true,true,true,1,{"$f":"IF(OR(Berechnung!$Y$50=0,K313=0,K313=Berechnung!$Y$50),TRUE,FALSE)","v":true},{"$f":"IF(Berechnung!$R$5<3,IF(AND(DatenSchnellauswahl!N313<=Berechnung!$W$5,DatenSchnellauswahl!O313>=Berechnung!$W$5),TRUE,FALSE),IF(AND(DatenSchnellauswahl!P313<=Berechnung!$W$5,DatenSchnellauswahl!Q313>=Berechnung!$W$5),TRUE,FALSE))","v":false},21,27,19,24]
[914,"WPF 27",{"$f":"IF(AND(E314=Berechnung!$X$7,F314=TRUE,G314=TRUE,H314=TRUE,I314=TRUE,J314=TRUE,M314=TRUE,L314=TRUE),TRUE,FALSE)","v":false},3,{"$f":"Berechnung!$X$7","v":-14},{"$f":"Berechnung!$Z$5","v":true},true,true,true,true,1,{"$f":"IF(OR(Berechnung!$Y$50=0,K314=0,K314=Berechnung!$Y$50),TRUE,FALSE)","v":true},{"$f":"IF(Berechnung!$R$5<3,IF(AND(DatenSchnellauswahl!N314<=Berechnung!$W$5,DatenSchnellauswahl!O314>=Berechnung!$W$5),TRUE,FALSE),IF(AND(DatenSchnellauswahl!P314<=Berechnung!$W$5,DatenSchnellauswahl!Q314>=Berechnung!$W$5),TRUE,FALSE))","v":false},28,33,25,30]
[915,"WPF 27 HT",{"$f":"IF(AND(E315=Berechnung!$X$7,F315=TRUE,G315=TRUE,H315=TRUE,I315=TRUE,J315=TRUE,M315=TRUE,L315=TRUE),TRUE,FALSE)","v":false},3,{"$f":"Berechnung!$X$7","v":-14},{"$f":"Berechnung!$Z$5","v":true},true,true,true,true,1,{"$f":"IF(OR(Berechnung!$Y$50=0,K315=0,K315=Berechnung!$Y$50),TRUE,FALSE)","v":true},{"$f":"IF(Berechnung!$R$5<3,IF(AND(DatenSchnellauswahl!N315<=Berechnung!$W$5,DatenSchnellauswahl!O315>=Berechnung!$W$5),TRUE,FALSE),IF(AND(DatenSchnellauswahl!P315<=Berechnung!$W$5,DatenSchnellauswahl!Q315>=Berechnung!$W$5),TRUE,FALSE))","v":false},28,33,25,30]
[916,"WPF 35",{"$f":"IF(AND(E316=Berechnung!$X$7,F316=TRUE,G316=TRUE,H316=TRUE,I316=TRUE,J316=TRUE,M316=TRUE,L316=TRUE),TRUE,FALSE)","v":false},3,{"$f":"Berechnung!$X$7","v":-14},{"$f":"Berechnung!$Z$5","v":true},true,true,true,true,1,{"$f":"IF(OR(Berechnung!$Y$50=0,K316=0,K316=Berechnung!$Y$50),TRUE,FALSE)","v":true},{"$f":"IF(Berechnung!$R$5<3,IF(AND(DatenSchnellauswahl!N316<=Berechnung!$W$5,DatenSchnellauswahl!O316>=Berechnung!$W$5),TRUE,FALSE),IF(AND(DatenSchnellauswahl!P316<=Berechnung!$W$5,DatenSchnellauswahl!Q316>=Berechnung!$W$5),TRUE,FALSE))","v":false},34,43,31,39]
[917,"WPF 40",{"$f":"IF(AND(E317=Berechnung!$X$7,F317=TRUE,G317=TRUE,H317=TRUE,I317=TRUE,J317=TRUE,M317=TRUE,L317=TRUE),TRUE,FALSE)","v":false},3,{"$f":"Berechnung!$X$7","v":-14},{"$f":"Berechnung!$Z$5","v":true},true,true,true,true,1,{"$f":"IF(OR(Berechnung!$Y$50=0,K317=0,K317=Berechnung!$Y$50),TRUE,FALSE)","v":true},{"$f":"IF(Berechnung!$R$5<3,IF(AND(DatenSchnellauswahl!N317<=Berechnung!$W$5,DatenSchnellauswahl!O317>=Berechnung!$W$5),TRUE,FALSE),IF(AND(DatenSchnellauswahl!P317<=Berechnung!$W$5,DatenSchnellauswahl!Q317>=Berechnung!$W$5),TRUE,FALSE))","v":false},44,54,40,49]
[918,"WPF 52",{"$f":"IF(AND(E318=Berechnung!$X$7,F318=TRUE,G318=TRUE,H318=TRUE,I318=TRUE,J318=TRUE,M318=TRUE,L318=TRUE),TRUE,FALSE)","v":false},3,{"$f":"Berechnung!$X$7","v":-14},{"$f":"Berechnung!$Z$5","v":true},true,true,true,true,1,{"$f":"IF(OR(Berechnung!$Y$50=0,K318=0,K318=Berechnung!$Y$50),TRUE,FALSE)","v":true},{"$f":"IF(Berechnung!$R$5<3,IF(AND(DatenSchnellauswahl!N318<=Berechnung!$W$5,DatenSchnellauswahl!O318>=Berechnung!$W$5),TRUE,FALSE),IF(AND(DatenSchnellauswahl!P318<=Berechnung!$W$5,DatenSchnellauswahl!Q318>=Berechnung!$W$5),TRUE,FALSE))","v":false},55,66,50,61]
[919,"WPF 66",{"$f":"IF(AND(E319=Berechnung!$X$7,F319=TRUE,G319=TRUE,H319=TRUE,I319=TRUE,J319=TRUE,M319=TRUE,L319=TRUE),TRUE,FALSE)","v":false},3,{"$f":"Berechnung!$X$7","v":-14},{"$f":"Berechnung!$Z$5","v":true},true,true,true,true,1,{"$f":"IF(OR(Berechnung!$Y$50=0,K319=0,K319=Berechnung!$Y$50),TRUE,FALSE)","v":true},{"$f":"IF(Berechnung!$R$5<3,IF(AND(DatenSchnellauswahl!N319<=Berechnung!$W$5,DatenSchnellauswahl!O319>=Berechnung!$W$5),TRUE,FALSE),IF(AND(DatenSchnellauswahl!P319<=Berechnung!$W$5,DatenSchnellauswahl!Q319>=Berechnung!$W$5),TRUE,FALSE))","v":false},67,82,62,75]
[67,"WPF 20 Set",{"$f":"IF(AND(E320=Berechnung!$X$7,F320=TRUE,G320=TRUE,H320=TRUE,I320=TRUE,J320=TRUE,M320=TRUE,L320=TRUE),TRUE,FALSE)","v":false},3,{"$f":"Berechnung!$X$7","v":-14},{"$f":"Berechnung!$Z$5","v":true},true,true,true,true,1,{"$f":"IF(OR(Berechnung!$Y$50=0,K320=0,K320=Berechnung!$Y$50),TRUE,FALSE)","v":true},{"$f":"IF(Berechnung!$R$5<3,IF(AND(DatenSchnellauswahl!N320<=Berechnung!$W$5,DatenSchnellauswahl!O320>=Berechnung!$W$5),TRUE,FALSE),IF(AND(DatenSchnellauswahl!P320<=Berechnung!$W$5,DatenSchnellauswahl!Q320>=Berechnung!$W$5),TRUE,FALSE))","v":false},21,24,19,22]
[68,"WPF 23 Set",{"$f":"IF(AND(E321=Berechnung!$X$7,F321=TRUE,G321=TRUE,H321=TRUE,I321=TRUE,J321=TRUE,M321=TRUE,L321=TRUE),TRUE,FALSE)","v":false},3,{"$f":"Berechnung!$X$7","v":-14},{"$f":"Berechnung!$Z$5","v":true},true,true,true,true,1,{"$f":"IF(OR(Berechnung!$Y$50=0,K321=0,K321=Berechnung!$Y$50),TRUE,FALSE)","v":true},{"$f":"IF(Berechnung!$R$5<3,IF(AND(DatenSchnellauswahl!N321<=Berechnung!$W$5,DatenSchnellauswahl!O321>=Berechnung!$W$5),TRUE,FALSE),IF(AND(DatenSchnellauswahl!P321<=Berechnung!$W$5,DatenSchnellauswahl!Q321>=Berechnung!$W$5),TRUE,FALSE))","v":false},25,28,23,26]
[69,"WPF 26 Set",{"$f":"IF(AND(E322=Berechnung!$X$7,F322=TRUE,G322=TRUE,H322=TRUE,I322=TRUE,J322=TRUE,M322=TRUE,L322=TRUE),TRUE,FALSE)","v":false},3,{"$f":"Berechnung!$X$7","v":-14},{"$f":"Berechnung!$Z$5","v":true},true,true,true,true,1,{"$f":"IF(OR(Berechnung!$Y$50=0,K322=0,K322=Berechnung!$Y$50),TRUE,FALSE)","v":true},{"$f":"IF(Berechnung!$R$5<3,IF(AND(DatenSchnellauswahl!N322<=Berechnung!$W$5,DatenSchnellauswahl!O322>=Berechnung!$W$5),TRUE,FALSE),IF(AND(DatenSchnellauswahl!P322<=Berechnung!$W$5,DatenSchnellauswahl!Q322>=Berechnung!$W$5),TRUE,FALSE))","v":false},29,32,27,30]
[70,"WPF 29 Set",{"$f":"IF(AND(E323=Berechnung!$X$7,F323=TRUE,G323=TRUE,H323=TRUE,I323=TRUE,J323=TRUE,M323=TRUE,L323=TRUE),TRUE,FALSE)","v":false},3,{"$f":"Berechnung!$X$7","v":-14},{"$f":"Berechnung!$Z$5","v":true},true,true,true,true,1,{"$f":"IF(OR(Berechnung!$Y$50=0,K323=0,K323=Berechnung!$Y$50),TRUE,FALSE)","v":true},{"$f":"IF(Berechnung!$R$5<3,IF(AND(DatenSchnellauswahl!N323<=Berechnung!$W$5,DatenSchnellauswahl!O323>=Berechnung!$W$5),TRUE,FALSE),IF(AND(DatenSchnellauswahl!P323<=Berechnung!$W$5,DatenSchnellauswahl!Q323>=Berechnung!$W$5),TRUE,FALSE))","v":false},33,36,31,33]
[71,"WPF 32 Set",{"$f":"IF(AND(E324=Berechnung!$X$7,F324=TRUE,G324=TRUE,H324=TRUE,I324=TRUE,J324=TRUE,M324=TRUE,L324=TRUE),TRUE,FALSE)","v":false},3,{"$f":"Berechnung!$X$7","v":-14},{"$f":"Berechnung!$Z$5","v":true},true,true,true,true,1,{"$f":"IF(OR(Berechnung!$Y$50=0,K324=0,K324=Berechnung!$Y$50),TRUE,FALSE)","v":true},{"$f":"IF(Berechnung!$R$5<3,IF(AND(DatenSchnellauswahl!N324<=Berechnung!$W$5,DatenSchnellauswahl!O324>=Berechnung!$W$5),TRUE,FALSE),IF(AND(DatenSchnellauswahl!P324<=Berechnung!$W$5,DatenSchnellauswahl!Q324>=Berechnung!$W$5),TRUE,FALSE))","v":false},37,40,34,36]
[63,"3 x WPF 16 M",{"$f":"IF(AND(E325=Berechnung!$X$7,F325=TRUE,G325=TRUE,H325=TRUE,I325=TRUE,J325=TRUE,M325=TRUE,L325=TRUE),TRUE,FALSE)","v":false},3,{"$f":"Berechnung!$X$7","v":-14},{"$f":"Berechnung!$Z$5","v":true},true,true,true,true,1,{"$f":"IF(OR(Berechnung!$Y$50=0,K325=0,K325=Berechnung!$Y$50),TRUE,FALSE)","v":true},{"$f":"IF(Berechnung!$R$5<3,IF(AND(DatenSchnellauswahl!N325<=Berechnung!$W$5,DatenSchnellauswahl!O325>=Berechnung!$W$5),TRUE,FALSE),IF(AND(DatenSchnellauswahl!P325<=Berechnung!$W$5,DatenSchnellauswahl!Q325>=Berechnung!$W$5),TRUE,FALSE))","v":false},41,60,37,54]
[64,"4 x WPF 16 M",{"$f":"IF(AND(E326=Berechnung!$X$7,F326=TRUE,G326=TRUE,H326=TRUE,I326=TRUE,J326=TRUE,M326=TRUE,L326=TRUE),TRUE,FALSE)","v":false},3,{"$f":"Berechnung!$X$7","v":-14},{"$f":"Berechnung!$Z$5","v":true},true,true,true,true,1,{"$f":"IF(OR(Berechnung!$Y$50=0,K326=0,K326=Berechnung!$Y$50),TRUE,FALSE)","v":true},{"$f":"IF(Berechnung!$R$5<3,IF(AND(DatenSchnellauswahl!N326<=Berechnung!$W$5,DatenSchnellauswahl!O326>=Berechnung!$W$5),TRUE,FALSE),IF(AND(DatenSchnellauswahl!P326<=Berechnung!$W$5,DatenSchnellauswahl!Q326>=Berechnung!$W$5),TRUE,FALSE))","v":false},61,80,55,72]
[65,"5 x WPF 16 M",{"$f":"IF(AND(E327=Berechnung!$X$7,F327=TRUE,G327=TRUE,H327=TRUE,I327=TRUE,J327=TRUE,M327=TRUE,L327=TRUE),TRUE,FALSE)","v":false},3,{"$f":"Berechnung!$X$7","v":-14},{"$f":"Berechnung!$Z$5","v":true},true,true,true,true,1,{"$f":"IF(OR(Berechnung!$Y$50=0,K327=0,K327=Berechnung!$Y$50),TRUE,FALSE)","v":true},{"$f":"IF(Berechnung!$R$5<3,IF(AND(DatenSchnellauswahl!N327<=Berechnung!$W$5,DatenSchnellauswahl!O327>=Berechnung!$W$5),TRUE,FALSE),IF(AND(DatenSchnellauswahl!P327<=Berechnung!$W$5,DatenSchnellauswahl!Q327>=Berechnung!$W$5),TRUE,FALSE))","v":false},81,100,73,90]
[66,"6 x WPF 16 M",{"$f":"IF(AND(E328=Berechnung!$X$7,F328=TRUE,G328=TRUE,H328=TRUE,I328=TRUE,J328=TRUE,M328=TRUE,L328=TRUE),TRUE,FALSE)","v":false},3,{"$f":"Berechnung!$X$7","v":-14},{"$f":"Berechnung!$Z$5","v":true},true,true,true,true,1,{"$f":"IF(OR(Berechnung!$Y$50=0,K328=0,K328=Berechnung!$Y$50),TRUE,FALSE)","v":true},{"$f":"IF(Berechnung!$R$5<3,IF(AND(DatenSchnellauswahl!N328<=Berechnung!$W$5,DatenSchnellauswahl!O328>=Berechnung!$W$5),TRUE,FALSE),IF(AND(DatenSchnellauswahl!P328<=Berechnung!$W$5,DatenSchnellauswahl!Q328>=Berechnung!$W$5),TRUE,FALSE))","v":false},101,120,91,108]
[920,"WWK 300",{"$f":"IF(AND(E329=Berechnung!$X$7,F329=TRUE,G329=TRUE,H329=TRUE,I329=TRUE,J329=TRUE,M329=TRUE,L329=TRUE),TRUE,FALSE)","v":false},1,{"$f":"Berechnung!$X$7","v":-14},{"$f":"IF(Berechnung!$Z$5=FALSE,TRUE,FALSE)","v":false},{"$f":"Berechnung!$S$5","v":true},{"$f":"IF(Berechnung!$T$5=FALSE,TRUE,FALSE)","v":true},true,true,1,{"$f":"IF(OR(Berechnung!$Y$50=0,K329=0,K329=Berechnung!$Y$50),TRUE,FALSE)","v":true},true]
[321,"WWK 300 SOL",{"$f":"IF(AND(E330=Berechnung!$X$7,F330=TRUE,G330=TRUE,H330=TRUE,I330=TRUE,J330=TRUE,M330=TRUE,L330=TRUE),TRUE,FALSE)","v":false},1,{"$f":"Berechnung!$X$7","v":-14},{"$f":"IF(Berechnung!$Z$5=FALSE,TRUE,FALSE)","v":false},{"$f":"Berechnung!$S$5","v":true},{"$f":"Berechnung!$T$5","v":false},true,true,1,{"$f":"IF(OR(Berechnung!$Y$50=0,K330=0,K330=Berechnung!$Y$50),TRUE,FALSE)","v":true},true]
[922,"WWK 300 PV",{"$f":"IF(AND(E331=Berechnung!$X$7,F331=TRUE,G331=TRUE,H331=TRUE,I331=TRUE,J331=TRUE,M331=TRUE,L331=TRUE),TRUE,FALSE)","v":false},1,{"$f":"Berechnung!$X$7","v":-14},{"$f":"IF(Berechnung!$Z$5=FALSE,TRUE,FALSE)","v":false},{"$f":"Berechnung!$S$5","v":true},{"$f":"Berechnung!$T$5","v":false},true,true,1,{"$f":"IF(OR(Berechnung!$Y$50=0,K331=0,K331=Berechnung!$Y$50),TRUE,FALSE)","v":true},true]
[923,"WWK 220 electronic",{"$f":"IF(AND(E332=Berechnung!$X$7,F332=TRUE,G332=TRUE,H332=TRUE,I332=TRUE,J332=TRUE,M332=TRUE,L332=TRUE),TRUE,FALSE)","v":false},1,{"$f":"Berechnung!$X$7","v":-14},{"$f":"IF(Berechnung!$Z$5=FALSE,TRUE,FALSE)","v":false},{"$f":"Berechnung!$S$5","v":true},{"$f":"IF(Berechnung!$T$5=FALSE,TRUE,FALSE)","v":true},true,true,1,{"$f":"IF(OR(Berechnung!$Y$50=0,K332=0,K332=Berechnung!$Y$50),TRUE,FALSE)","v":true},true]
[924,"WWK 300 electronic",{"$f":"IF(AND(E333=Berechnung!$X$7,F333=TRUE,G333=TRUE,H333=TRUE,I333=TRUE,J333=TRUE,M333=TRUE,L333=TRUE),TRUE,FALSE)","v":false},1,{"$f":"Berechnung!$X$7","v":-14},{"$f":"IF(Berechnung!$Z$5=FALSE,TRUE,FALSE)","v":false},{"$f":"Berechnung!$S$5","v":true},{"$f":"IF(Berechnung!$T$5=FALSE,TRUE,FALSE)","v":true},true,true,1,{"$f":"IF(OR(Berechnung!$Y$50=0,K333=0,K333=Berechnung!$Y$50),TRUE,FALSE)","v":true},true]
[929,"WWK 300 electronic SOL",{"$f":"IF(AND(E334=Berechnung!$X$7,F334=TRUE,G334=TRUE,H334=TRUE,I334=TRUE,J334=TRUE,M334=TRUE,L334=TRUE),TRUE,FALSE)","v":false},1,{"$f":"Berechnung!$X$7","v":-14},{"$f":"IF(Berechnung!$Z$5=FALSE,TRUE,FALSE)","v":false},{"$f":"Berechnung!$S$5","v":true},{"$f":"Berechnung!$T$5","v":false},true,true,1,{"$f":"IF(OR(Berechnung!$Y$50=0,K334=0,K334=Berechnung!$Y$50),TRUE,FALSE)","v":true},true]
[930,"WWK 221 electronic",{"$f":"IF(AND(E335=Berechnung!$X$7,F335=TRUE,G335=TRUE,H335=TRUE,I335=TRUE,J335=TRUE,M335=TRUE,L335=TRUE),TRUE,FALSE)","v":false},1,{"$f":"Berechnung!$X$7","v":-14},{"$f":"IF(Berechnung!$Z$5=FALSE,TRUE,FALSE)","v":false},{"$f":"Berechnung!$S$5","v":true},{"$f":"IF(Berechnung!$T$5=FALSE,TRUE,FALSE)","v":true},true,true,1,{"$f":"IF(OR(Berechnung!$Y$50=0,K335=0,K335=Berechnung!$Y$50),TRUE,FALSE)","v":true},true]
[931,"WWK 301 electronic",{"$f":"IF(AND(E336=Berechnung!$X$7,F336=TRUE,G336=TRUE,H336=TRUE,I336=TRUE,J336=TRUE,M336=TRUE,L336=TRUE),TRUE,FALSE)","v":false},1,{"$f":"Berechnung!$X$7","v":-14},{"$f":"IF(Berechnung!$Z$5=FALSE,TRUE,FALSE)","v":false},{"$f":"Berechnung!$S$5","v":true},{"$f":"IF(Berechnung!$T$5=FALSE,TRUE,FALSE)","v":true},true,true,1,{"$f":"IF(OR(Berechnung!$Y$50=0,K336=0,K336=Berechnung!$Y$50),TRUE,FALSE)","v":true},true]
[932,"WWK 301 electronic SOL",{"$f":"IF(AND(E337=Berechnung!$X$7,F337=TRUE,G337=TRUE,H337=TRUE,I337=TRUE,J337=TRUE,M337=TRUE,L337=TRUE),TRUE,FALSE)","v":false},1,{"$f":"Berechnung!$X$7","v":-14},{"$f":"IF(Berechnung!$Z$5=FALSE,TRUE,FALSE)","v":false},{"$f":"Berechnung!$S$5","v":true},{"$f":"Berechnung!$T$5","v":false},true,true,1,{"$f":"IF(OR(Berechnung!$Y$50=0,K337=0,K337=Berechnung!$Y$50),TRUE,FALSE)","v":true},true]
[926,"LWA 252",{"$f":"IF(AND(E338=Berechnung!$X$7,F338=TRUE,G338=TRUE,H338=TRUE,I338=TRUE,J338=TRUE,M338=TRUE,L338=TRUE),TRUE,FALSE)","v":false},1,{"$f":"Berechnung!$X$7","v":-14},{"$f":"IF(Berechnung!$Z$5=FALSE,TRUE,FALSE)","v":false},{"$f":"Berechnung!$S$5","v":true},{"$f":"IF(Berechnung!$T$5=FALSE,TRUE,FALSE)","v":true},{"$f":"Berechnung!$U$5","v":false},true,1,{"$f":"IF(OR(Berechnung!$Y$50=0,K338=0,K338=Berechnung!$Y$50),TRUE,FALSE)","v":true},true]
[927,"LWA 252 SOL",{"$f":"IF(AND(E339=Berechnung!$X$7,F339=TRUE,G339=TRUE,H339=TRUE,I339=TRUE,J339=TRUE,M339=TRUE,L339=TRUE),TRUE,FALSE)","v":false},1,{"$f":"Berechnung!$X$7","v":-14},{"$f":"IF(Berechnung!$Z$5=FALSE,TRUE,FALSE)","v":false},{"$f":"Berechnung!$S$5","v":true},{"$f":"Berechnung!$T$5","v":false},{"$f":"Berechnung!$U$5","v":false},true,1,{"$f":"IF(OR(Berechnung!$Y$50=0,K339=0,K339=Berechnung!$Y$50),TRUE,FALSE)","v":true},true]
[928,"LWA 100",{"$f":"IF(AND(E340=Berechnung!$X$7,F340=TRUE,G340=TRUE,H340=TRUE,I340=TRUE,J340=TRUE,M340=TRUE,L340=TRUE),TRUE,FALSE)","v":false},1,{"$f":"Berechnung!$X$7","v":-14},{"$f":"IF(Berechnung!$Z$5=FALSE,TRUE,FALSE)","v":false},{"$f":"Berechnung!$S$5","v":true},{"$f":"IF(Berechnung!$T$5=FALSE,TRUE,FALSE)","v":true},{"$f":"Berechnung!$U$5","v":false},true,1,{"$f":"IF(OR(Berechnung!$Y$50=0,K340=0,K340=Berechnung!$Y$50),TRUE,FALSE)","v":true},true]